BEGIN:VCALENDAR
VERSION:2.0
PRODID:-//jEvents 2.0 for Joomla//EN
CALSCALE:GREGORIAN
METHOD:PUBLISH
BEGIN:VTIMEZONE
TZID:America/New_York
BEGIN:STANDARD
DTSTART:20231105T010000
RDATE:20240310T030000
TZOFFSETFROM:-0400
TZOFFSETTO:-0500
TZNAME:America/New_York EST
END:STANDARD
BEGIN:STANDARD
DTSTART:20241103T010000
RDATE:20250309T030000
TZOFFSETFROM:-0400
TZOFFSETTO:-0500
TZNAME:America/New_York EST
END:STANDARD
BEGIN:STANDARD
DTSTART:20251102T010000
RDATE:20260308T030000
TZOFFSETFROM:-0400
TZOFFSETTO:-0500
TZNAME:America/New_York EST
END:STANDARD
BEGIN:STANDARD
DTSTART:20261101T010000
RDATE:20270314T030000
TZOFFSETFROM:-0400
TZOFFSETTO:-0500
TZNAME:America/New_York EST
END:STANDARD
BEGIN:STANDARD
DTSTART:20271107T010000
RDATE:20280312T030000
TZOFFSETFROM:-0400
TZOFFSETTO:-0500
TZNAME:America/New_York EST
END:STANDARD
BEGIN:STANDARD
DTSTART:20281105T010000
RDATE:20290311T030000
TZOFFSETFROM:-0400
TZOFFSETTO:-0500
TZNAME:America/New_York EST
END:STANDARD
BEGIN:STANDARD
DTSTART:20291104T010000
RDATE:20300310T030000
TZOFFSETFROM:-0400
TZOFFSETTO:-0500
TZNAME:America/New_York EST
END:STANDARD
BEGIN:STANDARD
DTSTART:20301103T010000
RDATE:20310309T030000
TZOFFSETFROM:-0400
TZOFFSETTO:-0500
TZNAME:America/New_York EST
END:STANDARD
BEGIN:DAYLIGHT
DTSTART:20230812T090000
RDATE:20231105T010000
TZOFFSETFROM:-0500
TZOFFSETTO:-0400
TZNAME:America/New_York EDT
END:DAYLIGHT
BEGIN:DAYLIGHT
DTSTART:20240310T030000
RDATE:20241103T010000
TZOFFSETFROM:-0500
TZOFFSETTO:-0400
TZNAME:America/New_York EDT
END:DAYLIGHT
BEGIN:DAYLIGHT
DTSTART:20250309T030000
RDATE:20251102T010000
TZOFFSETFROM:-0500
TZOFFSETTO:-0400
TZNAME:America/New_York EDT
END:DAYLIGHT
BEGIN:DAYLIGHT
DTSTART:20260308T030000
RDATE:20261101T010000
TZOFFSETFROM:-0500
TZOFFSETTO:-0400
TZNAME:America/New_York EDT
END:DAYLIGHT
BEGIN:DAYLIGHT
DTSTART:20270314T030000
RDATE:20271107T010000
TZOFFSETFROM:-0500
TZOFFSETTO:-0400
TZNAME:America/New_York EDT
END:DAYLIGHT
BEGIN:DAYLIGHT
DTSTART:20280312T030000
RDATE:20281105T010000
TZOFFSETFROM:-0500
TZOFFSETTO:-0400
TZNAME:America/New_York EDT
END:DAYLIGHT
BEGIN:DAYLIGHT
DTSTART:20290311T030000
RDATE:20291104T010000
TZOFFSETFROM:-0500
TZOFFSETTO:-0400
TZNAME:America/New_York EDT
END:DAYLIGHT
BEGIN:DAYLIGHT
DTSTART:20300310T030000
RDATE:20301103T010000
TZOFFSETFROM:-0500
TZOFFSETTO:-0400
TZNAME:America/New_York EDT
END:DAYLIGHT
END:VTIMEZONE
BEGIN:VEVENT
UID:325952d7021859be5727d5d817f05462
CATEGORIES:At Syracuse
CREATED:20240624T144323
SUMMARY:BPI Manufactured Housing Professional
LOCATION:NYSWDA Training Center - East Syracuse
DESCRIPTION:\n BPI Manufactured Housing Professional \n
 \n
Training Location:  NYSWDA 
 Training Center (Building 1) - 5869 Fisher Road, East Syracuse, NY 13057\n

  \n
Course Description:\nThis four day course will prepare you to take the 
 BPI Manufactured Housing Specialist Certification written and field tests. 
 As part of this training, BPI standards and work practices will be reviewed
 . Attendees will look at common problem areas during the course of an energ
 y audit and prepare a workscope to remedy these issues. Topics addressed wi
 ll include typical manufactured home construction, heating system basics, d
 istribution system evaluation and repairs, belly repair, air sealing and in
 sulation best practices. Because of the large amount of BPI building analys
 t curriculum incorporated into this training, it is strongly recommended th
 at attendees hold BPI Building Analyst certification and have a good workin
 g knowledge of auditing procedures. After the trainees successfully complet
 e the written portion of the test, we will schedule them for the Field test
 .\n\n\nAgenda \nDay 1: Pre-Test \nMH Overview/ Construction Standards \nBPI
  Standards and Best Work Practices \nMH Tools and Equipment\nHeating and Di
 stribution Systems \n\nDay 2: Overview of Belly Repairs \nOverview of Roof 
 Insulation Installation \nOverview of Sidewall Insulation Installation \nDo
 or &amp; Window Replacement\n\nDay 3: Manufactured Housing Audit Procedures
 \nMH CAZ Testing / Duct Diagnostics\nReview of BPI Standards and Best Work 
 Practices\n\nDay 4: Online MH Test\n\n\nWho Should Attend:\nAuditors/Energy
  Analysts with strong auditing skills\n\n\nDates;\nCourse covers the dates 
 of August 12-15, 2024\n
 \n
Start Time: Monday-Thursday 9:00am\nEnd Time: M
 onday-Wednesday 5:00pm / Thursday test starts after a class review session 
 with 1 1/2 hours to complete\n\n\nPrerequisites: BPI Building Analyst Profe
 ssional certification\n\n\nClass Size: 6\n\n\nBPI CEU: 6\n\n\nInstructors:\
 nJoe Ilacqua, NYSWDA\n\n\nOther Notes:\nFor agencies to comply with HCR sta
 ff certification regulations only one Manufactured Housing Specialist is re
 quired per agency. See PPM- Subgrantee Staff Certification Requirements for
  more information. Bring your auditing bags with meters and appropriate wor
 k clothes.\n\n\nCourse Fees; \n$725/person - NY Weatherization Sub-grantees
  \n$725/person - affiliate members \n$1,450/person - non-members and privat
 e contractors \n
 \n
**Special note - if you wish to become an Affiliate Me
 mber, and save off the non-member rate, please contact Karen McMahon (315-7
 01-0440 ext. 223, This email address is being protected from spambots. You 
 need JavaScript enabled to view it.
				document.getElementById('cloakec92a
 70f2beb6593487276344c7832ea').innerHTML = '';
				var prefix = 'ma' + 'il' 
 + 'to';
				var path = 'hr' + 'ef' + '=';
				var addyec92a70f2beb659348727
 6344c7832ea = 'kmcmahon' + '@';
				addyec92a70f2beb6593487276344c7832ea = 
 addyec92a70f2beb6593487276344c7832ea + 'nyswda' + '.' + 'org';
				var addy
 _textec92a70f2beb6593487276344c7832ea = 'kmcmahon' + '@' + 'nyswda' + '.' +
  'org';document.getElementById('cloakec92a70f2beb6593487276344c7832ea').inn
 erHTML += '<a ' + path + '\'' + prefix + ':' + addyec92a70f2beb659348727634
 4c7832ea + '\'>'+addy_textec92a70f2beb6593487276344c7832ea+'';
		) BEFORE Y
 OU REGISTER for the course.\n
 \n
NYSWDA will not be responsible for hotel 
 costs, travel to and from the training, breakfast and dinner meals, or inci
 dentals. Lunches are ARE NOT included.\n\nCourse fees include "Your Mobile 
 Home: Energy and Repair Guide" by John Krigger\n\n(Financial assistance may
  be available from local NYS Department of Labor One-Stop Centers)\n\n\nBPI
  Fees;\n$220/person - 50-question written Manufactured Housing test\n$550/p
 erson - Field test\n \n
Click here to register (index.php?option=com_civicr
 m&amp;task=civicrm/event/register&amp;reset=1&amp;id=14331)\n
 \n
X-ALT-DESC;FMTTYPE=text/html:<p><span style="color: #336699;"><strong><span style="font-family: Tahoma;"
 ><span style="font-size: medium;"><span style="color: #336699; font-size: 1
 2pt;"><span><span><br />&nbsp;</span><span style="font-size: 14pt;"><span s
 tyle="color: #000000;"><strong><span style="color: #336699;">BPI Manufactur
 ed Housing Professional </span></strong></span></span></span></span></span>
 </span></strong></span></p><p>&nbsp;</p><p><span style="color: #336699;"><s
 trong><span style="font-family: Tahoma;"><span style="font-size: medium;"><
 span style="color: #336699; font-size: 12pt;"><span><span style="font-size:
  14pt;"><span style="color: #000000;"><strong><span style="color: #336699;"
 >Training Location:&nbsp;&nbsp;NYSWDA Training Center (Building 1)&nbsp;- 5
 869 Fisher Road, East Syracuse, NY 13057</span></strong></span></span></spa
 n></span></span></span></strong></span></p><p>&nbsp;</p><p><span style="col
 or: #336699;"><span style="font-family: Tahoma;"><span style="font-size: me
 dium;"><span style="color: #336699; font-size: 12pt;"><span><span style="fo
 nt-size: 14pt;"><span style="color: #000000;"><span style="color: #336699;"
 ></span></span></span></span></span></span></span><span style="font-family:
  Tahoma;"><span style="font-size: medium;"><span style="color: #000000;"><s
 pan style="font-size: small;"><span style="font-size: 12pt;"><span style="t
 ext-decoration: underline;"><em><span style="font-family: Tahoma;">Course D
 escription:<br /></span></em></span><span style="font-family: Tahoma;">This
  four day course will prepare you to&nbsp;take the BPI Manufactured Housing
  Specialist Certification written and field tests. As part of this training
 , BPI standards and work practices will be reviewed. Attendees will look at
  common problem areas during the course of an energy audit and prepare a wo
 rkscope to remedy these issues. Topics addressed will include typical manuf
 actured home construction, heating system basics, distribution system evalu
 ation and repairs, belly repair, air sealing and insulation best practices.
  Because of the large amount of BPI building analyst curriculum incorporate
 d into this training, it is strongly recommended that attendees hold BPI Bu
 ilding Analyst certification and have a good working knowledge of auditing 
 procedures. A<span style="font-family: Tahoma;">fter the trainees successfu
 lly complete the written portion of the test, we will schedule them for the
  Field test.<span style="color: #000000;"><span style="font-family: Tahoma;
 "><br /><span style="text-decoration: underline;"><em><br /><br />Agenda</e
 m><span style="font-family: Arial, Helvetica;"> <br /></span></span><span s
 tyle="font-family: Arial, Helvetica;"><span style="color: #000000;"><span s
 tyle="font-family: Times;"><strong><span style="font-family: Tahoma;">Day 1
 : Pre-Test </span></strong><span style="font-family: Tahoma;"><br />MH Over
 view/ Construction Standards <br />BPI Standards and Best Work Practices <b
 r />MH Tools and Equipment<br />Heating and Distribution Systems <br /><br 
 /><strong>Day 2: Overview of Belly Repairs </strong><br />Overview of Roof 
 Insulation Installation <br />Overview of Sidewall Insulation Installation 
 <br />Door &amp; Window Replacement<br /><br /><strong>Day 3: Manufactured 
 Housing Audit Procedures</strong><br />MH CAZ Testing / Duct Diagnostics<br
  />Review of BPI Standards and Best Work Practices<span style="color: #0000
 00;"><br /><br /><span style="color: #000000;"><strong>Day 4: Online MH Tes
 t<span style="text-decoration: underline;"></span></strong><span style="tex
 t-decoration: underline;"><em><br /><br /><br />Who Should Attend:<br /></e
 m></span><em><span style="font-family: Tahoma;"></span></em><span style="fo
 nt-family: Tahoma;"><span style="font-family: Tahoma;">Auditors/Energy Anal
 ysts with strong auditing skills<span style="font-family: Tahoma;"><br /><b
 r /><br /><span style="text-decoration: underline;"><em><span style="font-f
 amily: Tahoma;">Dates;<br /></span></em></span><em><span style="font-family
 : Tahoma;"><span style="font-family: Tahoma;"></span></span></em><span styl
 e="font-family: Tahoma;"><span style="font-family: Tahoma;">Course covers t
 he dates of August 12-15, 2024</span></span></span></span></span></span></s
 pan></span></span></span></span></span></span></span></span></span></span><
 /span></span></span></span></p><p><span style="color: #336699;"><span style
 ="font-family: Tahoma;"><span style="font-size: medium;"><span style="color
 : #000000;"><span style="font-size: small;"><span style="font-size: 12pt;">
 <span style="font-family: Tahoma;"><span style="font-family: Tahoma;"><span
  style="color: #000000;"><span style="font-family: Tahoma;"><span style="fo
 nt-family: Arial, Helvetica;"><span style="color: #000000;"><span style="fo
 nt-family: Times;"><span style="font-family: Tahoma;"><span style="color: #
 000000;"><span style="color: #000000;"><span style="font-family: Tahoma;"><
 span style="font-family: Tahoma;"><span style="font-family: Tahoma;"><span 
 style="font-family: Tahoma;"><span style="font-family: Tahoma;"></span></sp
 an></span></span></span></span></span></span></span></span></span></span></
 span></span></span></span></span></span></span></span></span>&nbsp;</p><p><
 span style="color: #336699;"><span style="font-family: Tahoma;"><span style
 ="font-size: medium;"><span style="color: #000000;"><span style="font-size:
  small;"><span style="font-size: 12pt;"><span style="font-family: Tahoma;">
 <span style="font-family: Tahoma;"><span style="color: #000000;"><span styl
 e="font-family: Tahoma;"><span style="font-family: Arial, Helvetica;"><span
  style="color: #000000;"><span style="font-family: Times;"><span style="fon
 t-family: Tahoma;"><span style="color: #000000;"><span style="color: #00000
 0;"><span style="font-family: Tahoma;"><span style="font-family: Tahoma;"><
 span style="font-family: Tahoma;"><span style="font-family: Tahoma;"><span 
 style="font-family: Tahoma;">Start Time: Monday-Thursday 9:00am<br />End Ti
 me: Monday-Wednesday 5:00pm / Thursday test starts after a class review ses
 sion with&nbsp;1 1/2&nbsp;hours to complete<br /><br /><br /><span style="t
 ext-decoration: underline;"><em><span style="font-family: Tahoma;">Prerequi
 sites:</span></em></span><em><span style="font-family: Tahoma;"> </span></e
 m><span style="font-family: Tahoma;"><span style="font-family: Tahoma;">BPI
  Building Analyst Professional certification<em><span style="font-family: T
 ahoma;"><br /></span></em><span style="font-family: Tahoma;"><span style="f
 ont-family: Tahoma;"><br /><br /><span style="text-decoration: underline;">
 <em>Class Size</em></span>: 6<br /><br /><br /><span style="text-decoration
 : underline;"><em>BPI CEU</em>:</span> 6<br /><br /><br /><span style="text
 -decoration: underline;"><em><span style="font-family: Tahoma;">Instructors
 :<br /></span></em></span><span style="font-family: Tahoma;">Joe Ilacqua, N
 YSWDA<span style="font-family: Tahoma;"><br /><br /><br /><span style="text
 -decoration: underline;"><em><span style="font-family: Tahoma;">Other Notes
 :<br /></span></em></span><span style="font-family: Tahoma;">For agencies t
 o comply with HCR staff certification regulations only <span style="text-de
 coration: underline;">one</span> Manufactured Housing Specialist is require
 d per agency. See PPM- Subgrantee Staff Certification Requirements for more
  information. Bring your auditing bags with meters and appropriate work clo
 thes.<span style="font-family: Times;"><br /><span style="font-family: Taho
 ma;"><br /><br /><span style="text-decoration: underline;"><em><span style=
 "font-family: Tahoma;">Course Fees;&nbsp;</span></em><span style="font-fami
 ly: Tahoma;"></span><span style="font-family: Tahoma;"></span></span><span 
 style="font-family: Tahoma;"><span style="color: #ff6600;"></span></span><s
 pan style="font-family: Tahoma;"><br /></span><span style="font-family: Tah
 oma;"><span style="font-family: Tahoma;">$725/person - NY Weatherization Su
 b-grantees&nbsp;<br />$725/person - affiliate members&nbsp;<br />$1,450/per
 son - non-members and private contractors&nbsp;</span></span></span></span>
 </span></span></span></span></span></span></span></span></span></span></spa
 n></span></span></span></span></span></span></span></span></span></span></s
 pan></span></span></span></span></span></span></p><p>&nbsp;</p><p style="ma
 rgin-top: 0in; margin-right: 0in; margin-bottom: 0pt;"><strong><i><span sty
 le="background: white; color: #02613f; font-family: 'Georgia','serif';"><sp
 an style="font-size: small;">**Special note</span></span></i></strong><stro
 ng><i><span style="background: white; color: black; font-family: 'Georgia',
 'serif';"><span style="font-size: small;">&nbsp;-&nbsp;if you wish to becom
 e an Affiliate Member, and&nbsp;save off the non-member rate, please contac
 t&nbsp;Karen McMahon (315-701-0440 ext. 223,&nbsp;</span><span id="cloakec9
 2a70f2beb6593487276344c7832ea">This email address is being protected from s
 pambots. You need JavaScript enabled to view it.</span><script type='text/j
 avascript'>
				document.getElementById('cloakec92a70f2beb6593487276344c783
 2ea').innerHTML = '';
				var prefix = 'ma' + 'il' + 'to';
				var path = '
 hr' + 'ef' + '=';
				var addyec92a70f2beb6593487276344c7832ea = 'kmcmahon'
  + '@';
				addyec92a70f2beb6593487276344c7832ea = addyec92a70f2beb65934872
 76344c7832ea + 'nyswda' + '.' + 'org';
				var addy_textec92a70f2beb6593487
 276344c7832ea = '<span style="color: #0000ff; font-size: small;">kmcmahon' 
 + '@' + 'nyswda' + '.' + 'org</span>';document.getElementById('cloakec92a70
 f2beb6593487276344c7832ea').innerHTML += '<a ' + path + '\'' + prefix + ':'
  + addyec92a70f2beb6593487276344c7832ea + '\'>'+addy_textec92a70f2beb659348
 7276344c7832ea+'<\/a>';
		</script><span style="font-size: small;">)&nbsp;<
 /span></span></i></strong><span style="font-size: small;"><strong><span sty
 le="background: white; color: #02613f; font-family: 'Georgia','serif';">BEF
 ORE YOU REGISTER&nbsp;</span></strong><em><b><span style="background: white
 ; color: black; font-family: 'Georgia','serif';">for the course</span></b><
 /em><strong><span style="background: white; color: black; font-family: 'Geo
 rgia','serif';">.</span></strong></span></p><p>&nbsp;</p><p><span style="co
 lor: #336699;"><span style="font-family: Tahoma;"><span style="font-size: m
 edium;"><span style="color: #000000;"><span style="font-size: small;"><span
  style="font-size: 12pt;"><span style="font-family: Tahoma;"><span style="f
 ont-family: Tahoma;"><span style="color: #000000;"><span style="font-family
 : Tahoma;"><span style="font-family: Arial, Helvetica;"><span style="color:
  #000000;"><span style="font-family: Times;"><span style="font-family: Taho
 ma;"><span style="color: #000000;"><span style="color: #000000;"><span styl
 e="font-family: Tahoma;"><span style="font-family: Tahoma;"><span style="fo
 nt-family: Tahoma;"><span style="font-family: Tahoma;"><span style="font-fa
 mily: Tahoma;"><span style="font-family: Tahoma;"><span style="font-family:
  Tahoma;"><span style="font-family: Tahoma;"><span style="font-family: Taho
 ma;"><span style="font-family: Tahoma;"><span style="font-family: Tahoma;">
 <span style="font-family: Tahoma;"><span style="font-family: Times;"><span 
 style="font-family: Tahoma;"><span style="font-family: Tahoma;"><span style
 ="font-family: Tahoma;"><span style="font-family: Times New Roman; font-siz
 e: small;"></span><span style="font-family: Tahoma;">NYSWDA will not be res
 ponsible for hotel costs, travel to and from the training, breakfast and di
 nner meals, or incidentals. Lunches are ARE NOT included.<br /><br />Course
  fees include<span style="font-family: Times;"> <span style="font-family: T
 ahoma;">"Your Mobile Home: Energy and Repair Guide" by John Krigger<br /><b
 r /><em>(Financial assistance may be available from local NYS Department of
  Labor One-Stop Centers)</em><span style="font-family: Times;"><br /><span 
 style="font-family: Tahoma;"><br /><br /><span style="text-decoration: unde
 rline;"><em>BPI Fees;<br /></em></span><span style="font-family: Tahoma;">$
 220/person - 50-question written Manufactured Housing test<br />$550/person
  - Field test<br /><span style="color: #000000;"><strong>&nbsp;</strong></s
 pan></span></span></span></span></span></span></span></span></span></span><
 /span></span></span></span></span></span></span></span></span></span></span
 ></span></span></span></span></span></span></span></span></span></span></sp
 an></span></span></span></span></span></span></p><p><em><strong><span style
 ="color: #0000ff; font-family: tahoma,arial,helvetica,sans-serif; font-size
 : 14pt;"><a href="https://www.nyswda.org/index.php?option=com_civicrm&amp;t
 ask=civicrm/event/register&amp;reset=1&amp;id=14331" style="color: #0000ff;
 ">Click here to register</a></span></strong></em></p><p>&nbsp;</p>
CONTACT:This email address is being protected from spambots. You need JavaScript enabled to view it.
				document.getElementById('cloak7dc0198ddcad95d021e7cc7be6bb397a').innerHTML = '';
				var prefix = '&#109;a' + 'i&#108;' + '&#116;o';
				var path = 'hr' + 'ef' + '=';
				var addy7dc0198ddcad95d021e7cc7be6bb397a = 'rv&#105;ss&#101;r' + '&#64;';
				addy7dc0198ddcad95d021e7cc7be6bb397a = addy7dc0198ddcad95d021e7cc7be6bb397a + 'nyswd&#97;' + '&#46;' + '&#111;rg';
				var addy_text7dc0198ddcad95d021e7cc7be6bb397a = 'rv&#105;ss&#101;r' + '&#64;' + 'nyswd&#97;' + '&#46;' + '&#111;rg';document.getElementById('cloak7dc0198ddcad95d021e7cc7be6bb397a').innerHTML += '<a ' + path + '\'' + prefix + ':' + addy7dc0198ddcad95d021e7cc7be6bb397a + '\'>'+addy_text7dc0198ddcad95d021e7cc7be6bb397a+'';
		
DTSTAMP:20260424T093707
DTSTART;TZID=America/New_York:20240812T090000
DTEND;TZID=America/New_York:20240815T163000
SEQUENCE:0
TRANSP:OPAQUE
END:VEVENT
END:VCALENDAR