BEGIN:VCALENDAR
VERSION:2.0
PRODID:-//jEvents 2.0 for Joomla//EN
CALSCALE:GREGORIAN
METHOD:PUBLISH
BEGIN:VTIMEZONE
TZID:America/New_York
BEGIN:STANDARD
DTSTART:20231106T090000
RDATE:20240310T030000
TZOFFSETFROM:-0400
TZOFFSETTO:-0500
TZNAME:America/New_York EST
END:STANDARD
BEGIN:STANDARD
DTSTART:20241103T010000
RDATE:20250309T030000
TZOFFSETFROM:-0400
TZOFFSETTO:-0500
TZNAME:America/New_York EST
END:STANDARD
BEGIN:STANDARD
DTSTART:20251102T010000
RDATE:20260308T030000
TZOFFSETFROM:-0400
TZOFFSETTO:-0500
TZNAME:America/New_York EST
END:STANDARD
BEGIN:STANDARD
DTSTART:20261101T010000
RDATE:20270314T030000
TZOFFSETFROM:-0400
TZOFFSETTO:-0500
TZNAME:America/New_York EST
END:STANDARD
BEGIN:STANDARD
DTSTART:20271107T010000
RDATE:20280312T030000
TZOFFSETFROM:-0400
TZOFFSETTO:-0500
TZNAME:America/New_York EST
END:STANDARD
BEGIN:STANDARD
DTSTART:20281105T010000
RDATE:20290311T030000
TZOFFSETFROM:-0400
TZOFFSETTO:-0500
TZNAME:America/New_York EST
END:STANDARD
BEGIN:STANDARD
DTSTART:20291104T010000
RDATE:20300310T030000
TZOFFSETFROM:-0400
TZOFFSETTO:-0500
TZNAME:America/New_York EST
END:STANDARD
BEGIN:STANDARD
DTSTART:20301103T010000
RDATE:20310309T030000
TZOFFSETFROM:-0400
TZOFFSETTO:-0500
TZNAME:America/New_York EST
END:STANDARD
BEGIN:DAYLIGHT
DTSTART:20240310T030000
RDATE:20241103T010000
TZOFFSETFROM:-0500
TZOFFSETTO:-0400
TZNAME:America/New_York EDT
END:DAYLIGHT
BEGIN:DAYLIGHT
DTSTART:20250309T030000
RDATE:20251102T010000
TZOFFSETFROM:-0500
TZOFFSETTO:-0400
TZNAME:America/New_York EDT
END:DAYLIGHT
BEGIN:DAYLIGHT
DTSTART:20260308T030000
RDATE:20261101T010000
TZOFFSETFROM:-0500
TZOFFSETTO:-0400
TZNAME:America/New_York EDT
END:DAYLIGHT
BEGIN:DAYLIGHT
DTSTART:20270314T030000
RDATE:20271107T010000
TZOFFSETFROM:-0500
TZOFFSETTO:-0400
TZNAME:America/New_York EDT
END:DAYLIGHT
BEGIN:DAYLIGHT
DTSTART:20280312T030000
RDATE:20281105T010000
TZOFFSETFROM:-0500
TZOFFSETTO:-0400
TZNAME:America/New_York EDT
END:DAYLIGHT
BEGIN:DAYLIGHT
DTSTART:20290311T030000
RDATE:20291104T010000
TZOFFSETFROM:-0500
TZOFFSETTO:-0400
TZNAME:America/New_York EDT
END:DAYLIGHT
BEGIN:DAYLIGHT
DTSTART:20300310T030000
RDATE:20301103T010000
TZOFFSETFROM:-0500
TZOFFSETTO:-0400
TZNAME:America/New_York EDT
END:DAYLIGHT
END:VTIMEZONE
BEGIN:VEVENT
UID:3b3bb681bd2dcd1aa3fbb5c3fa651d9f
CATEGORIES:WEB
CREATED:20241003T154819
SUMMARY:Air Sealing Techniques - Online
LOCATION:Online
DESCRIPTION:\n Air Sealing Techniques - Online \n
 \n
GoToWebinar Event\n
\n
 \n
Course
  Description: \n
This online course will be covered in one day.  Class star
 ts at 9:00am and will break at noon for an hour lunch.  The next half sessi
 on will start at 1:00pm and go until 4:00pm.\n\nThis training will review p
 rocedures meant to optimize a crew's work production so they better meet th
 eir air sealing goals.  Using powerpoint and video, the audience will learn
  about basic physics that effect air flow, techniques used in air sealing, 
 use of blower doors to diagnose problems, prioritizing workscopes, and the 
 use of proper air sealing materials.\n\nThis is an HCR mandated training fo
 r Weatherization Directors, Auditors, Crew Supervisors and Crews. If you ar
 e a new Director or have new staff, you are strongly advised to attend.  Th
 is training requires attendance every three (3) years. \n
 \n
\n
Class Size
 : 25 \n
 \n
BPI CEU: 3\n
\n
 \n
Instructor:  Joe Ilacqua - NYSWDA \n
\n
 \n
 
Course Fees:  \n
$262/person - NY Weatherization Sub-grantees\n
$262/perso
 n - affiliate members\n
$380/person - non-members\n\n
 \n
 **Special note -
  if you wish to become an Affiliate Member please contact Karen McMahon (31
 5-701-0440 ext. 223, This email address is being protected from spambots. Y
 ou need JavaScript enabled to view it.
				document.getElementById('cloak04
 4232d213e467ccbeedaebe4f04e970').innerHTML = '';
				var prefix = 'ma' + 'i
 l' + 'to';
				var path = 'hr' + 'ef' + '=';
				var addy044232d213e467ccbe
 edaebe4f04e970 = 'kmcmahon' + '@';
				addy044232d213e467ccbeedaebe4f04e970
  = addy044232d213e467ccbeedaebe4f04e970 + 'nyswda' + '.' + 'org';
				var a
 ddy_text044232d213e467ccbeedaebe4f04e970 = 'kmcmahon' + '@' + 'nyswda' + '.
 ' + 'org';document.getElementById('cloak044232d213e467ccbeedaebe4f04e970').
 innerHTML += '<a ' + path + '\'' + prefix + ':' + addy044232d213e467ccbeeda
 ebe4f04e970 + '\'>'+addy_text044232d213e467ccbeedaebe4f04e970+'';
		) BEFOR
 E YOU REGISTER for the course.\n
 \n
 \n
CLASS FULL - call or email  This e
 mail address is being protected from spambots. You need JavaScript enabled 
 to view it.
				document.getElementById('cloakd0eba8e1a73214ae046be5c4ef3fe
 1ac').innerHTML = '';
				var prefix = 'ma' + 'il' + 'to';
				var path = '
 hr' + 'ef' + '=';
				var addyd0eba8e1a73214ae046be5c4ef3fe1ac = 'rvisser' 
 + '@';
				addyd0eba8e1a73214ae046be5c4ef3fe1ac = addyd0eba8e1a73214ae046be
 5c4ef3fe1ac + 'nyswda' + '.' + 'org';
				var addy_textd0eba8e1a73214ae046b
 e5c4ef3fe1ac = 'rvisser' + '@' + 'nyswda' + '.' + 'org';document.getElement
 ById('cloakd0eba8e1a73214ae046be5c4ef3fe1ac').innerHTML += '<a ' + path + '
 \'' + prefix + ':' + addyd0eba8e1a73214ae046be5c4ef3fe1ac + '\'>'+addy_text
 d0eba8e1a73214ae046be5c4ef3fe1ac+'';
		 for availability or wait list\n
\n

  \n
\n
 \n
 \n
 \n
 \n
 \n
X-ALT-DESC;FMTTYPE=text/html:<p><br />&nbsp;<span style="color: #336699; font-family: tahoma,arial,helve
 tica,sans-serif; font-size: 14pt;"><span style="color: #000000;"><strong><s
 pan style="color: #336699;">Air Sealing Techniques - Online&nbsp;</span></s
 trong></span></span></p><p>&nbsp;</p><p><span style="color: #336699; font-f
 amily: tahoma,arial,helvetica,sans-serif; font-size: 14pt;"><span style="co
 lor: #000000;"><strong><span style="color: #336699;">GoToWebinar Event</spa
 n></strong></span></span></p><p><strong><span style="font-family: 'Tahoma',
 'sans-serif'; color: #336699; font-size: 13.5pt;"></span></strong></p><p>&n
 bsp;</p><p><span style="font-size: 12pt;"><em><span style="text-decoration:
  underline;"><span style="font-family: 'Tahoma','sans-serif'; color: black;
 ">Course Description:</span></span></em></span>&nbsp;</p><p><span style="fo
 nt-family: Tahoma, sans-serif; color: black; font-size: 12pt;"><span style=
 "font-family: Tahoma, sans-serif; color: black; font-size: 12pt;">This onli
 ne course will be covered in one day.&nbsp; Class starts at 9:00am and will
  break at noon for an hour lunch.&nbsp; The next half session will start at
  1:00pm and go until 4:00pm.</span><br /><br /></span><span style="font-fam
 ily: Tahoma, sans-serif; color: black; font-size: 12pt;">This training will
  review procedures meant to optimize a crew's work production so they bette
 r meet their air sealing goals.&nbsp; Using powerpoint and video, the audie
 nce will learn about basic physics that effect air flow, techniques used in
  air sealing, use of blower doors to diagnose problems, prioritizing worksc
 opes, and the use of proper air sealing materials.<br /><br /></span><span 
 style="font-family: Tahoma, sans-serif; color: black; font-size: 12pt;">Thi
 s is an HCR mandated training for Weatherization Directors, Auditors, Crew 
 Supervisors and Crews. If you are a new Director or have new staff, you are
  strongly advised to attend.&nbsp; This training requires attendance every 
 three (3) years.</span>&nbsp;</p><p>&nbsp;</p><p><span style="font-family: 
 'Tahoma', 'sans-serif'; color: black; font-size: 12pt;"></span></p><p><span
  style="font-size: 12pt;"><em><span style="text-decoration: underline;"><sp
 an style="font-family: 'Tahoma','sans-serif'; color: black;">Class Size</sp
 an></span></em><span style="font-family: 'Tahoma','sans-serif'; color: blac
 k;">: 25</span></span>&nbsp;<span style="font-family: 'Tahoma', 'sans-serif
 '; color: black; font-size: 12pt;"></span></p><p>&nbsp;</p><p><span style="
 font-size: 12pt;"><em><span style="text-decoration: underline;"><span style
 ="font-family: 'Tahoma','sans-serif'; color: black;">BPI CEU</span></span><
 /em><span style="text-decoration: underline;"><span style="font-family: 'Ta
 homa','sans-serif'; color: black;">:</span></span><span style="font-family:
  'Tahoma','sans-serif'; color: black;">&nbsp;3</span></span></p><p><span st
 yle="font-family: 'Tahoma', 'sans-serif'; color: black; font-size: 12pt;"><
 /span></p><p>&nbsp;</p><p><span style="font-size: 12pt;"><span style="text-
 decoration: underline;"><span style="font-family: 'Tahoma','sans-serif'; co
 lor: black;"><em>Instructor</em>:</span></span><span style="font-family: 'T
 ahoma','sans-serif'; color: black;">&nbsp; Joe Ilacqua</span><span style="f
 ont-family: 'Tahoma','sans-serif'; color: black;">&nbsp;- NYSWDA</span></sp
 an>&nbsp;</p><p><span style="font-family: 'Tahoma', 'sans-serif'; color: bl
 ack; font-size: 12pt;"></span></p><p>&nbsp;</p><p><span style="font-size: 1
 2pt;"><em><span style="text-decoration: underline;"><span style="font-famil
 y: 'Tahoma','sans-serif'; color: black;">Course Fees:&nbsp;</span></span></
 em></span>&nbsp;</p><p><span style="font-size: 12pt;"><span style="color: b
 lack; font-family: 'Tahoma','sans-serif';">$262/person - NY&nbsp;Weatheriza
 tion Sub-grantees</span></span></p><p><span style="font-size: 12pt;"><span 
 style="color: black; font-family: 'Tahoma','sans-serif';">$262/person - aff
 iliate members</span><span style="color: black; font-family: 'Tahoma','sans
 -serif';"></span></span></p><p><span style="font-size: 12pt;"><span style="
 color: black; font-family: 'Tahoma','sans-serif';">$380/person - non-member
 s</span><span style="color: black; font-family: 'Tahoma','sans-serif';"></s
 pan><span style="color: black; font-family: 'Tahoma','sans-serif';"></span>
 <em><span style="color: black; font-family: 'Tahoma','sans-serif';"><br /><
 /span></em></span></p><p>&nbsp;</p><p><span style="color: #0000ff;"><em><st
 rong><span style="font-family: tahoma, arial, helvetica, sans-serif; font-s
 ize: 14pt;"><span style="color: #0000ff;"></span></span></strong></em></spa
 n><span style="background-color: initial; color: inherit; font-family: inhe
 rit; font-size: 1rem;"> </span><em style="background-color: initial; color:
  inherit; font-family: inherit; font-size: 1rem;"><strong><span style="back
 ground: white; color: #02613f; font-family: 'Georgia','serif';"><span style
 ="font-size: small;">**Special note</span></span></strong></em><span style=
 "background: white; color: black; font-family: 'Georgia','serif';"><span st
 yle="font-size: small;"><i><strong>&nbsp;-&nbsp;if you wish to become an Af
 filiate Member please contact&nbsp;Karen McMahon (315-701-0440 ext. 223,&nb
 sp;</strong></i></span><i><strong><span id="cloak044232d213e467ccbeedaebe4f
 04e970">This email address is being protected from spambots. You need JavaS
 cript enabled to view it.</span><script type='text/javascript'>
				documen
 t.getElementById('cloak044232d213e467ccbeedaebe4f04e970').innerHTML = '';
	
 			var prefix = 'ma' + 'il' + 'to';
				var path = 'hr' + 'ef' + '=';
				v
 ar addy044232d213e467ccbeedaebe4f04e970 = 'kmcmahon' + '@';
				addy044232d
 213e467ccbeedaebe4f04e970 = addy044232d213e467ccbeedaebe4f04e970 + 'nyswda'
  + '.' + 'org';
				var addy_text044232d213e467ccbeedaebe4f04e970 = '<span 
 style="color: #0000ff; font-size: small;">kmcmahon' + '@' + 'nyswda' + '.' 
 + 'org</span>';document.getElementById('cloak044232d213e467ccbeedaebe4f04e9
 70').innerHTML += '<a ' + path + '\'' + prefix + ':' + addy044232d213e467cc
 beedaebe4f04e970 + '\'>'+addy_text044232d213e467ccbeedaebe4f04e970+'<\/a>';
 
		</script><span style="font-size: small;">)&nbsp;</span></strong></i></sp
 an><i style="background-color: initial; color: inherit; font-family: inheri
 t; font-size: 1rem;"></i><span style="font-size: small;"><strong><span styl
 e="background: white; color: #02613f; font-family: 'Georgia','serif';">BEFO
 RE YOU REGISTER&nbsp;</span></strong><em><b><span style="background: white;
  color: black; font-family: 'Georgia','serif';">for the course</span></b></
 em><strong><span style="background: white; color: black; font-family: 'Geor
 gia','serif';">.</span></strong></span><span style="background-color: initi
 al; color: inherit; font-family: inherit; font-size: 1rem;"></span></p><p>&
 nbsp;</p><p>&nbsp;</p><p><em><span style="font-family: Tahoma, sans-serif; 
 color: black;"><span style="font-family: tahoma, arial, helvetica, sans-ser
 if; font-size: 14pt;"><strong><em><strong><span style="color: #ffffff; font
 -family: tahoma,arial,helvetica,sans-serif; font-size: 14pt;"><span style="
 color: #ff0000;">CLASS FULL - call or email</span>&nbsp; <span id="cloakd0e
 ba8e1a73214ae046be5c4ef3fe1ac">This email address is being protected from s
 pambots. You need JavaScript enabled to view it.</span><script type='text/j
 avascript'>
				document.getElementById('cloakd0eba8e1a73214ae046be5c4ef3fe
 1ac').innerHTML = '';
				var prefix = 'ma' + 'il' + 'to';
				var path = '
 hr' + 'ef' + '=';
				var addyd0eba8e1a73214ae046be5c4ef3fe1ac = 'rvisser' 
 + '@';
				addyd0eba8e1a73214ae046be5c4ef3fe1ac = addyd0eba8e1a73214ae046be
 5c4ef3fe1ac + 'nyswda' + '.' + 'org';
				var addy_textd0eba8e1a73214ae046b
 e5c4ef3fe1ac = '<span style="color: #0066cc;">rvisser' + '@' + 'nyswda' + '
 .' + 'org</span>';document.getElementById('cloakd0eba8e1a73214ae046be5c4ef3
 fe1ac').innerHTML += '<a ' + path + '\'' + prefix + ':' + addyd0eba8e1a7321
 4ae046be5c4ef3fe1ac + '\'>'+addy_textd0eba8e1a73214ae046be5c4ef3fe1ac+'<\/a
 >';
		</script> <span style="color: #ff0000;">for availability or wait list
 </span></span></strong></em><span style="color: #ffffff;"></span></strong><
 span style="font-family: tahoma,arial,helvetica,sans-serif; font-size: 14pt
 ;"></span><span style="font-family: tahoma, arial, helvetica, sans-serif; f
 ont-size: 14pt;"></span><span style="font-family: tahoma, arial, helvetica,
  sans-serif; font-size: 14pt;"></span></span><span style="font-family: taho
 ma,arial,helvetica,sans-serif; font-size: 14pt;"></span><span style="font-f
 amily: tahoma, arial, helvetica, sans-serif; font-size: 14pt;"></span><span
  style="font-family: tahoma, arial, helvetica, sans-serif; font-size: 14pt;
 "></span><em></em><span style="color: #0000ff;"></span></span></em></p><p><
 span style="font-family: 'Arial','sans-serif'; color: black; font-size: 10p
 t;"></span></p><p>&nbsp;</p><p><span style="font-family: 'Arial','sans-seri
 f'; color: black; font-size: 10pt;"></span></p><p>&nbsp;</p><p>&nbsp;</p><p
 >&nbsp;</p><p>&nbsp;</p><p>&nbsp;</p>
CONTACT:This email address is being protected from spambots. You need JavaScript enabled to view it.
				document.getElementById('cloak04acc4766d0c7e91d865e5f80cbfdc56').innerHTML = '';
				var prefix = '&#109;a' + 'i&#108;' + '&#116;o';
				var path = 'hr' + 'ef' + '=';
				var addy04acc4766d0c7e91d865e5f80cbfdc56 = 'rv&#105;ss&#101;r' + '&#64;';
				addy04acc4766d0c7e91d865e5f80cbfdc56 = addy04acc4766d0c7e91d865e5f80cbfdc56 + 'nyswd&#97;' + '&#46;' + '&#111;rg';
				var addy_text04acc4766d0c7e91d865e5f80cbfdc56 = 'rv&#105;ss&#101;r' + '&#64;' + 'nyswd&#97;' + '&#46;' + '&#111;rg';document.getElementById('cloak04acc4766d0c7e91d865e5f80cbfdc56').innerHTML += '<a ' + path + '\'' + prefix + ':' + addy04acc4766d0c7e91d865e5f80cbfdc56 + '\'>'+addy_text04acc4766d0c7e91d865e5f80cbfdc56+'';
		
DTSTAMP:20260424T094612
DTSTART;TZID=America/New_York:20241106T090000
DTEND;TZID=America/New_York:20241106T160000
SEQUENCE:0
TRANSP:OPAQUE
END:VEVENT
END:VCALENDAR