BEGIN:VCALENDAR
VERSION:2.0
PRODID:-//jEvents 2.0 for Joomla//EN
CALSCALE:GREGORIAN
METHOD:PUBLISH
BEGIN:VTIMEZONE
TZID:America/New_York
BEGIN:STANDARD
DTSTART:20240108T090000
RDATE:20240310T030000
TZOFFSETFROM:-0400
TZOFFSETTO:-0500
TZNAME:America/New_York EST
END:STANDARD
BEGIN:STANDARD
DTSTART:20241103T010000
RDATE:20250309T030000
TZOFFSETFROM:-0400
TZOFFSETTO:-0500
TZNAME:America/New_York EST
END:STANDARD
BEGIN:STANDARD
DTSTART:20251102T010000
RDATE:20260308T030000
TZOFFSETFROM:-0400
TZOFFSETTO:-0500
TZNAME:America/New_York EST
END:STANDARD
BEGIN:STANDARD
DTSTART:20261101T010000
RDATE:20270314T030000
TZOFFSETFROM:-0400
TZOFFSETTO:-0500
TZNAME:America/New_York EST
END:STANDARD
BEGIN:STANDARD
DTSTART:20271107T010000
RDATE:20280312T030000
TZOFFSETFROM:-0400
TZOFFSETTO:-0500
TZNAME:America/New_York EST
END:STANDARD
BEGIN:STANDARD
DTSTART:20281105T010000
RDATE:20290311T030000
TZOFFSETFROM:-0400
TZOFFSETTO:-0500
TZNAME:America/New_York EST
END:STANDARD
BEGIN:STANDARD
DTSTART:20291104T010000
RDATE:20300310T030000
TZOFFSETFROM:-0400
TZOFFSETTO:-0500
TZNAME:America/New_York EST
END:STANDARD
BEGIN:STANDARD
DTSTART:20301103T010000
RDATE:20310309T030000
TZOFFSETFROM:-0400
TZOFFSETTO:-0500
TZNAME:America/New_York EST
END:STANDARD
BEGIN:DAYLIGHT
DTSTART:20240310T030000
RDATE:20241103T010000
TZOFFSETFROM:-0500
TZOFFSETTO:-0400
TZNAME:America/New_York EDT
END:DAYLIGHT
BEGIN:DAYLIGHT
DTSTART:20250309T030000
RDATE:20251102T010000
TZOFFSETFROM:-0500
TZOFFSETTO:-0400
TZNAME:America/New_York EDT
END:DAYLIGHT
BEGIN:DAYLIGHT
DTSTART:20260308T030000
RDATE:20261101T010000
TZOFFSETFROM:-0500
TZOFFSETTO:-0400
TZNAME:America/New_York EDT
END:DAYLIGHT
BEGIN:DAYLIGHT
DTSTART:20270314T030000
RDATE:20271107T010000
TZOFFSETFROM:-0500
TZOFFSETTO:-0400
TZNAME:America/New_York EDT
END:DAYLIGHT
BEGIN:DAYLIGHT
DTSTART:20280312T030000
RDATE:20281105T010000
TZOFFSETFROM:-0500
TZOFFSETTO:-0400
TZNAME:America/New_York EDT
END:DAYLIGHT
BEGIN:DAYLIGHT
DTSTART:20290311T030000
RDATE:20291104T010000
TZOFFSETFROM:-0500
TZOFFSETTO:-0400
TZNAME:America/New_York EDT
END:DAYLIGHT
BEGIN:DAYLIGHT
DTSTART:20300310T030000
RDATE:20301103T010000
TZOFFSETFROM:-0500
TZOFFSETTO:-0400
TZNAME:America/New_York EDT
END:DAYLIGHT
END:VTIMEZONE
BEGIN:VEVENT
UID:0fa6c50f888339593dbf5c050ad3269f
CATEGORIES:WEB
CREATED:20241115T173225
SUMMARY:NYS Manufactured Housing Mechanics Certification - Online
LOCATION:NYSWDA Training Center - East Syracuse
DESCRIPTION:<p>&nbsp;</p><p><span style="color: #336699; font-size: 12pt;"><span><span>
 &nbsp;</span><span><span style="color: #000000;"><span><strong><span style=
 "color: #336699;"><span style="font-family: tahoma,arial,helvetica,sans-ser
 if; font-size: 14pt;">NYS Manufactured Housing Mechanics Certification - On
 line</span></span></strong></span></span></span></span></span></p><p>&nbsp;
 </p><p><span style="color: #336699; font-size: 12pt;"><span><span><span sty
 le="color: #000000;"><span><strong><span style="color: #336699;"><span styl
 e="font-family: tahoma,arial,helvetica,sans-serif; font-size: 14pt;"><span 
 style="color: #336699;">GoToWebinar Event</span><span></span><span></span><
 span></span><span style="color: #000000;"></span><span></span><span></span>
 <span style="color: #336699; font-family: tahoma,arial,helvetica,sans-serif
 ; font-size: 14pt;"></span><span></span><span style="font-family: Tahoma;">
 </span><span style="font-family: Tahoma;"></span><span style="color: #00000
 0;"></span><span style="font-size: small;"></span><span style="font-family:
  Tahoma;"></span><span style="color: #000000;"></span><span style="font-siz
 e: x-small;"></span><span style="font-family: Arial, Helvetica;"></span><sp
 an style="font-size: small;"></span><span style="font-family: Tahoma;"></sp
 an><span style="font-size: x-small;"></span><span style="font-family: Arial
 , Helvetica;"></span><span style="font-size: small;"></span><span style="fo
 nt-family: Tahoma;"></span><span style="font-size: x-small;"></span><span s
 tyle="font-family: Arial, Helvetica;"></span><span style="font-size: small;
 "></span><span style="font-family: Tahoma;"></span><span style="font-size: 
 x-small;"></span><span style="font-family: Arial, Helvetica;"></span><span 
 style="font-family: Tahoma;"></span><span style="font-family: Tahoma;"></sp
 an><span style="font-size: small;"></span><span style="font-family: Tahoma;
 "></span><span style="font-size: x-small;"></span><span style="font-family:
  Arial, Helvetica;"></span><span style="font-family: Tahoma;"></span><span 
 style="font-family: Tahoma;"></span><span style="font-family: Tahoma;"></sp
 an><span style="font-size: small;"></span><span style="font-family: Tahoma;
 "></span><span style="font-size: x-small;"></span><span style="font-family:
  Arial, Helvetica;"></span><span style="color: #000000;"></span><span style
 ="font-size: medium;"></span><span style="font-family: Tahoma;"></span><spa
 n style="color: #336699;"></span></span><br /></span></strong></span></span
 ></span></span></span><span style="color: #336699; font-size: 12pt;"><span 
 style="font-family: Tahoma;"><span><span style="color: #000000;"><em><span>
 <br /></span></em></span></span></span></span><span style="color: #336699; 
 font-size: 12pt;"><span style="font-family: Tahoma;"><span><span style="col
 or: #000000;"><em><span><span style="text-decoration: underline;"><span sty
 le="font-family: Tahoma;">This training is for:</span></span><span style="f
 ont-family: Tahoma;"><span style="font-family: Tahoma;"><br /></span></span
 ></span></em><span style="font-family: Tahoma;"><span style="font-family: T
 ahoma;"><span style="font-family: Tahoma;">Weatherization crew chiefs/audit
 ors, weatherization agency sub-contractors, private contractors<span style=
 "font-family: Tahoma;"><br /><br /><span style="text-decoration: underline;
 "><em><span style="font-family: Tahoma;">Course Description:</span></em></s
 pan><em><span style="font-family: Tahoma;"><span style="font-family: Tahoma
 ;"><br /></span></span></em><span style="font-family: Tahoma;"><span style=
 "font-family: Tahoma;"><span style="font-family: Tahoma;">This training wil
 l prepare those attending to take the New York State Manufactured Housing M
 echanic certification written test. If your business or agency conducts str
 uctural repairs on mobile homes or manufactured housing to stay in complian
 ce with NY State Code Enforcement requirements, you will need at least one 
 staff member with this certification. Structural repairs include replacemen
 t of door/window framing, replacement of subfloor plywood, or replacement o
 f interior wall and ceiling panels. This staff member must be on-site durin
 g these repairs. This individual certification is valid for two years.<br /
 ><br /><span style="text-decoration: underline;"><em>Dates;<br /></em></spa
 n><span style="font-family: Tahoma;">January 8, 2025 / 9:00am - noon (with 
 a 1 hour break) then class resumes from 1:00pm - 4:00pm.&nbsp; There is an 
 exception for Retailers &amp; Installers - you will only be taking the firs
 t half of this class.&nbsp; Only those looking for the Mechanics certificat
 ion will complete the second half.<br /><br /><span style="text-decoration:
  underline;"><em><span style="font-family: Tahoma;">Prerequisites:</span></
 em></span><em><span style="font-family: Tahoma;"> <br /></span></em><span s
 tyle="font-family: Tahoma;">Completion of high school, GED or equivalent (U
 .S. Armed Forces report) showing successful completion of high school level
  education.&nbsp; One year full time employment in manufactured housing ind
 ustry or an industry substantially similar (1 year construction industry ex
 perience or 1 year manufactured housing repair and weatherization experienc
 e generally accepted). Field experience in manufactured housing repairs and
  weatherization techniques<span style="font-family: Tahoma;"><br /><em><br 
 /><span style="text-decoration: underline;">Class Size</span></em>: 16<br /
 ><br /><span style="text-decoration: underline;"><em>BPI CEU</em>:</span>&n
 bsp;3<br /><br /><span style="text-decoration: underline;"><em><span style=
 "font-family: Tahoma;">Instructors:</span></em></span><em><span style="font
 -family: Tahoma;"> </span></em><span style="font-family: Tahoma;">Joel Harp
 er -&nbsp;<span style="font-family: Tahoma;">MHC Consultants LLC</span><spa
 n style="font-family: Tahoma;"></span><span style="font-family: Tahoma;"></
 span><span style="font-family: Tahoma;"></span><span style="font-family: Ta
 homa;"></span><span style="font-family: Tahoma;"></span><span style="font-f
 amily: Tahoma;"></span><span style="font-family: Tahoma;"></span><span styl
 e="font-family: Tahoma;"></span><span style="font-family: Tahoma;"></span><
 span style="font-family: Tahoma;"></span><span></span><span style="color: #
 000000;"></span><span></span><span></span><span style="color: #336699; font
 -size: 12pt;"></span><br /><br /><span style="text-decoration: underline;">
 <em>Course Fees:&nbsp;</em></span><em><span style="color: #ff6600;"></span>
 </em><em><br /></em><span style="font-family: Tahoma;">$262/person -&nbsp;N
 Y&nbsp;Weatherization Sub-grantees<br /></span></span></span></span></span>
 </span></span></span></span></span></span></span></span></span></span></spa
 n><span style="color: #336699; font-size: 12pt;"><span style="font-family: 
 Tahoma;"><span style="color: #000000;"><span><span><span><span><span><span>
 <span><span><span><span><span><span>$262/person -&nbsp;affiliate members<br
  /></span></span></span></span></span></span></span></span></span></span></
 span></span></span></span></span><span style="color: #336699; font-size: 12
 pt;"><span style="font-family: Tahoma;"><span style="color: #000000;"><span
 ><span><span><span><span><span><span><span><span><span><span><span>$380/per
 son -&nbsp;non-members<br />$220/person - Retailers and Installers&nbsp;</s
 pan></span></span></span></span></span></span></span></span></span></span><
 /span></span></span></span></p><p>&nbsp;</p><p><span style="color: #336699;
  font-size: 12pt;"><span style="font-family: Tahoma;"><span><span style="co
 lor: #000000;"><span><span style="font-family: Tahoma;"><span style="font-f
 amily: Tahoma;"><span style="font-family: Tahoma;"><span style="font-family
 : Tahoma;"><span style="font-family: Tahoma;"><span style="font-family: Tah
 oma;"><span style="font-family: Tahoma;"><span style="font-family: Tahoma;"
 ><span style="font-family: Tahoma;"><span style="font-family: Tahoma;"><spa
 n style="font-family: Tahoma;"><em><span style="font-family: Tahoma;"><em><
 strong><span style="background: white; color: #02613f; font-family: 'Georgi
 a','serif';"><span style="font-size: small;">**Special note</span></span></
 strong></em><span style="background: white; color: black; font-family: 'Geo
 rgia','serif';"><span style="font-size: small;"><i><strong>&nbsp;-&nbsp;if 
 you wish to become an Affiliate Member, and&nbsp;save off the non-member ra
 te, please contact&nbsp;Karen McMahon (315-701-0440 ext. 223,&nbsp;</strong
 ></i></span><i><strong><span id="cloak14ed39af63fba2570559124e31c673cc">Thi
 s email address is being protected from spambots. You need JavaScript enabl
 ed to view it.</span><script type='text/javascript'>
				document.getElemen
 tById('cloak14ed39af63fba2570559124e31c673cc').innerHTML = '';
				var pref
 ix = 'ma' + 'il' + 'to';
				var path = 'hr' + 'ef' + '=';
				var addy14ed
 39af63fba2570559124e31c673cc = 'kmcmahon' + '@';
				addy14ed39af63fba25705
 59124e31c673cc = addy14ed39af63fba2570559124e31c673cc + 'nyswda' + '.' + 'o
 rg';
				var addy_text14ed39af63fba2570559124e31c673cc = '<span style="colo
 r: #0000ff; font-size: small;">kmcmahon' + '@' + 'nyswda' + '.' + 'org</spa
 n>';document.getElementById('cloak14ed39af63fba2570559124e31c673cc').innerH
 TML += '<a ' + path + '\'' + prefix + ':' + addy14ed39af63fba2570559124e31c
 673cc + '\'>'+addy_text14ed39af63fba2570559124e31c673cc+'<\/a>';
		</script
 ><span style="font-size: small;">)&nbsp;</span></strong></i></span><i></i><
 span style="font-size: small;"><strong><span style="background: white; colo
 r: #02613f; font-family: 'Georgia','serif';">BEFORE YOU REGISTER&nbsp;</spa
 n></strong><em><b><span style="background: white; color: black; font-family
 : 'Georgia','serif';">for the course</span></b></em><strong><span style="ba
 ckground: white; color: black; font-family: 'Georgia','serif';">.</span></s
 trong></span></span></em></span></span></span></span></span></span></span><
 /span></span></span></span></span></span></span><span style="background-col
 or: initial; color: inherit; font-family: inherit; font-size: 1rem;"></span
 ><span style="color: #0000ff;"><em><strong><span style="font-size: 14pt; fo
 nt-family: tahoma,arial,helvetica,sans-serif;"></span></strong></em></span>
 <span style="background-color: initial; color: inherit; font-family: inheri
 t; font-size: 1rem;"></span><span><span style="color: #000000;"><span><span
  style="font-family: Tahoma;"><span style="font-family: Tahoma;"><span styl
 e="font-family: Tahoma;"><span style="font-family: Tahoma;"><span style="fo
 nt-family: Tahoma;"><span style="font-family: Tahoma;"><span style="font-fa
 mily: Tahoma;"><span style="font-family: Tahoma;"><span style="font-family:
  Tahoma;"><span style="font-family: Tahoma;"><span style="font-family: Taho
 ma;"><em><span style="font-family: Tahoma;"><br /></span></em></span></span
 ></span></span></span></span></span></span></span></span></span></span></sp
 an></span></span></span></p><p>&nbsp;</p><p><span style="color: #0000ff;"><
 em><strong><span style="font-family: tahoma, arial, helvetica, sans-serif; 
 font-size: 14pt;"><a href="index.php?option=com_civicrm&amp;task=civicrm/ev
 ent/register&amp;reset=1&amp;id=14353" style="color: #0000ff;">Click here t
 o register</a></span></strong></em></span></p>
X-ALT-DESC;FMTTYPE=text/html:<p>&nbsp;</p><p><span style="color: #336699; font-size: 12pt;"><span><span>
 &nbsp;</span><span><span style="color: #000000;"><span><strong><span style=
 "color: #336699;"><span style="font-family: tahoma,arial,helvetica,sans-ser
 if; font-size: 14pt;">NYS Manufactured Housing Mechanics Certification - On
 line</span></span></strong></span></span></span></span></span></p><p>&nbsp;
 </p><p><span style="color: #336699; font-size: 12pt;"><span><span><span sty
 le="color: #000000;"><span><strong><span style="color: #336699;"><span styl
 e="font-family: tahoma,arial,helvetica,sans-serif; font-size: 14pt;"><span 
 style="color: #336699;">GoToWebinar Event</span><span></span><span></span><
 span></span><span style="color: #000000;"></span><span></span><span></span>
 <span style="color: #336699; font-family: tahoma,arial,helvetica,sans-serif
 ; font-size: 14pt;"></span><span></span><span style="font-family: Tahoma;">
 </span><span style="font-family: Tahoma;"></span><span style="color: #00000
 0;"></span><span style="font-size: small;"></span><span style="font-family:
  Tahoma;"></span><span style="color: #000000;"></span><span style="font-siz
 e: x-small;"></span><span style="font-family: Arial, Helvetica;"></span><sp
 an style="font-size: small;"></span><span style="font-family: Tahoma;"></sp
 an><span style="font-size: x-small;"></span><span style="font-family: Arial
 , Helvetica;"></span><span style="font-size: small;"></span><span style="fo
 nt-family: Tahoma;"></span><span style="font-size: x-small;"></span><span s
 tyle="font-family: Arial, Helvetica;"></span><span style="font-size: small;
 "></span><span style="font-family: Tahoma;"></span><span style="font-size: 
 x-small;"></span><span style="font-family: Arial, Helvetica;"></span><span 
 style="font-family: Tahoma;"></span><span style="font-family: Tahoma;"></sp
 an><span style="font-size: small;"></span><span style="font-family: Tahoma;
 "></span><span style="font-size: x-small;"></span><span style="font-family:
  Arial, Helvetica;"></span><span style="font-family: Tahoma;"></span><span 
 style="font-family: Tahoma;"></span><span style="font-family: Tahoma;"></sp
 an><span style="font-size: small;"></span><span style="font-family: Tahoma;
 "></span><span style="font-size: x-small;"></span><span style="font-family:
  Arial, Helvetica;"></span><span style="color: #000000;"></span><span style
 ="font-size: medium;"></span><span style="font-family: Tahoma;"></span><spa
 n style="color: #336699;"></span></span><br /></span></strong></span></span
 ></span></span></span><span style="color: #336699; font-size: 12pt;"><span 
 style="font-family: Tahoma;"><span><span style="color: #000000;"><em><span>
 <br /></span></em></span></span></span></span><span style="color: #336699; 
 font-size: 12pt;"><span style="font-family: Tahoma;"><span><span style="col
 or: #000000;"><em><span><span style="text-decoration: underline;"><span sty
 le="font-family: Tahoma;">This training is for:</span></span><span style="f
 ont-family: Tahoma;"><span style="font-family: Tahoma;"><br /></span></span
 ></span></em><span style="font-family: Tahoma;"><span style="font-family: T
 ahoma;"><span style="font-family: Tahoma;">Weatherization crew chiefs/audit
 ors, weatherization agency sub-contractors, private contractors<span style=
 "font-family: Tahoma;"><br /><br /><span style="text-decoration: underline;
 "><em><span style="font-family: Tahoma;">Course Description:</span></em></s
 pan><em><span style="font-family: Tahoma;"><span style="font-family: Tahoma
 ;"><br /></span></span></em><span style="font-family: Tahoma;"><span style=
 "font-family: Tahoma;"><span style="font-family: Tahoma;">This training wil
 l prepare those attending to take the New York State Manufactured Housing M
 echanic certification written test. If your business or agency conducts str
 uctural repairs on mobile homes or manufactured housing to stay in complian
 ce with NY State Code Enforcement requirements, you will need at least one 
 staff member with this certification. Structural repairs include replacemen
 t of door/window framing, replacement of subfloor plywood, or replacement o
 f interior wall and ceiling panels. This staff member must be on-site durin
 g these repairs. This individual certification is valid for two years.<br /
 ><br /><span style="text-decoration: underline;"><em>Dates;<br /></em></spa
 n><span style="font-family: Tahoma;">January 8, 2025 / 9:00am - noon (with 
 a 1 hour break) then class resumes from 1:00pm - 4:00pm.&nbsp; There is an 
 exception for Retailers &amp; Installers - you will only be taking the firs
 t half of this class.&nbsp; Only those looking for the Mechanics certificat
 ion will complete the second half.<br /><br /><span style="text-decoration:
  underline;"><em><span style="font-family: Tahoma;">Prerequisites:</span></
 em></span><em><span style="font-family: Tahoma;"> <br /></span></em><span s
 tyle="font-family: Tahoma;">Completion of high school, GED or equivalent (U
 .S. Armed Forces report) showing successful completion of high school level
  education.&nbsp; One year full time employment in manufactured housing ind
 ustry or an industry substantially similar (1 year construction industry ex
 perience or 1 year manufactured housing repair and weatherization experienc
 e generally accepted). Field experience in manufactured housing repairs and
  weatherization techniques<span style="font-family: Tahoma;"><br /><em><br 
 /><span style="text-decoration: underline;">Class Size</span></em>: 16<br /
 ><br /><span style="text-decoration: underline;"><em>BPI CEU</em>:</span>&n
 bsp;3<br /><br /><span style="text-decoration: underline;"><em><span style=
 "font-family: Tahoma;">Instructors:</span></em></span><em><span style="font
 -family: Tahoma;"> </span></em><span style="font-family: Tahoma;">Joel Harp
 er -&nbsp;<span style="font-family: Tahoma;">MHC Consultants LLC</span><spa
 n style="font-family: Tahoma;"></span><span style="font-family: Tahoma;"></
 span><span style="font-family: Tahoma;"></span><span style="font-family: Ta
 homa;"></span><span style="font-family: Tahoma;"></span><span style="font-f
 amily: Tahoma;"></span><span style="font-family: Tahoma;"></span><span styl
 e="font-family: Tahoma;"></span><span style="font-family: Tahoma;"></span><
 span style="font-family: Tahoma;"></span><span></span><span style="color: #
 000000;"></span><span></span><span></span><span style="color: #336699; font
 -size: 12pt;"></span><br /><br /><span style="text-decoration: underline;">
 <em>Course Fees:&nbsp;</em></span><em><span style="color: #ff6600;"></span>
 </em><em><br /></em><span style="font-family: Tahoma;">$262/person -&nbsp;N
 Y&nbsp;Weatherization Sub-grantees<br /></span></span></span></span></span>
 </span></span></span></span></span></span></span></span></span></span></spa
 n><span style="color: #336699; font-size: 12pt;"><span style="font-family: 
 Tahoma;"><span style="color: #000000;"><span><span><span><span><span><span>
 <span><span><span><span><span><span>$262/person -&nbsp;affiliate members<br
  /></span></span></span></span></span></span></span></span></span></span></
 span></span></span></span></span><span style="color: #336699; font-size: 12
 pt;"><span style="font-family: Tahoma;"><span style="color: #000000;"><span
 ><span><span><span><span><span><span><span><span><span><span><span>$380/per
 son -&nbsp;non-members<br />$220/person - Retailers and Installers&nbsp;</s
 pan></span></span></span></span></span></span></span></span></span></span><
 /span></span></span></span></p><p>&nbsp;</p><p><span style="color: #336699;
  font-size: 12pt;"><span style="font-family: Tahoma;"><span><span style="co
 lor: #000000;"><span><span style="font-family: Tahoma;"><span style="font-f
 amily: Tahoma;"><span style="font-family: Tahoma;"><span style="font-family
 : Tahoma;"><span style="font-family: Tahoma;"><span style="font-family: Tah
 oma;"><span style="font-family: Tahoma;"><span style="font-family: Tahoma;"
 ><span style="font-family: Tahoma;"><span style="font-family: Tahoma;"><spa
 n style="font-family: Tahoma;"><em><span style="font-family: Tahoma;"><em><
 strong><span style="background: white; color: #02613f; font-family: 'Georgi
 a','serif';"><span style="font-size: small;">**Special note</span></span></
 strong></em><span style="background: white; color: black; font-family: 'Geo
 rgia','serif';"><span style="font-size: small;"><i><strong>&nbsp;-&nbsp;if 
 you wish to become an Affiliate Member, and&nbsp;save off the non-member ra
 te, please contact&nbsp;Karen McMahon (315-701-0440 ext. 223,&nbsp;</strong
 ></i></span><i><strong><span id="cloak14ed39af63fba2570559124e31c673cc">Thi
 s email address is being protected from spambots. You need JavaScript enabl
 ed to view it.</span><script type='text/javascript'>
				document.getElemen
 tById('cloak14ed39af63fba2570559124e31c673cc').innerHTML = '';
				var pref
 ix = 'ma' + 'il' + 'to';
				var path = 'hr' + 'ef' + '=';
				var addy14ed
 39af63fba2570559124e31c673cc = 'kmcmahon' + '@';
				addy14ed39af63fba25705
 59124e31c673cc = addy14ed39af63fba2570559124e31c673cc + 'nyswda' + '.' + 'o
 rg';
				var addy_text14ed39af63fba2570559124e31c673cc = '<span style="colo
 r: #0000ff; font-size: small;">kmcmahon' + '@' + 'nyswda' + '.' + 'org</spa
 n>';document.getElementById('cloak14ed39af63fba2570559124e31c673cc').innerH
 TML += '<a ' + path + '\'' + prefix + ':' + addy14ed39af63fba2570559124e31c
 673cc + '\'>'+addy_text14ed39af63fba2570559124e31c673cc+'<\/a>';
		</script
 ><span style="font-size: small;">)&nbsp;</span></strong></i></span><i></i><
 span style="font-size: small;"><strong><span style="background: white; colo
 r: #02613f; font-family: 'Georgia','serif';">BEFORE YOU REGISTER&nbsp;</spa
 n></strong><em><b><span style="background: white; color: black; font-family
 : 'Georgia','serif';">for the course</span></b></em><strong><span style="ba
 ckground: white; color: black; font-family: 'Georgia','serif';">.</span></s
 trong></span></span></em></span></span></span></span></span></span></span><
 /span></span></span></span></span></span></span><span style="background-col
 or: initial; color: inherit; font-family: inherit; font-size: 1rem;"></span
 ><span style="color: #0000ff;"><em><strong><span style="font-size: 14pt; fo
 nt-family: tahoma,arial,helvetica,sans-serif;"></span></strong></em></span>
 <span style="background-color: initial; color: inherit; font-family: inheri
 t; font-size: 1rem;"></span><span><span style="color: #000000;"><span><span
  style="font-family: Tahoma;"><span style="font-family: Tahoma;"><span styl
 e="font-family: Tahoma;"><span style="font-family: Tahoma;"><span style="fo
 nt-family: Tahoma;"><span style="font-family: Tahoma;"><span style="font-fa
 mily: Tahoma;"><span style="font-family: Tahoma;"><span style="font-family:
  Tahoma;"><span style="font-family: Tahoma;"><span style="font-family: Taho
 ma;"><em><span style="font-family: Tahoma;"><br /></span></em></span></span
 ></span></span></span></span></span></span></span></span></span></span></sp
 an></span></span></span></p><p>&nbsp;</p><p><span style="color: #0000ff;"><
 em><strong><span style="font-family: tahoma, arial, helvetica, sans-serif; 
 font-size: 14pt;"><a href="https://www.nyswda.org/index.php?option=com_civi
 crm&amp;task=civicrm/event/register&amp;reset=1&amp;id=14353" style="color:
  #0000ff;">Click here to register</a></span></strong></em></span></p>
CONTACT:Robyn Visser
DTSTAMP:20260424T044229
DTSTART;TZID=America/New_York:20250108T090000
DTEND;TZID=America/New_York:20250108T160000
SEQUENCE:0
TRANSP:OPAQUE
END:VEVENT
END:VCALENDAR