BEGIN:VCALENDAR
VERSION:2.0
PRODID:-//jEvents 2.0 for Joomla//EN
CALSCALE:GREGORIAN
METHOD:PUBLISH
BEGIN:VTIMEZONE
TZID:America/New_York
BEGIN:STANDARD
DTSTART:20240113T090000
RDATE:20240310T030000
TZOFFSETFROM:-0400
TZOFFSETTO:-0500
TZNAME:America/New_York EST
END:STANDARD
BEGIN:STANDARD
DTSTART:20241103T010000
RDATE:20250309T030000
TZOFFSETFROM:-0400
TZOFFSETTO:-0500
TZNAME:America/New_York EST
END:STANDARD
BEGIN:STANDARD
DTSTART:20251102T010000
RDATE:20260308T030000
TZOFFSETFROM:-0400
TZOFFSETTO:-0500
TZNAME:America/New_York EST
END:STANDARD
BEGIN:STANDARD
DTSTART:20261101T010000
RDATE:20270314T030000
TZOFFSETFROM:-0400
TZOFFSETTO:-0500
TZNAME:America/New_York EST
END:STANDARD
BEGIN:STANDARD
DTSTART:20271107T010000
RDATE:20280312T030000
TZOFFSETFROM:-0400
TZOFFSETTO:-0500
TZNAME:America/New_York EST
END:STANDARD
BEGIN:STANDARD
DTSTART:20281105T010000
RDATE:20290311T030000
TZOFFSETFROM:-0400
TZOFFSETTO:-0500
TZNAME:America/New_York EST
END:STANDARD
BEGIN:STANDARD
DTSTART:20291104T010000
RDATE:20300310T030000
TZOFFSETFROM:-0400
TZOFFSETTO:-0500
TZNAME:America/New_York EST
END:STANDARD
BEGIN:STANDARD
DTSTART:20301103T010000
RDATE:20310309T030000
TZOFFSETFROM:-0400
TZOFFSETTO:-0500
TZNAME:America/New_York EST
END:STANDARD
BEGIN:DAYLIGHT
DTSTART:20240310T030000
RDATE:20241103T010000
TZOFFSETFROM:-0500
TZOFFSETTO:-0400
TZNAME:America/New_York EDT
END:DAYLIGHT
BEGIN:DAYLIGHT
DTSTART:20250309T030000
RDATE:20251102T010000
TZOFFSETFROM:-0500
TZOFFSETTO:-0400
TZNAME:America/New_York EDT
END:DAYLIGHT
BEGIN:DAYLIGHT
DTSTART:20260308T030000
RDATE:20261101T010000
TZOFFSETFROM:-0500
TZOFFSETTO:-0400
TZNAME:America/New_York EDT
END:DAYLIGHT
BEGIN:DAYLIGHT
DTSTART:20270314T030000
RDATE:20271107T010000
TZOFFSETFROM:-0500
TZOFFSETTO:-0400
TZNAME:America/New_York EDT
END:DAYLIGHT
BEGIN:DAYLIGHT
DTSTART:20280312T030000
RDATE:20281105T010000
TZOFFSETFROM:-0500
TZOFFSETTO:-0400
TZNAME:America/New_York EDT
END:DAYLIGHT
BEGIN:DAYLIGHT
DTSTART:20290311T030000
RDATE:20291104T010000
TZOFFSETFROM:-0500
TZOFFSETTO:-0400
TZNAME:America/New_York EDT
END:DAYLIGHT
BEGIN:DAYLIGHT
DTSTART:20300310T030000
RDATE:20301103T010000
TZOFFSETFROM:-0500
TZOFFSETTO:-0400
TZNAME:America/New_York EDT
END:DAYLIGHT
END:VTIMEZONE
BEGIN:VEVENT
UID:895d06908b20f49aca0b31a3dd3d5cc5
CATEGORIES:At Syracuse
CREATED:20241119T144452
SUMMARY:Boot Camp for Weatherization Installers
LOCATION:NYSWDA Training Center - East Syracuse
DESCRIPTION:Boot Camp\n
 \n
Training Location: NYSWDA Training Center (Building 2) - 58
 69 Fisher Road, East Syracuse, NY 13057\n
 \n
Who Should Attend;\nEntry lev
 el field staff and weatherization contractors - see detailed below.\n
 \n
C
 ourse Description;\nThis intensive 4-day training based at NYSWDA's Energy 
 Efficiency Training Center (Building 2) in East Syracuse, is a great introd
 uction to building science principles and hands-on air sealing, dense pack 
 and loose fill cellulose insulation installation. Using our state-of-the-ar
 t realistic wall, ceiling and attic props, trainees will learn the techniqu
 es needed to effectively weatherize our clients' homes.\n
\n
During this co
 urse, the trainees will be introduced to both HCR and BPI standards and reg
 ulations on Health &amp; Safety, Lead Safe work practices and safe and prop
 er use of tools and equipment. Trainees will also become proficient on the 
 set up of blower doors and understand basic use of an infrared camera durin
 g air sealing operations.\n
 \n
\n
All three HCR mandatory trainings are co
 vered in this course: \n

Air Sealing - mandatory for WX directors, energy 
 auditors, post inspectors, crew chiefs and crew personnel
Health &amp; Safe
 ty - mandatory for WX directors, energy auditors, post inspectors, crew chi
 efs and heating technicians
\n - Lead Safe Weatherization - mandatory for a
 ll employees who may come in contact with lead based paint while performing
  their duties\n\n

Please reference the WAP Policies and Procedures manual 
 for further details. The above-listed trainings are mandatory for the posit
 ions stated. If a subgrantee hires a new employee into one of these postion
 s, or a current employee transfers into one of these positions, it is manda
 tory that they receive this training within six (6) months of their start d
 ate. These mandatory training sessions must be repeated every three (3) yea
 rs by subgrantee personnel who occupy these positions.\n
  \n
Agenda; \nDay
  One\n
9AM-9:20  Lunch Orders and intro’s\n9:20AM 10:15  Health and safety 
 presentation until worst case\n10:15AM-10:30AM Break\n10:30AM -Noon- Split 
 group into 2 groups to conduct worst case depressurization and combustion s
 afety testing in pressure house. One group to do blower door set up with ho
 ses and manometer.\nNoon-1PM Lunch\n1PM-4PM Remainer of health and safety p
 ower point\n
 \n
Day Two\n
9AM to 10:15AM LSW power points\n10:15am-10:30AM
  Break\n10:30AM-noon  LSW power points and videos\n12PM-1PM Lunch\n1PM-2:30
  PM LSW power points and videos and lead safe test\n2:30-4PM LSW hands on a
 ctivities including Making of an I door, Vertical enclosure and PPE and sho
 wing of the positive pressure system\n
 \n
Day Three\n
9AM-10:15 AM (Finish
 , if necessary any material not covered from Day 1)\n10:15-10:30AM Break\n1
 0:30- 12:00 PM Air sealing presentation\n12;00PM-1PM Lunch break\n1PM-4PM A
 ir sealing hands on activities group will be split into two. Balloon framed
  wall discussion and techniques and drill wall. Group 2 will work on the ba
 lloon frame wall and the rim joist spray foam.\n
 \n
Day Four\n
9AM- 10:30A
 M Finish up any remaining Power points\n10:30AM- 12PM Hands on activities t
 o include recessed light enclosure chimney air sealing and Insulation lab p
 resentation\n12PM-1PM Lunch\n1PM-2:30PM Switch groups and repeat the above 
 material\n2:30PM-3:15PM questions/ graduation and dismissal\n
 \n
Dates;\nC
 ourse covers the dates of January 13-16, 2025\nStart Times:  ALL DAYS - 9:0
 0am\nEnd Times: ALL DAYS 4:00pm\n
 \n
Other Notes:\nDue to the nature of th
 e training, all attendees will be required to sign a waiver of liability an
 d a photo/video release form at the start of the training.\n
 \n
Prerequisi
 tes: None\n
\nClass Size: 10\n
\nBPI CEU: 16\n
\nInstructors:, Joe Ilacqua,
  NYSWDA\n\n
\nCourse Fees; \n
$950/person - NY Weatherization Sub-grantees 
 \n
$950/person - affiliate members \n
$1,450/person - non-members \n
\n
Lun
 ches are included for each day.\n
 \n
**Special note - if you wish to becom
 e an Affiliate Member, and save off the non-member rate, please contact Kar
 en McMahon (315-701-0440 ext. 223, This email address is being protected fr
 om spambots. You need JavaScript enabled to view it.
				document.getElemen
 tById('cloak4dd19402f6c2a040ab11ceb737b6e0ea').innerHTML = '';
				var pref
 ix = 'ma' + 'il' + 'to';
				var path = 'hr' + 'ef' + '=';
				var addy4dd1
 9402f6c2a040ab11ceb737b6e0ea = 'kmcmahon' + '@';
				addy4dd19402f6c2a040ab
 11ceb737b6e0ea = addy4dd19402f6c2a040ab11ceb737b6e0ea + 'nyswda' + '.' + 'o
 rg';
				var addy_text4dd19402f6c2a040ab11ceb737b6e0ea = 'kmcmahon' + '@' +
  'nyswda' + '.' + 'org';document.getElementById('cloak4dd19402f6c2a040ab11c
 eb737b6e0ea').innerHTML += '<a ' + path + '\'' + prefix + ':' + addy4dd1940
 2f6c2a040ab11ceb737b6e0ea + '\'>'+addy_text4dd19402f6c2a040ab11ceb737b6e0ea
 +'';
		) BEFORE YOU REGISTER for the course.\n
 \n
NYSWDA will not be respo
 nsible for hotel costs, travel to and from the training, breakfast and dinn
 er meals, or incidentals.\n
  \n
CLASS FULL - call or email  This email add
 ress is being protected from spambots. You need JavaScript enabled to view 
 it.
				document.getElementById('cloakca8eaabac2f8f746a59283046319c747').in
 nerHTML = '';
				var prefix = 'ma' + 'il' + 'to';
				var path = 'hr' + 'e
 f' + '=';
				var addyca8eaabac2f8f746a59283046319c747 = 'rvisser' + '@';
	
 			addyca8eaabac2f8f746a59283046319c747 = addyca8eaabac2f8f746a59283046319c
 747 + 'nyswda' + '.' + 'org';
				var addy_textca8eaabac2f8f746a59283046319
 c747 = 'rvisser' + '@' + 'nyswda' + '.' + 'org';document.getElementById('cl
 oakca8eaabac2f8f746a59283046319c747').innerHTML += '<a ' + path + '\'' + pr
 efix + ':' + addyca8eaabac2f8f746a59283046319c747 + '\'>'+addy_textca8eaaba
 c2f8f746a59283046319c747+'';
		 for availability or wait list  \n
X-ALT-DESC;FMTTYPE=text/html:<p><strong><span style="font-family: Tahoma, sans-serif; color: #336699; fo
 nt-size: 13.5pt;">Boot Camp</span></strong></p><p>&nbsp;</p><p><strong><spa
 n style="font-family: Tahoma, sans-serif; color: #336699; font-size: 13.5pt
 ;">Training Location: NYSWDA Training Center (Building 2) - 5869 Fisher Roa
 d, East Syracuse, NY 13057</span></strong></p><p>&nbsp;</p><p><span style="
 color: #000000;"><em><span style="text-decoration: underline;"><span style=
 "font-family: Tahoma, sans-serif;"><span style="font-size: 12pt;">Who Shoul
 d Attend;<br /></span></span></span></em><span style="font-family: Tahoma, 
 sans-serif;"><span style="font-size: 12pt;">Entry level field staff and wea
 therization contractors - see detailed below.</span></span></span></p><p><s
 pan style="color: #000000;"><span style="font-family: Tahoma, sans-serif;">
 <span style="font-size: 12pt;"></span></span>&nbsp;</span></p><p><span styl
 e="color: #000000;"><em><span style="text-decoration: underline;"><span sty
 le="font-family: Tahoma, sans-serif;"><span style="font-size: 12pt;">Course
 </span></span></span><span style="text-decoration: underline;"><span style=
 "font-family: Tahoma, sans-serif;"><span style="font-size: 12pt;"> Descript
 ion</span></span></span></em><span style="font-family: Tahoma, sans-serif;"
 ><span style="font-size: 12pt;">;<br /></span></span><span style="font-fami
 ly: Tahoma, sans-serif; font-size: 12pt;">This intensive 4-day training bas
 ed at NYSWDA's Energy Efficiency Training Center (Building 2) in East Syrac
 use, is a great introduction to building science principles and hands-on ai
 r sealing, dense pack and loose fill cellulose insulation installation. Usi
 ng our state-of-the-art realistic wall, ceiling and attic props, trainees w
 ill learn the techniques needed to effectively weatherize our clients' home
 s.</span></span></p><p><span style="font-family: Tahoma, sans-serif; color:
  #000000; font-size: 12pt;"></span></p><p><span style="font-family: Tahoma,
  sans-serif; color: #000000; font-size: 12pt;">During this course, the trai
 nees will be introduced to both HCR and BPI standards and regulations on He
 alth &amp; Safety, Lead Safe work practices and safe and proper use of tool
 s and equipment. Trainees will also become proficient on the set up of blow
 er doors and understand basic use of an infrared camera during air sealing 
 operations.</span></p><p>&nbsp;</p><p><span style="font-family: Tahoma, san
 s-serif; color: #000000; font-size: 12pt;"></span></p><p><span style="font-
 family: Tahoma, sans-serif; color: #000000; font-size: 12pt;">All three HCR
  mandatory trainings are covered in this course: </span></p><ul><li style="
 color: black;"><span style="font-family: Tahoma, sans-serif; font-size: 12p
 t; color: #000000;">Air Sealing - mandatory for WX directors, energy audito
 rs, post inspectors, crew chiefs and crew personnel</span></li><li style="c
 olor: black;"><span style="font-family: Tahoma, sans-serif; font-size: 12pt
 ; color: #000000;">Health &amp; Safety - mandatory for WX directors, energy
  auditors, post inspectors, crew chiefs and heating technicians</span></li>
 <li><span style="font-family: Tahoma, sans-serif; color: #000000; font-size
 : 12pt;">Lead Safe Weatherization - mandatory for all employees who may com
 e in contact with lead based paint while performing their duties<br /><br /
 ></span></li></ul><p><span style="font-family: Tahoma, sans-serif; color: #
 000000; font-size: 12pt;">Please reference the WAP Policies and Procedures 
 manual for further details. The above-listed trainings are mandatory for th
 e positions stated. If a subgrantee hires a new employee into one of these 
 postions, or a current employee transfers into one of these positions, it i
 s mandatory that they receive this training within six (6) months of their 
 start date. These mandatory training sessions must be repeated every three 
 (3) years by subgrantee personnel who occupy these positions.</span></p><p>
 <span style="color: #000000;">&nbsp;&nbsp;</span></p><p><span style="color:
  #000000;"><span style="font-size: 12pt;"><em><span style="text-decoration:
  underline;"><span style="font-family: Tahoma, sans-serif;">Agenda;</span><
 /span></em></span>&nbsp;<br /><span style="font-size: 12pt;"><span style="f
 ont-family: Tahoma, sans-serif;">Day One</span></span></span></p><p style="
 margin-bottom: 8px; line-height: 115%;"><span style="color: #000000;"><span
  style="font-size: 12pt; line-height: 115%; font-family: tahoma, arial, hel
 vetica, sans-serif;">9AM-9:20&nbsp; Lunch Orders and intro’s<br /></span><s
 pan style="font-size: 12pt; line-height: 115%; font-family: tahoma, arial, 
 helvetica, sans-serif;">9:20AM 10:15&nbsp; Health and safety presentation u
 ntil worst case<br /></span><span style="font-size: 12pt; line-height: 115%
 ; font-family: tahoma, arial, helvetica, sans-serif;">10:15AM-10:30AM Break
 <br /></span><span style="font-size: 12pt; line-height: 115%; font-family: 
 tahoma, arial, helvetica, sans-serif;">10:30AM -Noon- Split group into 2 gr
 oups to conduct worst case depressurization and combustion safety testing i
 n pressure house. One group to do blower door set up with hoses and manomet
 er.<br /></span><span style="font-size: 12pt; line-height: 115%; font-famil
 y: tahoma, arial, helvetica, sans-serif;">Noon-1PM Lunch<br /></span><span 
 style="font-size: 12pt; line-height: 115%; font-family: tahoma, arial, helv
 etica, sans-serif;">1PM-4PM Remainer of health and safety power point</span
 ></span></p><p>&nbsp;</p><p><span style="font-size: 12pt; color: #000000;">
 <span style="text-decoration: underline;"><span style="font-family: Tahoma,
  sans-serif;">Day Two</span></span></span></p><p style="margin-bottom: 8px;
  line-height: 115%;"><span style="color: #000000;"><span style="font-size: 
 12pt; line-height: 115%; font-family: tahoma, arial, helvetica, sans-serif;
 ">9AM to 10:15AM LSW power points<br /></span><span style="font-size: 12pt;
  line-height: 115%; font-family: tahoma, arial, helvetica, sans-serif;">10:
 15am-10:30AM Break<br /></span><span style="font-size: 12pt; line-height: 1
 15%; font-family: tahoma, arial, helvetica, sans-serif;">10:30AM-noon&nbsp;
  LSW power points and videos<br /></span><span style="font-size: 12pt; line
 -height: 115%; font-family: tahoma, arial, helvetica, sans-serif;">12PM-1PM
  Lunch<br /></span><span style="font-size: 12pt; line-height: 115%; font-fa
 mily: tahoma, arial, helvetica, sans-serif;">1PM-2:30 PM LSW power points a
 nd videos and lead safe test<br /></span><span style="font-size: 12pt; line
 -height: 115%; font-family: tahoma, arial, helvetica, sans-serif;">2:30-4PM
  LSW hands on activities including Making of an I door, Vertical enclosure 
 and PPE and showing of the positive pressure system</span></span></p><p><sp
 an style="color: #000000;"><span style="font-size: 12pt;"><span style="font
 -family: Tahoma, sans-serif;"></span></span>&nbsp;</span></p><p><span style
 ="text-decoration: underline; color: #000000;"><span style="font-size: 12pt
 ;"><span style="font-family: Tahoma, sans-serif;">Day Three</span></span></
 span></p><p style="margin-bottom: 8px; line-height: 115%;"><span style="col
 or: #000000;"><span style="font-size: 12pt; line-height: 115%; font-family:
  tahoma, arial, helvetica, sans-serif;">9AM-10:15 AM (Finish, if necessary 
 any material not covered from Day 1)<br /></span><span style="font-size: 12
 pt; line-height: 115%; font-family: tahoma, arial, helvetica, sans-serif;">
 10:15-10:30AM Break<br /></span><span style="font-size: 12pt; line-height: 
 115%; font-family: tahoma, arial, helvetica, sans-serif;">10:30- 12:00 PM A
 ir sealing presentation<br /></span><span style="font-family: tahoma, arial
 , helvetica, sans-serif; font-size: 12pt; background-color: inherit; caret-
 color: auto;">12;00PM-1PM Lunch break<br /></span><span style="font-size: 1
 2pt; line-height: 115%; font-family: tahoma, arial, helvetica, sans-serif;"
 >1PM-4PM Air sealing hands on activities group will be split into two. Ball
 oon framed wall discussion and techniques and drill wall. Group 2 will work
  on the balloon frame wall and the rim joist spray foam.</span></span></p><
 p><span style="color: #000000;"><span style="font-size: 12pt;"><span style=
 "font-family: Tahoma, sans-serif;"></span></span>&nbsp;</span></p><p><span 
 style="text-decoration: underline; color: #000000;"><span style="font-size:
  12pt;"><span style="font-family: Tahoma, sans-serif;">Day Four</span></spa
 n></span></p><p style="margin-bottom: 8px; line-height: 115%;"><span style=
 "color: #000000;"><span style="font-size: 12pt; line-height: 115%; font-fam
 ily: tahoma, arial, helvetica, sans-serif;">9AM- 10:30AM Finish up any rema
 ining Power points<br /></span><span style="font-size: 12pt; line-height: 1
 15%; font-family: tahoma, arial, helvetica, sans-serif;">10:30AM- 12PM Hand
 s on activities to include recessed light enclosure chimney air sealing and
  Insulation lab presentation<br /></span><span style="font-size: 12pt; line
 -height: 115%; font-family: tahoma, arial, helvetica, sans-serif;">12PM-1PM
  Lunch<br /></span><span style="font-size: 12pt; line-height: 115%; font-fa
 mily: tahoma, arial, helvetica, sans-serif;">1PM-2:30PM Switch groups and r
 epeat the above material<br /></span><span style="font-size: 12pt; line-hei
 ght: 115%; font-family: tahoma, arial, helvetica, sans-serif;">2:30PM-3:15P
 M questions/ graduation and dismissal</span></span></p><p>&nbsp;</p><p><spa
 n style="color: #000000;"><span style="font-size: 12pt;"><em><span style="t
 ext-decoration: underline;"><span style="font-family: Tahoma, sans-serif;">
 Dates;<br /></span></span></em></span><span style="font-family: tahoma, ari
 al, helvetica, sans-serif; font-size: 12pt;">Course covers the dates of Jan
 uary 13-16, 2025<br /></span><span style="font-family: tahoma, arial, helve
 tica, sans-serif; font-size: 12pt;">Start Times:&nbsp; ALL DAYS - 9:00am<br
  /></span><span style="font-family: tahoma, arial, helvetica, sans-serif; f
 ont-size: 12pt;">End Times: ALL DAYS 4:00pm</span></span></p><p><span style
 ="color: #000000;"><span style="font-family: Arial, sans-serif; font-size: 
 12pt;"></span>&nbsp;</span></p><p><span style="color: #000000;"><span style
 ="font-size: 12pt;"><em><span style="text-decoration: underline;"><span sty
 le="font-family: Tahoma, sans-serif;">Other Notes:</span></span></em><span 
 style="font-family: Tahoma, sans-serif;"><br /></span></span><span style="f
 ont-size: 12pt;"><span style="font-family: Tahoma, sans-serif;">Due to the 
 nature of the training, all attendees will be required to sign a waiver of 
 liability and a photo/video release form at the start of the training.</spa
 n></span></span></p><p><span style="font-family: tahoma, arial, helvetica, 
 sans-serif; font-size: 12pt; color: #000000;"><strong>&nbsp;</strong></span
 ></p><p><span style="font-size: 12pt; color: #000000;"><em><span style="tex
 t-decoration: underline;"><span style="font-family: Tahoma, sans-serif;">Pr
 erequisites:</span></span></em><em><span style="font-family: Tahoma, sans-s
 erif;"> </span></em><span style="font-family: Tahoma, sans-serif;">None</sp
 an></span></p><p><span style="font-size: 12pt; color: #000000;"><em><span s
 tyle="text-decoration: underline;"><span style="font-family: Tahoma, sans-s
 erif;"><br />Class Size:</span></span></em>&nbsp;<span style="font-family: 
 Tahoma, sans-serif;">10</span></span></p><p><span style="font-size: 12pt; c
 olor: #000000;"><em><span style="text-decoration: underline;"><span style="
 font-family: Tahoma, sans-serif;"><br />BPI CEU</span></span></em><span sty
 le="text-decoration: underline;"><span style="font-family: Tahoma, sans-ser
 if;">:</span></span><span style="font-family: Tahoma, sans-serif;"> 16</spa
 n></span></p><p><span style="font-size: 12pt; color: #000000;"><em><span st
 yle="text-decoration: underline;"><span style="font-family: Tahoma, sans-se
 rif;"><br /></span></span></em><em><span style="text-decoration: underline;
 "><span style="font-family: Tahoma, sans-serif;">Instructors:</span></span>
 </em><span style="font-family: Tahoma, sans-serif;">, Joe Ilacqua, NYSWDA<b
 r /></span></span></p><p><span style="font-size: 12pt; color: #000000;"><em
 ><span style="text-decoration: underline;"><span style="font-family: Tahoma
 , sans-serif;"><br />Course</span></span></em><span style="text-decoration:
  underline;"><span style="font-family: Tahoma, sans-serif;"> Fees;</span></
 span><span style="font-family: Tahoma, sans-serif;"> </span></span></p><p><
 span style="color: #000000;"><span style="font-family: Tahoma, sans-serif; 
 font-size: 12pt;">$950/person - NY Weatherization Sub-grantees</span><span 
 style="font-family: Tahoma, sans-serif; font-size: 12pt;"><em> </em></span>
 </span></p><p><span style="font-family: Tahoma, sans-serif; color: #000000;
  font-size: 12pt;">$950/person - affiliate members </span></p><p><span styl
 e="font-family: Tahoma, sans-serif; color: #000000; font-size: 12pt;">$1,45
 0/person - non-members </span></p><p><span style="color: #000000;"></span><
 /p><p><span style="font-family: Tahoma; font-size: 12pt; color: #000000;">L
 unches are included for each day.</span></p><p>&nbsp;</p><p style="margin-t
 op: 0in; margin-right: 0in; margin-bottom: 0pt;"><strong><i><span style="ba
 ckground: white; color: #02613f; font-family: Georgia, serif;"><span style=
 "font-size: small;">**Special note</span></span></i></strong><strong><i><sp
 an style="background: white; color: black; font-family: Georgia, serif;"><s
 pan style="font-size: small;">&nbsp;-&nbsp;if you wish to become an Affilia
 te Member, and&nbsp;save off the non-member rate, please contact&nbsp;Karen
  McMahon (315-701-0440 ext. 223,&nbsp;</span><span id="cloak4dd19402f6c2a04
 0ab11ceb737b6e0ea">This email address is being protected from spambots. You
  need JavaScript enabled to view it.</span><script type='text/javascript'>

 				document.getElementById('cloak4dd19402f6c2a040ab11ceb737b6e0ea').innerH
 TML = '';
				var prefix = 'ma' + 'il' + 'to';
				var path = 'hr' + 'ef' +
  '=';
				var addy4dd19402f6c2a040ab11ceb737b6e0ea = 'kmcmahon' + '@';
				
 addy4dd19402f6c2a040ab11ceb737b6e0ea = addy4dd19402f6c2a040ab11ceb737b6e0ea
  + 'nyswda' + '.' + 'org';
				var addy_text4dd19402f6c2a040ab11ceb737b6e0e
 a = '<span style="color: #0000ff; font-size: small;">kmcmahon' + '@' + 'nys
 wda' + '.' + 'org</span>';document.getElementById('cloak4dd19402f6c2a040ab1
 1ceb737b6e0ea').innerHTML += '<a ' + path + '\'' + prefix + ':' + addy4dd19
 402f6c2a040ab11ceb737b6e0ea + '\'>'+addy_text4dd19402f6c2a040ab11ceb737b6e0
 ea+'<\/a>';
		</script><span style="font-size: small;">)&nbsp;</span></span
 ></i></strong><span style="font-size: small;"><strong><span style="backgrou
 nd: white; color: #02613f; font-family: Georgia, serif;">BEFORE YOU REGISTE
 R&nbsp;</span></strong><em><b><span style="background: white; color: black;
  font-family: Georgia, serif;">for the course</span></b></em><strong><span 
 style="background: white; color: black; font-family: Georgia, serif;">.</sp
 an></strong></span></p><p><span style="color: #ff6600; font-family: tahoma,
  arial, helvetica, sans-serif; font-size: 12pt;"><span style="color: #ff660
 0; font-family: tahoma, arial, helvetica, sans-serif; font-size: 12pt;"><sp
 an style="font-family: 'Times New Roman'; font-size: small;"></span></span>
 </span>&nbsp;</p><p><span style="color: #ffffff;"></span><span style="color
 : black; font-family: Tahoma, sans-serif; font-size: 12pt;">NYSWDA will not
  be responsible for hotel costs, travel to and from the training, breakfast
  and dinner meals, or incidentals.</span></p><p>&nbsp;&nbsp;</p><p><span st
 yle="color: #0000ff;"><em><strong><span style="font-family: tahoma, arial, 
 helvetica, sans-serif; font-size: 14pt;"><span style="font-family: tahoma, 
 arial, helvetica, sans-serif; font-size: 14pt;"><span style="font-family: t
 ahoma, arial, helvetica, sans-serif; font-size: 14pt;"><span style="font-fa
 mily: tahoma, arial, helvetica, sans-serif; font-size: 14pt;"><span style="
 font-family: tahoma, arial, helvetica, sans-serif; font-size: 14pt;"><stron
 g><em><strong><span style="color: #ffffff; font-family: tahoma,arial,helvet
 ica,sans-serif; font-size: 14pt;"><span style="color: #ff0000;">CLASS FULL 
 - call or email</span>&nbsp; <span id="cloakca8eaabac2f8f746a59283046319c74
 7">This email address is being protected from spambots. You need JavaScript
  enabled to view it.</span><script type='text/javascript'>
				document.get
 ElementById('cloakca8eaabac2f8f746a59283046319c747').innerHTML = '';
				va
 r prefix = 'ma' + 'il' + 'to';
				var path = 'hr' + 'ef' + '=';
				var ad
 dyca8eaabac2f8f746a59283046319c747 = 'rvisser' + '@';
				addyca8eaabac2f8f
 746a59283046319c747 = addyca8eaabac2f8f746a59283046319c747 + 'nyswda' + '.'
  + 'org';
				var addy_textca8eaabac2f8f746a59283046319c747 = '<span style=
 "color: #0066cc;">rvisser' + '@' + 'nyswda' + '.' + 'org</span>';document.g
 etElementById('cloakca8eaabac2f8f746a59283046319c747').innerHTML += '<a ' +
  path + '\'' + prefix + ':' + addyca8eaabac2f8f746a59283046319c747 + '\'>'+
 addy_textca8eaabac2f8f746a59283046319c747+'<\/a>';
		</script> <span style=
 "color: #ff0000;">for availability or wait list</span></span></strong></em>
 <span style="color: #ffffff;"></span></strong><span style="font-family: tah
 oma,arial,helvetica,sans-serif; font-size: 14pt;"></span><span style="font-
 family: tahoma, arial, helvetica, sans-serif; font-size: 14pt;"></span></sp
 an><span style="font-family: tahoma,arial,helvetica,sans-serif; font-size: 
 14pt;"></span><span style="font-family: tahoma, arial, helvetica, sans-seri
 f; font-size: 14pt;"></span><span style="font-family: tahoma, arial, helvet
 ica, sans-serif; font-size: 14pt;"></span><em></em><span style="color: #000
 0ff;"></span> </span><span style="font-family: tahoma, arial, helvetica, sa
 ns-serif; font-size: 14pt;"></span><span style="color: #0000ff;"></span><sp
 an style="font-family: tahoma, arial, helvetica, sans-serif; font-size: 14p
 t;"></span><em></em><span style="color: #0000ff;"></span></span><span style
 ="font-family: tahoma, arial, helvetica, sans-serif; font-size: 14pt;"></sp
 an><em></em><span style="font-family: tahoma, arial, helvetica, sans-serif;
  font-size: 14pt;"></span><span style="font-family: tahoma, arial, helvetic
 a, sans-serif; font-size: 14pt;"></span><span style="font-family: tahoma, a
 rial, helvetica, sans-serif; font-size: 14pt;"></span><em></em><span style=
 "color: #0000ff;"></span> </span><span style="font-family: tahoma, arial, h
 elvetica, sans-serif; font-size: 14pt;"></span><span style="font-family: ta
 homa, arial, helvetica, sans-serif; font-size: 14pt;"></span><span style="f
 ont-family: tahoma, arial, helvetica, sans-serif; font-size: 14pt;"></span>
 <em></em><span style="font-family: tahoma, arial, helvetica, sans-serif; fo
 nt-size: 14pt; color: #0000ff;"></span></span></strong></em></span></p>
CONTACT:This email address is being protected from spambots. You need JavaScript enabled to view it.
				document.getElementById('cloake278f17f1351533aeb9bf83d104e33aa').innerHTML = '';
				var prefix = '&#109;a' + 'i&#108;' + '&#116;o';
				var path = 'hr' + 'ef' + '=';
				var addye278f17f1351533aeb9bf83d104e33aa = 'rv&#105;ss&#101;r' + '&#64;';
				addye278f17f1351533aeb9bf83d104e33aa = addye278f17f1351533aeb9bf83d104e33aa + 'nyswd&#97;' + '&#46;' + '&#111;rg';
				var addy_texte278f17f1351533aeb9bf83d104e33aa = 'rv&#105;ss&#101;r' + '&#64;' + 'nyswd&#97;' + '&#46;' + '&#111;rg';document.getElementById('cloake278f17f1351533aeb9bf83d104e33aa').innerHTML += '<a ' + path + '\'' + prefix + ':' + addye278f17f1351533aeb9bf83d104e33aa + '\'>'+addy_texte278f17f1351533aeb9bf83d104e33aa+'';
		
DTSTAMP:20260424T025153
DTSTART;TZID=America/New_York:20250113T090000
DTEND;TZID=America/New_York:20250116T170000
SEQUENCE:0
TRANSP:OPAQUE
END:VEVENT
END:VCALENDAR