BEGIN:VCALENDAR
VERSION:2.0
PRODID:-//jEvents 2.0 for Joomla//EN
CALSCALE:GREGORIAN
METHOD:PUBLISH
BEGIN:VTIMEZONE
TZID:America/New_York
BEGIN:STANDARD
DTSTART:20240121T090000
RDATE:20240310T030000
TZOFFSETFROM:-0400
TZOFFSETTO:-0500
TZNAME:America/New_York EST
END:STANDARD
BEGIN:STANDARD
DTSTART:20241103T010000
RDATE:20250309T030000
TZOFFSETFROM:-0400
TZOFFSETTO:-0500
TZNAME:America/New_York EST
END:STANDARD
BEGIN:STANDARD
DTSTART:20251102T010000
RDATE:20260308T030000
TZOFFSETFROM:-0400
TZOFFSETTO:-0500
TZNAME:America/New_York EST
END:STANDARD
BEGIN:STANDARD
DTSTART:20261101T010000
RDATE:20270314T030000
TZOFFSETFROM:-0400
TZOFFSETTO:-0500
TZNAME:America/New_York EST
END:STANDARD
BEGIN:STANDARD
DTSTART:20271107T010000
RDATE:20280312T030000
TZOFFSETFROM:-0400
TZOFFSETTO:-0500
TZNAME:America/New_York EST
END:STANDARD
BEGIN:STANDARD
DTSTART:20281105T010000
RDATE:20290311T030000
TZOFFSETFROM:-0400
TZOFFSETTO:-0500
TZNAME:America/New_York EST
END:STANDARD
BEGIN:STANDARD
DTSTART:20291104T010000
RDATE:20300310T030000
TZOFFSETFROM:-0400
TZOFFSETTO:-0500
TZNAME:America/New_York EST
END:STANDARD
BEGIN:STANDARD
DTSTART:20301103T010000
RDATE:20310309T030000
TZOFFSETFROM:-0400
TZOFFSETTO:-0500
TZNAME:America/New_York EST
END:STANDARD
BEGIN:DAYLIGHT
DTSTART:20240310T030000
RDATE:20241103T010000
TZOFFSETFROM:-0500
TZOFFSETTO:-0400
TZNAME:America/New_York EDT
END:DAYLIGHT
BEGIN:DAYLIGHT
DTSTART:20250309T030000
RDATE:20251102T010000
TZOFFSETFROM:-0500
TZOFFSETTO:-0400
TZNAME:America/New_York EDT
END:DAYLIGHT
BEGIN:DAYLIGHT
DTSTART:20260308T030000
RDATE:20261101T010000
TZOFFSETFROM:-0500
TZOFFSETTO:-0400
TZNAME:America/New_York EDT
END:DAYLIGHT
BEGIN:DAYLIGHT
DTSTART:20270314T030000
RDATE:20271107T010000
TZOFFSETFROM:-0500
TZOFFSETTO:-0400
TZNAME:America/New_York EDT
END:DAYLIGHT
BEGIN:DAYLIGHT
DTSTART:20280312T030000
RDATE:20281105T010000
TZOFFSETFROM:-0500
TZOFFSETTO:-0400
TZNAME:America/New_York EDT
END:DAYLIGHT
BEGIN:DAYLIGHT
DTSTART:20290311T030000
RDATE:20291104T010000
TZOFFSETFROM:-0500
TZOFFSETTO:-0400
TZNAME:America/New_York EDT
END:DAYLIGHT
BEGIN:DAYLIGHT
DTSTART:20300310T030000
RDATE:20301103T010000
TZOFFSETFROM:-0500
TZOFFSETTO:-0400
TZNAME:America/New_York EDT
END:DAYLIGHT
END:VTIMEZONE
BEGIN:VEVENT
UID:c7470b7c9ecdc06d5aa5ddf3dc58ba43
CATEGORIES:At Syracuse
CREATED:20241211T122046
SUMMARY:Weatherization Assistant Software Training
LOCATION:NYSWDA Training Center - East Syracuse
DESCRIPTION:Weatherization Assistant Software Training / EASTERN REGION\n
 \n
Training 
 location:  NYSWDA's Training Center - 5869 Fisher Road, East Syracuse, NY 1
 3057\n
 \n
Course Description;\nBeginning July 1, 2025, the New York State 
 Weatherization Assistant Program will be transitioning from the current TIP
 S auditing software to the Department of Energy's Weatherization Assistant,
  which encompasses small buildings, mobile homes, and multifamily housing, 
  This training will provide the step-by-step process for modeling client ho
 using using data collected during the audit process and provide insight int
 o reports generated by the software.  Client usage, modeled load, comparati
 ve analysis of heating degree days to actual useage, and savings-to-investm
 ent ratios will all be part of the process of creating a workscope custom-g
 enerated to each home.\n
  \n
Dates;\nJanuary 21-23, 2025 / 9:00am - 5:00pm
  \n
\n
 \n
\n
Prerequisites; \nNone\n
 \n
Class Size; \n10-12\n
 \n
BPI CEU
 ; \nTBD\n
 \n
\n
\n
Instructors;\nJoe Maggiore -NYSWDA\nAndy Stone - NYSWDA
 \nAl McMahon - NYSWDA\nBob Braunlich - NYSWDA\n
\n
 \n
Course Fees;\n$500/p
 erson - NY Weatherization Sub-grantees\n
 \nCourse fees do not include lunc
 h\n
 \n
CLASS FULL - call or email  This email address is being protected f
 rom spambots. You need JavaScript enabled to view it.
				document.getEleme
 ntById('cloake39cc42fa01dd196727d6d4483e96ce5').innerHTML = '';
				var pre
 fix = 'ma' + 'il' + 'to';
				var path = 'hr' + 'ef' + '=';
				var addye39
 cc42fa01dd196727d6d4483e96ce5 = 'rvisser' + '@';
				addye39cc42fa01dd19672
 7d6d4483e96ce5 = addye39cc42fa01dd196727d6d4483e96ce5 + 'nyswda' + '.' + 'o
 rg';
				var addy_texte39cc42fa01dd196727d6d4483e96ce5 = 'rvisser' + '@' + 
 'nyswda' + '.' + 'org';document.getElementById('cloake39cc42fa01dd196727d6d
 4483e96ce5').innerHTML += '<a ' + path + '\'' + prefix + ':' + addye39cc42f
 a01dd196727d6d4483e96ce5 + '\'>'+addy_texte39cc42fa01dd196727d6d4483e96ce5+
 '';
		 for availability or wait list\n
 \n
\n
 \n
X-ALT-DESC;FMTTYPE=text/html:<p><span><span style="font-size: medium;"><span style="color: #000000;"><sp
 an><span style="font-size: 12pt;"><strong><span style="color: #336699;"><sp
 an style="font-family: tahoma,arial,helvetica,sans-serif; font-size: 14pt;"
 >Weatherization Assistant Software Training&nbsp;<span style="color: #33669
 9;">/ <span style="color: #ff0000;">EASTERN REGION</span></span><span></spa
 n><span></span><span></span><span style="color: #000000;"></span><span></sp
 an><span></span><span style="color: #336699; font-family: tahoma, arial, he
 lvetica, sans-serif; font-size: 14pt;"></span><span></span><span style="fon
 t-family: Tahoma;"></span><span style="font-family: Tahoma;"></span><span s
 tyle="color: #000000;"></span><span style="font-size: small;"></span><span 
 style="font-family: Tahoma;"></span><span style="color: #000000;"></span><s
 pan style="font-size: x-small;"></span><span style="font-family: Arial, Hel
 vetica;"></span><span style="font-size: small;"></span><span style="font-fa
 mily: Tahoma;"></span><span style="font-size: x-small;"></span><span style=
 "font-family: Arial, Helvetica;"></span><span style="font-size: small;"></s
 pan><span style="font-family: Tahoma;"></span><span style="font-size: x-sma
 ll;"></span><span style="font-family: Arial, Helvetica;"></span><span style
 ="font-size: small;"></span><span style="font-family: Tahoma;"></span><span
  style="font-size: x-small;"></span><span style="font-family: Arial, Helvet
 ica;"></span><span style="font-family: Tahoma;"></span><span style="font-fa
 mily: Tahoma;"></span><span style="font-size: small;"></span><span style="f
 ont-family: Tahoma;"></span><span style="font-size: x-small;"></span><span 
 style="font-family: Arial, Helvetica;"></span><span style="font-family: Tah
 oma;"></span><span style="font-family: Tahoma;"></span><span style="font-fa
 mily: Tahoma;"></span><span style="font-size: small;"></span><span style="f
 ont-family: Tahoma;"></span><span style="font-size: x-small;"></span><span 
 style="font-family: Arial, Helvetica;"></span><span style="color: #000000;"
 ></span><span style="font-size: medium;"></span><span style="font-family: T
 ahoma;"></span><span style="color: #336699;"></span></span></span></strong>
 </span></span></span></span></span></p><p>&nbsp;</p><p><span><span style="f
 ont-size: medium;"><span style="color: #000000;"><span><span style="font-si
 ze: 12pt;"><strong><span style="color: #336699;"><span style="font-family: 
 tahoma,arial,helvetica,sans-serif; font-size: 14pt;">Training location:&nbs
 p;&nbsp;NYSWDA's Training Center -&nbsp;5869 Fisher Road, East Syracuse, NY
  13057</span></span></strong></span></span></span></span></span></p><p><spa
 n style="color: #000000;"><span style="font-size: medium;"><span style="fon
 t-size: 12pt;"><strong>&nbsp;</strong></span></span></span></p><p><span sty
 le="color: #000000; font-size: 12pt;"><em><span style="font-family: tahoma,
 arial,helvetica,sans-serif; text-decoration: underline;">Course Description
 ;</span></em></span><br /><span style="color: #000000; font-family: tahoma,
 arial,helvetica,sans-serif; font-size: 12pt;">Beginning July 1, 2025, the N
 ew York State Weatherization Assistant Program will be transitioning from t
 he current TIPS auditing software to the Department of Energy's Weatherizat
 ion Assistant, which encompasses small buildings, mobile homes, and multifa
 mily housing,&nbsp; This training will provide the step-by-step process for
  modeling client housing using data collected during the audit process and 
 provide insight into reports generated by the software.&nbsp; Client usage,
  modeled load, comparative analysis of heating degree days to actual useage
 , and savings-to-investment ratios will all be part of the process of creat
 ing a workscope custom-generated to each home.</span><span style="color: #0
 00000;"></span></p><p>&nbsp;&nbsp;</p><p><span style="color: #000000;"><em>
 <span style="font-family: tahoma,arial,helvetica,sans-serif; font-size: 12p
 t;"><span style="text-decoration: underline;">Dates;</span></span></em></sp
 an><br /><span style="color: #000000; font-family: tahoma,arial,helvetica,s
 ans-serif; font-size: 12pt;">January 21-23, 2025 / 9:00am - 5:00pm </span><
 /p><p><span style="color: #000000;"></span></p><p>&nbsp;</p><p><span style=
 "color: #000000; font-family: tahoma, arial, helvetica, sans-serif; font-si
 ze: 12pt;"></span></p><p><span style="color: #000000;"><em><span style="fon
 t-family: tahoma,arial,helvetica,sans-serif; font-size: 12pt;"><span style=
 "text-decoration: underline;">Prerequisites;</span> </span></em></span><br 
 /><span style="color: #000000; font-family: tahoma,arial,helvetica,sans-ser
 if; font-size: 12pt;">None</span></p><p>&nbsp;</p><p><span style="color: #0
 00000;"><span style="font-family: tahoma,arial,helvetica,sans-serif; font-s
 ize: 12pt;"><em><span style="text-decoration: underline;">Class Size;</span
 ></em>&nbsp;<br />10-12</span></span></p><p>&nbsp;</p><p><span style="color
 : #000000; font-family: tahoma,arial,helvetica,sans-serif; font-size: 12pt;
 "><em><span style="text-decoration: underline;">BPI CEU;</span></em>&nbsp;<
 br />TBD</span></p><p>&nbsp;</p><p><span style="color: #000000;"></span></p
 ><p><span style="color: #000000;"><span style="color: #000000; font-family:
  tahoma, arial, helvetica, sans-serif; font-size: 12pt;"></span></span></p>
 <p><span style="color: #000000;"><em><span style="font-family: tahoma, aria
 l, helvetica, sans-serif; font-size: 12pt;"><span style="text-decoration: u
 nderline;">Instructors;</span></span></em></span><br /><span style="color: 
 #000000;"><span style="font-family: tahoma, arial, helvetica, sans-serif; f
 ont-size: 12pt;"><span style="color: #000000;">Joe Maggiore -</span>NYSWDA<
 br /></span><span style="font-family: tahoma, arial, helvetica, sans-serif;
  font-size: 12pt;">Andy Stone - NYSWDA<br />Al McMahon - NYSWDA<br />Bob Br
 aunlich - NYSWDA</span></span></p><p><span style="color: #ffffff; font-fami
 ly: tahoma, arial, helvetica, sans-serif; font-size: 12pt;"></span></p><p>&
 nbsp;</p><p><span style="color: #000000; font-family: tahoma,arial,helvetic
 a,sans-serif; font-size: 12pt;"><em><span style="text-decoration: underline
 ;">Course</span></em><span style="text-decoration: underline;"> Fees;<br />
 </span></span><span style="color: #000000; font-family: tahoma,arial,helvet
 ica,sans-serif; font-size: 12pt;">$500/person - NY Weatherization Sub-grant
 ees</span></p><p><span style="color: black; font-family: 'Tahoma','sans-ser
 if';">&nbsp;<br /></span><em><strong><span style="font-family: tahoma, aria
 l, helvetica, sans-serif; font-size: 12pt;"><span style="color: #000000;">C
 ourse fees do not&nbsp;include lunch</span></span></strong></em></p><p><spa
 n style="color: #ffffff; font-family: tahoma, arial, helvetica, sans-serif;
  font-size: 12pt;"><em>&nbsp;</em></span></p><p><span style="font-family: t
 ahoma, arial, helvetica, sans-serif;"><em><strong><span style="font-family:
  tahoma, arial, helvetica, sans-serif; font-size: 14pt;"><strong><em><stron
 g><span style="color: #ffffff; font-family: tahoma,arial,helvetica,sans-ser
 if; font-size: 14pt;"><span style="color: #ff0000;">CLASS FULL - call or em
 ail</span>&nbsp; <span id="cloake39cc42fa01dd196727d6d4483e96ce5">This emai
 l address is being protected from spambots. You need JavaScript enabled to 
 view it.</span><script type='text/javascript'>
				document.getElementById(
 'cloake39cc42fa01dd196727d6d4483e96ce5').innerHTML = '';
				var prefix = '
 ma' + 'il' + 'to';
				var path = 'hr' + 'ef' + '=';
				var addye39cc42fa0
 1dd196727d6d4483e96ce5 = 'rvisser' + '@';
				addye39cc42fa01dd196727d6d448
 3e96ce5 = addye39cc42fa01dd196727d6d4483e96ce5 + 'nyswda' + '.' + 'org';
		
 		var addy_texte39cc42fa01dd196727d6d4483e96ce5 = '<span style="color: #006
 6cc;">rvisser' + '@' + 'nyswda' + '.' + 'org</span>';document.getElementByI
 d('cloake39cc42fa01dd196727d6d4483e96ce5').innerHTML += '<a ' + path + '\''
  + prefix + ':' + addye39cc42fa01dd196727d6d4483e96ce5 + '\'>'+addy_texte39
 cc42fa01dd196727d6d4483e96ce5+'<\/a>';
		</script> <span style="color: #ff0
 000;">for availability or wait list</span></span></strong></em><span style=
 "color: #ffffff;"></span></strong><span style="font-family: tahoma,arial,he
 lvetica,sans-serif; font-size: 14pt;"></span><span style="font-family: taho
 ma, arial, helvetica, sans-serif; font-size: 14pt;"></span></span><span sty
 le="font-family: tahoma, arial, helvetica, sans-serif; font-size: 14pt;"></
 span><span style="font-family: tahoma, arial, helvetica, sans-serif; font-s
 ize: 14pt;"></span><span style="font-family: tahoma, arial, helvetica, sans
 -serif; font-size: 14pt;"></span><span style="font-family: tahoma, arial, h
 elvetica, sans-serif; font-size: 14pt;"></span><em></em><span style="color:
  #0000ff;"></span></strong></em></span></p><p>&nbsp;</p><p style="margin: 0
 in 0in 0pt;"><span style="font-family: 'Arial','sans-serif'; font-size: 10p
 t;"></span></p><p>&nbsp;</p>
CONTACT:This email address is being protected from spambots. You need JavaScript enabled to view it.
				document.getElementById('cloak18a17f7dbb680d0cb833a57237a2d2eb').innerHTML = '';
				var prefix = '&#109;a' + 'i&#108;' + '&#116;o';
				var path = 'hr' + 'ef' + '=';
				var addy18a17f7dbb680d0cb833a57237a2d2eb = 'rv&#105;ss&#101;r' + '&#64;';
				addy18a17f7dbb680d0cb833a57237a2d2eb = addy18a17f7dbb680d0cb833a57237a2d2eb + 'nyswd&#97;' + '&#46;' + '&#111;rg';
				var addy_text18a17f7dbb680d0cb833a57237a2d2eb = 'rv&#105;ss&#101;r' + '&#64;' + 'nyswd&#97;' + '&#46;' + '&#111;rg';document.getElementById('cloak18a17f7dbb680d0cb833a57237a2d2eb').innerHTML += '<a ' + path + '\'' + prefix + ':' + addy18a17f7dbb680d0cb833a57237a2d2eb + '\'>'+addy_text18a17f7dbb680d0cb833a57237a2d2eb+'';
		
DTSTAMP:20260424T025153
DTSTART;TZID=America/New_York:20250121T090000
DTEND;TZID=America/New_York:20250123T163000
SEQUENCE:0
TRANSP:OPAQUE
END:VEVENT
END:VCALENDAR