BEGIN:VCALENDAR
VERSION:2.0
PRODID:-//jEvents 2.0 for Joomla//EN
CALSCALE:GREGORIAN
METHOD:PUBLISH
BEGIN:VTIMEZONE
TZID:America/New_York
BEGIN:STANDARD
DTSTART:20240218T090000
RDATE:20240310T030000
TZOFFSETFROM:-0400
TZOFFSETTO:-0500
TZNAME:America/New_York EST
END:STANDARD
BEGIN:STANDARD
DTSTART:20241103T010000
RDATE:20250309T030000
TZOFFSETFROM:-0400
TZOFFSETTO:-0500
TZNAME:America/New_York EST
END:STANDARD
BEGIN:STANDARD
DTSTART:20251102T010000
RDATE:20260308T030000
TZOFFSETFROM:-0400
TZOFFSETTO:-0500
TZNAME:America/New_York EST
END:STANDARD
BEGIN:STANDARD
DTSTART:20261101T010000
RDATE:20270314T030000
TZOFFSETFROM:-0400
TZOFFSETTO:-0500
TZNAME:America/New_York EST
END:STANDARD
BEGIN:STANDARD
DTSTART:20271107T010000
RDATE:20280312T030000
TZOFFSETFROM:-0400
TZOFFSETTO:-0500
TZNAME:America/New_York EST
END:STANDARD
BEGIN:STANDARD
DTSTART:20281105T010000
RDATE:20290311T030000
TZOFFSETFROM:-0400
TZOFFSETTO:-0500
TZNAME:America/New_York EST
END:STANDARD
BEGIN:STANDARD
DTSTART:20291104T010000
RDATE:20300310T030000
TZOFFSETFROM:-0400
TZOFFSETTO:-0500
TZNAME:America/New_York EST
END:STANDARD
BEGIN:STANDARD
DTSTART:20301103T010000
RDATE:20310309T030000
TZOFFSETFROM:-0400
TZOFFSETTO:-0500
TZNAME:America/New_York EST
END:STANDARD
BEGIN:DAYLIGHT
DTSTART:20240310T030000
RDATE:20241103T010000
TZOFFSETFROM:-0500
TZOFFSETTO:-0400
TZNAME:America/New_York EDT
END:DAYLIGHT
BEGIN:DAYLIGHT
DTSTART:20250309T030000
RDATE:20251102T010000
TZOFFSETFROM:-0500
TZOFFSETTO:-0400
TZNAME:America/New_York EDT
END:DAYLIGHT
BEGIN:DAYLIGHT
DTSTART:20260308T030000
RDATE:20261101T010000
TZOFFSETFROM:-0500
TZOFFSETTO:-0400
TZNAME:America/New_York EDT
END:DAYLIGHT
BEGIN:DAYLIGHT
DTSTART:20270314T030000
RDATE:20271107T010000
TZOFFSETFROM:-0500
TZOFFSETTO:-0400
TZNAME:America/New_York EDT
END:DAYLIGHT
BEGIN:DAYLIGHT
DTSTART:20280312T030000
RDATE:20281105T010000
TZOFFSETFROM:-0500
TZOFFSETTO:-0400
TZNAME:America/New_York EDT
END:DAYLIGHT
BEGIN:DAYLIGHT
DTSTART:20290311T030000
RDATE:20291104T010000
TZOFFSETFROM:-0500
TZOFFSETTO:-0400
TZNAME:America/New_York EDT
END:DAYLIGHT
BEGIN:DAYLIGHT
DTSTART:20300310T030000
RDATE:20301103T010000
TZOFFSETFROM:-0500
TZOFFSETTO:-0400
TZNAME:America/New_York EDT
END:DAYLIGHT
END:VTIMEZONE
BEGIN:VEVENT
UID:c1abf8be41cbed81447f005f5083585f
CATEGORIES:At Syracuse
CREATED:20241211T130133
SUMMARY:Weatherization Assistant Software Training
LOCATION:NYSWDA Training Center - East Syracuse
DESCRIPTION:<p><span><span style="font-size: medium;"><span style="color: #000000;"><sp
 an><span style="font-size: 12pt;"><strong><span style="color: #336699;"><sp
 an style="font-family: tahoma,arial,helvetica,sans-serif; font-size: 14pt;"
 >Weatherization Assistant Software Training&nbsp;<span style="color: #33669
 9;">/ <span style="color: #ff0000;">WESTERN REGION</span></span><span></spa
 n><span></span><span></span><span style="color: #000000;"></span><span></sp
 an><span></span><span style="color: #336699; font-family: tahoma, arial, he
 lvetica, sans-serif; font-size: 14pt;"></span><span></span><span style="fon
 t-family: Tahoma;"></span><span style="font-family: Tahoma;"></span><span s
 tyle="color: #000000;"></span><span style="font-size: small;"></span><span 
 style="font-family: Tahoma;"></span><span style="color: #000000;"></span><s
 pan style="font-size: x-small;"></span><span style="font-family: Arial, Hel
 vetica;"></span><span style="font-size: small;"></span><span style="font-fa
 mily: Tahoma;"></span><span style="font-size: x-small;"></span><span style=
 "font-family: Arial, Helvetica;"></span><span style="font-size: small;"></s
 pan><span style="font-family: Tahoma;"></span><span style="font-size: x-sma
 ll;"></span><span style="font-family: Arial, Helvetica;"></span><span style
 ="font-size: small;"></span><span style="font-family: Tahoma;"></span><span
  style="font-size: x-small;"></span><span style="font-family: Arial, Helvet
 ica;"></span><span style="font-family: Tahoma;"></span><span style="font-fa
 mily: Tahoma;"></span><span style="font-size: small;"></span><span style="f
 ont-family: Tahoma;"></span><span style="font-size: x-small;"></span><span 
 style="font-family: Arial, Helvetica;"></span><span style="font-family: Tah
 oma;"></span><span style="font-family: Tahoma;"></span><span style="font-fa
 mily: Tahoma;"></span><span style="font-size: small;"></span><span style="f
 ont-family: Tahoma;"></span><span style="font-size: x-small;"></span><span 
 style="font-family: Arial, Helvetica;"></span><span style="color: #000000;"
 ></span><span style="font-size: medium;"></span><span style="font-family: T
 ahoma;"></span><span style="color: #336699;"></span></span></span></strong>
 </span></span></span></span></span></p><p>&nbsp;</p><p><span><span style="f
 ont-size: medium;"><span style="color: #000000;"><span><span style="font-si
 ze: 12pt;"><strong><span style="color: #336699;"><span style="font-family: 
 tahoma,arial,helvetica,sans-serif; font-size: 14pt;">Training location:&nbs
 p;&nbsp;NYSWDA's Training Center -&nbsp;5869 Fisher Road, East Syracuse, NY
  13057</span></span></strong></span></span></span></span></span></p><p><spa
 n style="color: #000000;"><span style="font-size: medium;"><span style="fon
 t-size: 12pt;"><strong>&nbsp;</strong></span></span></span></p><p><span sty
 le="color: #000000; font-size: 12pt;"><em><span style="font-family: tahoma,
 arial,helvetica,sans-serif; text-decoration: underline;">Course Description
 ;</span></em></span><br /><span style="color: #000000; font-family: tahoma,
 arial,helvetica,sans-serif; font-size: 12pt;">Beginning July 1, 2025, the N
 ew York State Weatherization Assistant Program will be transitioning from t
 he current TIPS auditing software to the Department of Energy's Weatherizat
 ion Assistant, which encompasses small buildings, mobile homes, and multifa
 mily housing,&nbsp; This training will provide the step-by-step process for
  modeling client housing using data collected during the audit process and 
 provide insight into reports generated by the software.&nbsp; Client usage,
  modeled load, comparative analysis of heating degree days to actual useage
 , and savings-to-investment ratios will all be part of the process of creat
 ing a workscope custom-generated to each home.</span><span style="color: #0
 00000;"></span></p><p>&nbsp;&nbsp;</p><p><span style="color: #000000;"><em>
 <span style="font-family: tahoma,arial,helvetica,sans-serif; font-size: 12p
 t;"><span style="text-decoration: underline;">Dates;</span></span></em></sp
 an><br /><span style="color: #000000; font-family: tahoma,arial,helvetica,s
 ans-serif; font-size: 12pt;">February 18-20, 2025 / 9:00am - 5:00pm </span>
 </p><p><span style="color: #000000;"></span></p><p>&nbsp;</p><p><span style
 ="color: #000000; font-family: tahoma, arial, helvetica, sans-serif; font-s
 ize: 12pt;"></span></p><p><span style="color: #000000;"><em><span style="fo
 nt-family: tahoma,arial,helvetica,sans-serif; font-size: 12pt;"><span style
 ="text-decoration: underline;">Prerequisites;</span> </span></em></span><br
  /><span style="color: #000000; font-family: tahoma,arial,helvetica,sans-se
 rif; font-size: 12pt;">None</span></p><p>&nbsp;</p><p><span style="color: #
 000000;"><span style="font-family: tahoma,arial,helvetica,sans-serif; font-
 size: 12pt;"><em><span style="text-decoration: underline;">Class Size;</spa
 n></em>&nbsp;<br />10-12</span></span></p><p>&nbsp;</p><p><span style="colo
 r: #000000; font-family: tahoma,arial,helvetica,sans-serif; font-size: 12pt
 ;"><em><span style="text-decoration: underline;">BPI CEU;</span></em>&nbsp;
 <br />TBD</span></p><p>&nbsp;</p><p><span style="color: #000000;"></span></
 p><p><span style="color: #000000;"><span style="color: #000000; font-family
 : tahoma, arial, helvetica, sans-serif; font-size: 12pt;"></span></span></p
 ><p><span style="color: #000000;"><em><span style="font-family: tahoma, ari
 al, helvetica, sans-serif; font-size: 12pt;"><span style="text-decoration: 
 underline;">Instructors;</span></span></em></span><br /><span style="color:
  #000000;"><span style="font-family: tahoma, arial, helvetica, sans-serif; 
 font-size: 12pt;"><span style="color: #000000;">Joe Maggiore -</span>NYSWDA
 <br /></span><span style="font-family: tahoma, arial, helvetica, sans-serif
 ; font-size: 12pt;">Andy Stone - NYSWDA<br />Al McMahon - NYSWDA<br />Bob B
 raunlich - NYSWDA</span></span></p><p><span style="color: #ffffff; font-fam
 ily: tahoma, arial, helvetica, sans-serif; font-size: 12pt;"></span></p><p>
 &nbsp;</p><p><span style="color: #000000; font-family: tahoma,arial,helveti
 ca,sans-serif; font-size: 12pt;"><em><span style="text-decoration: underlin
 e;">Course</span></em><span style="text-decoration: underline;"> Fees;<br /
 ></span></span><span style="color: #000000; font-family: tahoma,arial,helve
 tica,sans-serif; font-size: 12pt;">$500/person - NY Weatherization Sub-gran
 tees</span></p><p><span style="color: black; font-family: 'Tahoma','sans-se
 rif';">&nbsp;<br /></span><em><strong><span style="font-family: tahoma, ari
 al, helvetica, sans-serif; font-size: 12pt;"><span style="color: #000000;">
 Course fees do not&nbsp;include lunch</span></span></strong></em></p><p><sp
 an style="color: #ffffff; font-family: tahoma, arial, helvetica, sans-serif
 ; font-size: 12pt;"><em>&nbsp;</em></span></p><p><span style="font-family: 
 tahoma, arial, helvetica, sans-serif;"><em><strong><span style="font-family
 : tahoma, arial, helvetica, sans-serif; font-size: 14pt;"><strong><em><stro
 ng><span style="color: #ffffff; font-family: tahoma,arial,helvetica,sans-se
 rif; font-size: 14pt;"><span style="color: #ff0000;">CLASS FULL - call or e
 mail</span>&nbsp; <span id="cloakacbda73467b5df010ace83beabaa9aac">This ema
 il address is being protected from spambots. You need JavaScript enabled to
  view it.</span><script type='text/javascript'>
				document.getElementById
 ('cloakacbda73467b5df010ace83beabaa9aac').innerHTML = '';
				var prefix = 
 'ma' + 'il' + 'to';
				var path = 'hr' + 'ef' + '=';
				var addyacbda7346
 7b5df010ace83beabaa9aac = 'rvisser' + '@';
				addyacbda73467b5df010ace83be
 abaa9aac = addyacbda73467b5df010ace83beabaa9aac + 'nyswda' + '.' + 'org';
	
 			var addy_textacbda73467b5df010ace83beabaa9aac = '<span style="color: #00
 66cc;">rvisser' + '@' + 'nyswda' + '.' + 'org</span>';document.getElementBy
 Id('cloakacbda73467b5df010ace83beabaa9aac').innerHTML += '<a ' + path + '\'
 ' + prefix + ':' + addyacbda73467b5df010ace83beabaa9aac + '\'>'+addy_textac
 bda73467b5df010ace83beabaa9aac+'<\/a>';
		</script> <span style="color: #ff
 0000;">for availability or wait list</span></span></strong></em><span style
 ="color: #ffffff;"></span></strong><span style="font-family: tahoma,arial,h
 elvetica,sans-serif; font-size: 14pt;"></span><span style="font-family: tah
 oma, arial, helvetica, sans-serif; font-size: 14pt;"></span></span><span st
 yle="font-family: tahoma, arial, helvetica, sans-serif; font-size: 14pt;"><
 /span><span style="font-family: tahoma, arial, helvetica, sans-serif; font-
 size: 14pt;"></span><span style="font-family: tahoma, arial, helvetica, san
 s-serif; font-size: 14pt;"></span><span style="font-family: tahoma, arial, 
 helvetica, sans-serif; font-size: 14pt;"></span><em></em><span style="color
 : #0000ff;"></span></strong></em></span></p><p>&nbsp;</p><p style="margin: 
 0in 0in 0pt;"><span style="font-family: 'Arial','sans-serif'; font-size: 10
 pt;"></span></p><p>&nbsp;</p>
CONTACT:This email address is being protected from spambots. You need JavaScript enabled to view it.
				document.getElementById('cloak9c0bd68e8a085676c9ad2815ed0bd4ed').innerHTML = '';
				var prefix = '&#109;a' + 'i&#108;' + '&#116;o';
				var path = 'hr' + 'ef' + '=';
				var addy9c0bd68e8a085676c9ad2815ed0bd4ed = 'rv&#105;ss&#101;r' + '&#64;';
				addy9c0bd68e8a085676c9ad2815ed0bd4ed = addy9c0bd68e8a085676c9ad2815ed0bd4ed + 'nyswd&#97;' + '&#46;' + '&#111;rg';
				var addy_text9c0bd68e8a085676c9ad2815ed0bd4ed = 'rv&#105;ss&#101;r' + '&#64;' + 'nyswd&#97;' + '&#46;' + '&#111;rg';document.getElementById('cloak9c0bd68e8a085676c9ad2815ed0bd4ed').innerHTML += '<a ' + path + '\'' + prefix + ':' + addy9c0bd68e8a085676c9ad2815ed0bd4ed + '\'>'+addy_text9c0bd68e8a085676c9ad2815ed0bd4ed+'';
		
DTSTAMP:20260424T025528
DTSTART;TZID=America/New_York:20250218T090000
DTEND;TZID=America/New_York:20250220T163000
SEQUENCE:0
TRANSP:OPAQUE
END:VEVENT
END:VCALENDAR