BEGIN:VCALENDAR
VERSION:2.0
PRODID:-//jEvents 2.0 for Joomla//EN
CALSCALE:GREGORIAN
METHOD:PUBLISH
BEGIN:VTIMEZONE
TZID:America/New_York
BEGIN:STANDARD
DTSTART:20240211T090000
RDATE:20240310T030000
TZOFFSETFROM:-0400
TZOFFSETTO:-0500
TZNAME:America/New_York EST
END:STANDARD
BEGIN:STANDARD
DTSTART:20241103T010000
RDATE:20250309T030000
TZOFFSETFROM:-0400
TZOFFSETTO:-0500
TZNAME:America/New_York EST
END:STANDARD
BEGIN:STANDARD
DTSTART:20251102T010000
RDATE:20260308T030000
TZOFFSETFROM:-0400
TZOFFSETTO:-0500
TZNAME:America/New_York EST
END:STANDARD
BEGIN:STANDARD
DTSTART:20261101T010000
RDATE:20270314T030000
TZOFFSETFROM:-0400
TZOFFSETTO:-0500
TZNAME:America/New_York EST
END:STANDARD
BEGIN:STANDARD
DTSTART:20271107T010000
RDATE:20280312T030000
TZOFFSETFROM:-0400
TZOFFSETTO:-0500
TZNAME:America/New_York EST
END:STANDARD
BEGIN:STANDARD
DTSTART:20281105T010000
RDATE:20290311T030000
TZOFFSETFROM:-0400
TZOFFSETTO:-0500
TZNAME:America/New_York EST
END:STANDARD
BEGIN:STANDARD
DTSTART:20291104T010000
RDATE:20300310T030000
TZOFFSETFROM:-0400
TZOFFSETTO:-0500
TZNAME:America/New_York EST
END:STANDARD
BEGIN:STANDARD
DTSTART:20301103T010000
RDATE:20310309T030000
TZOFFSETFROM:-0400
TZOFFSETTO:-0500
TZNAME:America/New_York EST
END:STANDARD
BEGIN:DAYLIGHT
DTSTART:20240310T030000
RDATE:20241103T010000
TZOFFSETFROM:-0500
TZOFFSETTO:-0400
TZNAME:America/New_York EDT
END:DAYLIGHT
BEGIN:DAYLIGHT
DTSTART:20250309T030000
RDATE:20251102T010000
TZOFFSETFROM:-0500
TZOFFSETTO:-0400
TZNAME:America/New_York EDT
END:DAYLIGHT
BEGIN:DAYLIGHT
DTSTART:20260308T030000
RDATE:20261101T010000
TZOFFSETFROM:-0500
TZOFFSETTO:-0400
TZNAME:America/New_York EDT
END:DAYLIGHT
BEGIN:DAYLIGHT
DTSTART:20270314T030000
RDATE:20271107T010000
TZOFFSETFROM:-0500
TZOFFSETTO:-0400
TZNAME:America/New_York EDT
END:DAYLIGHT
BEGIN:DAYLIGHT
DTSTART:20280312T030000
RDATE:20281105T010000
TZOFFSETFROM:-0500
TZOFFSETTO:-0400
TZNAME:America/New_York EDT
END:DAYLIGHT
BEGIN:DAYLIGHT
DTSTART:20290311T030000
RDATE:20291104T010000
TZOFFSETFROM:-0500
TZOFFSETTO:-0400
TZNAME:America/New_York EDT
END:DAYLIGHT
BEGIN:DAYLIGHT
DTSTART:20300310T030000
RDATE:20301103T010000
TZOFFSETFROM:-0500
TZOFFSETTO:-0400
TZNAME:America/New_York EDT
END:DAYLIGHT
END:VTIMEZONE
BEGIN:VEVENT
UID:d2c770e3917ea4dfa6b2d30593d1ac16
CATEGORIES:WEB
CREATED:20241213T104602
SUMMARY:Weatherization Health & Safety - Online
LOCATION:Online
DESCRIPTION:\n Weatherization Health &amp; Safety - Online \n
 \n
GoToWebinar Event\n
\
 n
 \n
Course Description: \n
This online course will be covered in one day.
   Class starts at 9:00am and will break at noon for an hour lunch.  The nex
 t half session will start at 1:00pm and go until 4:00pm.\n\nIdentifying hea
 lth and safety issues in client homes is a fundamental task in the Weatheri
 zation program. This course will prepare the weatherization professional to
  perform the H&amp;S inspection as well as required tests. Areas to be cove
 red include: CO in ambient and flue gases, CAZ depressurization, worst case
  backdrafting, moisture/mold, asbestos, lead, clearances to combustibles, o
 verloaded electrical circuits, unvented space heating. \n\nThis is an HCR m
 andated training for Weatherization Directors, Auditors, Crew Supervisors a
 nd Crews. If you are a new Director or have new staff, you are strongly adv
 ised to attend.  This training requires attendance every three (3) years. \
 n
 \n
\n
Class Size: 25 \n
 \n
BPI CEU: 3\n
\n
 \n
Instructor:  Joe Ilacqua
  - NYSWDA \n
\n
 \n
Course Fees:  \n
$262/person - NY Weatherization Sub-gr
 antees\n
$262/person - affiliate members\n
$380/person - non-members\n\n
 \
 n
 **Special note - if you wish to become an Affiliate Member please contac
 t Karen McMahon (315-701-0440 ext. 223, This email address is being protect
 ed from spambots. You need JavaScript enabled to view it.
				document.getE
 lementById('cloak77a4597433cd8dd67acf697171082404').innerHTML = '';
				var
  prefix = 'ma' + 'il' + 'to';
				var path = 'hr' + 'ef' + '=';
				var add
 y77a4597433cd8dd67acf697171082404 = 'kmcmahon' + '@';
				addy77a4597433cd8
 dd67acf697171082404 = addy77a4597433cd8dd67acf697171082404 + 'nyswda' + '.'
  + 'org';
				var addy_text77a4597433cd8dd67acf697171082404 = 'kmcmahon' + 
 '@' + 'nyswda' + '.' + 'org';document.getElementById('cloak77a4597433cd8dd6
 7acf697171082404').innerHTML += '<a ' + path + '\'' + prefix + ':' + addy77
 a4597433cd8dd67acf697171082404 + '\'>'+addy_text77a4597433cd8dd67acf6971710
 82404+'';
		) BEFORE YOU REGISTER for the course.\n
 \n
Through the support
  of NYS HCR funding, we are able to provide quality training at discounted 
 rates to NYSWDA members.\n
 \n
Click here to register (index.php?option=com
 _civicrm&amp;task=civicrm/event/register&amp;reset=1&amp;id=14363)  \n
\n
 
 \n
\n
 \n
 \n
 \n
 \n
 \n
X-ALT-DESC;FMTTYPE=text/html:<p><br />&nbsp;<span style="color: #336699; font-family: tahoma,arial,helve
 tica,sans-serif; font-size: 14pt;"><span style="color: #000000;"><strong><s
 pan style="color: #336699;">Weatherization Health &amp; Safety - Online&nbs
 p;</span></strong></span></span></p><p>&nbsp;</p><p><span style="color: #33
 6699; font-family: tahoma,arial,helvetica,sans-serif; font-size: 14pt;"><sp
 an style="color: #000000;"><strong><span style="color: #336699;">GoToWebina
 r Event</span></strong></span></span></p><p><strong><span style="font-famil
 y: 'Tahoma','sans-serif'; color: #336699; font-size: 13.5pt;"></span></stro
 ng></p><p>&nbsp;</p><p><span style="font-size: 12pt;"><em><span style="text
 -decoration: underline;"><span style="font-family: 'Tahoma','sans-serif'; c
 olor: black;">Course Description:</span></span></em></span>&nbsp;</p><p><sp
 an style="font-family: Tahoma, sans-serif; color: black; font-size: 12pt;">
 This online course will be covered in one day.&nbsp; Class starts at 9:00am
  and will break at noon for an hour lunch.&nbsp; The next half session will
  start at 1:00pm and go until 4:00pm.<br /><br /></span><span style="font-f
 amily: Tahoma, sans-serif; color: black; font-size: 12pt;">Identifying heal
 th and safety issues in client homes is a fundamental task in the Weatheriz
 ation program. This course will prepare the weatherization professional to 
 perform the H&amp;S inspection as well as required tests. Areas to be cover
 ed include: CO in ambient and flue gases, CAZ depressurization, worst case 
 backdrafting, moisture/mold, asbestos, lead, clearances to combustibles, ov
 erloaded electrical circuits, unvented space heating.&nbsp;<br /><br /></sp
 an><span style="font-family: Tahoma, sans-serif; color: black; font-size: 1
 2pt;">This is an HCR mandated training for Weatherization Directors, Audito
 rs, Crew Supervisors and Crews. If you are a new Director or have new staff
 , you are strongly advised to attend.&nbsp; This training requires attendan
 ce every three (3) years.</span>&nbsp;</p><p>&nbsp;</p><p><span style="font
 -family: 'Tahoma', 'sans-serif'; color: black; font-size: 12pt;"></span></p
 ><p><span style="font-size: 12pt;"><em><span style="text-decoration: underl
 ine;"><span style="font-family: 'Tahoma','sans-serif'; color: black;">Class
  Size</span></span></em><span style="font-family: 'Tahoma','sans-serif'; co
 lor: black;">: 25</span></span>&nbsp;<span style="font-family: 'Tahoma', 's
 ans-serif'; color: black; font-size: 12pt;"></span></p><p>&nbsp;</p><p><spa
 n style="font-size: 12pt;"><em><span style="text-decoration: underline;"><s
 pan style="font-family: 'Tahoma','sans-serif'; color: black;">BPI CEU</span
 ></span></em><span style="text-decoration: underline;"><span style="font-fa
 mily: 'Tahoma','sans-serif'; color: black;">:</span></span><span style="fon
 t-family: 'Tahoma','sans-serif'; color: black;">&nbsp;3</span></span></p><p
 ><span style="font-family: 'Tahoma', 'sans-serif'; color: black; font-size:
  12pt;"></span></p><p>&nbsp;</p><p><span style="font-size: 12pt;"><span sty
 le="text-decoration: underline;"><span style="font-family: 'Tahoma','sans-s
 erif'; color: black;"><em>Instructor</em>:</span></span><span style="font-f
 amily: 'Tahoma','sans-serif'; color: black;">&nbsp; Joe Ilacqua</span><span
  style="font-family: 'Tahoma','sans-serif'; color: black;">&nbsp;- NYSWDA</
 span></span>&nbsp;</p><p><span style="font-family: 'Tahoma', 'sans-serif'; 
 color: black; font-size: 12pt;"></span></p><p>&nbsp;</p><p><span style="fon
 t-size: 12pt;"><em><span style="text-decoration: underline;"><span style="f
 ont-family: 'Tahoma','sans-serif'; color: black;">Course Fees:&nbsp;</span>
 </span></em></span>&nbsp;</p><p><span style="font-size: 12pt;"><span style=
 "color: black; font-family: 'Tahoma','sans-serif';">$262/person - NY&nbsp;W
 eatherization Sub-grantees</span></span></p><p><span style="font-size: 12pt
 ;"><span style="color: black; font-family: 'Tahoma','sans-serif';">$262/per
 son - affiliate members</span><span style="color: black; font-family: 'Taho
 ma','sans-serif';"></span></span></p><p><span style="font-size: 12pt;"><spa
 n style="color: black; font-family: 'Tahoma','sans-serif';">$380/person - n
 on-members</span><span style="color: black; font-family: 'Tahoma','sans-ser
 if';"></span><span style="color: black; font-family: 'Tahoma','sans-serif';
 "></span><em><span style="color: black; font-family: 'Tahoma','sans-serif';
 "><br /></span></em></span></p><p>&nbsp;</p><p><span style="color: #0000ff;
 "><em><strong><span style="font-family: tahoma, arial, helvetica, sans-seri
 f; font-size: 14pt;"><span style="color: #0000ff;"></span></span></strong><
 /em></span><span style="background-color: initial; color: inherit; font-fam
 ily: inherit; font-size: 1rem;"> </span><em style="background-color: initia
 l; color: inherit; font-family: inherit; font-size: 1rem;"><strong><span st
 yle="background: white; color: #02613f; font-family: 'Georgia','serif';"><s
 pan style="font-size: small;">**Special note</span></span></strong></em><sp
 an style="background: white; color: black; font-family: 'Georgia','serif';"
 ><span style="font-size: small;"><i><strong>&nbsp;-&nbsp;if you wish to bec
 ome an Affiliate Member please contact&nbsp;Karen McMahon (315-701-0440 ext
 . 223,&nbsp;</strong></i></span><i><strong><span id="cloak77a4597433cd8dd67
 acf697171082404">This email address is being protected from spambots. You n
 eed JavaScript enabled to view it.</span><script type='text/javascript'>
		
 		document.getElementById('cloak77a4597433cd8dd67acf697171082404').innerHTM
 L = '';
				var prefix = 'ma' + 'il' + 'to';
				var path = 'hr' + 'ef' + '
 =';
				var addy77a4597433cd8dd67acf697171082404 = 'kmcmahon' + '@';
				ad
 dy77a4597433cd8dd67acf697171082404 = addy77a4597433cd8dd67acf697171082404 +
  'nyswda' + '.' + 'org';
				var addy_text77a4597433cd8dd67acf697171082404 
 = '<span style="color: #0000ff; font-size: small;">kmcmahon' + '@' + 'nyswd
 a' + '.' + 'org</span>';document.getElementById('cloak77a4597433cd8dd67acf6
 97171082404').innerHTML += '<a ' + path + '\'' + prefix + ':' + addy77a4597
 433cd8dd67acf697171082404 + '\'>'+addy_text77a4597433cd8dd67acf697171082404
 +'<\/a>';
		</script><span style="font-size: small;">)&nbsp;</span></strong
 ></i></span><i style="background-color: initial; color: inherit; font-famil
 y: inherit; font-size: 1rem;"></i><span style="font-size: small;"><strong><
 span style="background: white; color: #02613f; font-family: 'Georgia','seri
 f';">BEFORE YOU REGISTER&nbsp;</span></strong><em><b><span style="backgroun
 d: white; color: black; font-family: 'Georgia','serif';">for the course</sp
 an></b></em><strong><span style="background: white; color: black; font-fami
 ly: 'Georgia','serif';">.</span></strong></span><span style="background-col
 or: initial; color: inherit; font-family: inherit; font-size: 1rem;"></span
 ></p><p>&nbsp;</p><p><span style="font-family: georgia, palatino; font-size
 : 10pt;"><strong><em><span style="color: #10704d; background: white;">Throu
 gh the support of NYS HCR funding, we are able to provide </span></em></str
 ong><em><strong><span style="color: #02613f; background: white;">quality tr
 aining at&nbsp;discounted rates to NYSWDA members.</span></strong></em></sp
 an></p><p>&nbsp;</p><p><span style="font-size: 12pt;"><em style="background
 -color: initial; color: inherit; font-family: inherit; font-size: 1rem;"><s
 trong><span style="font-family: Tahoma;"><span style="font-family: tahoma, 
 arial, helvetica, sans-serif; font-size: 14pt;"><span style="color: #0000ff
 ;"><strong><a href="https://www.nyswda.org/index.php?option=com_civicrm&amp
 ;task=civicrm/event/register&amp;reset=1&amp;id=14363" style="color: #0000f
 f;">Click here to register</a>&nbsp;</strong></span><span style="font-famil
 y: tahoma,arial,helvetica,sans-serif; font-size: 14pt;"></span><span style=
 "font-family: tahoma, arial, helvetica, sans-serif; font-size: 14pt;"></spa
 n><span style="font-family: tahoma, arial, helvetica, sans-serif; font-size
 : 14pt;"></span></span><span style="font-family: tahoma,arial,helvetica,san
 s-serif; font-size: 14pt;"></span><span style="font-family: tahoma, arial, 
 helvetica, sans-serif; font-size: 14pt;"></span><span style="font-family: t
 ahoma, arial, helvetica, sans-serif; font-size: 14pt;"></span><em></em><spa
 n style="color: #0000ff;"></span> </span><span style="font-family: Arial, H
 elvetica;"></span><span style="font-family: Tahoma;"></span><em></em><span 
 style="font-size: 14pt;"></span></strong></em></span></p><p><span style="fo
 nt-family: 'Arial','sans-serif'; color: black; font-size: 10pt;"></span></p
 ><p>&nbsp;</p><p><span style="font-family: 'Arial','sans-serif'; color: bla
 ck; font-size: 10pt;"></span></p><p>&nbsp;</p><p>&nbsp;</p><p>&nbsp;</p><p>
 &nbsp;</p><p>&nbsp;</p>
CONTACT:This email address is being protected from spambots. You need JavaScript enabled to view it.
				document.getElementById('cloak1d952ecbf02da28640a75f1d91056282').innerHTML = '';
				var prefix = '&#109;a' + 'i&#108;' + '&#116;o';
				var path = 'hr' + 'ef' + '=';
				var addy1d952ecbf02da28640a75f1d91056282 = 'rv&#105;ss&#101;r' + '&#64;';
				addy1d952ecbf02da28640a75f1d91056282 = addy1d952ecbf02da28640a75f1d91056282 + 'nyswd&#97;' + '&#46;' + '&#111;rg';
				var addy_text1d952ecbf02da28640a75f1d91056282 = 'rv&#105;ss&#101;r' + '&#64;' + 'nyswd&#97;' + '&#46;' + '&#111;rg';document.getElementById('cloak1d952ecbf02da28640a75f1d91056282').innerHTML += '<a ' + path + '\'' + prefix + ':' + addy1d952ecbf02da28640a75f1d91056282 + '\'>'+addy_text1d952ecbf02da28640a75f1d91056282+'';
		
DTSTAMP:20260424T044004
DTSTART;TZID=America/New_York:20250211T090000
DTEND;TZID=America/New_York:20250211T160000
SEQUENCE:0
TRANSP:OPAQUE
END:VEVENT
END:VCALENDAR