BEGIN:VCALENDAR
VERSION:2.0
PRODID:-//jEvents 2.0 for Joomla//EN
CALSCALE:GREGORIAN
METHOD:PUBLISH
BEGIN:VTIMEZONE
TZID:America/New_York
BEGIN:STANDARD
DTSTART:20240212T090000
RDATE:20240310T030000
TZOFFSETFROM:-0400
TZOFFSETTO:-0500
TZNAME:America/New_York EST
END:STANDARD
BEGIN:STANDARD
DTSTART:20241103T010000
RDATE:20250309T030000
TZOFFSETFROM:-0400
TZOFFSETTO:-0500
TZNAME:America/New_York EST
END:STANDARD
BEGIN:STANDARD
DTSTART:20251102T010000
RDATE:20260308T030000
TZOFFSETFROM:-0400
TZOFFSETTO:-0500
TZNAME:America/New_York EST
END:STANDARD
BEGIN:STANDARD
DTSTART:20261101T010000
RDATE:20270314T030000
TZOFFSETFROM:-0400
TZOFFSETTO:-0500
TZNAME:America/New_York EST
END:STANDARD
BEGIN:STANDARD
DTSTART:20271107T010000
RDATE:20280312T030000
TZOFFSETFROM:-0400
TZOFFSETTO:-0500
TZNAME:America/New_York EST
END:STANDARD
BEGIN:STANDARD
DTSTART:20281105T010000
RDATE:20290311T030000
TZOFFSETFROM:-0400
TZOFFSETTO:-0500
TZNAME:America/New_York EST
END:STANDARD
BEGIN:STANDARD
DTSTART:20291104T010000
RDATE:20300310T030000
TZOFFSETFROM:-0400
TZOFFSETTO:-0500
TZNAME:America/New_York EST
END:STANDARD
BEGIN:STANDARD
DTSTART:20301103T010000
RDATE:20310309T030000
TZOFFSETFROM:-0400
TZOFFSETTO:-0500
TZNAME:America/New_York EST
END:STANDARD
BEGIN:DAYLIGHT
DTSTART:20240310T030000
RDATE:20241103T010000
TZOFFSETFROM:-0500
TZOFFSETTO:-0400
TZNAME:America/New_York EDT
END:DAYLIGHT
BEGIN:DAYLIGHT
DTSTART:20250309T030000
RDATE:20251102T010000
TZOFFSETFROM:-0500
TZOFFSETTO:-0400
TZNAME:America/New_York EDT
END:DAYLIGHT
BEGIN:DAYLIGHT
DTSTART:20260308T030000
RDATE:20261101T010000
TZOFFSETFROM:-0500
TZOFFSETTO:-0400
TZNAME:America/New_York EDT
END:DAYLIGHT
BEGIN:DAYLIGHT
DTSTART:20270314T030000
RDATE:20271107T010000
TZOFFSETFROM:-0500
TZOFFSETTO:-0400
TZNAME:America/New_York EDT
END:DAYLIGHT
BEGIN:DAYLIGHT
DTSTART:20280312T030000
RDATE:20281105T010000
TZOFFSETFROM:-0500
TZOFFSETTO:-0400
TZNAME:America/New_York EDT
END:DAYLIGHT
BEGIN:DAYLIGHT
DTSTART:20290311T030000
RDATE:20291104T010000
TZOFFSETFROM:-0500
TZOFFSETTO:-0400
TZNAME:America/New_York EDT
END:DAYLIGHT
BEGIN:DAYLIGHT
DTSTART:20300310T030000
RDATE:20301103T010000
TZOFFSETFROM:-0500
TZOFFSETTO:-0400
TZNAME:America/New_York EDT
END:DAYLIGHT
END:VTIMEZONE
BEGIN:VEVENT
UID:adee3d62335e9092da12dfde30fb5e42
CATEGORIES:WEB
CREATED:20241213T104857
SUMMARY:Air Sealing Techniques - Online
LOCATION:Online
DESCRIPTION:<p><br />&nbsp;<span style="color: #336699; font-family: tahoma,arial,helve
 tica,sans-serif; font-size: 14pt;"><span style="color: #000000;"><strong><s
 pan style="color: #336699;">Air Sealing Techniques - Online&nbsp;</span></s
 trong></span></span></p><p>&nbsp;</p><p><span style="color: #336699; font-f
 amily: tahoma,arial,helvetica,sans-serif; font-size: 14pt;"><span style="co
 lor: #000000;"><strong><span style="color: #336699;">GoToWebinar Event</spa
 n></strong></span></span></p><p><strong><span style="font-family: 'Tahoma',
 'sans-serif'; color: #336699; font-size: 13.5pt;"></span></strong></p><p>&n
 bsp;</p><p><span style="font-size: 12pt;"><em><span style="text-decoration:
  underline;"><span style="font-family: 'Tahoma','sans-serif'; color: black;
 ">Course Description:</span></span></em></span>&nbsp;</p><p><span style="fo
 nt-family: Tahoma, sans-serif; color: black; font-size: 12pt;"><span style=
 "font-family: Tahoma, sans-serif; color: black; font-size: 12pt;">This onli
 ne course will be covered in one day.&nbsp; Class starts at 9:00am and will
  break at noon for an hour lunch.&nbsp; The next half session will start at
  1:00pm and go until 4:00pm.</span><br /><br /></span><span style="font-fam
 ily: Tahoma, sans-serif; color: black; font-size: 12pt;">This training will
  review procedures meant to optimize a crew's work production so they bette
 r meet their air sealing goals.&nbsp; Using powerpoint and video, the audie
 nce will learn about basic physics that effect air flow, techniques used in
  air sealing, use of blower doors to diagnose problems, prioritizing worksc
 opes, and the use of proper air sealing materials.<br /><br /></span><span 
 style="font-family: Tahoma, sans-serif; color: black; font-size: 12pt;">Thi
 s is an HCR mandated training for Weatherization Directors, Auditors, Crew 
 Supervisors and Crews. If you are a new Director or have new staff, you are
  strongly advised to attend.&nbsp; This training requires attendance every 
 three (3) years.</span>&nbsp;</p><p>&nbsp;</p><p><span style="font-family: 
 'Tahoma', 'sans-serif'; color: black; font-size: 12pt;"></span></p><p><span
  style="font-size: 12pt;"><em><span style="text-decoration: underline;"><sp
 an style="font-family: 'Tahoma','sans-serif'; color: black;">Class Size</sp
 an></span></em><span style="font-family: 'Tahoma','sans-serif'; color: blac
 k;">: 25</span></span>&nbsp;<span style="font-family: 'Tahoma', 'sans-serif
 '; color: black; font-size: 12pt;"></span></p><p>&nbsp;</p><p><span style="
 font-size: 12pt;"><em><span style="text-decoration: underline;"><span style
 ="font-family: 'Tahoma','sans-serif'; color: black;">BPI CEU</span></span><
 /em><span style="text-decoration: underline;"><span style="font-family: 'Ta
 homa','sans-serif'; color: black;">:</span></span><span style="font-family:
  'Tahoma','sans-serif'; color: black;">&nbsp;3</span></span></p><p><span st
 yle="font-family: 'Tahoma', 'sans-serif'; color: black; font-size: 12pt;"><
 /span></p><p>&nbsp;</p><p><span style="font-size: 12pt;"><span style="text-
 decoration: underline;"><span style="font-family: 'Tahoma','sans-serif'; co
 lor: black;"><em>Instructor</em>:</span></span><span style="font-family: 'T
 ahoma','sans-serif'; color: black;">&nbsp; Joe Ilacqua</span><span style="f
 ont-family: 'Tahoma','sans-serif'; color: black;">&nbsp;- NYSWDA</span></sp
 an>&nbsp;</p><p><span style="font-family: 'Tahoma', 'sans-serif'; color: bl
 ack; font-size: 12pt;"></span></p><p>&nbsp;</p><p><span style="font-size: 1
 2pt;"><em><span style="text-decoration: underline;"><span style="font-famil
 y: 'Tahoma','sans-serif'; color: black;">Course Fees:&nbsp;</span></span></
 em></span>&nbsp;</p><p><span style="font-size: 12pt;"><span style="color: b
 lack; font-family: 'Tahoma','sans-serif';">$262/person - NY&nbsp;Weatheriza
 tion Sub-grantees</span></span></p><p><span style="font-size: 12pt;"><span 
 style="color: black; font-family: 'Tahoma','sans-serif';">$262/person - aff
 iliate members</span><span style="color: black; font-family: 'Tahoma','sans
 -serif';"></span></span></p><p><span style="font-size: 12pt;"><span style="
 color: black; font-family: 'Tahoma','sans-serif';">$380/person - non-member
 s</span><span style="color: black; font-family: 'Tahoma','sans-serif';"></s
 pan><span style="color: black; font-family: 'Tahoma','sans-serif';"></span>
 <em><span style="color: black; font-family: 'Tahoma','sans-serif';"><br /><
 /span></em></span></p><p>&nbsp;</p><p><span style="color: #0000ff;"><em><st
 rong><span style="font-family: tahoma, arial, helvetica, sans-serif; font-s
 ize: 14pt;"><span style="color: #0000ff;"></span></span></strong></em></spa
 n><span style="background-color: initial; color: inherit; font-family: inhe
 rit; font-size: 1rem;"> </span><em style="background-color: initial; color:
  inherit; font-family: inherit; font-size: 1rem;"><strong><span style="back
 ground: white; color: #02613f; font-family: 'Georgia','serif';"><span style
 ="font-size: small;">**Special note</span></span></strong></em><span style=
 "background: white; color: black; font-family: 'Georgia','serif';"><span st
 yle="font-size: small;"><i><strong>&nbsp;-&nbsp;if you wish to become an Af
 filiate Member please contact&nbsp;Karen McMahon (315-701-0440 ext. 223,&nb
 sp;</strong></i></span><i><strong><span id="cloak9204d64f40025fddd5ed4cf414
 6b8dff">This email address is being protected from spambots. You need JavaS
 cript enabled to view it.</span><script type='text/javascript'>
				documen
 t.getElementById('cloak9204d64f40025fddd5ed4cf4146b8dff').innerHTML = '';
	
 			var prefix = 'ma' + 'il' + 'to';
				var path = 'hr' + 'ef' + '=';
				v
 ar addy9204d64f40025fddd5ed4cf4146b8dff = 'kmcmahon' + '@';
				addy9204d64
 f40025fddd5ed4cf4146b8dff = addy9204d64f40025fddd5ed4cf4146b8dff + 'nyswda'
  + '.' + 'org';
				var addy_text9204d64f40025fddd5ed4cf4146b8dff = '<span 
 style="color: #0000ff; font-size: small;">kmcmahon' + '@' + 'nyswda' + '.' 
 + 'org</span>';document.getElementById('cloak9204d64f40025fddd5ed4cf4146b8d
 ff').innerHTML += '<a ' + path + '\'' + prefix + ':' + addy9204d64f40025fdd
 d5ed4cf4146b8dff + '\'>'+addy_text9204d64f40025fddd5ed4cf4146b8dff+'<\/a>';
 
		</script><span style="font-size: small;">)&nbsp;</span></strong></i></sp
 an><i style="background-color: initial; color: inherit; font-family: inheri
 t; font-size: 1rem;"></i><span style="font-size: small;"><strong><span styl
 e="background: white; color: #02613f; font-family: 'Georgia','serif';">BEFO
 RE YOU REGISTER&nbsp;</span></strong><em><b><span style="background: white;
  color: black; font-family: 'Georgia','serif';">for the course</span></b></
 em><strong><span style="background: white; color: black; font-family: 'Geor
 gia','serif';">.</span></strong></span><span style="background-color: initi
 al; color: inherit; font-family: inherit; font-size: 1rem;"></span></p><p>&
 nbsp;</p><p>&nbsp;</p><p><em><span style="font-family: Tahoma, sans-serif; 
 color: black;"><span style="font-family: tahoma, arial, helvetica, sans-ser
 if; font-size: 14pt;"><span style="color: #0000ff;"><strong><a href="index.
 php?option=com_civicrm&amp;task=civicrm/event/register&amp;reset=1&amp;id=1
 4364" style="color: #0000ff;">Click here to register</a>&nbsp;</strong><spa
 n style="font-family: tahoma, arial, helvetica, sans-serif; font-size: 14pt
 ;"></span></span><span style="font-family: tahoma, arial, helvetica, sans-s
 erif; font-size: 14pt;"></span><span style="font-family: tahoma, arial, hel
 vetica, sans-serif; font-size: 14pt;"></span></span><span style="font-famil
 y: tahoma,arial,helvetica,sans-serif; font-size: 14pt;"></span><span style=
 "font-family: tahoma, arial, helvetica, sans-serif; font-size: 14pt;"></spa
 n><span style="font-family: tahoma, arial, helvetica, sans-serif; font-size
 : 14pt;"></span><em></em><span style="color: #0000ff;"></span></span></em><
 /p><p><span style="font-family: 'Arial','sans-serif'; color: black; font-si
 ze: 10pt;"></span></p><p>&nbsp;</p><p><span style="font-family: 'Arial','sa
 ns-serif'; color: black; font-size: 10pt;"></span></p><p>&nbsp;</p><p>&nbsp
 ;</p><p>&nbsp;</p><p>&nbsp;</p><p>&nbsp;</p>
X-ALT-DESC;FMTTYPE=text/html:<p><br />&nbsp;<span style="color: #336699; font-family: tahoma,arial,helve
 tica,sans-serif; font-size: 14pt;"><span style="color: #000000;"><strong><s
 pan style="color: #336699;">Air Sealing Techniques - Online&nbsp;</span></s
 trong></span></span></p><p>&nbsp;</p><p><span style="color: #336699; font-f
 amily: tahoma,arial,helvetica,sans-serif; font-size: 14pt;"><span style="co
 lor: #000000;"><strong><span style="color: #336699;">GoToWebinar Event</spa
 n></strong></span></span></p><p><strong><span style="font-family: 'Tahoma',
 'sans-serif'; color: #336699; font-size: 13.5pt;"></span></strong></p><p>&n
 bsp;</p><p><span style="font-size: 12pt;"><em><span style="text-decoration:
  underline;"><span style="font-family: 'Tahoma','sans-serif'; color: black;
 ">Course Description:</span></span></em></span>&nbsp;</p><p><span style="fo
 nt-family: Tahoma, sans-serif; color: black; font-size: 12pt;"><span style=
 "font-family: Tahoma, sans-serif; color: black; font-size: 12pt;">This onli
 ne course will be covered in one day.&nbsp; Class starts at 9:00am and will
  break at noon for an hour lunch.&nbsp; The next half session will start at
  1:00pm and go until 4:00pm.</span><br /><br /></span><span style="font-fam
 ily: Tahoma, sans-serif; color: black; font-size: 12pt;">This training will
  review procedures meant to optimize a crew's work production so they bette
 r meet their air sealing goals.&nbsp; Using powerpoint and video, the audie
 nce will learn about basic physics that effect air flow, techniques used in
  air sealing, use of blower doors to diagnose problems, prioritizing worksc
 opes, and the use of proper air sealing materials.<br /><br /></span><span 
 style="font-family: Tahoma, sans-serif; color: black; font-size: 12pt;">Thi
 s is an HCR mandated training for Weatherization Directors, Auditors, Crew 
 Supervisors and Crews. If you are a new Director or have new staff, you are
  strongly advised to attend.&nbsp; This training requires attendance every 
 three (3) years.</span>&nbsp;</p><p>&nbsp;</p><p><span style="font-family: 
 'Tahoma', 'sans-serif'; color: black; font-size: 12pt;"></span></p><p><span
  style="font-size: 12pt;"><em><span style="text-decoration: underline;"><sp
 an style="font-family: 'Tahoma','sans-serif'; color: black;">Class Size</sp
 an></span></em><span style="font-family: 'Tahoma','sans-serif'; color: blac
 k;">: 25</span></span>&nbsp;<span style="font-family: 'Tahoma', 'sans-serif
 '; color: black; font-size: 12pt;"></span></p><p>&nbsp;</p><p><span style="
 font-size: 12pt;"><em><span style="text-decoration: underline;"><span style
 ="font-family: 'Tahoma','sans-serif'; color: black;">BPI CEU</span></span><
 /em><span style="text-decoration: underline;"><span style="font-family: 'Ta
 homa','sans-serif'; color: black;">:</span></span><span style="font-family:
  'Tahoma','sans-serif'; color: black;">&nbsp;3</span></span></p><p><span st
 yle="font-family: 'Tahoma', 'sans-serif'; color: black; font-size: 12pt;"><
 /span></p><p>&nbsp;</p><p><span style="font-size: 12pt;"><span style="text-
 decoration: underline;"><span style="font-family: 'Tahoma','sans-serif'; co
 lor: black;"><em>Instructor</em>:</span></span><span style="font-family: 'T
 ahoma','sans-serif'; color: black;">&nbsp; Joe Ilacqua</span><span style="f
 ont-family: 'Tahoma','sans-serif'; color: black;">&nbsp;- NYSWDA</span></sp
 an>&nbsp;</p><p><span style="font-family: 'Tahoma', 'sans-serif'; color: bl
 ack; font-size: 12pt;"></span></p><p>&nbsp;</p><p><span style="font-size: 1
 2pt;"><em><span style="text-decoration: underline;"><span style="font-famil
 y: 'Tahoma','sans-serif'; color: black;">Course Fees:&nbsp;</span></span></
 em></span>&nbsp;</p><p><span style="font-size: 12pt;"><span style="color: b
 lack; font-family: 'Tahoma','sans-serif';">$262/person - NY&nbsp;Weatheriza
 tion Sub-grantees</span></span></p><p><span style="font-size: 12pt;"><span 
 style="color: black; font-family: 'Tahoma','sans-serif';">$262/person - aff
 iliate members</span><span style="color: black; font-family: 'Tahoma','sans
 -serif';"></span></span></p><p><span style="font-size: 12pt;"><span style="
 color: black; font-family: 'Tahoma','sans-serif';">$380/person - non-member
 s</span><span style="color: black; font-family: 'Tahoma','sans-serif';"></s
 pan><span style="color: black; font-family: 'Tahoma','sans-serif';"></span>
 <em><span style="color: black; font-family: 'Tahoma','sans-serif';"><br /><
 /span></em></span></p><p>&nbsp;</p><p><span style="color: #0000ff;"><em><st
 rong><span style="font-family: tahoma, arial, helvetica, sans-serif; font-s
 ize: 14pt;"><span style="color: #0000ff;"></span></span></strong></em></spa
 n><span style="background-color: initial; color: inherit; font-family: inhe
 rit; font-size: 1rem;"> </span><em style="background-color: initial; color:
  inherit; font-family: inherit; font-size: 1rem;"><strong><span style="back
 ground: white; color: #02613f; font-family: 'Georgia','serif';"><span style
 ="font-size: small;">**Special note</span></span></strong></em><span style=
 "background: white; color: black; font-family: 'Georgia','serif';"><span st
 yle="font-size: small;"><i><strong>&nbsp;-&nbsp;if you wish to become an Af
 filiate Member please contact&nbsp;Karen McMahon (315-701-0440 ext. 223,&nb
 sp;</strong></i></span><i><strong><span id="cloak9204d64f40025fddd5ed4cf414
 6b8dff">This email address is being protected from spambots. You need JavaS
 cript enabled to view it.</span><script type='text/javascript'>
				documen
 t.getElementById('cloak9204d64f40025fddd5ed4cf4146b8dff').innerHTML = '';
	
 			var prefix = 'ma' + 'il' + 'to';
				var path = 'hr' + 'ef' + '=';
				v
 ar addy9204d64f40025fddd5ed4cf4146b8dff = 'kmcmahon' + '@';
				addy9204d64
 f40025fddd5ed4cf4146b8dff = addy9204d64f40025fddd5ed4cf4146b8dff + 'nyswda'
  + '.' + 'org';
				var addy_text9204d64f40025fddd5ed4cf4146b8dff = '<span 
 style="color: #0000ff; font-size: small;">kmcmahon' + '@' + 'nyswda' + '.' 
 + 'org</span>';document.getElementById('cloak9204d64f40025fddd5ed4cf4146b8d
 ff').innerHTML += '<a ' + path + '\'' + prefix + ':' + addy9204d64f40025fdd
 d5ed4cf4146b8dff + '\'>'+addy_text9204d64f40025fddd5ed4cf4146b8dff+'<\/a>';
 
		</script><span style="font-size: small;">)&nbsp;</span></strong></i></sp
 an><i style="background-color: initial; color: inherit; font-family: inheri
 t; font-size: 1rem;"></i><span style="font-size: small;"><strong><span styl
 e="background: white; color: #02613f; font-family: 'Georgia','serif';">BEFO
 RE YOU REGISTER&nbsp;</span></strong><em><b><span style="background: white;
  color: black; font-family: 'Georgia','serif';">for the course</span></b></
 em><strong><span style="background: white; color: black; font-family: 'Geor
 gia','serif';">.</span></strong></span><span style="background-color: initi
 al; color: inherit; font-family: inherit; font-size: 1rem;"></span></p><p>&
 nbsp;</p><p>&nbsp;</p><p><em><span style="font-family: Tahoma, sans-serif; 
 color: black;"><span style="font-family: tahoma, arial, helvetica, sans-ser
 if; font-size: 14pt;"><span style="color: #0000ff;"><strong><a href="https:
 //www.nyswda.org/index.php?option=com_civicrm&amp;task=civicrm/event/regist
 er&amp;reset=1&amp;id=14364" style="color: #0000ff;">Click here to register
 </a>&nbsp;</strong><span style="font-family: tahoma, arial, helvetica, sans
 -serif; font-size: 14pt;"></span></span><span style="font-family: tahoma, a
 rial, helvetica, sans-serif; font-size: 14pt;"></span><span style="font-fam
 ily: tahoma, arial, helvetica, sans-serif; font-size: 14pt;"></span></span>
 <span style="font-family: tahoma,arial,helvetica,sans-serif; font-size: 14p
 t;"></span><span style="font-family: tahoma, arial, helvetica, sans-serif; 
 font-size: 14pt;"></span><span style="font-family: tahoma, arial, helvetica
 , sans-serif; font-size: 14pt;"></span><em></em><span style="color: #0000ff
 ;"></span></span></em></p><p><span style="font-family: 'Arial','sans-serif'
 ; color: black; font-size: 10pt;"></span></p><p>&nbsp;</p><p><span style="f
 ont-family: 'Arial','sans-serif'; color: black; font-size: 10pt;"></span></
 p><p>&nbsp;</p><p>&nbsp;</p><p>&nbsp;</p><p>&nbsp;</p><p>&nbsp;</p>
CONTACT:This email address is being protected from spambots. You need JavaScript enabled to view it.
				document.getElementById('cloak203870f3fc58cdaab82217169768f0db').innerHTML = '';
				var prefix = '&#109;a' + 'i&#108;' + '&#116;o';
				var path = 'hr' + 'ef' + '=';
				var addy203870f3fc58cdaab82217169768f0db = 'rv&#105;ss&#101;r' + '&#64;';
				addy203870f3fc58cdaab82217169768f0db = addy203870f3fc58cdaab82217169768f0db + 'nyswd&#97;' + '&#46;' + '&#111;rg';
				var addy_text203870f3fc58cdaab82217169768f0db = 'rv&#105;ss&#101;r' + '&#64;' + 'nyswd&#97;' + '&#46;' + '&#111;rg';document.getElementById('cloak203870f3fc58cdaab82217169768f0db').innerHTML += '<a ' + path + '\'' + prefix + ':' + addy203870f3fc58cdaab82217169768f0db + '\'>'+addy_text203870f3fc58cdaab82217169768f0db+'';
		
DTSTAMP:20260424T044313
DTSTART;TZID=America/New_York:20250212T090000
DTEND;TZID=America/New_York:20250212T160000
SEQUENCE:0
TRANSP:OPAQUE
END:VEVENT
END:VCALENDAR