BEGIN:VCALENDAR
VERSION:2.0
PRODID:-//jEvents 2.0 for Joomla//EN
CALSCALE:GREGORIAN
METHOD:PUBLISH
BEGIN:VTIMEZONE
TZID:America/New_York
BEGIN:STANDARD
DTSTART:20240213T090000
RDATE:20240310T030000
TZOFFSETFROM:-0400
TZOFFSETTO:-0500
TZNAME:America/New_York EST
END:STANDARD
BEGIN:STANDARD
DTSTART:20241103T010000
RDATE:20250309T030000
TZOFFSETFROM:-0400
TZOFFSETTO:-0500
TZNAME:America/New_York EST
END:STANDARD
BEGIN:STANDARD
DTSTART:20251102T010000
RDATE:20260308T030000
TZOFFSETFROM:-0400
TZOFFSETTO:-0500
TZNAME:America/New_York EST
END:STANDARD
BEGIN:STANDARD
DTSTART:20261101T010000
RDATE:20270314T030000
TZOFFSETFROM:-0400
TZOFFSETTO:-0500
TZNAME:America/New_York EST
END:STANDARD
BEGIN:STANDARD
DTSTART:20271107T010000
RDATE:20280312T030000
TZOFFSETFROM:-0400
TZOFFSETTO:-0500
TZNAME:America/New_York EST
END:STANDARD
BEGIN:STANDARD
DTSTART:20281105T010000
RDATE:20290311T030000
TZOFFSETFROM:-0400
TZOFFSETTO:-0500
TZNAME:America/New_York EST
END:STANDARD
BEGIN:STANDARD
DTSTART:20291104T010000
RDATE:20300310T030000
TZOFFSETFROM:-0400
TZOFFSETTO:-0500
TZNAME:America/New_York EST
END:STANDARD
BEGIN:STANDARD
DTSTART:20301103T010000
RDATE:20310309T030000
TZOFFSETFROM:-0400
TZOFFSETTO:-0500
TZNAME:America/New_York EST
END:STANDARD
BEGIN:DAYLIGHT
DTSTART:20240310T030000
RDATE:20241103T010000
TZOFFSETFROM:-0500
TZOFFSETTO:-0400
TZNAME:America/New_York EDT
END:DAYLIGHT
BEGIN:DAYLIGHT
DTSTART:20250309T030000
RDATE:20251102T010000
TZOFFSETFROM:-0500
TZOFFSETTO:-0400
TZNAME:America/New_York EDT
END:DAYLIGHT
BEGIN:DAYLIGHT
DTSTART:20260308T030000
RDATE:20261101T010000
TZOFFSETFROM:-0500
TZOFFSETTO:-0400
TZNAME:America/New_York EDT
END:DAYLIGHT
BEGIN:DAYLIGHT
DTSTART:20270314T030000
RDATE:20271107T010000
TZOFFSETFROM:-0500
TZOFFSETTO:-0400
TZNAME:America/New_York EDT
END:DAYLIGHT
BEGIN:DAYLIGHT
DTSTART:20280312T030000
RDATE:20281105T010000
TZOFFSETFROM:-0500
TZOFFSETTO:-0400
TZNAME:America/New_York EDT
END:DAYLIGHT
BEGIN:DAYLIGHT
DTSTART:20290311T030000
RDATE:20291104T010000
TZOFFSETFROM:-0500
TZOFFSETTO:-0400
TZNAME:America/New_York EDT
END:DAYLIGHT
BEGIN:DAYLIGHT
DTSTART:20300310T030000
RDATE:20301103T010000
TZOFFSETFROM:-0500
TZOFFSETTO:-0400
TZNAME:America/New_York EDT
END:DAYLIGHT
END:VTIMEZONE
BEGIN:VEVENT
UID:2f0fcddcd9f5d004474cdf02397f7945
CATEGORIES:WEB
CREATED:20241213T105141
SUMMARY:One Day Lead Safe Weatherization - Online
LOCATION:Online
DESCRIPTION:<p><br />&nbsp;<span style="color: #336699; font-family: tahoma,arial,helve
 tica,sans-serif; font-size: 14pt;"><span style="color: #000000;"><strong><s
 pan style="color: #336699;">One Day Lead Safe Weatherization - Online&nbsp;
 </span></strong></span></span></p><p>&nbsp;</p><p><span style="color: #3366
 99; font-family: tahoma,arial,helvetica,sans-serif; font-size: 14pt;"><span
  style="color: #000000;"><strong><span style="color: #336699;">GoToWebinar 
 Event</span></strong></span></span></p><p><strong><span style="font-family:
  'Tahoma','sans-serif'; color: #336699; font-size: 13.5pt;"></span></strong
 ></p><p>&nbsp;</p><p><span style="font-size: 12pt;"><em><span style="text-d
 ecoration: underline;"><span style="font-family: 'Tahoma','sans-serif'; col
 or: black;">Course Description:</span></span></em></span>&nbsp;</p><p><span
  style="font-family: Tahoma, sans-serif; color: black; font-size: 12pt;"><s
 pan style="font-family: Tahoma, sans-serif; color: black; font-size: 12pt;"
 >This online course will be covered in one day.&nbsp; Class starts at 9:00a
 m and will break at noon for an hour lunch.&nbsp; The next half session wil
 l start at 1:00pm and go until 4:00pm.</span><br /><br /></span><span style
 ="font-family: tahoma, arial, helvetica, sans-serif; font-size: 12pt;">When
 ever we work on houses that were built before 1978 there is a good chance t
 hat there could be lead based paint on the inside and outside. Disturbing t
 his paint could harm us and the families we work with. This NYSWDA Lead Saf
 e Weatherization Training satisfies the HCR requirement that all Weatheriza
 tion staff working in houses built before 1978 receive training on safe wor
 k practices to reduce exposure to lead dust. NYSWDA uses the DOE curriculum
  which also satisfies the DOE and OSHA requirements for employees working a
 round lead paint. This training is also required for your sub-contractors' 
 employees who work on weatherization units.<br /><br /></span><span style="
 font-family: Tahoma, sans-serif; color: black; font-size: 12pt;">This is an
  HCR mandated training for Weatherization Directors, Auditors, Crew Supervi
 sors and Crews. If you are a new Director or have new staff, you are strong
 ly advised to attend.&nbsp; This training requires attendance every three (
 3) years.</span>&nbsp;</p><p>&nbsp;</p><p><span style="font-family: 'Tahoma
 ', 'sans-serif'; color: black; font-size: 12pt;"></span></p><p><span style=
 "font-size: 12pt;"><em><span style="text-decoration: underline;"><span styl
 e="font-family: 'Tahoma','sans-serif'; color: black;">Class Size</span></sp
 an></em><span style="font-family: 'Tahoma','sans-serif'; color: black;">: 2
 5</span></span>&nbsp;<span style="font-family: 'Tahoma', 'sans-serif'; colo
 r: black; font-size: 12pt;"></span></p><p>&nbsp;</p><p><span style="font-si
 ze: 12pt;"><em><span style="text-decoration: underline;"><span style="font-
 family: 'Tahoma','sans-serif'; color: black;">BPI CEU</span></span></em><sp
 an style="text-decoration: underline;"><span style="font-family: 'Tahoma','
 sans-serif'; color: black;">:</span></span><span style="font-family: 'Tahom
 a','sans-serif'; color: black;">&nbsp;3</span></span></p><p><span style="fo
 nt-family: 'Tahoma', 'sans-serif'; color: black; font-size: 12pt;"></span><
 /p><p>&nbsp;</p><p><span style="font-size: 12pt;"><span style="text-decorat
 ion: underline;"><span style="font-family: 'Tahoma','sans-serif'; color: bl
 ack;"><em>Instructor</em>:</span></span><span style="font-family: 'Tahoma',
 'sans-serif'; color: black;">&nbsp; Joe Ilacqua</span><span style="font-fam
 ily: 'Tahoma','sans-serif'; color: black;">&nbsp;- NYSWDA</span></span>&nbs
 p;</p><p><span style="font-family: 'Tahoma', 'sans-serif'; color: black; fo
 nt-size: 12pt;"></span></p><p>&nbsp;</p><p><span style="font-size: 12pt;"><
 em><span style="text-decoration: underline;"><span style="font-family: 'Tah
 oma','sans-serif'; color: black;">Course Fees:&nbsp;</span></span></em></sp
 an>&nbsp;</p><p><span style="font-size: 12pt;"><span style="color: black; f
 ont-family: 'Tahoma','sans-serif';">$262/person - NY&nbsp;Weatherization Su
 b-grantees</span></span></p><p><span style="font-size: 12pt;"><span style="
 color: black; font-family: 'Tahoma','sans-serif';">$262/person - affiliate 
 members</span><span style="color: black; font-family: 'Tahoma','sans-serif'
 ;"></span></span></p><p><span style="font-size: 12pt;"><span style="color: 
 black; font-family: 'Tahoma','sans-serif';">$380/person - non-members</span
 ><span style="color: black; font-family: 'Tahoma','sans-serif';"></span><sp
 an style="color: black; font-family: 'Tahoma','sans-serif';"></span><em><sp
 an style="color: black; font-family: 'Tahoma','sans-serif';"><br /></span><
 /em></span></p><p>&nbsp;</p><p><span style="color: #0000ff;"><em><strong><s
 pan style="font-family: tahoma, arial, helvetica, sans-serif; font-size: 14
 pt;"><span style="color: #0000ff;"></span></span></strong></em></span><span
  style="background-color: initial; color: inherit; font-family: inherit; fo
 nt-size: 1rem;"> </span><em style="background-color: initial; color: inheri
 t; font-family: inherit; font-size: 1rem;"><strong><span style="background:
  white; color: #02613f; font-family: 'Georgia','serif';"><span style="font-
 size: small;">**Special note</span></span></strong></em><span style="backgr
 ound: white; color: black; font-family: 'Georgia','serif';"><span style="fo
 nt-size: small;"><i><strong>&nbsp;-&nbsp;if you wish to become an Affiliate
  Member please contact&nbsp;Karen McMahon (315-701-0440 ext. 223,&nbsp;</st
 rong></i></span><i><strong><span id="cloakf78c10846cb92ba549dcac86c6887c5c"
 >This email address is being protected from spambots. You need JavaScript e
 nabled to view it.</span><script type='text/javascript'>
				document.getEl
 ementById('cloakf78c10846cb92ba549dcac86c6887c5c').innerHTML = '';
				var 
 prefix = 'ma' + 'il' + 'to';
				var path = 'hr' + 'ef' + '=';
				var addy
 f78c10846cb92ba549dcac86c6887c5c = 'kmcmahon' + '@';
				addyf78c10846cb92b
 a549dcac86c6887c5c = addyf78c10846cb92ba549dcac86c6887c5c + 'nyswda' + '.' 
 + 'org';
				var addy_textf78c10846cb92ba549dcac86c6887c5c = '<span style="
 color: #0000ff; font-size: small;">kmcmahon' + '@' + 'nyswda' + '.' + 'org<
 /span>';document.getElementById('cloakf78c10846cb92ba549dcac86c6887c5c').in
 nerHTML += '<a ' + path + '\'' + prefix + ':' + addyf78c10846cb92ba549dcac8
 6c6887c5c + '\'>'+addy_textf78c10846cb92ba549dcac86c6887c5c+'<\/a>';
		</sc
 ript><span style="font-size: small;">)&nbsp;</span></strong></i></span><i s
 tyle="background-color: initial; color: inherit; font-family: inherit; font
 -size: 1rem;"></i><span style="font-size: small;"><strong><span style="back
 ground: white; color: #02613f; font-family: 'Georgia','serif';">BEFORE YOU 
 REGISTER&nbsp;</span></strong><em><b><span style="background: white; color:
  black; font-family: 'Georgia','serif';">for the course</span></b></em><str
 ong><span style="background: white; color: black; font-family: 'Georgia','s
 erif';">.</span></strong></span><span style="background-color: initial; col
 or: inherit; font-family: inherit; font-size: 1rem;"></span></p><p>&nbsp;</
 p><p>&nbsp;</p><p><span style="font-family: tahoma, arial, helvetica, sans-
 serif; font-size: 14pt;"><span style="color: #0000ff;"><em><strong><span st
 yle="font-family: tahoma, arial, helvetica, sans-serif; font-size: 14pt;"><
 a href="index.php?option=com_civicrm&amp;task=civicrm/event/register&amp;re
 set=1&amp;id=14365" style="color: #0000ff;">Click here to register</a>&nbsp
 ;</span><span style="font-family: tahoma, arial, helvetica, sans-serif; fon
 t-size: 14pt;"></span></strong></em></span><span style="font-family: tahoma
 , arial, helvetica, sans-serif; font-size: 14pt;"></span></span><span style
 ="font-family: tahoma,arial,helvetica,sans-serif; font-size: 14pt;"></span>
 <span style="font-family: tahoma, arial, helvetica, sans-serif; font-size: 
 14pt;"></span><span style="font-family: tahoma, arial, helvetica, sans-seri
 f; font-size: 14pt;"></span><em></em><span style="color: #0000ff;"></span><
 /p><p>&nbsp;</p><p><span style="font-family: 'Arial','sans-serif'; color: b
 lack; font-size: 10pt;"></span></p><p>&nbsp;</p><p><span style="font-family
 : 'Arial','sans-serif'; color: black; font-size: 10pt;"></span></p><p>&nbsp
 ;</p><p>&nbsp;</p><p>&nbsp;</p><p>&nbsp;</p><p>&nbsp;</p>
X-ALT-DESC;FMTTYPE=text/html:<p><br />&nbsp;<span style="color: #336699; font-family: tahoma,arial,helve
 tica,sans-serif; font-size: 14pt;"><span style="color: #000000;"><strong><s
 pan style="color: #336699;">One Day Lead Safe Weatherization - Online&nbsp;
 </span></strong></span></span></p><p>&nbsp;</p><p><span style="color: #3366
 99; font-family: tahoma,arial,helvetica,sans-serif; font-size: 14pt;"><span
  style="color: #000000;"><strong><span style="color: #336699;">GoToWebinar 
 Event</span></strong></span></span></p><p><strong><span style="font-family:
  'Tahoma','sans-serif'; color: #336699; font-size: 13.5pt;"></span></strong
 ></p><p>&nbsp;</p><p><span style="font-size: 12pt;"><em><span style="text-d
 ecoration: underline;"><span style="font-family: 'Tahoma','sans-serif'; col
 or: black;">Course Description:</span></span></em></span>&nbsp;</p><p><span
  style="font-family: Tahoma, sans-serif; color: black; font-size: 12pt;"><s
 pan style="font-family: Tahoma, sans-serif; color: black; font-size: 12pt;"
 >This online course will be covered in one day.&nbsp; Class starts at 9:00a
 m and will break at noon for an hour lunch.&nbsp; The next half session wil
 l start at 1:00pm and go until 4:00pm.</span><br /><br /></span><span style
 ="font-family: tahoma, arial, helvetica, sans-serif; font-size: 12pt;">When
 ever we work on houses that were built before 1978 there is a good chance t
 hat there could be lead based paint on the inside and outside. Disturbing t
 his paint could harm us and the families we work with. This NYSWDA Lead Saf
 e Weatherization Training satisfies the HCR requirement that all Weatheriza
 tion staff working in houses built before 1978 receive training on safe wor
 k practices to reduce exposure to lead dust. NYSWDA uses the DOE curriculum
  which also satisfies the DOE and OSHA requirements for employees working a
 round lead paint. This training is also required for your sub-contractors' 
 employees who work on weatherization units.<br /><br /></span><span style="
 font-family: Tahoma, sans-serif; color: black; font-size: 12pt;">This is an
  HCR mandated training for Weatherization Directors, Auditors, Crew Supervi
 sors and Crews. If you are a new Director or have new staff, you are strong
 ly advised to attend.&nbsp; This training requires attendance every three (
 3) years.</span>&nbsp;</p><p>&nbsp;</p><p><span style="font-family: 'Tahoma
 ', 'sans-serif'; color: black; font-size: 12pt;"></span></p><p><span style=
 "font-size: 12pt;"><em><span style="text-decoration: underline;"><span styl
 e="font-family: 'Tahoma','sans-serif'; color: black;">Class Size</span></sp
 an></em><span style="font-family: 'Tahoma','sans-serif'; color: black;">: 2
 5</span></span>&nbsp;<span style="font-family: 'Tahoma', 'sans-serif'; colo
 r: black; font-size: 12pt;"></span></p><p>&nbsp;</p><p><span style="font-si
 ze: 12pt;"><em><span style="text-decoration: underline;"><span style="font-
 family: 'Tahoma','sans-serif'; color: black;">BPI CEU</span></span></em><sp
 an style="text-decoration: underline;"><span style="font-family: 'Tahoma','
 sans-serif'; color: black;">:</span></span><span style="font-family: 'Tahom
 a','sans-serif'; color: black;">&nbsp;3</span></span></p><p><span style="fo
 nt-family: 'Tahoma', 'sans-serif'; color: black; font-size: 12pt;"></span><
 /p><p>&nbsp;</p><p><span style="font-size: 12pt;"><span style="text-decorat
 ion: underline;"><span style="font-family: 'Tahoma','sans-serif'; color: bl
 ack;"><em>Instructor</em>:</span></span><span style="font-family: 'Tahoma',
 'sans-serif'; color: black;">&nbsp; Joe Ilacqua</span><span style="font-fam
 ily: 'Tahoma','sans-serif'; color: black;">&nbsp;- NYSWDA</span></span>&nbs
 p;</p><p><span style="font-family: 'Tahoma', 'sans-serif'; color: black; fo
 nt-size: 12pt;"></span></p><p>&nbsp;</p><p><span style="font-size: 12pt;"><
 em><span style="text-decoration: underline;"><span style="font-family: 'Tah
 oma','sans-serif'; color: black;">Course Fees:&nbsp;</span></span></em></sp
 an>&nbsp;</p><p><span style="font-size: 12pt;"><span style="color: black; f
 ont-family: 'Tahoma','sans-serif';">$262/person - NY&nbsp;Weatherization Su
 b-grantees</span></span></p><p><span style="font-size: 12pt;"><span style="
 color: black; font-family: 'Tahoma','sans-serif';">$262/person - affiliate 
 members</span><span style="color: black; font-family: 'Tahoma','sans-serif'
 ;"></span></span></p><p><span style="font-size: 12pt;"><span style="color: 
 black; font-family: 'Tahoma','sans-serif';">$380/person - non-members</span
 ><span style="color: black; font-family: 'Tahoma','sans-serif';"></span><sp
 an style="color: black; font-family: 'Tahoma','sans-serif';"></span><em><sp
 an style="color: black; font-family: 'Tahoma','sans-serif';"><br /></span><
 /em></span></p><p>&nbsp;</p><p><span style="color: #0000ff;"><em><strong><s
 pan style="font-family: tahoma, arial, helvetica, sans-serif; font-size: 14
 pt;"><span style="color: #0000ff;"></span></span></strong></em></span><span
  style="background-color: initial; color: inherit; font-family: inherit; fo
 nt-size: 1rem;"> </span><em style="background-color: initial; color: inheri
 t; font-family: inherit; font-size: 1rem;"><strong><span style="background:
  white; color: #02613f; font-family: 'Georgia','serif';"><span style="font-
 size: small;">**Special note</span></span></strong></em><span style="backgr
 ound: white; color: black; font-family: 'Georgia','serif';"><span style="fo
 nt-size: small;"><i><strong>&nbsp;-&nbsp;if you wish to become an Affiliate
  Member please contact&nbsp;Karen McMahon (315-701-0440 ext. 223,&nbsp;</st
 rong></i></span><i><strong><span id="cloakf78c10846cb92ba549dcac86c6887c5c"
 >This email address is being protected from spambots. You need JavaScript e
 nabled to view it.</span><script type='text/javascript'>
				document.getEl
 ementById('cloakf78c10846cb92ba549dcac86c6887c5c').innerHTML = '';
				var 
 prefix = 'ma' + 'il' + 'to';
				var path = 'hr' + 'ef' + '=';
				var addy
 f78c10846cb92ba549dcac86c6887c5c = 'kmcmahon' + '@';
				addyf78c10846cb92b
 a549dcac86c6887c5c = addyf78c10846cb92ba549dcac86c6887c5c + 'nyswda' + '.' 
 + 'org';
				var addy_textf78c10846cb92ba549dcac86c6887c5c = '<span style="
 color: #0000ff; font-size: small;">kmcmahon' + '@' + 'nyswda' + '.' + 'org<
 /span>';document.getElementById('cloakf78c10846cb92ba549dcac86c6887c5c').in
 nerHTML += '<a ' + path + '\'' + prefix + ':' + addyf78c10846cb92ba549dcac8
 6c6887c5c + '\'>'+addy_textf78c10846cb92ba549dcac86c6887c5c+'<\/a>';
		</sc
 ript><span style="font-size: small;">)&nbsp;</span></strong></i></span><i s
 tyle="background-color: initial; color: inherit; font-family: inherit; font
 -size: 1rem;"></i><span style="font-size: small;"><strong><span style="back
 ground: white; color: #02613f; font-family: 'Georgia','serif';">BEFORE YOU 
 REGISTER&nbsp;</span></strong><em><b><span style="background: white; color:
  black; font-family: 'Georgia','serif';">for the course</span></b></em><str
 ong><span style="background: white; color: black; font-family: 'Georgia','s
 erif';">.</span></strong></span><span style="background-color: initial; col
 or: inherit; font-family: inherit; font-size: 1rem;"></span></p><p>&nbsp;</
 p><p>&nbsp;</p><p><span style="font-family: tahoma, arial, helvetica, sans-
 serif; font-size: 14pt;"><span style="color: #0000ff;"><em><strong><span st
 yle="font-family: tahoma, arial, helvetica, sans-serif; font-size: 14pt;"><
 a href="https://www.nyswda.org/index.php?option=com_civicrm&amp;task=civicr
 m/event/register&amp;reset=1&amp;id=14365" style="color: #0000ff;">Click he
 re to register</a>&nbsp;</span><span style="font-family: tahoma, arial, hel
 vetica, sans-serif; font-size: 14pt;"></span></strong></em></span><span sty
 le="font-family: tahoma, arial, helvetica, sans-serif; font-size: 14pt;"></
 span></span><span style="font-family: tahoma,arial,helvetica,sans-serif; fo
 nt-size: 14pt;"></span><span style="font-family: tahoma, arial, helvetica, 
 sans-serif; font-size: 14pt;"></span><span style="font-family: tahoma, aria
 l, helvetica, sans-serif; font-size: 14pt;"></span><em></em><span style="co
 lor: #0000ff;"></span></p><p>&nbsp;</p><p><span style="font-family: 'Arial'
 ,'sans-serif'; color: black; font-size: 10pt;"></span></p><p>&nbsp;</p><p><
 span style="font-family: 'Arial','sans-serif'; color: black; font-size: 10p
 t;"></span></p><p>&nbsp;</p><p>&nbsp;</p><p>&nbsp;</p><p>&nbsp;</p><p>&nbsp
 ;</p>
CONTACT:This email address is being protected from spambots. You need JavaScript enabled to view it.
				document.getElementById('cloak5d061de0993e11458298d40ded37f9f2').innerHTML = '';
				var prefix = '&#109;a' + 'i&#108;' + '&#116;o';
				var path = 'hr' + 'ef' + '=';
				var addy5d061de0993e11458298d40ded37f9f2 = 'rv&#105;ss&#101;r' + '&#64;';
				addy5d061de0993e11458298d40ded37f9f2 = addy5d061de0993e11458298d40ded37f9f2 + 'nyswd&#97;' + '&#46;' + '&#111;rg';
				var addy_text5d061de0993e11458298d40ded37f9f2 = 'rv&#105;ss&#101;r' + '&#64;' + 'nyswd&#97;' + '&#46;' + '&#111;rg';document.getElementById('cloak5d061de0993e11458298d40ded37f9f2').innerHTML += '<a ' + path + '\'' + prefix + ':' + addy5d061de0993e11458298d40ded37f9f2 + '\'>'+addy_text5d061de0993e11458298d40ded37f9f2+'';
		
DTSTAMP:20260424T044313
DTSTART;TZID=America/New_York:20250213T090000
DTEND;TZID=America/New_York:20250213T160000
SEQUENCE:0
TRANSP:OPAQUE
END:VEVENT
END:VCALENDAR