BEGIN:VCALENDAR
VERSION:2.0
PRODID:-//jEvents 2.0 for Joomla//EN
CALSCALE:GREGORIAN
METHOD:PUBLISH
BEGIN:VTIMEZONE
TZID:America/New_York
BEGIN:STANDARD
DTSTART:20241103T010000
RDATE:20250309T030000
TZOFFSETFROM:-0400
TZOFFSETTO:-0500
TZNAME:America/New_York EST
END:STANDARD
BEGIN:STANDARD
DTSTART:20251102T010000
RDATE:20260308T030000
TZOFFSETFROM:-0400
TZOFFSETTO:-0500
TZNAME:America/New_York EST
END:STANDARD
BEGIN:STANDARD
DTSTART:20261101T010000
RDATE:20270314T030000
TZOFFSETFROM:-0400
TZOFFSETTO:-0500
TZNAME:America/New_York EST
END:STANDARD
BEGIN:STANDARD
DTSTART:20271107T010000
RDATE:20280312T030000
TZOFFSETFROM:-0400
TZOFFSETTO:-0500
TZNAME:America/New_York EST
END:STANDARD
BEGIN:STANDARD
DTSTART:20281105T010000
RDATE:20290311T030000
TZOFFSETFROM:-0400
TZOFFSETTO:-0500
TZNAME:America/New_York EST
END:STANDARD
BEGIN:STANDARD
DTSTART:20291104T010000
RDATE:20300310T030000
TZOFFSETFROM:-0400
TZOFFSETTO:-0500
TZNAME:America/New_York EST
END:STANDARD
BEGIN:STANDARD
DTSTART:20301103T010000
RDATE:20310309T030000
TZOFFSETFROM:-0400
TZOFFSETTO:-0500
TZNAME:America/New_York EST
END:STANDARD
BEGIN:DAYLIGHT
DTSTART:20240429T090000
RDATE:20241103T010000
TZOFFSETFROM:-0500
TZOFFSETTO:-0400
TZNAME:America/New_York EDT
END:DAYLIGHT
BEGIN:DAYLIGHT
DTSTART:20250309T030000
RDATE:20251102T010000
TZOFFSETFROM:-0500
TZOFFSETTO:-0400
TZNAME:America/New_York EDT
END:DAYLIGHT
BEGIN:DAYLIGHT
DTSTART:20260308T030000
RDATE:20261101T010000
TZOFFSETFROM:-0500
TZOFFSETTO:-0400
TZNAME:America/New_York EDT
END:DAYLIGHT
BEGIN:DAYLIGHT
DTSTART:20270314T030000
RDATE:20271107T010000
TZOFFSETFROM:-0500
TZOFFSETTO:-0400
TZNAME:America/New_York EDT
END:DAYLIGHT
BEGIN:DAYLIGHT
DTSTART:20280312T030000
RDATE:20281105T010000
TZOFFSETFROM:-0500
TZOFFSETTO:-0400
TZNAME:America/New_York EDT
END:DAYLIGHT
BEGIN:DAYLIGHT
DTSTART:20290311T030000
RDATE:20291104T010000
TZOFFSETFROM:-0500
TZOFFSETTO:-0400
TZNAME:America/New_York EDT
END:DAYLIGHT
BEGIN:DAYLIGHT
DTSTART:20300310T030000
RDATE:20301103T010000
TZOFFSETFROM:-0500
TZOFFSETTO:-0400
TZNAME:America/New_York EDT
END:DAYLIGHT
END:VTIMEZONE
BEGIN:VEVENT
UID:2f7639ca0963242b327d114bb0078969
CATEGORIES:At Syracuse
CREATED:20250211T142437
SUMMARY:EPA RRP Lead Renovator Certification
LOCATION:NYSWDA Training Center - East Syracuse
DESCRIPTION:EPA RRP Lead Renovator (Initial) \n
 \n
Location:  NYSWDA Training Center -
  5869 Fisher Road, East Syracuse, NY  13057\n
 \n
 \n
This training is for:
 \nClass open to all attendees, including construction and weatherization co
 ntractors.\n\n\nCourse Description:\nThe US Environmental Protection Agency
  (EPA) published the Lead; Renovation, Repair and Painting Program that req
 uires each contractor working on pre-1978 residences to have an EPA Certifi
 ed Renovator on-site while jobs are set up and cleaned up. The certified pe
 rson will be responsible for documenting that all work was done in a lead s
 afe manner. \n\nThis is a 1-day course with approximately 6 hours classroom
  and 2 hours hands-on lab work, followed by a multiple choice written test.
  Upon course completion, attendees will receive a Lead Renovator card from 
 the training provider (NYSWDA). This certification requires a five year ren
 ewal.\n\n\nPrerequisites: \nfor WAP only- must have completed the One-Day L
 ead Safe Weatherization training\n\n\nClass Size: 10\n\n\nBPI CEU: 4\n\n\nI
 nstructor: \nAl McMahon, EPA qualified RRP Lead Renovator Instructor\n\n\nC
 ourse Fees: \n$172/person - NY Weatherization Sub-grantees\n$172/person - a
 ffiliate members\n$250/person - non-members \n
 \n
Course fees include DO N
 OT include lunch \n
 \n
**Special note - if you wish to become an Affiliate
  Member, and save off the non-member rate, please contact Karen McMahon (31
 5-701-0440 ext. 223, This email address is being protected from spambots. Y
 ou need JavaScript enabled to view it.
				document.getElementById('cloak35
 20dd6aca378a354771e4b6f2facc8f').innerHTML = '';
				var prefix = 'ma' + 'i
 l' + 'to';
				var path = 'hr' + 'ef' + '=';
				var addy3520dd6aca378a3547
 71e4b6f2facc8f = 'kmcmahon' + '@';
				addy3520dd6aca378a354771e4b6f2facc8f
  = addy3520dd6aca378a354771e4b6f2facc8f + 'nyswda' + '.' + 'org';
				var a
 ddy_text3520dd6aca378a354771e4b6f2facc8f = 'kmcmahon' + '@' + 'nyswda' + '.
 ' + 'org';document.getElementById('cloak3520dd6aca378a354771e4b6f2facc8f').
 innerHTML += '<a ' + path + '\'' + prefix + ':' + addy3520dd6aca378a354771e
 4b6f2facc8f + '\'>'+addy_text3520dd6aca378a354771e4b6f2facc8f+'';
		) BEFOR
 E YOU REGISTER for the course.\n
 \n
CLASS FULL - call or email  This email
  address is being protected from spambots. You need JavaScript enabled to v
 iew it.
				document.getElementById('cloak7a52b7233327294f324f05ae3ca6a6a9'
 ).innerHTML = '';
				var prefix = 'ma' + 'il' + 'to';
				var path = 'hr' 
 + 'ef' + '=';
				var addy7a52b7233327294f324f05ae3ca6a6a9 = 'rvisser' + '@
 ';
				addy7a52b7233327294f324f05ae3ca6a6a9 = addy7a52b7233327294f324f05ae3
 ca6a6a9 + 'nyswda' + '.' + 'org';
				var addy_text7a52b7233327294f324f05ae
 3ca6a6a9 = 'rvisser' + '@' + 'nyswda' + '.' + 'org';document.getElementById
 ('cloak7a52b7233327294f324f05ae3ca6a6a9').innerHTML += '<a ' + path + '\'' 
 + prefix + ':' + addy7a52b7233327294f324f05ae3ca6a6a9 + '\'>'+addy_text7a52
 b7233327294f324f05ae3ca6a6a9+'';
		 for availability or wait list\n
X-ALT-DESC;FMTTYPE=text/html:<p><span style="color: #336699;"><span style="font-family: Tahoma;"><span s
 tyle="font-size: medium;"><span style="color: #000000;"><span style="font-f
 amily: Arial, Helvetica;"><span style="font-size: x-small;"><span style="fo
 nt-family: Tahoma;"><span style="font-size: small;"><span style="font-famil
 y: Tahoma;"><span style="font-family: Tahoma;"><span style="font-family: Ta
 homa;"><span style="font-family: Arial, Helvetica;"><span style="font-size:
  x-small;"><span style="font-family: Tahoma;"><span style="font-size: small
 ;"><span style="font-family: Tahoma;"><span style="font-family: Tahoma;"><s
 pan style="font-family: Arial, Helvetica;"><span style="font-size: x-small;
 "><span style="font-family: Tahoma;"><span style="font-size: small;"><span 
 style="font-family: Arial, Helvetica;"><span style="font-size: x-small;"><s
 pan style="font-family: Tahoma;"><span style="font-size: small;"><span styl
 e="font-family: Arial, Helvetica;"><span style="font-size: x-small;"><span 
 style="font-family: Tahoma;"><span style="font-size: small;"><span style="f
 ont-family: Arial, Helvetica;"><span style="font-size: x-small;"><span styl
 e="color: #000000;"><span style="font-family: Tahoma;"><span style="font-si
 ze: small;"><span style="color: #000000;"><span style="font-family: Tahoma;
 "><span style="font-family: Tahoma;"><span><span style="color: #336699;"><s
 pan style="font-family: Tahoma;"><span style="font-size: medium;"></span></
 span></span><span style="color: #336699; font-family: tahoma,arial,helvetic
 a,sans-serif; font-size: 14pt;"><span><span><span style="color: #000000;"><
 span><span><span><strong><span style="color: #336699;">EPA RRP Lead Renovat
 or (Initial) </span></strong></span></span></span></span></span></span></sp
 an></span></span></span></span></span></span></span></span></span></span></
 span></span></span></span></span></span></span></span></span></span></span>
 </span></span></span></span></span></span></span></span></span></span></spa
 n></span></span></span></span></span></span></p><p>&nbsp;</p><p><span style
 ="color: #336699;"><span style="font-family: Tahoma;"><span style="font-siz
 e: medium;"><span style="color: #000000;"><span style="font-family: Arial, 
 Helvetica;"><span style="font-size: x-small;"><span style="font-family: Tah
 oma;"><span style="font-size: small;"><span style="font-family: Tahoma;"><s
 pan style="font-family: Tahoma;"><span style="font-family: Tahoma;"><span s
 tyle="font-family: Arial, Helvetica;"><span style="font-size: x-small;"><sp
 an style="font-family: Tahoma;"><span style="font-size: small;"><span style
 ="font-family: Tahoma;"><span style="font-family: Tahoma;"><span style="fon
 t-family: Arial, Helvetica;"><span style="font-size: x-small;"><span style=
 "font-family: Tahoma;"><span style="font-size: small;"><span style="font-fa
 mily: Arial, Helvetica;"><span style="font-size: x-small;"><span style="fon
 t-family: Tahoma;"><span style="font-size: small;"><span style="font-family
 : Arial, Helvetica;"><span style="font-size: x-small;"><span style="font-fa
 mily: Tahoma;"><span style="font-size: small;"><span style="font-family: Ar
 ial, Helvetica;"><span style="font-size: x-small;"><span style="color: #000
 000;"><span style="font-family: Tahoma;"><span style="font-size: small;"><s
 pan style="color: #000000;"><span style="font-family: Tahoma;"><span style=
 "font-family: Tahoma;"><span><span style="color: #336699; font-family: taho
 ma,arial,helvetica,sans-serif; font-size: 14pt;"><span><span><span style="c
 olor: #000000;"><span><span><span><strong><span style="color: #336699;">Loc
 ation:&nbsp; NYSWDA Training Center - 5869 Fisher Road, East Syracuse, NY&n
 bsp; 13057</span></strong></span></span></span></span></span></span></span>
 </span></span></span></span></span></span></span></span></span></span></spa
 n></span></span></span></span></span></span></span></span></span></span></s
 pan></span></span></span></span></span></span></span></span></span></span><
 /span></span></span></span></span></span></p><p>&nbsp;</p><p><span style="c
 olor: #336699;"><span style="font-family: Tahoma;"><span style="font-size: 
 medium;"><span style="color: #000000;"><span style="font-family: Arial, Hel
 vetica;"><span style="font-size: x-small;"><span style="font-family: Tahoma
 ;"><span style="font-size: small;"><span style="font-family: Tahoma;"><span
  style="font-family: Tahoma;"><span style="font-family: Tahoma;"><span styl
 e="font-family: Arial, Helvetica;"><span style="font-size: x-small;"><span 
 style="font-family: Tahoma;"><span style="font-size: small;"><span style="f
 ont-family: Tahoma;"><span style="font-family: Tahoma;"><span style="font-f
 amily: Arial, Helvetica;"><span style="font-size: x-small;"><span style="fo
 nt-family: Tahoma;"><span style="font-size: small;"><span style="font-famil
 y: Arial, Helvetica;"><span style="font-size: x-small;"><span style="font-f
 amily: Tahoma;"><span style="font-size: small;"><span style="font-family: A
 rial, Helvetica;"><span style="font-size: x-small;"><span style="font-famil
 y: Tahoma;"><span style="font-size: small;"><span style="font-family: Arial
 , Helvetica;"><span style="font-size: x-small;"><span style="color: #000000
 ;"><span style="font-family: Tahoma;"><span style="font-size: small;"><span
  style="color: #000000;"><span style="font-family: Tahoma;"><span style="fo
 nt-family: Tahoma;"><span><span style="color: #336699;"><span style="font-f
 amily: Tahoma;"><span style="font-size: medium;"><span style="color: #00000
 0;"><span style="font-family: Arial, Helvetica;"><span style="font-size: x-
 small;"><span><span style="font-size: small;"></span></span></span></span><
 /span></span></span></span></span></span></span></span></span></span></span
 ></span></span></span></span></span></span></span></span></span></span></sp
 an></span></span></span></span></span></span></span></span></span></span></
 span></span></span></span></span></span></span></span></span></span>&nbsp;<
 /p><p><span style="color: #336699;"><span style="font-family: Tahoma;"><spa
 n style="font-size: medium;"><span style="color: #000000;"><span style="fon
 t-family: Arial, Helvetica;"><span style="font-size: x-small;"><span style=
 "font-family: Tahoma;"><span style="font-size: small;"><span style="font-fa
 mily: Tahoma;"><span style="font-family: Tahoma;"><span style="font-family:
  Tahoma;"><span style="font-family: Arial, Helvetica;"><span style="font-si
 ze: x-small;"><span style="font-family: Tahoma;"><span style="font-size: sm
 all;"><span style="font-family: Tahoma;"><span style="font-family: Tahoma;"
 ><span style="font-family: Arial, Helvetica;"><span style="font-size: x-sma
 ll;"><span style="font-family: Tahoma;"><span style="font-size: small;"><sp
 an style="font-family: Arial, Helvetica;"><span style="font-size: x-small;"
 ><span style="font-family: Tahoma;"><span style="font-size: small;"><span s
 tyle="font-family: Arial, Helvetica;"><span style="font-size: x-small;"><sp
 an style="font-family: Tahoma;"><span style="font-size: small;"><span style
 ="font-family: Arial, Helvetica;"><span style="font-size: x-small;"><span s
 tyle="color: #000000;"><span style="font-family: Tahoma;"><span style="font
 -size: small;"><span style="color: #000000;"><span style="font-family: Taho
 ma;"><span style="font-family: Tahoma;"><span><span style="color: #336699;"
 ><span style="font-family: Tahoma;"><span style="font-size: medium;"><span 
 style="color: #000000;"><span style="font-family: Arial, Helvetica;"><span 
 style="font-size: x-small;"><span><span style="font-size: small;"><span sty
 le="font-size: 12pt;"><span style="text-decoration: underline;"><span style
 ="font-family: Tahoma;"><em>This training is for:</em></span></span><span s
 tyle="font-family: Tahoma;"><span style="font-family: Tahoma;"><br /></span
 ></span></span></span><span style="font-size: small;"><span style="font-fam
 ily: Tahoma;"><span style="font-family: Tahoma;"><span style="font-family: 
 Tahoma;"><span style="font-size: 12pt;">Class open to all attendees, includ
 ing construction and weatherization contractors.</span><span style="font-fa
 mily: Arial, Helvetica;"><span style="font-size: x-small;"><br /><span styl
 e="font-family: Tahoma;"><span style="font-size: small;"><br /><span style=
 "font-size: 12pt;"><br /><em><span style="text-decoration: underline;">Cour
 se Description</span>:<br /></em></span><span style="font-family: Tahoma;">
 <span style="font-family: Tahoma;"><span style="font-size: 12pt;">The US En
 vironmental Protection Agency (EPA) published the Lead; Renovation, Repair 
 and Painting Program that requires each contractor working on pre-1978 resi
 dences to have an EPA Certified Renovator on-site while jobs are set up and
  cleaned up. The certified person will be responsible for documenting that 
 all work was done in a lead safe manner. <br /><br />This is a <span style=
 "text-decoration: underline;">1-day</span> course with approximately 6 hour
 s classroom and 2 hours hands-on lab work, followed by a multiple choice wr
 itten test. Upon course completion, attendees will receive a Lead Renovator
  card from the training provider (NYSWDA). This certification requires a fi
 ve year renewal.</span><span style="font-family: Arial, Helvetica;"><span s
 tyle="font-size: x-small;"><br /><span style="font-family: Tahoma;"><span s
 tyle="font-size: small;"><br /><span style="font-family: Arial, Helvetica;"
 ><span style="font-size: x-small;"><br /><span style="font-family: Tahoma;"
 ><span style="font-size: small;"><span style="font-family: Arial, Helvetica
 ;"><span style="font-size: x-small;"><span style="font-family: Tahoma;"><sp
 an style="font-size: small;"><span style="font-family: Arial, Helvetica;"><
 span style="font-size: x-small;"><span style="color: #000000;"><span style=
 "font-size: 12pt;"><span style="font-family: Tahoma;"><span><span style="co
 lor: #000000;"><em><span style="text-decoration: underline;">Prerequisites<
 /span>:</em></span></span></span><span><span style="color: #000000;"><em> <
 /em></span></span></span><span style="font-family: Tahoma;"><span style="fo
 nt-size: small;"><span style="color: #000000;"><br /><span style="font-size
 : 12pt;">for WAP only- must have completed the One-Day Lead Safe Weatheriza
 tion training</span><span style="font-family: Tahoma;"><br /><br /><br /><s
 pan style="font-size: 12pt;"><em><span style="text-decoration: underline;">
 Class Size</span>: 10</em><br /><em><br /><br /><span style="text-decoratio
 n: underline;">BPI CEU:</span> </em>4<em><br /><br /><br /><span style="tex
 t-decoration: underline;"><span style="font-family: Tahoma;">Instructor:</s
 pan> </span></em></span><span style="font-family: Tahoma;"><br /><span styl
 e="font-size: 12pt;">Al McMahon, EPA qualified RRP Lead Renovator Instructo
 r<br /><em><br /><br /><span style="text-decoration: underline;">Course Fee
 s:</span> <br /></em></span><span><span style="font-size: 12pt;">$172/perso
 n - NY Weatherization Sub-grantees<br /></span></span></span></span></span>
 </span></span></span></span></span></span></span></span></span></span></spa
 n></span></span></span></span></span></span></span></span></span></span></s
 pan></span></span></span></span></span></span></span></span></span></span><
 /span></span></span></span></span></span></span></span></span></span></span
 ></span></span></span></span></span></span></span></span></span></span></sp
 an></span></span></span></span></span></span></span></span></span></span></
 span></span></span></span></span></span></span></span><span style="color: #
 336699;"><span style="font-family: Tahoma;"><span style="font-size: medium;
 "><span style="color: #000000;"><span style="font-family: Arial, Helvetica;
 "><span style="font-size: x-small;"><span style="font-family: Tahoma;"><spa
 n style="font-size: small;"><span><span><span><span style="font-family: Ari
 al, Helvetica;"><span style="font-size: x-small;"><span style="font-family:
  Tahoma;"><span style="font-size: small;"><span><span><span style="font-fam
 ily: Arial, Helvetica;"><span style="font-size: x-small;"><span style="font
 -family: Tahoma;"><span style="font-size: small;"><span style="font-family:
  Arial, Helvetica;"><span style="font-size: x-small;"><span style="font-fam
 ily: Tahoma;"><span style="font-size: small;"><span style="font-family: Ari
 al, Helvetica;"><span style="font-size: x-small;"><span style="font-family:
  Tahoma;"><span style="font-size: small;"><span style="font-family: Arial, 
 Helvetica;"><span style="font-size: x-small;"><span><span style="font-famil
 y: Tahoma;"><span style="font-size: small;"><span><span><span><span style="
 color: #336699;"><span><span style="font-size: medium;"><span style="color:
  #000000;"><span style="font-family: Arial, Helvetica;"><span style="font-s
 ize: x-small;"><span style="font-size: small;"><span style="font-family: Ta
 homa;"><span><span><span style="font-family: Arial, Helvetica;"><span style
 ="font-size: x-small;"><span style="font-family: Tahoma;"><span style="font
 -size: small;"><span><span><span style="font-family: Arial, Helvetica;"><sp
 an style="font-size: x-small;"><span style="font-family: Tahoma;"><span sty
 le="font-size: small;"><span style="font-family: Arial, Helvetica;"><span s
 tyle="font-size: x-small;"><span style="font-family: Tahoma;"><span style="
 font-size: small;"><span style="font-family: Arial, Helvetica;"><span style
 ="font-size: x-small;"><span style="font-family: Tahoma;"><span style="font
 -size: small;"><span style="font-family: Arial, Helvetica;"><span style="fo
 nt-size: x-small;"><span><span style="font-family: Tahoma;"><span style="fo
 nt-size: small;"><span><span><span><span style="font-size: 12pt;">$172/pers
 on - affiliate members<br /></span></span></span></span></span></span></spa
 n></span></span></span></span></span></span></span></span></span></span></s
 pan></span></span></span></span></span></span></span></span></span></span><
 /span></span></span></span></span></span></span></span></span></span></span
 ></span></span></span></span></span></span></span></span></span></span></sp
 an></span></span></span></span></span></span></span></span></span></span></
 span></span></span></span></span></span></span></span></span></span></span>
 </span></span></span><span style="color: #336699;"><span style="font-family
 : Tahoma;"><span style="font-size: medium;"><span style="color: #000000;"><
 span style="font-family: Arial, Helvetica;"><span style="font-size: x-small
 ;"><span style="font-family: Tahoma;"><span style="font-size: small;"><span
 ><span><span><span style="font-family: Arial, Helvetica;"><span style="font
 -size: x-small;"><span style="font-family: Tahoma;"><span style="font-size:
  small;"><span><span><span style="font-family: Arial, Helvetica;"><span sty
 le="font-size: x-small;"><span style="font-family: Tahoma;"><span style="fo
 nt-size: small;"><span style="font-family: Arial, Helvetica;"><span style="
 font-size: x-small;"><span style="font-family: Tahoma;"><span style="font-s
 ize: small;"><span style="font-family: Arial, Helvetica;"><span style="font
 -size: x-small;"><span style="font-family: Tahoma;"><span style="font-size:
  small;"><span style="font-family: Arial, Helvetica;"><span style="font-siz
 e: x-small;"><span><span style="font-family: Tahoma;"><span style="font-siz
 e: small;"><span><span><span><span style="color: #336699;"><span><span styl
 e="font-size: medium;"><span style="color: #000000;"><span style="font-fami
 ly: Arial, Helvetica;"><span style="font-size: x-small;"><span style="font-
 size: small;"><span style="font-family: Tahoma;"><span><span><span style="f
 ont-family: Arial, Helvetica;"><span style="font-size: x-small;"><span styl
 e="font-family: Tahoma;"><span style="font-size: small;"><span><span><span 
 style="font-family: Arial, Helvetica;"><span style="font-size: x-small;"><s
 pan style="font-family: Tahoma;"><span style="font-size: small;"><span styl
 e="font-family: Arial, Helvetica;"><span style="font-size: x-small;"><span 
 style="font-family: Tahoma;"><span style="font-size: small;"><span style="f
 ont-family: Arial, Helvetica;"><span style="font-size: x-small;"><span styl
 e="font-family: Tahoma;"><span style="font-size: small;"><span style="font-
 family: Arial, Helvetica;"><span style="font-size: x-small;"><span><span st
 yle="font-family: Tahoma;"><span style="font-size: small;"><span><span><spa
 n><span style="font-size: 12pt;">$250/person - non-members&nbsp;</span></sp
 an></span></span></span></span></span></span></span></span></span></span></
 span></span></span></span></span></span></span></span></span></span></span>
 </span></span></span></span></span></span></span></span></span></span></spa
 n></span></span></span></span></span></span></span></span></span></span></s
 pan></span></span></span></span></span></span></span></span></span></span><
 /span></span></span></span></span></span></span></span></span></span></span
 ></span></span></span></span></span></span></span></span></p><p>&nbsp;</p><
 p><span style="color: #000000;"><strong><span style="font-family: tahoma, a
 rial, helvetica, sans-serif; font-size: 14pt;"><em><em><span style="font-fa
 mily: tahoma, arial, helvetica, sans-serif; font-size: 14pt;"><span style="
 font-family: tahoma, arial, helvetica, sans-serif; font-size: 12pt;"><stron
 g><em>Course fees include DO NOT include lunch</em></strong></span>&nbsp;</
 span></em></em></span></strong></span></p><p>&nbsp;</p><p><em><strong><span
  style="background: white; color: #02613f; font-family: 'Georgia','serif';"
 ><span style="font-size: small;">**Special note</span></span></strong></em>
 <span style="background: white; color: black; font-family: 'Georgia','serif
 ';"><span style="font-size: small;"><i><strong>&nbsp;-&nbsp;if you wish to 
 become an Affiliate Member, and&nbsp;save off the non-member rate, please c
 ontact&nbsp;Karen McMahon (315-701-0440 ext. 223,&nbsp;</strong></i></span>
 <i><strong><span id="cloak3520dd6aca378a354771e4b6f2facc8f">This email addr
 ess is being protected from spambots. You need JavaScript enabled to view i
 t.</span><script type='text/javascript'>
				document.getElementById('cloak
 3520dd6aca378a354771e4b6f2facc8f').innerHTML = '';
				var prefix = 'ma' + 
 'il' + 'to';
				var path = 'hr' + 'ef' + '=';
				var addy3520dd6aca378a35
 4771e4b6f2facc8f = 'kmcmahon' + '@';
				addy3520dd6aca378a354771e4b6f2facc
 8f = addy3520dd6aca378a354771e4b6f2facc8f + 'nyswda' + '.' + 'org';
				var
  addy_text3520dd6aca378a354771e4b6f2facc8f = '<span style="color: #0000ff; 
 font-size: small;">kmcmahon' + '@' + 'nyswda' + '.' + 'org</span>';document
 .getElementById('cloak3520dd6aca378a354771e4b6f2facc8f').innerHTML += '<a '
  + path + '\'' + prefix + ':' + addy3520dd6aca378a354771e4b6f2facc8f + '\'>
 '+addy_text3520dd6aca378a354771e4b6f2facc8f+'<\/a>';
		</script><span style
 ="font-size: small;">)&nbsp;</span></strong></i></span><i></i><span style="
 font-size: small;"><strong><span style="background: white; color: #02613f; 
 font-family: 'Georgia','serif';">BEFORE YOU REGISTER&nbsp;</span></strong><
 em><b><span style="background: white; color: black; font-family: 'Georgia',
 'serif';">for the course</span></b></em><strong><span style="background: wh
 ite; color: black; font-family: 'Georgia','serif';">.</span></strong></span
 ></p><p>&nbsp;</p><p><span style="text-decoration: underline; color: #0000f
 f;"><em><strong><strong><strong><em><strong><span style="font-family: tahom
 a, arial, helvetica, sans-serif; font-size: 14pt;"><strong><em><strong><spa
 n style="color: #ffffff; font-family: tahoma,arial,helvetica,sans-serif; fo
 nt-size: 14pt;"><span style="color: #ff0000;">CLASS FULL - call or email</s
 pan>&nbsp; <span id="cloak7a52b7233327294f324f05ae3ca6a6a9">This email addr
 ess is being protected from spambots. You need JavaScript enabled to view i
 t.</span><script type='text/javascript'>
				document.getElementById('cloak
 7a52b7233327294f324f05ae3ca6a6a9').innerHTML = '';
				var prefix = 'ma' + 
 'il' + 'to';
				var path = 'hr' + 'ef' + '=';
				var addy7a52b7233327294f
 324f05ae3ca6a6a9 = 'rvisser' + '@';
				addy7a52b7233327294f324f05ae3ca6a6a
 9 = addy7a52b7233327294f324f05ae3ca6a6a9 + 'nyswda' + '.' + 'org';
				var 
 addy_text7a52b7233327294f324f05ae3ca6a6a9 = '<span style="color: #0066cc;">
 rvisser' + '@' + 'nyswda' + '.' + 'org</span>';document.getElementById('clo
 ak7a52b7233327294f324f05ae3ca6a6a9').innerHTML += '<a ' + path + '\'' + pre
 fix + ':' + addy7a52b7233327294f324f05ae3ca6a6a9 + '\'>'+addy_text7a52b7233
 327294f324f05ae3ca6a6a9+'<\/a>';
		</script> <span style="color: #ff0000;">
 for availability or wait list</span></span></strong></em><span style="color
 : #ffffff;"></span></strong><span style="font-family: tahoma,arial,helvetic
 a,sans-serif; font-size: 14pt;"></span></span><span style="font-family: tah
 oma, arial, helvetica, sans-serif; font-size: 14pt;"></span><em></em><span 
 style="color: #0000ff;"></span></strong></em></strong></strong></strong></e
 m></span></p>
CONTACT:Robyn Visser
DTSTAMP:20260424T030119
DTSTART;TZID=America/New_York:20250430T090000
DTEND;TZID=America/New_York:20250430T170000
SEQUENCE:0
TRANSP:OPAQUE
END:VEVENT
END:VCALENDAR