BEGIN:VCALENDAR
VERSION:2.0
PRODID:-//jEvents 2.0 for Joomla//EN
CALSCALE:GREGORIAN
METHOD:PUBLISH
BEGIN:VTIMEZONE
TZID:America/New_York
BEGIN:STANDARD
DTSTART:20241103T010000
RDATE:20250309T030000
TZOFFSETFROM:-0400
TZOFFSETTO:-0500
TZNAME:America/New_York EST
END:STANDARD
BEGIN:STANDARD
DTSTART:20251102T010000
RDATE:20260308T030000
TZOFFSETFROM:-0400
TZOFFSETTO:-0500
TZNAME:America/New_York EST
END:STANDARD
BEGIN:STANDARD
DTSTART:20261101T010000
RDATE:20270314T030000
TZOFFSETFROM:-0400
TZOFFSETTO:-0500
TZNAME:America/New_York EST
END:STANDARD
BEGIN:STANDARD
DTSTART:20271107T010000
RDATE:20280312T030000
TZOFFSETFROM:-0400
TZOFFSETTO:-0500
TZNAME:America/New_York EST
END:STANDARD
BEGIN:STANDARD
DTSTART:20281105T010000
RDATE:20290311T030000
TZOFFSETFROM:-0400
TZOFFSETTO:-0500
TZNAME:America/New_York EST
END:STANDARD
BEGIN:STANDARD
DTSTART:20291104T010000
RDATE:20300310T030000
TZOFFSETFROM:-0400
TZOFFSETTO:-0500
TZNAME:America/New_York EST
END:STANDARD
BEGIN:STANDARD
DTSTART:20301103T010000
RDATE:20310309T030000
TZOFFSETFROM:-0400
TZOFFSETTO:-0500
TZNAME:America/New_York EST
END:STANDARD
BEGIN:DAYLIGHT
DTSTART:20240505T090000
RDATE:20241103T010000
TZOFFSETFROM:-0500
TZOFFSETTO:-0400
TZNAME:America/New_York EDT
END:DAYLIGHT
BEGIN:DAYLIGHT
DTSTART:20250309T030000
RDATE:20251102T010000
TZOFFSETFROM:-0500
TZOFFSETTO:-0400
TZNAME:America/New_York EDT
END:DAYLIGHT
BEGIN:DAYLIGHT
DTSTART:20260308T030000
RDATE:20261101T010000
TZOFFSETFROM:-0500
TZOFFSETTO:-0400
TZNAME:America/New_York EDT
END:DAYLIGHT
BEGIN:DAYLIGHT
DTSTART:20270314T030000
RDATE:20271107T010000
TZOFFSETFROM:-0500
TZOFFSETTO:-0400
TZNAME:America/New_York EDT
END:DAYLIGHT
BEGIN:DAYLIGHT
DTSTART:20280312T030000
RDATE:20281105T010000
TZOFFSETFROM:-0500
TZOFFSETTO:-0400
TZNAME:America/New_York EDT
END:DAYLIGHT
BEGIN:DAYLIGHT
DTSTART:20290311T030000
RDATE:20291104T010000
TZOFFSETFROM:-0500
TZOFFSETTO:-0400
TZNAME:America/New_York EDT
END:DAYLIGHT
BEGIN:DAYLIGHT
DTSTART:20300310T030000
RDATE:20301103T010000
TZOFFSETFROM:-0500
TZOFFSETTO:-0400
TZNAME:America/New_York EDT
END:DAYLIGHT
END:VTIMEZONE
BEGIN:VEVENT
UID:8e6c0170e0a6ec1cc076cd9687749f65
CATEGORIES:At Syracuse
CREATED:20250312T153431
SUMMARY:Weatherization Assistant Software Training
LOCATION:NYSWDA Training Center - East Syracuse
DESCRIPTION:Weatherization Assistant Software Training / ALL REGIONS\n
 \n
Training loc
 ation:  NYSWDA's Training Center - 5869 Fisher Road, East Syracuse, NY 1305
 7\n
 \n
Course Description;\nBeginning July 1, 2025, the New York State Wea
 therization Assistant Program will be transitioning from the current TIPS a
 uditing software to the Department of Energy's Weatherization Assistant, wh
 ich encompasses small buildings, mobile homes, and multifamily housing,  Th
 is training will provide the step-by-step process for modeling client housi
 ng using data collected during the audit process and provide insight into r
 eports generated by the software.  Client usage, modeled load, comparative 
 analysis of heating degree days to actual useage, and savings-to-investment
  ratios will all be part of the process of creating a workscope custom-gene
 rated to each home.\n
  \n
Dates;\nMay 6-8, 2025 / 9:00am - 5:00pm \n
\n
 \
 n
\n
Prerequisites; \nNone\n
 \n
Class Size; \n10-12\n
 \n
BPI CEU; \n8\n
 
 \n
\n
\n
Instructors;\nJoe Maggiore -NYSWDA\n\n
 \n
 \n
Course Fees;\n$500/
 person - NY Weatherization Sub-grantees\n
 \nCourse fees do not include lun
 ch\n
 \n
CLASS FULL - call or email  This email address is being protected 
 from spambots. You need JavaScript enabled to view it.
				document.getElem
 entById('cloak4c83bcdf405033cd7891985d90475687').innerHTML = '';
				var pr
 efix = 'ma' + 'il' + 'to';
				var path = 'hr' + 'ef' + '=';
				var addy4c
 83bcdf405033cd7891985d90475687 = 'rvisser' + '@';
				addy4c83bcdf405033cd7
 891985d90475687 = addy4c83bcdf405033cd7891985d90475687 + 'nyswda' + '.' + '
 org';
				var addy_text4c83bcdf405033cd7891985d90475687 = 'rvisser' + '@' +
  'nyswda' + '.' + 'org';document.getElementById('cloak4c83bcdf405033cd78919
 85d90475687').innerHTML += '<a ' + path + '\'' + prefix + ':' + addy4c83bcd
 f405033cd7891985d90475687 + '\'>'+addy_text4c83bcdf405033cd7891985d90475687
 +'';
		 for availability or wait list\n
 \n
\n
 \n
X-ALT-DESC;FMTTYPE=text/html:<p><span><span style="font-size: medium;"><span style="color: #000000;"><sp
 an><span style="font-size: 12pt;"><strong><span style="color: #336699;"><sp
 an style="font-family: tahoma,arial,helvetica,sans-serif; font-size: 14pt;"
 >Weatherization Assistant Software Training&nbsp;<span style="color: #33669
 9;">/ <span style="color: #ff0000;">ALL REGIONS</span></span><span style="c
 olor: #000000;"></span><span></span><span></span><span style="color: #33669
 9; font-family: tahoma, arial, helvetica, sans-serif; font-size: 14pt;"></s
 pan><span></span><span style="font-family: Tahoma;"></span><span style="fon
 t-family: Tahoma;"></span><span style="color: #000000;"></span><span style=
 "font-size: small;"></span><span style="font-family: Tahoma;"></span><span 
 style="color: #000000;"></span><span style="font-size: x-small;"></span><sp
 an style="font-family: Arial, Helvetica;"></span><span style="font-size: sm
 all;"></span><span style="font-family: Tahoma;"></span><span style="font-si
 ze: x-small;"></span><span style="font-family: Arial, Helvetica;"></span><s
 pan style="font-size: small;"></span><span style="font-family: Tahoma;"></s
 pan><span style="font-size: x-small;"></span><span style="font-family: Aria
 l, Helvetica;"></span><span style="font-size: small;"></span><span style="f
 ont-family: Tahoma;"></span><span style="font-size: x-small;"></span><span 
 style="font-family: Arial, Helvetica;"></span><span style="font-family: Tah
 oma;"></span><span style="font-family: Tahoma;"></span><span style="font-si
 ze: small;"></span><span style="font-family: Tahoma;"></span><span style="f
 ont-size: x-small;"></span><span style="font-family: Arial, Helvetica;"></s
 pan><span style="font-family: Tahoma;"></span><span style="font-family: Tah
 oma;"></span><span style="font-family: Tahoma;"></span><span style="font-si
 ze: small;"></span><span style="font-family: Tahoma;"></span><span style="f
 ont-size: x-small;"></span><span style="font-family: Arial, Helvetica;"></s
 pan><span style="color: #000000;"></span><span style="font-size: medium;"><
 /span><span style="font-family: Tahoma;"></span><span style="color: #336699
 ;"></span></span></span></strong></span></span></span></span></span></p><p>
 &nbsp;</p><p><span><span style="font-size: medium;"><span style="color: #00
 0000;"><span><span style="font-size: 12pt;"><strong><span style="color: #33
 6699;"><span style="font-family: tahoma,arial,helvetica,sans-serif; font-si
 ze: 14pt;">Training location:&nbsp;&nbsp;NYSWDA's Training Center -&nbsp;58
 69 Fisher Road, East Syracuse, NY 13057</span></span></strong></span></span
 ></span></span></span></p><p><span style="color: #000000;"><span style="fon
 t-size: medium;"><span style="font-size: 12pt;"><strong>&nbsp;</strong></sp
 an></span></span></p><p><span style="color: #000000; font-size: 12pt;"><em>
 <span style="font-family: tahoma,arial,helvetica,sans-serif; text-decoratio
 n: underline;">Course Description;</span></em></span><br /><span style="col
 or: #000000; font-family: tahoma,arial,helvetica,sans-serif; font-size: 12p
 t;">Beginning July 1, 2025, the New York State Weatherization Assistant Pro
 gram will be transitioning from the current TIPS auditing software to the D
 epartment of Energy's Weatherization Assistant, which encompasses small bui
 ldings, mobile homes, and multifamily housing,&nbsp; This training will pro
 vide the step-by-step process for modeling client housing using data collec
 ted during the audit process and provide insight into reports generated by 
 the software.&nbsp; Client usage, modeled load, comparative analysis of hea
 ting degree days to actual useage, and savings-to-investment ratios will al
 l be part of the process of creating a workscope custom-generated to each h
 ome.</span><span style="color: #000000;"></span></p><p>&nbsp;&nbsp;</p><p><
 span style="color: #000000;"><em><span style="font-family: tahoma,arial,hel
 vetica,sans-serif; font-size: 12pt;"><span style="text-decoration: underlin
 e;">Dates;</span></span></em></span><br /><span style="color: #000000; font
 -family: tahoma,arial,helvetica,sans-serif; font-size: 12pt;">May 6-8, 2025
  / 9:00am - 5:00pm </span></p><p><span style="color: #000000;"></span></p><
 p>&nbsp;</p><p><span style="color: #000000; font-family: tahoma, arial, hel
 vetica, sans-serif; font-size: 12pt;"></span></p><p><span style="color: #00
 0000;"><em><span style="font-family: tahoma,arial,helvetica,sans-serif; fon
 t-size: 12pt;"><span style="text-decoration: underline;">Prerequisites;</sp
 an> </span></em></span><br /><span style="color: #000000; font-family: taho
 ma,arial,helvetica,sans-serif; font-size: 12pt;">None</span></p><p>&nbsp;</
 p><p><span style="color: #000000;"><span style="font-family: tahoma,arial,h
 elvetica,sans-serif; font-size: 12pt;"><em><span style="text-decoration: un
 derline;">Class Size;</span></em>&nbsp;<br />10-12</span></span></p><p>&nbs
 p;</p><p><span style="color: #000000; font-family: tahoma,arial,helvetica,s
 ans-serif; font-size: 12pt;"><em><span style="text-decoration: underline;">
 BPI CEU;</span></em>&nbsp;<br />8</span></p><p>&nbsp;</p><p><span style="co
 lor: #000000;"></span></p><p><span style="color: #000000;"><span style="col
 or: #000000; font-family: tahoma, arial, helvetica, sans-serif; font-size: 
 12pt;"></span></span></p><p><span style="color: #000000;"><em><span style="
 font-family: tahoma, arial, helvetica, sans-serif; font-size: 12pt;"><span 
 style="text-decoration: underline;">Instructors;</span></span></em></span><
 br /><span style="color: #000000;"><span style="font-family: tahoma, arial,
  helvetica, sans-serif; font-size: 12pt;"><span style="color: #000000;">Joe
  Maggiore -</span>NYSWDA</span><br /></span></p><p>&nbsp;<span style="color
 : #ffffff; font-family: tahoma, arial, helvetica, sans-serif; font-size: 12
 pt;"></span></p><p>&nbsp;</p><p><span style="color: #000000; font-family: t
 ahoma,arial,helvetica,sans-serif; font-size: 12pt;"><em><span style="text-d
 ecoration: underline;">Course</span></em><span style="text-decoration: unde
 rline;"> Fees;<br /></span></span><span style="color: #000000; font-family:
  tahoma,arial,helvetica,sans-serif; font-size: 12pt;">$500/person - NY Weat
 herization Sub-grantees</span></p><p><span style="color: black; font-family
 : 'Tahoma','sans-serif';">&nbsp;<br /></span><em><strong><span style="font-
 family: tahoma, arial, helvetica, sans-serif; font-size: 12pt;"><span style
 ="color: #000000;">Course fees do not&nbsp;include lunch</span></span></str
 ong></em></p><p><span style="color: #ffffff; font-family: tahoma, arial, he
 lvetica, sans-serif; font-size: 12pt;"><em>&nbsp;</em></span></p><p><span s
 tyle="color: #0000ff;"><em><strong><span style="font-family: tahoma, arial,
  helvetica, sans-serif; font-size: 14pt;"><span style="font-family: tahoma,
  arial, helvetica, sans-serif; font-size: 14pt;"><strong><em><strong><span 
 style="color: #ffffff; font-family: tahoma,arial,helvetica,sans-serif; font
 -size: 14pt;"><span style="color: #ff0000;">CLASS FULL - call or email</spa
 n>&nbsp; <span id="cloak4c83bcdf405033cd7891985d90475687">This email addres
 s is being protected from spambots. You need JavaScript enabled to view it.
 </span><script type='text/javascript'>
				document.getElementById('cloak4c
 83bcdf405033cd7891985d90475687').innerHTML = '';
				var prefix = 'ma' + 'i
 l' + 'to';
				var path = 'hr' + 'ef' + '=';
				var addy4c83bcdf405033cd78
 91985d90475687 = 'rvisser' + '@';
				addy4c83bcdf405033cd7891985d90475687 
 = addy4c83bcdf405033cd7891985d90475687 + 'nyswda' + '.' + 'org';
				var ad
 dy_text4c83bcdf405033cd7891985d90475687 = '<span style="color: #0066cc;">rv
 isser' + '@' + 'nyswda' + '.' + 'org</span>';document.getElementById('cloak
 4c83bcdf405033cd7891985d90475687').innerHTML += '<a ' + path + '\'' + prefi
 x + ':' + addy4c83bcdf405033cd7891985d90475687 + '\'>'+addy_text4c83bcdf405
 033cd7891985d90475687+'<\/a>';
		</script> <span style="color: #ff0000;">fo
 r availability or wait list</span></span></strong></em><span style="color: 
 #ffffff;"></span></strong><span style="font-family: tahoma,arial,helvetica,
 sans-serif; font-size: 14pt;"></span></span></span></strong></em></span></p
 ><p>&nbsp;</p><p style="margin: 0in 0in 0pt;"><span style="font-family: 'Ar
 ial','sans-serif'; font-size: 10pt;"></span></p><p>&nbsp;</p>
CONTACT:This email address is being protected from spambots. You need JavaScript enabled to view it.
				document.getElementById('cloak15c0e9f07a60100366858ec13946c865').innerHTML = '';
				var prefix = '&#109;a' + 'i&#108;' + '&#116;o';
				var path = 'hr' + 'ef' + '=';
				var addy15c0e9f07a60100366858ec13946c865 = 'rv&#105;ss&#101;r' + '&#64;';
				addy15c0e9f07a60100366858ec13946c865 = addy15c0e9f07a60100366858ec13946c865 + 'nyswd&#97;' + '&#46;' + '&#111;rg';
				var addy_text15c0e9f07a60100366858ec13946c865 = 'rv&#105;ss&#101;r' + '&#64;' + 'nyswd&#97;' + '&#46;' + '&#111;rg';document.getElementById('cloak15c0e9f07a60100366858ec13946c865').innerHTML += '<a ' + path + '\'' + prefix + ':' + addy15c0e9f07a60100366858ec13946c865 + '\'>'+addy_text15c0e9f07a60100366858ec13946c865+'';
		
DTSTAMP:20260424T025329
DTSTART;TZID=America/New_York:20250506T090000
DTEND;TZID=America/New_York:20250508T163000
SEQUENCE:0
TRANSP:OPAQUE
END:VEVENT
END:VCALENDAR