BEGIN:VCALENDAR
VERSION:2.0
PRODID:-//jEvents 2.0 for Joomla//EN
CALSCALE:GREGORIAN
METHOD:PUBLISH
BEGIN:VTIMEZONE
TZID:America/New_York
BEGIN:STANDARD
DTSTART:20241103T010000
RDATE:20250309T030000
TZOFFSETFROM:-0400
TZOFFSETTO:-0500
TZNAME:America/New_York EST
END:STANDARD
BEGIN:STANDARD
DTSTART:20251102T010000
RDATE:20260308T030000
TZOFFSETFROM:-0400
TZOFFSETTO:-0500
TZNAME:America/New_York EST
END:STANDARD
BEGIN:STANDARD
DTSTART:20261101T010000
RDATE:20270314T030000
TZOFFSETFROM:-0400
TZOFFSETTO:-0500
TZNAME:America/New_York EST
END:STANDARD
BEGIN:STANDARD
DTSTART:20271107T010000
RDATE:20280312T030000
TZOFFSETFROM:-0400
TZOFFSETTO:-0500
TZNAME:America/New_York EST
END:STANDARD
BEGIN:STANDARD
DTSTART:20281105T010000
RDATE:20290311T030000
TZOFFSETFROM:-0400
TZOFFSETTO:-0500
TZNAME:America/New_York EST
END:STANDARD
BEGIN:STANDARD
DTSTART:20291104T010000
RDATE:20300310T030000
TZOFFSETFROM:-0400
TZOFFSETTO:-0500
TZNAME:America/New_York EST
END:STANDARD
BEGIN:STANDARD
DTSTART:20301103T010000
RDATE:20310309T030000
TZOFFSETFROM:-0400
TZOFFSETTO:-0500
TZNAME:America/New_York EST
END:STANDARD
BEGIN:DAYLIGHT
DTSTART:20240609T090000
RDATE:20241103T010000
TZOFFSETFROM:-0500
TZOFFSETTO:-0400
TZNAME:America/New_York EDT
END:DAYLIGHT
BEGIN:DAYLIGHT
DTSTART:20250309T030000
RDATE:20251102T010000
TZOFFSETFROM:-0500
TZOFFSETTO:-0400
TZNAME:America/New_York EDT
END:DAYLIGHT
BEGIN:DAYLIGHT
DTSTART:20260308T030000
RDATE:20261101T010000
TZOFFSETFROM:-0500
TZOFFSETTO:-0400
TZNAME:America/New_York EDT
END:DAYLIGHT
BEGIN:DAYLIGHT
DTSTART:20270314T030000
RDATE:20271107T010000
TZOFFSETFROM:-0500
TZOFFSETTO:-0400
TZNAME:America/New_York EDT
END:DAYLIGHT
BEGIN:DAYLIGHT
DTSTART:20280312T030000
RDATE:20281105T010000
TZOFFSETFROM:-0500
TZOFFSETTO:-0400
TZNAME:America/New_York EDT
END:DAYLIGHT
BEGIN:DAYLIGHT
DTSTART:20290311T030000
RDATE:20291104T010000
TZOFFSETFROM:-0500
TZOFFSETTO:-0400
TZNAME:America/New_York EDT
END:DAYLIGHT
BEGIN:DAYLIGHT
DTSTART:20300310T030000
RDATE:20301103T010000
TZOFFSETFROM:-0500
TZOFFSETTO:-0400
TZNAME:America/New_York EDT
END:DAYLIGHT
END:VTIMEZONE
BEGIN:VEVENT
UID:31ea87d7425d4486ad7883a2230a207c
CATEGORIES:At Syracuse
CREATED:20250409T110413
SUMMARY:Weatherization Assistant Software Training
LOCATION:NYSWDA Training Center - East Syracuse
DESCRIPTION:<p><span><span style="font-size: medium;"><span style="color: #000000;"><sp
 an><span style="font-size: 12pt;"><strong><span style="color: #336699;"><sp
 an style="font-family: tahoma,arial,helvetica,sans-serif; font-size: 14pt;"
 >Weatherization Assistant Software Training&nbsp;<span style="color: #33669
 9;">/ <span style="color: #ff0000;">ALL REGIONS</span></span><span style="c
 olor: #000000;"></span><span></span><span></span><span style="color: #33669
 9; font-family: tahoma, arial, helvetica, sans-serif; font-size: 14pt;"></s
 pan><span></span><span style="font-family: Tahoma;"></span><span style="fon
 t-family: Tahoma;"></span><span style="color: #000000;"></span><span style=
 "font-size: small;"></span><span style="font-family: Tahoma;"></span><span 
 style="color: #000000;"></span><span style="font-size: x-small;"></span><sp
 an style="font-family: Arial, Helvetica;"></span><span style="font-size: sm
 all;"></span><span style="font-family: Tahoma;"></span><span style="font-si
 ze: x-small;"></span><span style="font-family: Arial, Helvetica;"></span><s
 pan style="font-size: small;"></span><span style="font-family: Tahoma;"></s
 pan><span style="font-size: x-small;"></span><span style="font-family: Aria
 l, Helvetica;"></span><span style="font-size: small;"></span><span style="f
 ont-family: Tahoma;"></span><span style="font-size: x-small;"></span><span 
 style="font-family: Arial, Helvetica;"></span><span style="font-family: Tah
 oma;"></span><span style="font-family: Tahoma;"></span><span style="font-si
 ze: small;"></span><span style="font-family: Tahoma;"></span><span style="f
 ont-size: x-small;"></span><span style="font-family: Arial, Helvetica;"></s
 pan><span style="font-family: Tahoma;"></span><span style="font-family: Tah
 oma;"></span><span style="font-family: Tahoma;"></span><span style="font-si
 ze: small;"></span><span style="font-family: Tahoma;"></span><span style="f
 ont-size: x-small;"></span><span style="font-family: Arial, Helvetica;"></s
 pan><span style="color: #000000;"></span><span style="font-size: medium;"><
 /span><span style="font-family: Tahoma;"></span><span style="color: #336699
 ;"></span></span></span></strong></span></span></span></span></span></p><p>
 &nbsp;</p><p><span><span style="font-size: medium;"><span style="color: #00
 0000;"><span><span style="font-size: 12pt;"><strong><span style="color: #33
 6699;"><span style="font-family: tahoma,arial,helvetica,sans-serif; font-si
 ze: 14pt;">Training location:&nbsp;&nbsp;NYSWDA's Training Center -&nbsp;58
 69 Fisher Road, East Syracuse, NY 13057</span></span></strong></span></span
 ></span></span></span></p><p><span style="color: #000000;"><span style="fon
 t-size: medium;"><span style="font-size: 12pt;"><strong>&nbsp;</strong></sp
 an></span></span></p><p><span style="color: #000000; font-size: 12pt;"><em>
 <span style="font-family: tahoma,arial,helvetica,sans-serif; text-decoratio
 n: underline;">Course Description;</span></em></span><br /><span style="col
 or: #000000; font-family: tahoma,arial,helvetica,sans-serif; font-size: 12p
 t;">Beginning July 1, 2025, the New York State Weatherization Assistant Pro
 gram will be transitioning from the current TIPS auditing software to the D
 epartment of Energy's Weatherization Assistant, which encompasses small bui
 ldings, mobile homes, and multifamily housing,&nbsp; This training will pro
 vide the step-by-step process for modeling client housing using data collec
 ted during the audit process and provide insight into reports generated by 
 the software.&nbsp; Client usage, modeled load, comparative analysis of hea
 ting degree days to actual useage, and savings-to-investment ratios will al
 l be part of the process of creating a workscope custom-generated to each h
 ome.</span><span style="color: #000000;"></span></p><p>&nbsp;&nbsp;</p><p><
 span style="color: #000000;"><em><span style="font-family: tahoma,arial,hel
 vetica,sans-serif; font-size: 12pt;"><span style="text-decoration: underlin
 e;">Dates;</span></span></em></span><br /><span style="color: #000000; font
 -family: tahoma,arial,helvetica,sans-serif; font-size: 12pt;">June 10-11, 2
 025 / 9:00am - 5:00pm </span></p><p><span style="color: #000000;"></span></
 p><p>&nbsp;</p><p><span style="color: #000000; font-family: tahoma, arial, 
 helvetica, sans-serif; font-size: 12pt;"></span></p><p><span style="color: 
 #000000;"><em><span style="font-family: tahoma,arial,helvetica,sans-serif; 
 font-size: 12pt;"><span style="text-decoration: underline;">Prerequisites;<
 /span> </span></em></span><br /><span style="color: #000000; font-family: t
 ahoma,arial,helvetica,sans-serif; font-size: 12pt;">None</span></p><p>&nbsp
 ;</p><p><span style="color: #000000;"><span style="font-family: tahoma,aria
 l,helvetica,sans-serif; font-size: 12pt;"><em><span style="text-decoration:
  underline;">Class Size;</span></em>&nbsp;<br />10-12</span></span></p><p>&
 nbsp;</p><p><span style="color: #000000; font-family: tahoma,arial,helvetic
 a,sans-serif; font-size: 12pt;"><em><span style="text-decoration: underline
 ;">BPI CEU;</span></em>&nbsp;<br />8</span></p><p>&nbsp;</p><p><span style=
 "color: #000000;"></span></p><p><span style="color: #000000;"><span style="
 color: #000000; font-family: tahoma, arial, helvetica, sans-serif; font-siz
 e: 12pt;"></span></span></p><p><span style="color: #000000;"><em><span styl
 e="font-family: tahoma, arial, helvetica, sans-serif; font-size: 12pt;"><sp
 an style="text-decoration: underline;">Instructors;</span></span></em></spa
 n><br /><span style="color: #000000;"><span style="font-family: tahoma, ari
 al, helvetica, sans-serif; font-size: 12pt;"><span style="color: #000000;">
 Joe Maggiore -</span>NYSWDA</span><br /></span></p><p>&nbsp;<span style="co
 lor: #ffffff; font-family: tahoma, arial, helvetica, sans-serif; font-size:
  12pt;"></span></p><p>&nbsp;</p><p><span style="color: #000000; font-family
 : tahoma,arial,helvetica,sans-serif; font-size: 12pt;"><em><span style="tex
 t-decoration: underline;">Course</span></em><span style="text-decoration: u
 nderline;"> Fees;<br /></span></span><span style="color: #000000; font-fami
 ly: tahoma,arial,helvetica,sans-serif; font-size: 12pt;">$500/person - NY W
 eatherization Sub-grantees</span></p><p><span style="color: black; font-fam
 ily: 'Tahoma','sans-serif';">&nbsp;<br /></span><em><strong><span style="fo
 nt-family: tahoma, arial, helvetica, sans-serif; font-size: 12pt;"><span st
 yle="color: #000000;">Course fees do not&nbsp;include lunch</span></span></
 strong></em></p><p><span style="color: #ffffff; font-family: tahoma, arial,
  helvetica, sans-serif; font-size: 12pt;"><em>&nbsp;</em></span></p><p><spa
 n style="font-family: tahoma, arial, helvetica, sans-serif; font-size: 14pt
 ;"><strong><em><strong><span style="color: #ffffff; font-family: tahoma,ari
 al,helvetica,sans-serif; font-size: 14pt;"><span style="color: #ff0000;">CL
 ASS FULL - call or email</span>&nbsp; <span id="cloakdec87276655cc5574521d2
 7247960842">This email address is being protected from spambots. You need J
 avaScript enabled to view it.</span><script type='text/javascript'>
				doc
 ument.getElementById('cloakdec87276655cc5574521d27247960842').innerHTML = '
 ';
				var prefix = 'ma' + 'il' + 'to';
				var path = 'hr' + 'ef' + '=';
	
 			var addydec87276655cc5574521d27247960842 = 'rvisser' + '@';
				addydec8
 7276655cc5574521d27247960842 = addydec87276655cc5574521d27247960842 + 'nysw
 da' + '.' + 'org';
				var addy_textdec87276655cc5574521d27247960842 = '<sp
 an style="color: #0066cc;">rvisser' + '@' + 'nyswda' + '.' + 'org</span>';d
 ocument.getElementById('cloakdec87276655cc5574521d27247960842').innerHTML +
 = '<a ' + path + '\'' + prefix + ':' + addydec87276655cc5574521d27247960842
  + '\'>'+addy_textdec87276655cc5574521d27247960842+'<\/a>';
		</script> <sp
 an style="color: #ff0000;">for availability or wait list</span></span></str
 ong></em><span style="color: #ffffff;"></span></strong><span style="font-fa
 mily: tahoma,arial,helvetica,sans-serif; font-size: 14pt;"></span></span><e
 m></em><span style="font-family: tahoma, arial, helvetica, sans-serif;"></s
 pan></p><p>&nbsp;</p><p style="margin: 0in 0in 0pt;"><span style="font-fami
 ly: 'Arial','sans-serif'; font-size: 10pt;"></span></p><p>&nbsp;</p>
CONTACT:This email address is being protected from spambots. You need JavaScript enabled to view it.
				document.getElementById('cloakf5846c497f86f0a3dd228346bdb239ec').innerHTML = '';
				var prefix = '&#109;a' + 'i&#108;' + '&#116;o';
				var path = 'hr' + 'ef' + '=';
				var addyf5846c497f86f0a3dd228346bdb239ec = 'rv&#105;ss&#101;r' + '&#64;';
				addyf5846c497f86f0a3dd228346bdb239ec = addyf5846c497f86f0a3dd228346bdb239ec + 'nyswd&#97;' + '&#46;' + '&#111;rg';
				var addy_textf5846c497f86f0a3dd228346bdb239ec = 'rv&#105;ss&#101;r' + '&#64;' + 'nyswd&#97;' + '&#46;' + '&#111;rg';document.getElementById('cloakf5846c497f86f0a3dd228346bdb239ec').innerHTML += '<a ' + path + '\'' + prefix + ':' + addyf5846c497f86f0a3dd228346bdb239ec + '\'>'+addy_textf5846c497f86f0a3dd228346bdb239ec+'';
		
DTSTAMP:20260424T044306
DTSTART;TZID=America/New_York:20250610T090000
DTEND;TZID=America/New_York:20250611T163000
SEQUENCE:0
TRANSP:OPAQUE
END:VEVENT
END:VCALENDAR