BEGIN:VCALENDAR
VERSION:2.0
PRODID:-//jEvents 2.0 for Joomla//EN
CALSCALE:GREGORIAN
METHOD:PUBLISH
BEGIN:VTIMEZONE
TZID:America/New_York
BEGIN:STANDARD
DTSTART:20241103T010000
RDATE:20250309T030000
TZOFFSETFROM:-0400
TZOFFSETTO:-0500
TZNAME:America/New_York EST
END:STANDARD
BEGIN:STANDARD
DTSTART:20251102T010000
RDATE:20260308T030000
TZOFFSETFROM:-0400
TZOFFSETTO:-0500
TZNAME:America/New_York EST
END:STANDARD
BEGIN:STANDARD
DTSTART:20261101T010000
RDATE:20270314T030000
TZOFFSETFROM:-0400
TZOFFSETTO:-0500
TZNAME:America/New_York EST
END:STANDARD
BEGIN:STANDARD
DTSTART:20271107T010000
RDATE:20280312T030000
TZOFFSETFROM:-0400
TZOFFSETTO:-0500
TZNAME:America/New_York EST
END:STANDARD
BEGIN:STANDARD
DTSTART:20281105T010000
RDATE:20290311T030000
TZOFFSETFROM:-0400
TZOFFSETTO:-0500
TZNAME:America/New_York EST
END:STANDARD
BEGIN:STANDARD
DTSTART:20291104T010000
RDATE:20300310T030000
TZOFFSETFROM:-0400
TZOFFSETTO:-0500
TZNAME:America/New_York EST
END:STANDARD
BEGIN:STANDARD
DTSTART:20301103T010000
RDATE:20310309T030000
TZOFFSETFROM:-0400
TZOFFSETTO:-0500
TZNAME:America/New_York EST
END:STANDARD
BEGIN:DAYLIGHT
DTSTART:20240603T090000
RDATE:20241103T010000
TZOFFSETFROM:-0500
TZOFFSETTO:-0400
TZNAME:America/New_York EDT
END:DAYLIGHT
BEGIN:DAYLIGHT
DTSTART:20250309T030000
RDATE:20251102T010000
TZOFFSETFROM:-0500
TZOFFSETTO:-0400
TZNAME:America/New_York EDT
END:DAYLIGHT
BEGIN:DAYLIGHT
DTSTART:20260308T030000
RDATE:20261101T010000
TZOFFSETFROM:-0500
TZOFFSETTO:-0400
TZNAME:America/New_York EDT
END:DAYLIGHT
BEGIN:DAYLIGHT
DTSTART:20270314T030000
RDATE:20271107T010000
TZOFFSETFROM:-0500
TZOFFSETTO:-0400
TZNAME:America/New_York EDT
END:DAYLIGHT
BEGIN:DAYLIGHT
DTSTART:20280312T030000
RDATE:20281105T010000
TZOFFSETFROM:-0500
TZOFFSETTO:-0400
TZNAME:America/New_York EDT
END:DAYLIGHT
BEGIN:DAYLIGHT
DTSTART:20290311T030000
RDATE:20291104T010000
TZOFFSETFROM:-0500
TZOFFSETTO:-0400
TZNAME:America/New_York EDT
END:DAYLIGHT
BEGIN:DAYLIGHT
DTSTART:20300310T030000
RDATE:20301103T010000
TZOFFSETFROM:-0500
TZOFFSETTO:-0400
TZNAME:America/New_York EDT
END:DAYLIGHT
END:VTIMEZONE
BEGIN:VEVENT
UID:913ce2f9e294997f000d94fd55580241
CATEGORIES:At Syracuse
CREATED:20250415T091451
SUMMARY:Weatherization Assistant Software Training
LOCATION:NYSWDA Training Center - East Syracuse
DESCRIPTION:Weatherization Assistant Software Training / DOWNSTATE REGION ONLY\n
 \n
Tr
 aining location:  NYSWDA's Training Center - 5869 Fisher Road, East Syracus
 e, NY 13057\n
 \n
Course Description;\nBeginning July 1, 2025, the New York
  State Weatherization Assistant Program will be transitioning from the curr
 ent TIPS auditing software to the Department of Energy's Weatherization Ass
 istant, which encompasses small buildings, mobile homes, and multifamily ho
 using,  This training will provide the step-by-step process for modeling cl
 ient housing using data collected during the audit process and provide insi
 ght into reports generated by the software.  Client usage, modeled load, co
 mparative analysis of heating degree days to actual useage, and savings-to-
 investment ratios will all be part of the process of creating a workscope c
 ustom-generated to each home.\n
  \n
Dates;\nJune 4-5, 2025 / 9:00am - 5:00
 pm \n
\n
 \n
\n
Prerequisites; \nNone\n
 \n
Class Size; \n10-12\n
 \n
BPI C
 EU; \n8\n
 \n
\n
\n
Instructors;\nJoe Maggiore -NYSWDA\n\n
 \n
 \n
Course F
 ees;\n$500/person - NY Weatherization Sub-grantees\n
 \nCourse fees do not 
 include lunch\n
 \n
CLASS FULL - call or email  This email address is being
  protected from spambots. You need JavaScript enabled to view it.
				docum
 ent.getElementById('cloakcfba86fce153d526c5e6e210790c6993').innerHTML = '';
 
				var prefix = 'ma' + 'il' + 'to';
				var path = 'hr' + 'ef' + '=';
			
 	var addycfba86fce153d526c5e6e210790c6993 = 'rvisser' + '@';
				addycfba86
 fce153d526c5e6e210790c6993 = addycfba86fce153d526c5e6e210790c6993 + 'nyswda
 ' + '.' + 'org';
				var addy_textcfba86fce153d526c5e6e210790c6993 = 'rviss
 er' + '@' + 'nyswda' + '.' + 'org';document.getElementById('cloakcfba86fce1
 53d526c5e6e210790c6993').innerHTML += '<a ' + path + '\'' + prefix + ':' + 
 addycfba86fce153d526c5e6e210790c6993 + '\'>'+addy_textcfba86fce153d526c5e6e
 210790c6993+'';
		 for availability or wait list \n
 \n
\n
 \n
X-ALT-DESC;FMTTYPE=text/html:<p><span><span style="font-size: medium;"><span style="color: #000000;"><sp
 an><span style="font-size: 12pt;"><strong><span style="color: #336699;"><sp
 an style="font-family: tahoma,arial,helvetica,sans-serif; font-size: 14pt;"
 >Weatherization Assistant Software Training&nbsp;<span style="color: #33669
 9;">/ <span style="color: #ff0000;">DOWNSTATE REGION ONLY</span></span><spa
 n style="color: #000000;"></span><span></span><span></span><span style="col
 or: #336699; font-family: tahoma, arial, helvetica, sans-serif; font-size: 
 14pt;"></span><span></span><span style="font-family: Tahoma;"></span><span 
 style="font-family: Tahoma;"></span><span style="color: #000000;"></span><s
 pan style="font-size: small;"></span><span style="font-family: Tahoma;"></s
 pan><span style="color: #000000;"></span><span style="font-size: x-small;">
 </span><span style="font-family: Arial, Helvetica;"></span><span style="fon
 t-size: small;"></span><span style="font-family: Tahoma;"></span><span styl
 e="font-size: x-small;"></span><span style="font-family: Arial, Helvetica;"
 ></span><span style="font-size: small;"></span><span style="font-family: Ta
 homa;"></span><span style="font-size: x-small;"></span><span style="font-fa
 mily: Arial, Helvetica;"></span><span style="font-size: small;"></span><spa
 n style="font-family: Tahoma;"></span><span style="font-size: x-small;"></s
 pan><span style="font-family: Arial, Helvetica;"></span><span style="font-f
 amily: Tahoma;"></span><span style="font-family: Tahoma;"></span><span styl
 e="font-size: small;"></span><span style="font-family: Tahoma;"></span><spa
 n style="font-size: x-small;"></span><span style="font-family: Arial, Helve
 tica;"></span><span style="font-family: Tahoma;"></span><span style="font-f
 amily: Tahoma;"></span><span style="font-family: Tahoma;"></span><span styl
 e="font-size: small;"></span><span style="font-family: Tahoma;"></span><spa
 n style="font-size: x-small;"></span><span style="font-family: Arial, Helve
 tica;"></span><span style="color: #000000;"></span><span style="font-size: 
 medium;"></span><span style="font-family: Tahoma;"></span><span style="colo
 r: #336699;"></span></span></span></strong></span></span></span></span></sp
 an></p><p>&nbsp;</p><p><span><span style="font-size: medium;"><span style="
 color: #000000;"><span><span style="font-size: 12pt;"><strong><span style="
 color: #336699;"><span style="font-family: tahoma,arial,helvetica,sans-seri
 f; font-size: 14pt;">Training location:&nbsp;&nbsp;NYSWDA's Training Center
  -&nbsp;5869 Fisher Road, East Syracuse, NY 13057</span></span></strong></s
 pan></span></span></span></span></p><p><span style="color: #000000;"><span 
 style="font-size: medium;"><span style="font-size: 12pt;"><strong>&nbsp;</s
 trong></span></span></span></p><p><span style="color: #000000; font-size: 1
 2pt;"><em><span style="font-family: tahoma,arial,helvetica,sans-serif; text
 -decoration: underline;">Course Description;</span></em></span><br /><span 
 style="color: #000000; font-family: tahoma,arial,helvetica,sans-serif; font
 -size: 12pt;">Beginning July 1, 2025, the New York State Weatherization Ass
 istant Program will be transitioning from the current TIPS auditing softwar
 e to the Department of Energy's Weatherization Assistant, which encompasses
  small buildings, mobile homes, and multifamily housing,&nbsp; This trainin
 g will provide the step-by-step process for modeling client housing using d
 ata collected during the audit process and provide insight into reports gen
 erated by the software.&nbsp; Client usage, modeled load, comparative analy
 sis of heating degree days to actual useage, and savings-to-investment rati
 os will all be part of the process of creating a workscope custom-generated
  to each home.</span><span style="color: #000000;"></span></p><p>&nbsp;&nbs
 p;</p><p><span style="color: #000000;"><em><span style="font-family: tahoma
 ,arial,helvetica,sans-serif; font-size: 12pt;"><span style="text-decoration
 : underline;">Dates;</span></span></em></span><br /><span style="color: #00
 0000; font-family: tahoma,arial,helvetica,sans-serif; font-size: 12pt;">Jun
 e 4-5, 2025 / 9:00am - 5:00pm </span></p><p><span style="color: #000000;"><
 /span></p><p>&nbsp;</p><p><span style="color: #000000; font-family: tahoma,
  arial, helvetica, sans-serif; font-size: 12pt;"></span></p><p><span style=
 "color: #000000;"><em><span style="font-family: tahoma,arial,helvetica,sans
 -serif; font-size: 12pt;"><span style="text-decoration: underline;">Prerequ
 isites;</span> </span></em></span><br /><span style="color: #000000; font-f
 amily: tahoma,arial,helvetica,sans-serif; font-size: 12pt;">None</span></p>
 <p>&nbsp;</p><p><span style="color: #000000;"><span style="font-family: tah
 oma,arial,helvetica,sans-serif; font-size: 12pt;"><em><span style="text-dec
 oration: underline;">Class Size;</span></em>&nbsp;<br />10-12</span></span>
 </p><p>&nbsp;</p><p><span style="color: #000000; font-family: tahoma,arial,
 helvetica,sans-serif; font-size: 12pt;"><em><span style="text-decoration: u
 nderline;">BPI CEU;</span></em>&nbsp;<br />8</span></p><p>&nbsp;</p><p><spa
 n style="color: #000000;"></span></p><p><span style="color: #000000;"><span
  style="color: #000000; font-family: tahoma, arial, helvetica, sans-serif; 
 font-size: 12pt;"></span></span></p><p><span style="color: #000000;"><em><s
 pan style="font-family: tahoma, arial, helvetica, sans-serif; font-size: 12
 pt;"><span style="text-decoration: underline;">Instructors;</span></span></
 em></span><br /><span style="color: #000000;"><span style="font-family: tah
 oma, arial, helvetica, sans-serif; font-size: 12pt;"><span style="color: #0
 00000;">Joe Maggiore -</span>NYSWDA</span><br /></span></p><p>&nbsp;<span s
 tyle="color: #ffffff; font-family: tahoma, arial, helvetica, sans-serif; fo
 nt-size: 12pt;"></span></p><p>&nbsp;</p><p><span style="color: #000000; fon
 t-family: tahoma,arial,helvetica,sans-serif; font-size: 12pt;"><em><span st
 yle="text-decoration: underline;">Course</span></em><span style="text-decor
 ation: underline;"> Fees;<br /></span></span><span style="color: #000000; f
 ont-family: tahoma,arial,helvetica,sans-serif; font-size: 12pt;">$500/perso
 n - NY Weatherization Sub-grantees</span></p><p><span style="color: black; 
 font-family: 'Tahoma','sans-serif';">&nbsp;<br /></span><em><strong><span s
 tyle="font-family: tahoma, arial, helvetica, sans-serif; font-size: 12pt;">
 <span style="color: #000000;">Course fees do not&nbsp;include lunch</span><
 /span></strong></em></p><p><span style="color: #ffffff; font-family: tahoma
 , arial, helvetica, sans-serif; font-size: 12pt;"><em>&nbsp;</em></span></p
 ><p><span style="font-family: tahoma, arial, helvetica, sans-serif;"><span 
 style="font-family: tahoma, arial, helvetica, sans-serif; font-size: 14pt;"
 ><strong><em><strong><span style="color: #ffffff; font-family: tahoma,arial
 ,helvetica,sans-serif; font-size: 14pt;"><span style="color: #ff0000;">CLAS
 S FULL - call or email</span>&nbsp; <span id="cloakcfba86fce153d526c5e6e210
 790c6993">This email address is being protected from spambots. You need Jav
 aScript enabled to view it.</span><script type='text/javascript'>
				docum
 ent.getElementById('cloakcfba86fce153d526c5e6e210790c6993').innerHTML = '';
 
				var prefix = 'ma' + 'il' + 'to';
				var path = 'hr' + 'ef' + '=';
			
 	var addycfba86fce153d526c5e6e210790c6993 = 'rvisser' + '@';
				addycfba86
 fce153d526c5e6e210790c6993 = addycfba86fce153d526c5e6e210790c6993 + 'nyswda
 ' + '.' + 'org';
				var addy_textcfba86fce153d526c5e6e210790c6993 = '<span
  style="color: #0066cc;">rvisser' + '@' + 'nyswda' + '.' + 'org</span>';doc
 ument.getElementById('cloakcfba86fce153d526c5e6e210790c6993').innerHTML += 
 '<a ' + path + '\'' + prefix + ':' + addycfba86fce153d526c5e6e210790c6993 +
  '\'>'+addy_textcfba86fce153d526c5e6e210790c6993+'<\/a>';
		</script> <span
  style="color: #ff0000;">for availability or wait list</span></span></stron
 g></em><span style="color: #ffffff;"></span></strong><span style="font-fami
 ly: tahoma,arial,helvetica,sans-serif; font-size: 14pt;"></span></span><spa
 n style="font-family: tahoma, arial, helvetica, sans-serif; font-size: 14pt
 ;"></span><em></em><span style="color: #0000ff;"></span>&nbsp;</span></p><p
 >&nbsp;</p><p style="margin: 0in 0in 0pt;"><span style="font-family: 'Arial
 ','sans-serif'; font-size: 10pt;"></span></p><p>&nbsp;</p>
CONTACT:This email address is being protected from spambots. You need JavaScript enabled to view it.
				document.getElementById('cloak52882350695db649f2b50076a34f39c1').innerHTML = '';
				var prefix = '&#109;a' + 'i&#108;' + '&#116;o';
				var path = 'hr' + 'ef' + '=';
				var addy52882350695db649f2b50076a34f39c1 = 'rv&#105;ss&#101;r' + '&#64;';
				addy52882350695db649f2b50076a34f39c1 = addy52882350695db649f2b50076a34f39c1 + 'nyswd&#97;' + '&#46;' + '&#111;rg';
				var addy_text52882350695db649f2b50076a34f39c1 = 'rv&#105;ss&#101;r' + '&#64;' + 'nyswd&#97;' + '&#46;' + '&#111;rg';document.getElementById('cloak52882350695db649f2b50076a34f39c1').innerHTML += '<a ' + path + '\'' + prefix + ':' + addy52882350695db649f2b50076a34f39c1 + '\'>'+addy_text52882350695db649f2b50076a34f39c1+'';
		
DTSTAMP:20260424T044200
DTSTART;TZID=America/New_York:20250604T090000
DTEND;TZID=America/New_York:20250605T163000
SEQUENCE:0
TRANSP:OPAQUE
END:VEVENT
END:VCALENDAR