BEGIN:VCALENDAR
VERSION:2.0
PRODID:-//jEvents 2.0 for Joomla//EN
CALSCALE:GREGORIAN
METHOD:PUBLISH
BEGIN:VTIMEZONE
TZID:America/New_York
BEGIN:STANDARD
DTSTART:20241103T010000
RDATE:20250309T030000
TZOFFSETFROM:-0400
TZOFFSETTO:-0500
TZNAME:America/New_York EST
END:STANDARD
BEGIN:STANDARD
DTSTART:20251102T010000
RDATE:20260308T030000
TZOFFSETFROM:-0400
TZOFFSETTO:-0500
TZNAME:America/New_York EST
END:STANDARD
BEGIN:STANDARD
DTSTART:20261101T010000
RDATE:20270314T030000
TZOFFSETFROM:-0400
TZOFFSETTO:-0500
TZNAME:America/New_York EST
END:STANDARD
BEGIN:STANDARD
DTSTART:20271107T010000
RDATE:20280312T030000
TZOFFSETFROM:-0400
TZOFFSETTO:-0500
TZNAME:America/New_York EST
END:STANDARD
BEGIN:STANDARD
DTSTART:20281105T010000
RDATE:20290311T030000
TZOFFSETFROM:-0400
TZOFFSETTO:-0500
TZNAME:America/New_York EST
END:STANDARD
BEGIN:STANDARD
DTSTART:20291104T010000
RDATE:20300310T030000
TZOFFSETFROM:-0400
TZOFFSETTO:-0500
TZNAME:America/New_York EST
END:STANDARD
BEGIN:STANDARD
DTSTART:20301103T010000
RDATE:20310309T030000
TZOFFSETFROM:-0400
TZOFFSETTO:-0500
TZNAME:America/New_York EST
END:STANDARD
BEGIN:DAYLIGHT
DTSTART:20240707T090000
RDATE:20241103T010000
TZOFFSETFROM:-0500
TZOFFSETTO:-0400
TZNAME:America/New_York EDT
END:DAYLIGHT
BEGIN:DAYLIGHT
DTSTART:20250309T030000
RDATE:20251102T010000
TZOFFSETFROM:-0500
TZOFFSETTO:-0400
TZNAME:America/New_York EDT
END:DAYLIGHT
BEGIN:DAYLIGHT
DTSTART:20260308T030000
RDATE:20261101T010000
TZOFFSETFROM:-0500
TZOFFSETTO:-0400
TZNAME:America/New_York EDT
END:DAYLIGHT
BEGIN:DAYLIGHT
DTSTART:20270314T030000
RDATE:20271107T010000
TZOFFSETFROM:-0500
TZOFFSETTO:-0400
TZNAME:America/New_York EDT
END:DAYLIGHT
BEGIN:DAYLIGHT
DTSTART:20280312T030000
RDATE:20281105T010000
TZOFFSETFROM:-0500
TZOFFSETTO:-0400
TZNAME:America/New_York EDT
END:DAYLIGHT
BEGIN:DAYLIGHT
DTSTART:20290311T030000
RDATE:20291104T010000
TZOFFSETFROM:-0500
TZOFFSETTO:-0400
TZNAME:America/New_York EDT
END:DAYLIGHT
BEGIN:DAYLIGHT
DTSTART:20300310T030000
RDATE:20301103T010000
TZOFFSETFROM:-0500
TZOFFSETTO:-0400
TZNAME:America/New_York EDT
END:DAYLIGHT
END:VTIMEZONE
BEGIN:VEVENT
UID:fe4cf78c705d06466f23728749fec8e4
CATEGORIES:At Syracuse
CREATED:20250528T100144
SUMMARY:Heating & Venting Fundamentals
LOCATION:NYSWDA Training Center - East Syracuse
DESCRIPTION:Heating &amp; Venting Fundamentals \n
 \n
Training Location: NYSWDA Trainin
 g Center (Building 1) – 5869 Fisher Road, East Syracuse, NY 13057\n\nThis t
 raining is for;\nEntry level HVAC techs and auditors\n
 \n
Course Descripti
 on;\nThis is an introductory course that will teach fundamentals of heating
  systems and venting combustion appliances. The focus is to provide all per
 sonnel working in client homes, the knowledge to identify different classif
 ications of furnaces and boilers. Instruction on health and safety issues f
 or those working on venting systems and an explanation of which materials c
 an be used and which cannot. NFPA venting guidelines will be introduced so 
 that venting safety is built into the thought process. This training will a
 ssist technicians in identifying problems, repairing and analysis of ventin
 g systems in the field.\n\n
 \n
Agenda;\nMorning session - classroom presen
 tation\nAfternoon session - consists of hands-on lab training\n
 \n
Dates;\
 nJuly 8, 2025 / 9:00am - 4:30pm\n
 \n
Prerequisites: \nNone\n
 \n
Class Siz
 e: 8\n
 \n
BPI CEU's; 3\n
 \n
Instructor; Dave Hill - HVAC instructor - NYS
 WDA\n
 \n
Course Fees: \n$262/person - NY Weatherization Sub-grantees\n
 $2
 62/person - affiliate members\n
 $380/person - non-members\n
 \n
Course fee
 s do not include lunch.\n
ÂÂÂ \n
**Special note - if you wish to become an 
 Affiliate Member, and save off the non-member rate, please contact Karen Mc
 Mahon (315-701-0440 ext. 223, This email address is being protected from sp
 ambots. You need JavaScript enabled to view it.
				document.getElementById
 ('cloake9089259489522ffe24766e8fd038b73').innerHTML = '';
				var prefix = 
 'ma' + 'il' + 'to';
				var path = 'hr' + 'ef' + '=';
				var addye90892594
 89522ffe24766e8fd038b73 = 'kmcmahon' + '@';
				addye9089259489522ffe24766e
 8fd038b73 = addye9089259489522ffe24766e8fd038b73 + 'nyswda' + '.' + 'org';

 				var addy_texte9089259489522ffe24766e8fd038b73 = 'kmcmahon' + '@' + 'nys
 wda' + '.' + 'org';document.getElementById('cloake9089259489522ffe24766e8fd
 038b73').innerHTML += '<a ' + path + '\'' + prefix + ':' + addye90892594895
 22ffe24766e8fd038b73 + '\'>'+addy_texte9089259489522ffe24766e8fd038b73+'';

 		) BEFORE YOU REGISTER for the course.\n
 \n
CLASS FULL - call or email  T
 his email address is being protected from spambots. You need JavaScript ena
 bled to view it.
				document.getElementById('cloakc5652a32776ff67a86afe875
 bfec2738').innerHTML = '';
				var prefix = 'ma' + 'il' + 'to';
				var pat
 h = 'hr' + 'ef' + '=';
				var addyc5652a32776ff67a86afe875bfec2738 = 'rvis
 ser' + '@';
				addyc5652a32776ff67a86afe875bfec2738 = addyc5652a32776ff67a
 86afe875bfec2738 + 'nyswda' + '.' + 'org';
				var addy_textc5652a32776ff67
 a86afe875bfec2738 = 'rvisser' + '@' + 'nyswda' + '.' + 'org';document.getEl
 ementById('cloakc5652a32776ff67a86afe875bfec2738').innerHTML += '<a ' + pat
 h + '\'' + prefix + ':' + addyc5652a32776ff67a86afe875bfec2738 + '\'>'+addy
 _textc5652a32776ff67a86afe875bfec2738+'';
		 for availability or wait list\
 n
X-ALT-DESC;FMTTYPE=text/html:<p><span style="font-family: tahoma, arial, helvetica, sans-serif;"><em><sp
 an style="font-size: 13.5pt; color: #336699;"></span></em></span><strong><s
 pan style="color: #336699; font-family: tahoma, arial, helvetica, sans-seri
 f; font-size: 14pt;">Heating &amp; Venting Fundamentals </span></strong></p
 ><p>&nbsp;</p><p><strong><span style="color: #336699; font-family: tahoma, 
 arial, helvetica, sans-serif; font-size: 14pt;">Training</span><span style=
 "color: #336699; font-size: 13.5pt;"><span style="font-family: tahoma, aria
 l, helvetica, sans-serif; font-size: 14pt;"> Location: NYSWDA Training Cent
 er (Building 1) – 5869 Fisher Road, East Syracuse, NY 13057</span><br /><br
  /></span></strong><span style="font-family: tahoma, arial, helvetica, sans
 -serif; font-size: 12pt; color: #000000;"><em><span style="text-decoration:
  underline;"><span style="font-family: Tahoma;">This training is for;</span
 ></span></em><span style="font-family: Tahoma;"><span style="font-family: T
 ahoma;"><br /></span></span></span><span style="font-family: tahoma, arial,
  helvetica, sans-serif; font-size: 12pt; color: #000000;">Entry level HVAC 
 techs and auditors</span><span style="font-family: tahoma, arial, helvetica
 , sans-serif; font-size: 12pt; color: #000000;"><span style="font-family: T
 ahoma;"><span style="font-family: Tahoma;"><span style="font-family: Tahoma
 ;"><span style="font-family: Tahoma;"><span style="text-decoration: underli
 ne;"><em><span style="font-family: Tahoma;"></span></em></span></span></spa
 n></span></span></span></p><p>&nbsp;</p><p><span style="font-family: tahoma
 , arial, helvetica, sans-serif; font-size: 12pt; color: #000000;"><span sty
 le="font-family: Tahoma;"><span style="font-family: Tahoma;"><span style="f
 ont-family: Tahoma;"><span style="font-family: Tahoma;"><span style="text-d
 ecoration: underline;"><em><span style="font-family: Tahoma;">Course Descri
 ption;<br /></span></em></span></span></span></span></span></span><span sty
 le="font-family: tahoma, arial, helvetica, sans-serif; font-size: 12pt; col
 or: #000000;">This is an introductory course that will teach fundamentals o
 f heating systems and venting combustion appliances. The focus is to provid
 e all personnel working in client homes, the knowledge to identify differen
 t classifications of furnaces and boilers. Instruction on health and safety
  issues for those working on venting systems and an explanation of which ma
 terials can be used and which cannot. NFPA venting guidelines will be intro
 duced so that venting safety is built into the thought process. This traini
 ng will assist technicians in identifying problems, repairing and analysis 
 of venting systems in the field.<br /></span></p><p>&nbsp;</p><p><span styl
 e="color: #000000;"><span style="font-family: tahoma, arial, helvetica, san
 s-serif; font-size: 12pt;"><span style="font-family: Tahoma;"><span style="
 font-family: Tahoma;"><span style="font-family: Tahoma;"><span style="font-
 family: Tahoma;"><span style="font-family: Tahoma;"><span style="font-famil
 y: Tahoma;"><span style="font-family: Tahoma;"><span style="text-decoration
 : underline;"><em>Agenda;<br /></em></span></span></span></span></span></sp
 an></span></span></span><span style="font-family: tahoma, arial, helvetica,
  sans-serif; font-size: 12pt;">Morning session - classroom presentation<br 
 />Afternoon session - consists of hands-on lab training</span></span></p><p
 >&nbsp;</p><p><span style="color: #000000;"><span style="font-family: tahom
 a, arial, helvetica, sans-serif; font-size: 12pt;"><span style="font-family
 : Tahoma;"><span style="font-family: Tahoma;"><span style="font-family: Tah
 oma;"><span style="font-family: Tahoma;"><span style="font-family: Tahoma;"
 ><span style="font-family: Tahoma;"><span style="font-family: Tahoma;"><spa
 n style="text-decoration: underline;"><em>Dates;<br /></em></span><span sty
 le="font-family: Tahoma;">July 8, 2025 / 9:00am - 4:30pm</span></span></spa
 n></span></span></span></span></span></span></span></p><p>&nbsp;</p><p><spa
 n style="color: #000000;"><span style="font-family: tahoma, arial, helvetic
 a, sans-serif; font-size: 12pt;"><span style="font-family: Tahoma;"><span s
 tyle="font-family: Tahoma;"><span style="font-family: Tahoma;"><span style=
 "font-family: Tahoma;"><span style="font-family: Tahoma;"><span style="font
 -family: Tahoma;"><span style="font-family: Tahoma;"><span style="font-fami
 ly: Tahoma;"><span style="text-decoration: underline;"><em><span style="fon
 t-family: Tahoma;">Prerequisites:</span></em></span><em><span style="font-f
 amily: Tahoma;"> <br /></span></em><span style="font-family: Tahoma;">None<
 /span></span></span></span></span></span></span></span></span></span></span
 ></p><p>&nbsp;</p><p><span style="color: #000000;"><span style="font-family
 : tahoma, arial, helvetica, sans-serif; font-size: 12pt;"><span style="font
 -family: Tahoma;"><span style="font-family: Tahoma;"><span style="font-fami
 ly: Tahoma;"><span style="font-family: Tahoma;"><span style="font-family: T
 ahoma;"><span style="font-family: Tahoma;"><span style="font-family: Tahoma
 ;"><span style="font-family: Tahoma;"><span style="font-family: Tahoma;"><s
 pan style="font-family: Tahoma;"><em><span style="text-decoration: underlin
 e;">Class Size</span></em>: 8</span></span></span></span></span></span></sp
 an></span></span></span></span></span></p><p>&nbsp;</p><p><span style="colo
 r: #000000;"><span style="font-family: tahoma, arial, helvetica, sans-serif
 ; font-size: 12pt;"><span style="font-family: Tahoma;"><span style="font-fa
 mily: Tahoma;"><span style="font-family: Tahoma;"><span style="font-family:
  Tahoma;"><span style="font-family: Tahoma;"><span style="font-family: Taho
 ma;"><span style="font-family: Tahoma;"><span style="font-family: Tahoma;">
 <span style="font-family: Tahoma;"><span style="font-family: Tahoma;"><span
  style="text-decoration: underline;"><em>BPI</em></span><em><span style="te
 xt-decoration: underline;"> CEU's</span>;</em> 3</span></span></span></span
 ></span></span></span></span></span></span></span></span></p><p>&nbsp;</p><
 p><span style="color: #000000;"><span style="font-family: tahoma, arial, he
 lvetica, sans-serif; font-size: 12pt;"><span style="font-family: Tahoma;"><
 span style="font-family: Tahoma;"><span style="font-family: Tahoma;"><span 
 style="font-family: Tahoma;"><span style="font-family: Tahoma;"><span style
 ="font-family: Tahoma;"><span style="font-family: Tahoma;"><span style="fon
 t-family: Tahoma;"><span style="font-family: Tahoma;"><span style="font-fam
 ily: Tahoma;"><span style="font-family: Tahoma;"><span style="text-decorati
 on: underline;">Instructor</span>; Dave Hill</span><span style="font-family
 : Tahoma;">&nbsp;- HVAC instructor - NYSWDA</span></span></span></span></sp
 an></span></span></span></span></span></span></span></span></p><p>&nbsp;</p
 ><p><span style="color: #000000;"><span style="font-family: tahoma, arial, 
 helvetica, sans-serif; font-size: 12pt;"><span style="font-family: Tahoma;"
 ><span style="font-family: Tahoma;"><span style="font-family: Tahoma;"><spa
 n style="font-family: Tahoma;"><span style="font-family: Tahoma;"><span sty
 le="font-family: Tahoma;"><span style="font-family: Tahoma;"><span style="f
 ont-family: Tahoma;"><span style="font-family: Tahoma;"><span style="font-f
 amily: Tahoma;"><span style="font-family: Tahoma;"><span style="text-decora
 tion: underline;">Cours</span><span style="text-decoration: underline;">e<e
 m> Fees:</em></span><em>&nbsp;</em><br /><span style="font-family: Tahoma;"
 >$262/person</span><span style="font-family: Tahoma;"> - NY Weatherization 
 Sub-grantees</span></span></span></span></span></span></span></span></span>
 </span></span></span></span></span></p><p><span style="font-family: tahoma,
  arial, helvetica, sans-serif; font-size: 12pt; color: #000000;"><span styl
 e="font-family: Tahoma;"><span style="font-family: Tahoma;"><span style="fo
 nt-family: Tahoma;"><span style="font-family: Tahoma;"><span style="font-fa
 mily: Tahoma;"><span style="font-family: Tahoma;"><span style="font-family:
  Tahoma;"><span style="font-family: Tahoma;"><span style="font-family: Taho
 ma;"><span style="font-family: Tahoma;"><span style="font-family: Tahoma;">
 <span style="font-family: Tahoma;"> </span><span style="font-family: Tahoma
 ;">$262/person</span><span style="font-family: Tahoma;"> - </span><span sty
 le="font-family: Tahoma;">affiliate members</span></span></span></span></sp
 an></span></span></span></span></span></span></span></span></p><p><span sty
 le="font-family: tahoma, arial, helvetica, sans-serif; font-size: 12pt; col
 or: #000000;"><span style="font-family: Tahoma;"><span style="font-family: 
 Tahoma;"><span style="font-family: Tahoma;"><span style="font-family: Tahom
 a;"><span style="font-family: Tahoma;"><span style="font-family: Tahoma;"><
 span style="font-family: Tahoma;"><span style="font-family: Tahoma;"><span 
 style="font-family: Tahoma;"><span style="font-family: Tahoma;"><span style
 ="font-family: Tahoma;"><span style="font-family: Tahoma;"> </span><span st
 yle="font-family: Tahoma;">$380/person</span><span style="font-family: Taho
 ma;"> - </span><span style="font-family: Tahoma;">non-members</span></span>
 </span></span></span></span></span></span></span></span></span></span></spa
 n></p><p>&nbsp;</p><p><span style="color: #000000;"><em><span style="font-f
 amily: Tahoma; font-size: 12pt;"><strong>Course fees do not include lunch.<
 /strong></span></em></span></p><p><span style="font-family: tahoma, arial, 
 helvetica, sans-serif; font-size: 12pt; color: #ffffff;"><span><span style=
 "font-family: Tahoma;"><span style="font-family: Tahoma;"><span style="font
 -family: Tahoma;"><span style="font-family: Tahoma;"><span style="font-fami
 ly: Tahoma;"><span style="font-family: Tahoma;"><span style="font-family: T
 ahoma;"><span style="font-family: Tahoma;"><span style="font-family: Tahoma
 ;"><span style="font-family: Tahoma;"><span style="font-family: Tahoma;"><e
 m><span style="font-family: Tahoma;">ÂÂÂ&nbsp;</span></em></span></span></s
 pan></span></span></span></span></span></span></span></span></span></span><
 /p><p style="margin-top: 0in; margin-right: 0in; margin-bottom: 0pt;"><stro
 ng><i><span style="background: white; color: #02613f; font-family: Georgia,
  'serif';"><span style="font-size: small;">**Special note</span></span></i>
 </strong><strong><i><span style="background: white; color: black; font-fami
 ly: Georgia, 'serif';"><span style="font-size: small;">&nbsp;-&nbsp;if you 
 wish to become an Affiliate Member, and&nbsp;save off the non-member rate, 
 please contact Karen McMahon (315-701-0440 ext. 223,&nbsp;</span><span id="
 cloake9089259489522ffe24766e8fd038b73">This email address is being protecte
 d from spambots. You need JavaScript enabled to view it.</span><script type
 ='text/javascript'>
				document.getElementById('cloake9089259489522ffe2476
 6e8fd038b73').innerHTML = '';
				var prefix = 'ma' + 'il' + 'to';
				var 
 path = 'hr' + 'ef' + '=';
				var addye9089259489522ffe24766e8fd038b73 = 'k
 mcmahon' + '@';
				addye9089259489522ffe24766e8fd038b73 = addye90892594895
 22ffe24766e8fd038b73 + 'nyswda' + '.' + 'org';
				var addy_texte9089259489
 522ffe24766e8fd038b73 = '<span style="color: #0000ff; font-size: small;">km
 cmahon' + '@' + 'nyswda' + '.' + 'org</span>';document.getElementById('cloa
 ke9089259489522ffe24766e8fd038b73').innerHTML += '<a ' + path + '\'' + pref
 ix + ':' + addye9089259489522ffe24766e8fd038b73 + '\'>'+addy_texte908925948
 9522ffe24766e8fd038b73+'<\/a>';
		</script><span style="font-size: small;">
 )&nbsp;</span></span></i></strong><span style="font-size: small;"><strong><
 span style="background: white; color: #02613f; font-family: Georgia, 'serif
 ';">BEFORE YOU REGISTER&nbsp;</span></strong><em><b><span style="background
 : white; color: black; font-family: Georgia, 'serif';">for the course</span
 ></b></em><strong><span style="background: white; color: black; font-family
 : Georgia, 'serif';">.</span></strong></span></p><p>&nbsp;</p><p><strong><e
 m><span style="color: #ffffff; font-family: tahoma, arial, helvetica, sans-
 serif; font-size: 14pt;"><span style="color: #ff0000;">CLASS FULL - call or
  email</span>&nbsp; <span id="cloakc5652a32776ff67a86afe875bfec2738">This e
 mail address is being protected from spambots. You need JavaScript enabled 
 to view it.</span><script type='text/javascript'>
				document.getElementBy
 Id('cloakc5652a32776ff67a86afe875bfec2738').innerHTML = '';
				var prefix 
 = 'ma' + 'il' + 'to';
				var path = 'hr' + 'ef' + '=';
				var addyc5652a3
 2776ff67a86afe875bfec2738 = 'rvisser' + '@';
				addyc5652a32776ff67a86afe8
 75bfec2738 = addyc5652a32776ff67a86afe875bfec2738 + 'nyswda' + '.' + 'org';
 
				var addy_textc5652a32776ff67a86afe875bfec2738 = '<span style="color: #
 0066cc;">rvisser' + '@' + 'nyswda' + '.' + 'org</span>';document.getElement
 ById('cloakc5652a32776ff67a86afe875bfec2738').innerHTML += '<a ' + path + '
 \'' + prefix + ':' + addyc5652a32776ff67a86afe875bfec2738 + '\'>'+addy_text
 c5652a32776ff67a86afe875bfec2738+'<\/a>';
		</script> <span style="color: #
 ff0000;">for availability or wait list</span></span></em><span style="font-
 family: tahoma, arial, helvetica, sans-serif; font-size: 14pt;"></span></st
 rong><span style="font-family: Tahoma;"></span><span style="font-family: Ti
 mes;"></span><span style="font-family: Tahoma;"></span><span style="font-fa
 mily: Tahoma;"></span><span style="font-family: Tahoma;"></span><span style
 ="font-family: Tahoma;"></span><span style="font-family: Times;"></span><sp
 an style="font-family: Tahoma;"></span><span style="font-family: Tahoma;"><
 /span><span style="font-family: Tahoma;"></span><span style="font-family: T
 ahoma;"></span><span style="font-family: Tahoma;"></span><span style="font-
 family: Tahoma;"></span><span style="font-family: Tahoma;"></span><span sty
 le="font-family: Tahoma;"></span><span style="font-family: Tahoma;"></span>
 <span style="font-family: Tahoma;"></span><span style="font-family: Tahoma;
 "></span><span style="font-family: Tahoma;"></span><span style="font-family
 : Tahoma;"></span><span style="font-family: Times;"></span><span style="fon
 t-family: Arial, Helvetica;"></span><span style="font-family: Tahoma;"></sp
 an><span style="font-family: Tahoma;"></span><span style="font-size: 14pt;"
 ></span><em></em><span style="color: #0000ff;"></span></p>
CONTACT:This email address is being protected from spambots. You need JavaScript enabled to view it.
				document.getElementById('cloak9d9b455c6b25581ac0ac7eaa89c9fa23').innerHTML = '';
				var prefix = '&#109;a' + 'i&#108;' + '&#116;o';
				var path = 'hr' + 'ef' + '=';
				var addy9d9b455c6b25581ac0ac7eaa89c9fa23 = 'rv&#105;ss&#101;r' + '&#64;';
				addy9d9b455c6b25581ac0ac7eaa89c9fa23 = addy9d9b455c6b25581ac0ac7eaa89c9fa23 + 'nyswd&#97;' + '&#46;' + '&#111;rg';
				var addy_text9d9b455c6b25581ac0ac7eaa89c9fa23 = 'rv&#105;ss&#101;r' + '&#64;' + 'nyswd&#97;' + '&#46;' + '&#111;rg';document.getElementById('cloak9d9b455c6b25581ac0ac7eaa89c9fa23').innerHTML += '<a ' + path + '\'' + prefix + ':' + addy9d9b455c6b25581ac0ac7eaa89c9fa23 + '\'>'+addy_text9d9b455c6b25581ac0ac7eaa89c9fa23+'';
		
DTSTAMP:20260424T025145
DTSTART;TZID=America/New_York:20250708T090000
DTEND;TZID=America/New_York:20250708T160000
SEQUENCE:0
TRANSP:OPAQUE
END:VEVENT
END:VCALENDAR