BEGIN:VCALENDAR
VERSION:2.0
PRODID:-//jEvents 2.0 for Joomla//EN
CALSCALE:GREGORIAN
METHOD:PUBLISH
BEGIN:VTIMEZONE
TZID:America/New_York
BEGIN:STANDARD
DTSTART:20241103T010000
RDATE:20250309T030000
TZOFFSETFROM:-0400
TZOFFSETTO:-0500
TZNAME:America/New_York EST
END:STANDARD
BEGIN:STANDARD
DTSTART:20251102T010000
RDATE:20260308T030000
TZOFFSETFROM:-0400
TZOFFSETTO:-0500
TZNAME:America/New_York EST
END:STANDARD
BEGIN:STANDARD
DTSTART:20261101T010000
RDATE:20270314T030000
TZOFFSETFROM:-0400
TZOFFSETTO:-0500
TZNAME:America/New_York EST
END:STANDARD
BEGIN:STANDARD
DTSTART:20271107T010000
RDATE:20280312T030000
TZOFFSETFROM:-0400
TZOFFSETTO:-0500
TZNAME:America/New_York EST
END:STANDARD
BEGIN:STANDARD
DTSTART:20281105T010000
RDATE:20290311T030000
TZOFFSETFROM:-0400
TZOFFSETTO:-0500
TZNAME:America/New_York EST
END:STANDARD
BEGIN:STANDARD
DTSTART:20291104T010000
RDATE:20300310T030000
TZOFFSETFROM:-0400
TZOFFSETTO:-0500
TZNAME:America/New_York EST
END:STANDARD
BEGIN:STANDARD
DTSTART:20301103T010000
RDATE:20310309T030000
TZOFFSETFROM:-0400
TZOFFSETTO:-0500
TZNAME:America/New_York EST
END:STANDARD
BEGIN:DAYLIGHT
DTSTART:20240708T090000
RDATE:20241103T010000
TZOFFSETFROM:-0500
TZOFFSETTO:-0400
TZNAME:America/New_York EDT
END:DAYLIGHT
BEGIN:DAYLIGHT
DTSTART:20250309T030000
RDATE:20251102T010000
TZOFFSETFROM:-0500
TZOFFSETTO:-0400
TZNAME:America/New_York EDT
END:DAYLIGHT
BEGIN:DAYLIGHT
DTSTART:20260308T030000
RDATE:20261101T010000
TZOFFSETFROM:-0500
TZOFFSETTO:-0400
TZNAME:America/New_York EDT
END:DAYLIGHT
BEGIN:DAYLIGHT
DTSTART:20270314T030000
RDATE:20271107T010000
TZOFFSETFROM:-0500
TZOFFSETTO:-0400
TZNAME:America/New_York EDT
END:DAYLIGHT
BEGIN:DAYLIGHT
DTSTART:20280312T030000
RDATE:20281105T010000
TZOFFSETFROM:-0500
TZOFFSETTO:-0400
TZNAME:America/New_York EDT
END:DAYLIGHT
BEGIN:DAYLIGHT
DTSTART:20290311T030000
RDATE:20291104T010000
TZOFFSETFROM:-0500
TZOFFSETTO:-0400
TZNAME:America/New_York EDT
END:DAYLIGHT
BEGIN:DAYLIGHT
DTSTART:20300310T030000
RDATE:20301103T010000
TZOFFSETFROM:-0500
TZOFFSETTO:-0400
TZNAME:America/New_York EDT
END:DAYLIGHT
END:VTIMEZONE
BEGIN:VEVENT
UID:d6bd4c2efc80f72485f38b4b5d9a6329
CATEGORIES:At Syracuse
CREATED:20250528T100607
SUMMARY:Clean and Tune for Heating Systems
LOCATION:NYSWDA Training Center - East Syracuse
DESCRIPTION:<p><strong><span style="color: #336699; font-size: 13.5pt;"><span style="fo
 nt-family: tahoma, arial, helvetica, sans-serif;">Clean &amp; Tune for Heat
 ing Systems</span></span></strong></p><p>&nbsp;</p><p><strong><span style="
 color: #336699; font-size: 13.5pt;"><span style="font-family: tahoma, arial
 , helvetica, sans-serif;">Training Location: NYSWDA Training Center (Buildi
 ng 1) – 5869 Fisher Road, East Syracuse, NY 13057</span><br /><br /><br /><
 /span></strong><span style="color: #000000;"><span style="font-family: taho
 ma, arial, helvetica, sans-serif; font-size: 12pt;"><em><span style="text-d
 ecoration: underline;"><span style="font-family: Tahoma;">This training is 
 for;</span></span></em><span style="font-family: Tahoma;"><span style="font
 -family: Tahoma;"><br /></span></span></span><span style="font-family: taho
 ma, arial, helvetica, sans-serif; font-size: 12pt;">Weatherization Director
 s, Auditors, Heating Techs, Heating Subcontractors</span></span></p><p>&nbs
 p;</p><p><span style="color: #000000;"><span style="font-family: tahoma, ar
 ial, helvetica, sans-serif; font-size: 12pt;"><span style="font-family: Tah
 oma;"><span style="font-family: Tahoma;"><span style="font-family: Tahoma;"
 ><span style="font-family: Tahoma;"><span style="text-decoration: underline
 ;"><em><span style="font-family: Tahoma;">Course Description;<br /></span><
 /em></span></span></span></span></span></span><span style="font-family: tah
 oma, arial, helvetica, sans-serif; font-size: 12pt;">Agencies working on 1-
 4 family dwellings will now have a method of ensuring technicians performin
 g WAP heating services, have HCR and DOE specification on what constitutes 
 a proper heating system clean and tune. Agencies may find the information u
 seful in writing bid proposals, and for inspection of completed work. Heati
 ng subcontractors are urged to attend. This course is useful as a first ste
 p in performing heating system clean and tunes in-house.<br /></span><span 
 style="font-family: tahoma, arial, helvetica, sans-serif; font-size: 12pt;"
 ><span style="font-family: Tahoma;"><span style="font-family: Tahoma;"><spa
 n style="font-family: Tahoma;"><span style="font-family: Tahoma;"><span sty
 le="font-family: Tahoma;"><span style="font-family: Tahoma;"><span style="f
 ont-family: Tahoma;"><span style="text-decoration: underline;"><em></em></s
 pan></span></span></span></span></span></span></span></span></span></p><p>&
 nbsp;</p><p><span style="color: #000000;"><span style="font-family: tahoma,
  arial, helvetica, sans-serif; font-size: 12pt;"><span style="font-family: 
 Tahoma;"><span style="font-family: Tahoma;"><span style="font-family: Tahom
 a;"><span style="font-family: Tahoma;"><span style="font-family: Tahoma;"><
 span style="font-family: Tahoma;"><span style="font-family: Tahoma;"><span 
 style="text-decoration: underline;"><em>Agenda;<br /></em></span></span></s
 pan></span></span></span></span></span></span><span style="font-family: tah
 oma, arial, helvetica, sans-serif; font-size: 12pt;">Morning session - clas
 sroom presentation<br />Afternoon session - consists of hands-on lab traini
 ng on oil boiler and natural gas forced hot air furnace</span></span></p><p
 >&nbsp;</p><p><span style="font-family: tahoma, arial, helvetica, sans-seri
 f; font-size: 12pt; color: #000000;"><span style="font-family: Tahoma;"><sp
 an style="font-family: Tahoma;"><span style="font-family: Tahoma;"><span st
 yle="font-family: Tahoma;"><span style="font-family: Tahoma;"><span style="
 font-family: Tahoma;"><span style="font-family: Tahoma;"><span style="text-
 decoration: underline;"><em>Dates;<br /></em></span><span style="font-famil
 y: Tahoma;">July 9, 2025 / 9:00am - 4:30pm</span></span></span></span></spa
 n></span></span></span></span></p><p>&nbsp;</p><p><span style="color: #0000
 00;"></span></p><p><span style="font-family: tahoma, arial, helvetica, sans
 -serif; font-size: 12pt; color: #000000;"><span style="font-family: Tahoma;
 "><span style="font-family: Tahoma;"><span style="font-family: Tahoma;"><sp
 an style="font-family: Tahoma;"><span style="font-family: Tahoma;"><span st
 yle="font-family: Tahoma;"><span style="font-family: Tahoma;"><span style="
 font-family: Tahoma;"><span style="text-decoration: underline;"><em><span s
 tyle="font-family: Tahoma;">Prerequisites:</span></em></span><em><span styl
 e="font-family: Tahoma;"> <br /></span></em><span style="font-family: Tahom
 a;"><span style="font-family: Tahoma;">Heating &amp; Venting Fundamentals</
 span></span></span></span></span></span></span></span></span></span></span>
 </p><p>&nbsp;</p><p><span style="color: #000000;"></span></p><p><span style
 ="font-family: tahoma, arial, helvetica, sans-serif; font-size: 12pt; color
 : #000000;"><span style="font-family: Tahoma;"><span style="font-family: Ta
 homa;"><span style="font-family: Tahoma;"><span style="font-family: Tahoma;
 "><span style="font-family: Tahoma;"><span style="font-family: Tahoma;"><sp
 an style="font-family: Tahoma;"><span style="font-family: Tahoma;"><span st
 yle="font-family: Tahoma;"><span style="font-family: Tahoma;"><em><span sty
 le="text-decoration: underline;">Class Size</span></em>: 8</span></span></s
 pan></span></span></span></span></span></span></span></span></p><p>&nbsp;</
 p><p><span style="font-family: tahoma, arial, helvetica, sans-serif; font-s
 ize: 12pt; color: #000000;"><span style="font-family: Tahoma;"><span style=
 "font-family: Tahoma;"><span style="font-family: Tahoma;"><span style="font
 -family: Tahoma;"><span style="font-family: Tahoma;"><span style="font-fami
 ly: Tahoma;"><span style="font-family: Tahoma;"><span style="font-family: T
 ahoma;"><span style="font-family: Tahoma;"><span style="font-family: Tahoma
 ;"><span style="text-decoration: underline;"><em>BPI</em> <em>CEU's;</em></
 span> 3</span></span></span></span></span></span></span></span></span></spa
 n></span></p><p>&nbsp;</p><p><span style="font-family: tahoma, arial, helve
 tica, sans-serif; font-size: 12pt; color: #000000;"><span style="font-famil
 y: Tahoma;"><span style="font-family: Tahoma;"><span style="font-family: Ta
 homa;"><span style="font-family: Tahoma;"><span style="font-family: Tahoma;
 "><span style="font-family: Tahoma;"><span style="font-family: Tahoma;"><sp
 an style="font-family: Tahoma;"><span style="font-family: Tahoma;"><span st
 yle="font-family: Tahoma;"><em><span style="text-decoration: underline;"><s
 pan style="font-family: Tahoma;">Instructors;</span></span></em><span style
 ="font-family: Tahoma;">&nbsp;Dave Hill</span><span style="font-family: Tah
 oma;">&nbsp;- HVAC instructor - NYSWDA</span></span></span></span></span></
 span></span></span></span></span></span></span></p><p>&nbsp;</p><p><span st
 yle="font-family: tahoma, arial, helvetica, sans-serif; font-size: 12pt; co
 lor: #000000;"><span style="font-family: Tahoma;"><span style="font-family:
  Tahoma;"><span style="font-family: Tahoma;"><span style="font-family: Taho
 ma;"><span style="font-family: Tahoma;"><span style="font-family: Tahoma;">
 <span style="font-family: Tahoma;"><span style="font-family: Tahoma;"><span
  style="font-family: Tahoma;"><span style="font-family: Tahoma;"><span styl
 e="font-family: Tahoma;"><em><span style="text-decoration: underline;">Cour
 s</span></em><span style="text-decoration: underline;"><em>e Fees:<span></s
 pan></em></span><em><br /></em><span style="font-family: Tahoma;">$262/pers
 on - NY Weatherization Sub-grantees</span></span></span></span></span></spa
 n></span></span></span></span></span></span></span></p><p><span style="font
 -family: tahoma, arial, helvetica, sans-serif; font-size: 12pt; color: #000
 000;"><span style="font-family: Tahoma;"><span style="font-family: Tahoma;"
 ><span style="font-family: Tahoma;"><span style="font-family: Tahoma;"><spa
 n style="font-family: Tahoma;"><span style="font-family: Tahoma;"><span sty
 le="font-family: Tahoma;"><span style="font-family: Tahoma;"><span style="f
 ont-family: Tahoma;"><span style="font-family: Tahoma;"><span style="font-f
 amily: Tahoma;"><span style="font-family: Tahoma;">$262/person - affiliate 
 members</span></span></span></span></span></span></span></span></span></spa
 n></span></span></span></p><p><span style="font-family: tahoma, arial, helv
 etica, sans-serif; font-size: 12pt; color: #000000;"><span style="font-fami
 ly: Tahoma;"><span style="font-family: Tahoma;"><span style="font-family: T
 ahoma;"><span style="font-family: Tahoma;"><span style="font-family: Tahoma
 ;"><span style="font-family: Tahoma;"><span style="font-family: Tahoma;"><s
 pan style="font-family: Tahoma;"><span style="font-family: Tahoma;"><span s
 tyle="font-family: Tahoma;"><span style="font-family: Tahoma;"><span style=
 "font-family: Tahoma;">$380/person - non-members</span></span></span></span
 ></span></span></span></span></span></span></span></span></span></p><p><spa
 n style="font-family: tahoma, arial, helvetica, sans-serif; font-size: 12pt
 ; color: #ffffff;"><span><span style="font-family: Tahoma;"><span style="fo
 nt-family: Tahoma;"><span style="font-family: Tahoma;"><span style="font-fa
 mily: Tahoma;"><span style="font-family: Tahoma;"><span style="font-family:
  Tahoma;"><span style="font-family: Tahoma;"><span style="font-family: Taho
 ma;"><span style="font-family: Tahoma;"><span style="font-family: Tahoma;">
 <span style="font-family: Tahoma;"><em><span style="font-family: Tahoma;">Â
 Â&nbsp;</span></em></span></span></span></span></span></span></span></span>
 </span></span></span></span></span></p><p><span style="font-size: 12pt; col
 or: #000000;"><strong><em><span style="font-family: Tahoma;">Course fees do
  not include lunch</span></em></strong></span></p><p>&nbsp;</p><p style="ma
 rgin-top: 0in; margin-right: 0in; margin-bottom: 0pt;"><strong><i><span sty
 le="background: white; color: #02613f; font-family: Georgia, 'serif';"><spa
 n style="font-size: small;">**Special note</span></span></i></strong><stron
 g><i><span style="background: white; color: black; font-family: Georgia, 's
 erif';"><span style="font-size: small;">&nbsp;-&nbsp;if you wish to become 
 an Affiliate Member, and&nbsp;save&nbsp;off the non-member rate, please con
 tact Karen McMahon (315-701-0440,&nbsp;</span><span id="cloak34644a61a6d18f
 9589b4df102fc39bd1">This email address is being protected from spambots. Yo
 u need JavaScript enabled to view it.</span><script type='text/javascript'>
 
				document.getElementById('cloak34644a61a6d18f9589b4df102fc39bd1').inner
 HTML = '';
				var prefix = 'ma' + 'il' + 'to';
				var path = 'hr' + 'ef' 
 + '=';
				var addy34644a61a6d18f9589b4df102fc39bd1 = 'kmcmahon' + '@';
			
 	addy34644a61a6d18f9589b4df102fc39bd1 = addy34644a61a6d18f9589b4df102fc39bd
 1 + 'nyswda' + '.' + 'org';
				var addy_text34644a61a6d18f9589b4df102fc39b
 d1 = '<span style="color: #0000ff; font-size: small;">kmcmahon' + '@' + 'ny
 swda' + '.' + 'org</span>';document.getElementById('cloak34644a61a6d18f9589
 b4df102fc39bd1').innerHTML += '<a ' + path + '\'' + prefix + ':' + addy3464
 4a61a6d18f9589b4df102fc39bd1 + '\'>'+addy_text34644a61a6d18f9589b4df102fc39
 bd1+'<\/a>';
		</script><span style="font-size: small;">)&nbsp;</span></spa
 n></i></strong><span style="font-size: small;"><strong><span style="backgro
 und: white; color: #02613f; font-family: Georgia, 'serif';">BEFORE YOU REGI
 STER&nbsp;</span></strong><em><b><span style="background: white; color: bla
 ck; font-family: Georgia, 'serif';">for the course</span></b></em><strong><
 span style="background: white; color: black; font-family: Georgia, 'serif';
 ">.</span></strong></span></p><p>&nbsp;</p><p><span style="color: #0000ff;"
 ><em><strong><strong><span style="color: #ffffff; font-family: tahoma,arial
 ,helvetica,sans-serif; font-size: 14pt;"><span style="color: #ff0000;">CLAS
 S FULL - call or email</span>&nbsp; <span id="cloak5bdc375864773908c99bef7a
 9633689a">This email address is being protected from spambots. You need Jav
 aScript enabled to view it.</span><script type='text/javascript'>
				docum
 ent.getElementById('cloak5bdc375864773908c99bef7a9633689a').innerHTML = '';
 
				var prefix = 'ma' + 'il' + 'to';
				var path = 'hr' + 'ef' + '=';
			
 	var addy5bdc375864773908c99bef7a9633689a = 'rvisser' + '@';
				addy5bdc37
 5864773908c99bef7a9633689a = addy5bdc375864773908c99bef7a9633689a + 'nyswda
 ' + '.' + 'org';
				var addy_text5bdc375864773908c99bef7a9633689a = '<span
  style="color: #0066cc;">rvisser' + '@' + 'nyswda' + '.' + 'org</span>';doc
 ument.getElementById('cloak5bdc375864773908c99bef7a9633689a').innerHTML += 
 '<a ' + path + '\'' + prefix + ':' + addy5bdc375864773908c99bef7a9633689a +
  '\'>'+addy_text5bdc375864773908c99bef7a9633689a+'<\/a>';
		</script> <span
  style="color: #ff0000;">for availability or wait list</span></span><em></e
 m><span style="font-family: tahoma, arial, helvetica, sans-serif; font-size
 : 14pt;"></span></strong><span style="font-family: Tahoma;"></span><span st
 yle="font-family: Times;"></span><span style="font-family: Tahoma;"></span>
 <span style="font-family: Tahoma;"></span><span style="font-family: Tahoma;
 "></span><span style="font-family: Tahoma;"></span><span style="font-family
 : Times;"></span><span style="font-family: Tahoma;"></span><span style="fon
 t-family: Tahoma;"></span><span style="font-family: Tahoma;"></span><span s
 tyle="font-family: Tahoma;"></span><span style="font-family: Tahoma;"></spa
 n><span style="font-family: Tahoma;"></span><span style="font-family: Tahom
 a;"></span><span style="font-family: Tahoma;"></span><span style="font-fami
 ly: Tahoma;"></span><span style="font-family: Tahoma;"></span><span style="
 font-family: Tahoma;"></span><span style="font-family: Tahoma;"></span><spa
 n style="font-family: Tahoma;"></span><span style="font-family: Times;"></s
 pan><span style="font-family: Arial, Helvetica;"></span><span style="font-f
 amily: Tahoma;"></span><span style="font-family: Tahoma;"></span><span styl
 e="font-size: 14pt;"></span><em></em><span style="color: #0000ff;"></span><
 /strong></em></span></p><p>&nbsp;</p>
CONTACT:This email address is being protected from spambots. You need JavaScript enabled to view it.
				document.getElementById('cloakb7019e0192cc260f4e0fe5b43d1d0aab').innerHTML = '';
				var prefix = '&#109;a' + 'i&#108;' + '&#116;o';
				var path = 'hr' + 'ef' + '=';
				var addyb7019e0192cc260f4e0fe5b43d1d0aab = 'rv&#105;ss&#101;r' + '&#64;';
				addyb7019e0192cc260f4e0fe5b43d1d0aab = addyb7019e0192cc260f4e0fe5b43d1d0aab + 'nyswd&#97;' + '&#46;' + '&#111;rg';
				var addy_textb7019e0192cc260f4e0fe5b43d1d0aab = 'rv&#105;ss&#101;r' + '&#64;' + 'nyswd&#97;' + '&#46;' + '&#111;rg';document.getElementById('cloakb7019e0192cc260f4e0fe5b43d1d0aab').innerHTML += '<a ' + path + '\'' + prefix + ':' + addyb7019e0192cc260f4e0fe5b43d1d0aab + '\'>'+addy_textb7019e0192cc260f4e0fe5b43d1d0aab+'';
		
DTSTAMP:20260424T030335
DTSTART;TZID=America/New_York:20250709T090000
DTEND;TZID=America/New_York:20250709T160000
SEQUENCE:0
TRANSP:OPAQUE
END:VEVENT
END:VCALENDAR