BEGIN:VCALENDAR
VERSION:2.0
PRODID:-//jEvents 2.0 for Joomla//EN
CALSCALE:GREGORIAN
METHOD:PUBLISH
BEGIN:VTIMEZONE
TZID:America/New_York
BEGIN:STANDARD
DTSTART:20241103T010000
RDATE:20250309T030000
TZOFFSETFROM:-0400
TZOFFSETTO:-0500
TZNAME:America/New_York EST
END:STANDARD
BEGIN:STANDARD
DTSTART:20251102T010000
RDATE:20260308T030000
TZOFFSETFROM:-0400
TZOFFSETTO:-0500
TZNAME:America/New_York EST
END:STANDARD
BEGIN:STANDARD
DTSTART:20261101T010000
RDATE:20270314T030000
TZOFFSETFROM:-0400
TZOFFSETTO:-0500
TZNAME:America/New_York EST
END:STANDARD
BEGIN:STANDARD
DTSTART:20271107T010000
RDATE:20280312T030000
TZOFFSETFROM:-0400
TZOFFSETTO:-0500
TZNAME:America/New_York EST
END:STANDARD
BEGIN:STANDARD
DTSTART:20281105T010000
RDATE:20290311T030000
TZOFFSETFROM:-0400
TZOFFSETTO:-0500
TZNAME:America/New_York EST
END:STANDARD
BEGIN:STANDARD
DTSTART:20291104T010000
RDATE:20300310T030000
TZOFFSETFROM:-0400
TZOFFSETTO:-0500
TZNAME:America/New_York EST
END:STANDARD
BEGIN:STANDARD
DTSTART:20301103T010000
RDATE:20310309T030000
TZOFFSETFROM:-0400
TZOFFSETTO:-0500
TZNAME:America/New_York EST
END:STANDARD
BEGIN:DAYLIGHT
DTSTART:20240713T090000
RDATE:20241103T010000
TZOFFSETFROM:-0500
TZOFFSETTO:-0400
TZNAME:America/New_York EDT
END:DAYLIGHT
BEGIN:DAYLIGHT
DTSTART:20250309T030000
RDATE:20251102T010000
TZOFFSETFROM:-0500
TZOFFSETTO:-0400
TZNAME:America/New_York EDT
END:DAYLIGHT
BEGIN:DAYLIGHT
DTSTART:20260308T030000
RDATE:20261101T010000
TZOFFSETFROM:-0500
TZOFFSETTO:-0400
TZNAME:America/New_York EDT
END:DAYLIGHT
BEGIN:DAYLIGHT
DTSTART:20270314T030000
RDATE:20271107T010000
TZOFFSETFROM:-0500
TZOFFSETTO:-0400
TZNAME:America/New_York EDT
END:DAYLIGHT
BEGIN:DAYLIGHT
DTSTART:20280312T030000
RDATE:20281105T010000
TZOFFSETFROM:-0500
TZOFFSETTO:-0400
TZNAME:America/New_York EDT
END:DAYLIGHT
BEGIN:DAYLIGHT
DTSTART:20290311T030000
RDATE:20291104T010000
TZOFFSETFROM:-0500
TZOFFSETTO:-0400
TZNAME:America/New_York EDT
END:DAYLIGHT
BEGIN:DAYLIGHT
DTSTART:20300310T030000
RDATE:20301103T010000
TZOFFSETFROM:-0500
TZOFFSETTO:-0400
TZNAME:America/New_York EDT
END:DAYLIGHT
END:VTIMEZONE
BEGIN:VEVENT
UID:7540b60536ce7f9e0fdb8224e74f5234
CATEGORIES:At Syracuse
CREATED:20250528T110959
SUMMARY:BPI Heating Professional
LOCATION:NYSWDA Training Center - East Syracuse
DESCRIPTION:BPI Heating Professional\n
 \n
Training Location: NYSWDA Training Center (B
 uilding 1) – 5869 Fisher Road, East Syracuse, NY 13057\n
 \n
 \n
Course Des
 cription:\nThis four day course, which includes classroom and heating lab s
 essions, will prepare you to take the BPI Heating Professional written and 
 field tests. Using NYSWDA's state-of-the art Heating Lab, attendees will tr
 ain on 15 of the most common residential heating systems, from 70% efficien
 t atmospheric furnaces to 90%+ efficient two-stage ECM blower furnaces. Add
 itionally, trainees will become knowledgeable on gas and oil-fired hydronic
  boilers, their controls and components. Attendees will be introduced to sy
 stem load and sizing concepts, system design, duct system diagnostics, and 
 proper maintenance and efficiency analysis. This is a challenging course, a
 nd as such, NYSWDA strongly recommends that attendees hold BPI Building Ana
 lyst certification and have strong HVAC experience. After the trainees succ
 essfully complete the written portion of the test, we will schedule them to
  return for the field test.  Candidates have one year from the time they pa
 ss the written test to complete their field test.  \n
\nAgenda \nDay 1: AM 
 - classroom / PM - Heating Lab \nDay 2: AM - classroom / PM - Heating Lab \
 nDay 3: AM - all day labs \nDay 4: AM - review / PM - written test \n\n\nWh
 o Should Attend:\nAuditors, Building Analysts, HVAC professionals\n\n\nDate
 s;\nCourse covers the dates of July 14-17, 2025\n
Start Time: Monday-Thursd
 ay 9:00am\nEnd Time: Monday-Wednesday 4:00pm / Thursday test starts at abou
 t 10:00am (or after the review session) with 1 1/2 hours to complete\n\n\nP
 rerequisites: those holding a current BPI certification are eligible to tak
 e a 50 question test.  All others would have to sit for a 100 question test
  (50 questions being relevant to course content and 50 questions on buildin
 g science which is not included in the course curriculum)\n\n\nClass Size: 
 8\n\n\nBPI CEU: 6\n\n\nInstructors:\nDave Hill / NYSWDA HVAC trainer\n\n\nC
 ourse Fees;\n$725/person - NY Weatherization Sub-grantees \n$725/person - a
 ffiliate members \n$1,450/person - non-members \n
 \n
**Special note - if y
 ou wish to become an Affiliate Member and save off the non-member rate, ple
 ase contact Karen McMahon (315-701-0440 ext. 223, This email address is bei
 ng protected from spambots. You need JavaScript enabled to view it.
				doc
 ument.getElementById('cloak0907c01e39f785bb7539595a83a9523f').innerHTML = '
 ';
				var prefix = 'ma' + 'il' + 'to';
				var path = 'hr' + 'ef' + '=';
	
 			var addy0907c01e39f785bb7539595a83a9523f = 'kmcmahon' + '@';
				addy090
 7c01e39f785bb7539595a83a9523f = addy0907c01e39f785bb7539595a83a9523f + 'nys
 wda' + '.' + 'org';
				var addy_text0907c01e39f785bb7539595a83a9523f = 'km
 cmahon' + '@' + 'nyswda' + '.' + 'org';document.getElementById('cloak0907c0
 1e39f785bb7539595a83a9523f').innerHTML += '<a ' + path + '\'' + prefix + ':
 ' + addy0907c01e39f785bb7539595a83a9523f + '\'>'+addy_text0907c01e39f785bb7
 539595a83a9523f+'';
		) BEFORE YOU REGISTER for the course.\n
 \n
NYSWDA wi
 ll not be responsible for hotel costs, travel to and from the training, bre
 akfast and dinner meals, or incidentals. Lunches are ARE NOT included.\n\n(
 Financial assistance may be available from local NYS Department of Labor On
 e-Stop Centers)\n\nBPI Fees;\n$220/person - 50-question written test\n$550/
 person - Field test\n
 \n
CLASS FULL - call or email  This email address is
  being protected from spambots. You need JavaScript enabled to view it.
			
 	document.getElementById('cloak94c3dc5db20c2e0d696402baf1a8f6de').innerHTML
  = '';
				var prefix = 'ma' + 'il' + 'to';
				var path = 'hr' + 'ef' + '=
 ';
				var addy94c3dc5db20c2e0d696402baf1a8f6de = 'rvisser' + '@';
				addy
 94c3dc5db20c2e0d696402baf1a8f6de = addy94c3dc5db20c2e0d696402baf1a8f6de + '
 nyswda' + '.' + 'org';
				var addy_text94c3dc5db20c2e0d696402baf1a8f6de = 
 'rvisser' + '@' + 'nyswda' + '.' + 'org';document.getElementById('cloak94c3
 dc5db20c2e0d696402baf1a8f6de').innerHTML += '<a ' + path + '\'' + prefix + 
 ':' + addy94c3dc5db20c2e0d696402baf1a8f6de + '\'>'+addy_text94c3dc5db20c2e0
 d696402baf1a8f6de+'';
		 for availability or wait list\n
X-ALT-DESC;FMTTYPE=text/html:<p><span style="color: #336699;"><strong><span style="font-family: Tahoma;"
 ><span style="font-size: medium;"><span style="font-family: tahoma,arial,he
 lvetica,sans-serif;"><em></em></span><span style="font-size: 14pt;"><strong
 ><span style="color: #336699;">BPI Heating Professional</span></strong></sp
 an></span></span></strong></span></p><p>&nbsp;</p><p><span style="color: #3
 36699;"><strong><span style="font-family: Tahoma;"><span style="font-size: 
 medium;"><strong><span style="color: #336699; font-size: 13.5pt;">Training<
 /span><span style="color: #336699; font-size: 13.5pt;"> Location: NYSWDA Tr
 aining Center (Building 1) – 5869 Fisher Road, East Syracuse, NY 13057</spa
 n></strong></span></span></strong></span></p><p>&nbsp;</p><p>&nbsp;</p><p><
 span style="color: #ff0000;"><span style="font-family: tahoma, arial, helve
 tica, sans-serif; font-size: 12pt; color: #000000;"></span></span><span sty
 le="color: #336699;"><span style="font-family: Tahoma; font-size: 12pt;"><s
 pan style="color: #000000;"><span style="text-decoration: underline;"><em><
 span>Course Description:<br /></span></em></span></span></span></span><span
  style="color: #336699;"><span style="font-family: Tahoma; font-size: 12pt;
 "><span style="color: #000000;"><span>This four day course, which includes 
 classroom and heating lab sessions, will prepare you to take the BPI Heatin
 g Professional written and field tests. Using NYSWDA's state-of-the art Hea
 ting Lab, attendees will train on 15 of the most common residential heating
  systems, from 70% efficient atmospheric furnaces to 90%+ efficient two-sta
 ge ECM blower furnaces. Additionally, trainees will become knowledgeable on
  gas and oil-fired hydronic boilers, their controls and components. Attende
 es will be introduced to system load and sizing concepts, system design, du
 ct system diagnostics, and proper maintenance and efficiency analysis. This
  is a challenging course, and as such, NYSWDA strongly recommends that atte
 ndees hold BPI Building Analyst certification and have strong HVAC experien
 ce. After the trainees successfully complete the written portion of the tes
 t, we will schedule them to return for the field test.&nbsp; Candidates hav
 e&nbsp;one year from the time they&nbsp;pass the written test to&nbsp;compl
 ete their field test.&nbsp;&nbsp;</span></span></span></span></p><p><span s
 tyle="color: #336699;"><span style="font-family: Tahoma; font-size: 12pt;">
 <span><span style="color: #000000;"><span><span style="font-family: Tahoma;
 "><span style="color: #000000;"><span style="text-decoration: underline;"><
 em><br />Agenda</em><span style="font-family: Arial, Helvetica;"> <br /><sp
 an style="color: #000000;"></span></span></span><span style="font-family: A
 rial, Helvetica;"><span style="color: #000000;"><span style="font-family: T
 imes;"><strong><span style="font-family: Tahoma;">Day 1: </span></strong><s
 pan style="font-family: Tahoma;">AM - classroom / PM - Heating Lab <br /><s
 trong>Day 2: </strong>AM - classroom / PM - Heating Lab <br /><strong>Day 3
 : </strong>AM - all day labs <br /><strong>Day 4: </strong>AM - review / PM
  - written test <br /><br /><span style="text-decoration: underline;"><em><
 br />Who Should Attend:<br /></em></span><em><span style="font-family: Taho
 ma;"></span></em><span style="font-family: Tahoma;"><span style="font-famil
 y: Tahoma;">Auditors, Building Analysts, HVAC professionals<span style="fon
 t-family: Tahoma;"><br /><br /><br /><span style="text-decoration: underlin
 e;"><em><span style="font-family: Tahoma;">Dates;<br /></span></em></span><
 em><span style="font-family: Tahoma;"><span style="font-family: Tahoma;"></
 span></span></em><span style="font-family: Tahoma;"><span style="font-famil
 y: Tahoma;">Course covers the dates of July 14-17, 2025</span></span></span
 ></span></span></span></span></span></span></span></span></span></span></sp
 an></span></span></p><p><span style="color: #336699;"><span style="font-fam
 ily: Tahoma; font-size: 12pt;"><span><span style="color: #000000;"><span><s
 pan style="font-family: Tahoma;"><span style="color: #000000;"><span style=
 "font-family: Arial, Helvetica;"><span style="color: #000000;"><span style=
 "font-family: Times;"><span style="font-family: Tahoma;"><span style="font-
 family: Tahoma;"><span style="font-family: Tahoma;"><span style="font-famil
 y: Tahoma;"><span style="font-family: Tahoma;"><span style="font-family: Ta
 homa;"><span style="color: #336699;"><span style="font-family: Tahoma; font
 -size: 12pt;"><span><span style="color: #000000;"><span><span style="font-f
 amily: Tahoma;"><span style="color: #000000;"><span style="font-family: Ari
 al, Helvetica;"><span style="color: #000000;"><span style="font-family: Tim
 es;"><span style="font-family: Tahoma;"><span style="font-family: Tahoma;">
 <span style="font-family: Tahoma;"><span style="font-family: Tahoma;"><span
  style="font-family: Tahoma;"><span style="font-family: Tahoma;">Start Time
 : Monday-Thursday 9:00am<br />End Time: Monday-Wednesday 4:00pm / Thursday 
 test starts at about 10:00am (or after the review session) with 1 1/2 hours
  to complete<br /><br /><br /><span style="text-decoration: underline;"><em
 ><span style="font-family: Tahoma;">Prerequisites:</span></em></span><em><s
 pan style="font-family: Tahoma;"> </span></em><span style="font-family: Tah
 oma;"><span style="font-family: Tahoma;">those holding a current BPI certif
 ication are eligible to take a 50 question test.&nbsp; All others would hav
 e to sit for a 100 question test (50 questions being relevant to course con
 tent and 50 questions on building science which is not included in the cour
 se curriculum)<em><span style="font-family: Tahoma;"><br /></span></em><spa
 n style="font-family: Tahoma;"><span style="font-family: Tahoma;"><br /><br
  /><span style="text-decoration: underline;"><em>Class Size</em></span>: 8<
 br /><br /><br /><span style="text-decoration: underline;"><em>BPI CEU</em>
 :</span> 6<br /><br /><br /><span style="text-decoration: underline;"><em><
 span style="font-family: Tahoma;">Instructors:<br /></span></em></span><spa
 n style="font-family: Tahoma;">Dave Hill / NYSWDA HVAC trainer<span style="
 font-family: Tahoma;"><span style="font-family: Tahoma;"><span style="font-
 family: Times;"><br /><span style="font-family: Tahoma;"><br /><br /><span 
 style="text-decoration: underline;"><em><span style="font-family: Tahoma;">
 Course Fees;</span></em></span><em><span style="font-family: Tahoma;"><br /
 ></span></em><span style="font-family: Tahoma;"><span style="font-family: T
 ahoma;">$725/person - NY Weatherization Sub-grantees<span style="color: #ff
 6600;"> </span><br />$725/person - affiliate members&nbsp;<br />$1,450/pers
 on - non-members </span></span></span></span></span></span></span></span></
 span></span></span></span></span></span></span></span></span></span></span>
 </span></span></span></span></span></span></span></span></span></span></spa
 n></span></span></span></span></span></span></span></span></span></span></s
 pan></span></span></p><p>&nbsp;</p><p style="margin-top: 0in; margin-right:
  0in; margin-bottom: 0pt;"><strong><i><span style="background: white; color
 : #02613f; font-family: 'Georgia','serif';"><span style="font-size: small;"
 >**Special note</span></span></i></strong><strong><i><span style="backgroun
 d: white; color: black; font-family: 'Georgia','serif';"><span style="font-
 size: small;">&nbsp;-&nbsp;if you wish to become an Affiliate Member and&nb
 sp;save off the non-member rate, please contact&nbsp;Karen McMahon (315-701
 -0440 ext. 223,&nbsp;</span><span id="cloak0907c01e39f785bb7539595a83a9523f
 ">This email address is being protected from spambots. You need JavaScript 
 enabled to view it.</span><script type='text/javascript'>
				document.getE
 lementById('cloak0907c01e39f785bb7539595a83a9523f').innerHTML = '';
				var
  prefix = 'ma' + 'il' + 'to';
				var path = 'hr' + 'ef' + '=';
				var add
 y0907c01e39f785bb7539595a83a9523f = 'kmcmahon' + '@';
				addy0907c01e39f78
 5bb7539595a83a9523f = addy0907c01e39f785bb7539595a83a9523f + 'nyswda' + '.'
  + 'org';
				var addy_text0907c01e39f785bb7539595a83a9523f = '<span style=
 "color: #0000ff; font-size: small;">kmcmahon' + '@' + 'nyswda' + '.' + 'org
 </span>';document.getElementById('cloak0907c01e39f785bb7539595a83a9523f').i
 nnerHTML += '<a ' + path + '\'' + prefix + ':' + addy0907c01e39f785bb753959
 5a83a9523f + '\'>'+addy_text0907c01e39f785bb7539595a83a9523f+'<\/a>';
		</s
 cript><span style="font-size: small;">)&nbsp;</span></span></i></strong><sp
 an style="font-size: small;"><strong><span style="background: white; color:
  #02613f; font-family: 'Georgia','serif';">BEFORE YOU REGISTER&nbsp;</span>
 </strong><em><b><span style="background: white; color: black; font-family: 
 'Georgia','serif';">for the course</span></b></em><strong><span style="back
 ground: white; color: black; font-family: 'Georgia','serif';">.</span></str
 ong></span></p><p>&nbsp;</p><p><span style="color: #ff6600; font-family: ta
 homa,arial,helvetica,sans-serif; font-size: 12pt;"><span style="font-family
 : Times New Roman; font-size: small;"></span></span><span style="color: #33
 6699;"><span style="font-family: Tahoma; font-size: 12pt;"><span><span styl
 e="color: #000000;"><span><span style="font-family: Tahoma;"><span style="c
 olor: #000000;"><span style="font-family: Arial, Helvetica;"><span style="c
 olor: #000000;"><span style="font-family: Times;"><span style="font-family:
  Tahoma;"><span style="font-family: Tahoma;"><span style="font-family: Taho
 ma;"><span style="font-family: Tahoma;"><span style="font-family: Tahoma;">
 <span style="font-family: Tahoma;"><span style="font-family: Tahoma;"><span
  style="font-family: Tahoma;"><span style="font-family: Tahoma;"><span styl
 e="font-family: Tahoma;"><span style="font-family: Tahoma;"><span style="fo
 nt-family: Tahoma;"><span style="font-family: Tahoma;"><span style="font-fa
 mily: Times;"><span style="font-family: Tahoma;"><span style="font-family: 
 Tahoma;"><span style="font-family: Tahoma;"><span style="font-family: Tahom
 a;">NYSWDA will not be responsible for hotel costs, travel to and from the 
 training, breakfast and dinner meals, or incidentals. Lunches are ARE NOT i
 ncluded.<br /><br /><em>(Financial assistance may be available from local N
 YS Department of Labor One-Stop Centers)</em><span style="font-family: Time
 s;"><br /><span style="font-family: Tahoma;"><br /><span style="text-decora
 tion: underline;"><em>BPI Fees;<br /></em></span><span style="font-family: 
 Tahoma;">$220/person - 50-question written test<br />$550/person - Field te
 st</span></span></span></span></span></span></span></span></span></span></s
 pan></span></span></span></span></span></span></span></span></span></span><
 /span></span></span></span></span></span></span></span></span></span></p><p
 >&nbsp;</p><p><span style="color: #0000ff;"><em><strong><span style="font-s
 ize: 14pt;"><span style="font-family: Tahoma;"><span style="font-family: Ta
 homa;"><span style="font-family: Arial, Helvetica;"><span style="font-famil
 y: Times;"><span style="font-family: Tahoma;"><span style="font-family: Tah
 oma;"><span style="font-family: Tahoma;"><span style="font-family: Tahoma;"
 ><span style="font-family: Tahoma;"><span style="font-family: Tahoma;"><spa
 n style="font-family: Tahoma;"><span style="font-family: Tahoma;"><span sty
 le="font-family: Tahoma;"><span style="font-family: Tahoma;"><span style="f
 ont-family: Tahoma;"><span style="font-family: Tahoma;"><span style="font-f
 amily: Tahoma;"><span style="font-family: Times;"><span style="font-family:
  Tahoma;"><span style="font-family: Tahoma;"><span style="font-family: Taho
 ma;"><span style="font-family: Tahoma;"><span style="font-family: Times;"><
 span style="font-family: Tahoma;"><strong><span style="color: #ffffff; font
 -family: tahoma,arial,helvetica,sans-serif; font-size: 14pt;"><span style="
 color: #ff0000;">CLASS FULL - call or email</span>&nbsp; <span id="cloak94c
 3dc5db20c2e0d696402baf1a8f6de">This email address is being protected from s
 pambots. You need JavaScript enabled to view it.</span><script type='text/j
 avascript'>
				document.getElementById('cloak94c3dc5db20c2e0d696402baf1a8f
 6de').innerHTML = '';
				var prefix = 'ma' + 'il' + 'to';
				var path = '
 hr' + 'ef' + '=';
				var addy94c3dc5db20c2e0d696402baf1a8f6de = 'rvisser' 
 + '@';
				addy94c3dc5db20c2e0d696402baf1a8f6de = addy94c3dc5db20c2e0d69640
 2baf1a8f6de + 'nyswda' + '.' + 'org';
				var addy_text94c3dc5db20c2e0d6964
 02baf1a8f6de = '<span style="color: #0066cc;">rvisser' + '@' + 'nyswda' + '
 .' + 'org</span>';document.getElementById('cloak94c3dc5db20c2e0d696402baf1a
 8f6de').innerHTML += '<a ' + path + '\'' + prefix + ':' + addy94c3dc5db20c2
 e0d696402baf1a8f6de + '\'>'+addy_text94c3dc5db20c2e0d696402baf1a8f6de+'<\/a
 >';
		</script> <span style="color: #ff0000;">for availability or wait list
 </span></span><em></em><span style="font-family: tahoma, arial, helvetica, 
 sans-serif; font-size: 14pt;"></span></strong><em></em><span style="color: 
 #0000ff;"></span></span></span></span></span></span></span></span></span></
 span></span></span></span></span></span></span></span></span></span></span>
 </span></span></span></span></span></span></strong></em></span></p>
CONTACT:This email address is being protected from spambots. You need JavaScript enabled to view it.
				document.getElementById('cloak18a9fbf6890d5918af1eb213f3ccc733').innerHTML = '';
				var prefix = '&#109;a' + 'i&#108;' + '&#116;o';
				var path = 'hr' + 'ef' + '=';
				var addy18a9fbf6890d5918af1eb213f3ccc733 = 'rv&#105;ss&#101;r' + '&#64;';
				addy18a9fbf6890d5918af1eb213f3ccc733 = addy18a9fbf6890d5918af1eb213f3ccc733 + 'nyswd&#97;' + '&#46;' + '&#111;rg';
				var addy_text18a9fbf6890d5918af1eb213f3ccc733 = 'rv&#105;ss&#101;r' + '&#64;' + 'nyswd&#97;' + '&#46;' + '&#111;rg';document.getElementById('cloak18a9fbf6890d5918af1eb213f3ccc733').innerHTML += '<a ' + path + '\'' + prefix + ':' + addy18a9fbf6890d5918af1eb213f3ccc733 + '\'>'+addy_text18a9fbf6890d5918af1eb213f3ccc733+'';
		
DTSTAMP:20260424T025145
DTSTART;TZID=America/New_York:20250714T090000
DTEND;TZID=America/New_York:20250717T170000
SEQUENCE:0
TRANSP:OPAQUE
END:VEVENT
END:VCALENDAR