BEGIN:VCALENDAR
VERSION:2.0
PRODID:-//jEvents 2.0 for Joomla//EN
CALSCALE:GREGORIAN
METHOD:PUBLISH
BEGIN:VTIMEZONE
TZID:America/New_York
BEGIN:STANDARD
DTSTART:20241103T010000
RDATE:20250309T030000
TZOFFSETFROM:-0400
TZOFFSETTO:-0500
TZNAME:America/New_York EST
END:STANDARD
BEGIN:STANDARD
DTSTART:20251102T010000
RDATE:20260308T030000
TZOFFSETFROM:-0400
TZOFFSETTO:-0500
TZNAME:America/New_York EST
END:STANDARD
BEGIN:STANDARD
DTSTART:20261101T010000
RDATE:20270314T030000
TZOFFSETFROM:-0400
TZOFFSETTO:-0500
TZNAME:America/New_York EST
END:STANDARD
BEGIN:STANDARD
DTSTART:20271107T010000
RDATE:20280312T030000
TZOFFSETFROM:-0400
TZOFFSETTO:-0500
TZNAME:America/New_York EST
END:STANDARD
BEGIN:STANDARD
DTSTART:20281105T010000
RDATE:20290311T030000
TZOFFSETFROM:-0400
TZOFFSETTO:-0500
TZNAME:America/New_York EST
END:STANDARD
BEGIN:STANDARD
DTSTART:20291104T010000
RDATE:20300310T030000
TZOFFSETFROM:-0400
TZOFFSETTO:-0500
TZNAME:America/New_York EST
END:STANDARD
BEGIN:STANDARD
DTSTART:20301103T010000
RDATE:20310309T030000
TZOFFSETFROM:-0400
TZOFFSETTO:-0500
TZNAME:America/New_York EST
END:STANDARD
BEGIN:DAYLIGHT
DTSTART:20240713T090000
RDATE:20241103T010000
TZOFFSETFROM:-0500
TZOFFSETTO:-0400
TZNAME:America/New_York EDT
END:DAYLIGHT
BEGIN:DAYLIGHT
DTSTART:20250309T030000
RDATE:20251102T010000
TZOFFSETFROM:-0500
TZOFFSETTO:-0400
TZNAME:America/New_York EDT
END:DAYLIGHT
BEGIN:DAYLIGHT
DTSTART:20260308T030000
RDATE:20261101T010000
TZOFFSETFROM:-0500
TZOFFSETTO:-0400
TZNAME:America/New_York EDT
END:DAYLIGHT
BEGIN:DAYLIGHT
DTSTART:20270314T030000
RDATE:20271107T010000
TZOFFSETFROM:-0500
TZOFFSETTO:-0400
TZNAME:America/New_York EDT
END:DAYLIGHT
BEGIN:DAYLIGHT
DTSTART:20280312T030000
RDATE:20281105T010000
TZOFFSETFROM:-0500
TZOFFSETTO:-0400
TZNAME:America/New_York EDT
END:DAYLIGHT
BEGIN:DAYLIGHT
DTSTART:20290311T030000
RDATE:20291104T010000
TZOFFSETFROM:-0500
TZOFFSETTO:-0400
TZNAME:America/New_York EDT
END:DAYLIGHT
BEGIN:DAYLIGHT
DTSTART:20300310T030000
RDATE:20301103T010000
TZOFFSETFROM:-0500
TZOFFSETTO:-0400
TZNAME:America/New_York EDT
END:DAYLIGHT
END:VTIMEZONE
BEGIN:VEVENT
UID:242cc751004c158da86c6b15ec49507a
CATEGORIES:At Syracuse
CREATED:20250528T113652
SUMMARY:Boot Camp for Weatherization Installers
LOCATION:NYSWDA Training Center - East Syracuse
DESCRIPTION:<p><strong><span style="font-family: Tahoma, sans-serif; color: #336699; fo
 nt-size: 13.5pt;">Boot Camp</span></strong></p><p>&nbsp;</p><p><strong><spa
 n style="font-family: Tahoma, sans-serif; color: #336699; font-size: 13.5pt
 ;">Training Location: NYSWDA Training Center (Building 2) - 5869 Fisher Roa
 d, East Syracuse, NY 13057</span></strong></p><p>&nbsp;</p><p><span style="
 color: #000000;"><em><span style="text-decoration: underline;"><span style=
 "font-family: Tahoma, sans-serif;"><span style="font-size: 12pt;">Who Shoul
 d Attend;<br /></span></span></span></em><span style="font-family: Tahoma, 
 sans-serif;"><span style="font-size: 12pt;">Entry level field staff and wea
 therization contractors - see detailed below.</span></span></span></p><p><s
 pan style="color: #000000;"><span style="font-family: Tahoma, sans-serif;">
 <span style="font-size: 12pt;"></span></span>&nbsp;</span></p><p><span styl
 e="color: #000000;"><em><span style="text-decoration: underline;"><span sty
 le="font-family: Tahoma, sans-serif;"><span style="font-size: 12pt;">Course
 </span></span></span><span style="text-decoration: underline;"><span style=
 "font-family: Tahoma, sans-serif;"><span style="font-size: 12pt;"> Descript
 ion</span></span></span></em><span style="font-family: Tahoma, sans-serif;"
 ><span style="font-size: 12pt;">;<br /></span></span><span style="font-fami
 ly: Tahoma, sans-serif; font-size: 12pt;">This intensive 4-day training bas
 ed at NYSWDA's Energy Efficiency Training Center (Building 2) in East Syrac
 use, is a great introduction to building science principles and hands-on ai
 r sealing, dense pack and loose fill cellulose insulation installation. Usi
 ng our state-of-the-art realistic wall, ceiling and attic props, trainees w
 ill learn the techniques needed to effectively weatherize our clients' home
 s.</span></span></p><p><span style="font-family: Tahoma, sans-serif; color:
  #000000; font-size: 12pt;"></span></p><p><span style="font-family: Tahoma,
  sans-serif; color: #000000; font-size: 12pt;">During this course, the trai
 nees will be introduced to both HCR and BPI standards and regulations on He
 alth &amp; Safety, Lead Safe work practices and safe and proper use of tool
 s and equipment. Trainees will also become proficient on the set up of blow
 er doors and understand basic use of an infrared camera during air sealing 
 operations.</span></p><p>&nbsp;</p><p><span style="font-family: Tahoma, san
 s-serif; color: #000000; font-size: 12pt;"></span></p><p><span style="font-
 family: Tahoma, sans-serif; color: #000000; font-size: 12pt;">All three HCR
  mandatory trainings are covered in this course: </span></p><ul><li style="
 color: black;"><span style="font-family: Tahoma, sans-serif; font-size: 12p
 t; color: #000000;">Air Sealing - mandatory for WX directors, energy audito
 rs, post inspectors, crew chiefs and crew personnel</span></li><li style="c
 olor: black;"><span style="font-family: Tahoma, sans-serif; font-size: 12pt
 ; color: #000000;">Health &amp; Safety - mandatory for WX directors, energy
  auditors, post inspectors, crew chiefs and heating technicians</span></li>
 <li><span style="font-family: Tahoma, sans-serif; color: #000000; font-size
 : 12pt;">Lead Safe Weatherization - mandatory for all employees who may com
 e in contact with lead based paint while performing their duties<br /><br /
 ></span></li></ul><p><span style="font-family: Tahoma, sans-serif; color: #
 000000; font-size: 12pt;">Please reference the WAP Policies and Procedures 
 manual for further details. The above-listed trainings are mandatory for th
 e positions stated. If a subgrantee hires a new employee into one of these 
 postions, or a current employee transfers into one of these positions, it i
 s mandatory that they receive this training within six (6) months of their 
 start date. These mandatory training sessions must be repeated every three 
 (3) years by subgrantee personnel who occupy these positions.</span></p><p>
 <span style="color: #000000;">&nbsp;&nbsp;</span></p><p><span style="color:
  #000000;"><span style="font-size: 12pt;"><em><span style="text-decoration:
  underline;"><span style="font-family: Tahoma, sans-serif;">Agenda;</span><
 /span></em></span>&nbsp;<br /><span style="font-size: 12pt;"><span style="f
 ont-family: Tahoma, sans-serif;">Day One</span></span></span></p><p style="
 margin-bottom: 8px; line-height: 115%;"><span style="color: #000000;"><span
  style="font-size: 12pt; line-height: 115%; font-family: tahoma, arial, hel
 vetica, sans-serif;">9AM-9:20&nbsp; Lunch Orders and intro’s<br /></span><s
 pan style="font-size: 12pt; line-height: 115%; font-family: tahoma, arial, 
 helvetica, sans-serif;">9:20AM 10:15&nbsp; Health and safety presentation u
 ntil worst case<br /></span><span style="font-size: 12pt; line-height: 115%
 ; font-family: tahoma, arial, helvetica, sans-serif;">10:15AM-10:30AM Break
 <br /></span><span style="font-size: 12pt; line-height: 115%; font-family: 
 tahoma, arial, helvetica, sans-serif;">10:30AM -Noon- Split group into 2 gr
 oups to conduct worst case depressurization and combustion safety testing i
 n pressure house. One group to do blower door set up with hoses and manomet
 er.<br /></span><span style="font-size: 12pt; line-height: 115%; font-famil
 y: tahoma, arial, helvetica, sans-serif;">Noon-1PM Lunch<br /></span><span 
 style="font-size: 12pt; line-height: 115%; font-family: tahoma, arial, helv
 etica, sans-serif;">1PM-4PM Remainer of health and safety power point</span
 ></span></p><p>&nbsp;</p><p><span style="font-size: 12pt; color: #000000;">
 <span style="text-decoration: underline;"><span style="font-family: Tahoma,
  sans-serif;">Day Two</span></span></span></p><p style="margin-bottom: 8px;
  line-height: 115%;"><span style="color: #000000;"><span style="font-size: 
 12pt; line-height: 115%; font-family: tahoma, arial, helvetica, sans-serif;
 ">9AM to 10:15AM LSW power points<br /></span><span style="font-size: 12pt;
  line-height: 115%; font-family: tahoma, arial, helvetica, sans-serif;">10:
 15am-10:30AM Break<br /></span><span style="font-size: 12pt; line-height: 1
 15%; font-family: tahoma, arial, helvetica, sans-serif;">10:30AM-noon&nbsp;
  LSW power points and videos<br /></span><span style="font-size: 12pt; line
 -height: 115%; font-family: tahoma, arial, helvetica, sans-serif;">12PM-1PM
  Lunch<br /></span><span style="font-size: 12pt; line-height: 115%; font-fa
 mily: tahoma, arial, helvetica, sans-serif;">1PM-2:30 PM LSW power points a
 nd videos and lead safe test<br /></span><span style="font-size: 12pt; line
 -height: 115%; font-family: tahoma, arial, helvetica, sans-serif;">2:30-4PM
  LSW hands on activities including Making of an I door, Vertical enclosure 
 and PPE and showing of the positive pressure system</span></span></p><p><sp
 an style="color: #000000;"><span style="font-size: 12pt;"><span style="font
 -family: Tahoma, sans-serif;"></span></span>&nbsp;</span></p><p><span style
 ="text-decoration: underline; color: #000000;"><span style="font-size: 12pt
 ;"><span style="font-family: Tahoma, sans-serif;">Day Three</span></span></
 span></p><p style="margin-bottom: 8px; line-height: 115%;"><span style="col
 or: #000000;"><span style="font-size: 12pt; line-height: 115%; font-family:
  tahoma, arial, helvetica, sans-serif;">9AM-10:15 AM (Finish, if necessary 
 any material not covered from Day 1)<br /></span><span style="font-size: 12
 pt; line-height: 115%; font-family: tahoma, arial, helvetica, sans-serif;">
 10:15-10:30AM Break<br /></span><span style="font-size: 12pt; line-height: 
 115%; font-family: tahoma, arial, helvetica, sans-serif;">10:30- 12:00 PM A
 ir sealing presentation<br /></span><span style="font-family: tahoma, arial
 , helvetica, sans-serif; font-size: 12pt; background-color: inherit; caret-
 color: auto;">12;00PM-1PM Lunch break<br /></span><span style="font-size: 1
 2pt; line-height: 115%; font-family: tahoma, arial, helvetica, sans-serif;"
 >1PM-4PM Air sealing hands on activities group will be split into two. Ball
 oon framed wall discussion and techniques and drill wall. Group 2 will work
  on the balloon frame wall and the rim joist spray foam.</span></span></p><
 p><span style="color: #000000;"><span style="font-size: 12pt;"><span style=
 "font-family: Tahoma, sans-serif;"></span></span>&nbsp;</span></p><p><span 
 style="text-decoration: underline; color: #000000;"><span style="font-size:
  12pt;"><span style="font-family: Tahoma, sans-serif;">Day Four</span></spa
 n></span></p><p style="margin-bottom: 8px; line-height: 115%;"><span style=
 "color: #000000;"><span style="font-size: 12pt; line-height: 115%; font-fam
 ily: tahoma, arial, helvetica, sans-serif;">9AM- 10:30AM Finish up any rema
 ining Power points<br /></span><span style="font-size: 12pt; line-height: 1
 15%; font-family: tahoma, arial, helvetica, sans-serif;">10:30AM- 12PM Hand
 s on activities to include recessed light enclosure chimney air sealing and
  Insulation lab presentation<br /></span><span style="font-size: 12pt; line
 -height: 115%; font-family: tahoma, arial, helvetica, sans-serif;">12PM-1PM
  Lunch<br /></span><span style="font-size: 12pt; line-height: 115%; font-fa
 mily: tahoma, arial, helvetica, sans-serif;">1PM-2:30PM Switch groups and r
 epeat the above material<br /></span><span style="font-size: 12pt; line-hei
 ght: 115%; font-family: tahoma, arial, helvetica, sans-serif;">2:30PM-3:15P
 M questions/ graduation and dismissal</span></span></p><p>&nbsp;</p><p><spa
 n style="color: #000000;"><span style="font-size: 12pt;"><em><span style="t
 ext-decoration: underline;"><span style="font-family: Tahoma, sans-serif;">
 Dates;<br /></span></span></em></span><span style="font-family: tahoma, ari
 al, helvetica, sans-serif; font-size: 12pt;">Course covers the dates of Jul
 y 14-17, 2025<br /></span><span style="font-family: tahoma, arial, helvetic
 a, sans-serif; font-size: 12pt;">Start Times:&nbsp; ALL DAYS - 9:00am<br />
 </span><span style="font-family: tahoma, arial, helvetica, sans-serif; font
 -size: 12pt;">End Times: ALL DAYS 4:00pm</span></span></p><p><span style="c
 olor: #000000;"><span style="font-family: Arial, sans-serif; font-size: 12p
 t;"></span>&nbsp;</span></p><p><span style="color: #000000;"><span style="f
 ont-size: 12pt;"><em><span style="text-decoration: underline;"><span style=
 "font-family: Tahoma, sans-serif;">Other Notes:</span></span></em><span sty
 le="font-family: Tahoma, sans-serif;"><br /></span></span><span style="font
 -size: 12pt;"><span style="font-family: Tahoma, sans-serif;">Due to the nat
 ure of the training, all attendees will be required to sign a waiver of lia
 bility and a photo/video release form at the start of the training.</span><
 /span></span></p><p><span style="font-family: tahoma, arial, helvetica, san
 s-serif; font-size: 12pt; color: #000000;"><strong>&nbsp;</strong></span></
 p><p><span style="font-size: 12pt; color: #000000;"><em><span style="text-d
 ecoration: underline;"><span style="font-family: Tahoma, sans-serif;">Prere
 quisites:</span></span></em><em><span style="font-family: Tahoma, sans-seri
 f;"> </span></em><span style="font-family: Tahoma, sans-serif;">None</span>
 </span></p><p><span style="font-size: 12pt; color: #000000;"><em><span styl
 e="text-decoration: underline;"><span style="font-family: Tahoma, sans-seri
 f;"><br />Class Size:</span></span></em>&nbsp;<span style="font-family: Tah
 oma, sans-serif;">10</span></span></p><p><span style="font-size: 12pt; colo
 r: #000000;"><em><span style="text-decoration: underline;"><span style="fon
 t-family: Tahoma, sans-serif;"><br />BPI CEU</span></span></em><span style=
 "text-decoration: underline;"><span style="font-family: Tahoma, sans-serif;
 ">:</span></span><span style="font-family: Tahoma, sans-serif;"> 16</span><
 /span></p><p><span style="font-size: 12pt; color: #000000;"><em><span style
 ="text-decoration: underline;"><span style="font-family: Tahoma, sans-serif
 ;"><br /></span></span></em><em><span style="text-decoration: underline;"><
 span style="font-family: Tahoma, sans-serif;">Instructors:</span></span></e
 m><span style="font-family: Tahoma, sans-serif;">, Joe Ilacqua, NYSWDA<br /
 ></span></span></p><p><span style="font-size: 12pt; color: #000000;"><em><s
 pan style="text-decoration: underline;"><span style="font-family: Tahoma, s
 ans-serif;"><br />Course</span></span></em><span style="text-decoration: un
 derline;"><span style="font-family: Tahoma, sans-serif;"> Fees;</span></spa
 n><span style="font-family: Tahoma, sans-serif;"> </span></span></p><p><spa
 n style="color: #000000;"><span style="font-family: Tahoma, sans-serif; fon
 t-size: 12pt;">$950/person - NY Weatherization Sub-grantees</span><span sty
 le="font-family: Tahoma, sans-serif; font-size: 12pt;"><em> </em></span></s
 pan></p><p><span style="font-family: Tahoma, sans-serif; color: #000000; fo
 nt-size: 12pt;">$950/person - affiliate members </span></p><p><span style="
 font-family: Tahoma, sans-serif; color: #000000; font-size: 12pt;">$1,450/p
 erson - non-members </span></p><p><span style="color: #000000;"></span></p>
 <p><span style="font-family: Tahoma; font-size: 12pt; color: #000000;">Lunc
 hes are included for each day.</span></p><p>&nbsp;</p><p style="margin-top:
  0in; margin-right: 0in; margin-bottom: 0pt;"><strong><i><span style="backg
 round: white; color: #02613f; font-family: Georgia, serif;"><span style="fo
 nt-size: small;">**Special note</span></span></i></strong><strong><i><span 
 style="background: white; color: black; font-family: Georgia, serif;"><span
  style="font-size: small;">&nbsp;-&nbsp;if you wish to become an Affiliate 
 Member, and&nbsp;save off the non-member rate, please contact&nbsp;Karen Mc
 Mahon (315-701-0440 ext. 223,&nbsp;</span><span id="cloak775d54a5a5df8774d5
 105d77184c82a4">This email address is being protected from spambots. You ne
 ed JavaScript enabled to view it.</span><script type='text/javascript'>
			
 	document.getElementById('cloak775d54a5a5df8774d5105d77184c82a4').innerHTML
  = '';
				var prefix = 'ma' + 'il' + 'to';
				var path = 'hr' + 'ef' + '=
 ';
				var addy775d54a5a5df8774d5105d77184c82a4 = 'kmcmahon' + '@';
				add
 y775d54a5a5df8774d5105d77184c82a4 = addy775d54a5a5df8774d5105d77184c82a4 + 
 'nyswda' + '.' + 'org';
				var addy_text775d54a5a5df8774d5105d77184c82a4 =
  '<span style="color: #0000ff; font-size: small;">kmcmahon' + '@' + 'nyswda
 ' + '.' + 'org</span>';document.getElementById('cloak775d54a5a5df8774d5105d
 77184c82a4').innerHTML += '<a ' + path + '\'' + prefix + ':' + addy775d54a5
 a5df8774d5105d77184c82a4 + '\'>'+addy_text775d54a5a5df8774d5105d77184c82a4+
 '<\/a>';
		</script><span style="font-size: small;">)&nbsp;</span></span></
 i></strong><span style="font-size: small;"><strong><span style="background:
  white; color: #02613f; font-family: Georgia, serif;">BEFORE YOU REGISTER&n
 bsp;</span></strong><em><b><span style="background: white; color: black; fo
 nt-family: Georgia, serif;">for the course</span></b></em><strong><span sty
 le="background: white; color: black; font-family: Georgia, serif;">.</span>
 </strong></span></p><p><span style="color: #ff6600; font-family: tahoma, ar
 ial, helvetica, sans-serif; font-size: 12pt;"><span style="color: #ff6600; 
 font-family: tahoma, arial, helvetica, sans-serif; font-size: 12pt;"><span 
 style="font-family: 'Times New Roman'; font-size: small;"></span></span></s
 pan>&nbsp;</p><p><span style="color: #ffffff;"></span><span style="color: b
 lack; font-family: Tahoma, sans-serif; font-size: 12pt;">NYSWDA will not be
  responsible for hotel costs, travel to and from the training, breakfast an
 d dinner meals, or incidentals.</span></p><p>&nbsp;&nbsp;</p><p><span style
 ="color: #0000ff;"><em><strong><span style="font-family: tahoma, arial, hel
 vetica, sans-serif; font-size: 14pt;"><span style="font-family: tahoma, ari
 al, helvetica, sans-serif; font-size: 14pt;"><span style="font-family: taho
 ma, arial, helvetica, sans-serif; font-size: 14pt;"><span style="font-famil
 y: tahoma, arial, helvetica, sans-serif; font-size: 14pt;"><span style="fon
 t-family: tahoma,arial,helvetica,sans-serif; font-size: 14pt;"><span style=
 "font-family: tahoma, arial, helvetica, sans-serif; font-size: 14pt;"><stro
 ng><span style="color: #ffffff; font-family: tahoma,arial,helvetica,sans-se
 rif; font-size: 14pt;"><span style="color: #ff0000;">CLASS FULL - call or e
 mail</span>&nbsp; <span id="cloakca7807f9ea89b3c8c69dc70b49449275">This ema
 il address is being protected from spambots. You need JavaScript enabled to
  view it.</span><script type='text/javascript'>
				document.getElementById
 ('cloakca7807f9ea89b3c8c69dc70b49449275').innerHTML = '';
				var prefix = 
 'ma' + 'il' + 'to';
				var path = 'hr' + 'ef' + '=';
				var addyca7807f9e
 a89b3c8c69dc70b49449275 = 'rvisser' + '@';
				addyca7807f9ea89b3c8c69dc70b
 49449275 = addyca7807f9ea89b3c8c69dc70b49449275 + 'nyswda' + '.' + 'org';
	
 			var addy_textca7807f9ea89b3c8c69dc70b49449275 = '<span style="color: #00
 66cc;">rvisser' + '@' + 'nyswda' + '.' + 'org</span>';document.getElementBy
 Id('cloakca7807f9ea89b3c8c69dc70b49449275').innerHTML += '<a ' + path + '\'
 ' + prefix + ':' + addyca7807f9ea89b3c8c69dc70b49449275 + '\'>'+addy_textca
 7807f9ea89b3c8c69dc70b49449275+'<\/a>';
		</script> <span style="color: #ff
 0000;">for availability or wait list</span></span><em></em><span style="fon
 t-family: tahoma, arial, helvetica, sans-serif; font-size: 14pt;"></span></
 strong><span style="font-family: Tahoma;"></span><span style="font-family: 
 Times;"></span><span style="font-family: Tahoma;"></span><span style="font-
 family: Tahoma;"></span><span style="font-family: Tahoma;"></span><span sty
 le="font-family: Tahoma;"></span><span style="font-family: Times;"></span><
 span style="font-family: Tahoma;"></span><span style="font-family: Tahoma;"
 ></span><span style="font-family: Tahoma;"></span><span style="font-family:
  Tahoma;"></span><span style="font-family: Tahoma;"></span><span style="fon
 t-family: Tahoma;"></span><span style="font-family: Tahoma;"></span><span s
 tyle="font-family: Tahoma;"></span><span style="font-family: Tahoma;"></spa
 n><span style="font-family: Tahoma;"></span><span style="font-family: Tahom
 a;"></span><span style="font-family: Tahoma;"></span><span style="font-fami
 ly: Tahoma;"></span><span style="font-family: Times;"></span><span style="f
 ont-family: Arial, Helvetica;"></span><span style="font-family: Tahoma;"></
 span><span style="font-family: Tahoma;"></span><span style="font-size: 14pt
 ;"></span><em></em><span style="color: #0000ff;"></span>&nbsp;</span><em></
 em><span style="color: #0000ff;"></span> </span><span style="font-family: t
 ahoma, arial, helvetica, sans-serif; font-size: 14pt;"></span><span style="
 font-family: tahoma, arial, helvetica, sans-serif; font-size: 14pt;"></span
 ><em></em><span style="color: #0000ff;"></span> </span><span style="font-fa
 mily: tahoma, arial, helvetica, sans-serif; font-size: 14pt;"></span><span 
 style="color: #0000ff;"></span><span style="font-family: tahoma, arial, hel
 vetica, sans-serif; font-size: 14pt;"></span><em></em><span style="color: #
 0000ff;"></span></span><span style="font-family: tahoma, arial, helvetica, 
 sans-serif; font-size: 14pt;"></span><em></em><span style="font-family: tah
 oma, arial, helvetica, sans-serif; font-size: 14pt;"></span><span style="fo
 nt-family: tahoma, arial, helvetica, sans-serif; font-size: 14pt;"></span><
 span style="font-family: tahoma, arial, helvetica, sans-serif; font-size: 1
 4pt;"></span><em></em><span style="color: #0000ff;"></span> </span><span st
 yle="font-family: tahoma, arial, helvetica, sans-serif; font-size: 14pt;"><
 /span><span style="font-family: tahoma, arial, helvetica, sans-serif; font-
 size: 14pt;"></span><span style="font-family: tahoma, arial, helvetica, san
 s-serif; font-size: 14pt;"></span><em></em><span style="font-family: tahoma
 , arial, helvetica, sans-serif; font-size: 14pt; color: #0000ff;"></span></
 span></strong></em></span></p>
CONTACT:This email address is being protected from spambots. You need JavaScript enabled to view it.
				document.getElementById('cloak37e491b8cfec48dea714e90bc9858a80').innerHTML = '';
				var prefix = '&#109;a' + 'i&#108;' + '&#116;o';
				var path = 'hr' + 'ef' + '=';
				var addy37e491b8cfec48dea714e90bc9858a80 = 'rv&#105;ss&#101;r' + '&#64;';
				addy37e491b8cfec48dea714e90bc9858a80 = addy37e491b8cfec48dea714e90bc9858a80 + 'nyswd&#97;' + '&#46;' + '&#111;rg';
				var addy_text37e491b8cfec48dea714e90bc9858a80 = 'rv&#105;ss&#101;r' + '&#64;' + 'nyswd&#97;' + '&#46;' + '&#111;rg';document.getElementById('cloak37e491b8cfec48dea714e90bc9858a80').innerHTML += '<a ' + path + '\'' + prefix + ':' + addy37e491b8cfec48dea714e90bc9858a80 + '\'>'+addy_text37e491b8cfec48dea714e90bc9858a80+'';
		
DTSTAMP:20260424T025446
DTSTART;TZID=America/New_York:20250714T090000
DTEND;TZID=America/New_York:20250717T170000
SEQUENCE:0
TRANSP:OPAQUE
END:VEVENT
END:VCALENDAR