BEGIN:VCALENDAR
VERSION:2.0
PRODID:-//jEvents 2.0 for Joomla//EN
CALSCALE:GREGORIAN
METHOD:PUBLISH
BEGIN:VTIMEZONE
TZID:America/New_York
BEGIN:STANDARD
DTSTART:20241103T010000
RDATE:20250309T030000
TZOFFSETFROM:-0400
TZOFFSETTO:-0500
TZNAME:America/New_York EST
END:STANDARD
BEGIN:STANDARD
DTSTART:20251102T010000
RDATE:20260308T030000
TZOFFSETFROM:-0400
TZOFFSETTO:-0500
TZNAME:America/New_York EST
END:STANDARD
BEGIN:STANDARD
DTSTART:20261101T010000
RDATE:20270314T030000
TZOFFSETFROM:-0400
TZOFFSETTO:-0500
TZNAME:America/New_York EST
END:STANDARD
BEGIN:STANDARD
DTSTART:20271107T010000
RDATE:20280312T030000
TZOFFSETFROM:-0400
TZOFFSETTO:-0500
TZNAME:America/New_York EST
END:STANDARD
BEGIN:STANDARD
DTSTART:20281105T010000
RDATE:20290311T030000
TZOFFSETFROM:-0400
TZOFFSETTO:-0500
TZNAME:America/New_York EST
END:STANDARD
BEGIN:STANDARD
DTSTART:20291104T010000
RDATE:20300310T030000
TZOFFSETFROM:-0400
TZOFFSETTO:-0500
TZNAME:America/New_York EST
END:STANDARD
BEGIN:STANDARD
DTSTART:20301103T010000
RDATE:20310309T030000
TZOFFSETFROM:-0400
TZOFFSETTO:-0500
TZNAME:America/New_York EST
END:STANDARD
BEGIN:DAYLIGHT
DTSTART:20240818T090000
RDATE:20241103T010000
TZOFFSETFROM:-0500
TZOFFSETTO:-0400
TZNAME:America/New_York EDT
END:DAYLIGHT
BEGIN:DAYLIGHT
DTSTART:20250309T030000
RDATE:20251102T010000
TZOFFSETFROM:-0500
TZOFFSETTO:-0400
TZNAME:America/New_York EDT
END:DAYLIGHT
BEGIN:DAYLIGHT
DTSTART:20260308T030000
RDATE:20261101T010000
TZOFFSETFROM:-0500
TZOFFSETTO:-0400
TZNAME:America/New_York EDT
END:DAYLIGHT
BEGIN:DAYLIGHT
DTSTART:20270314T030000
RDATE:20271107T010000
TZOFFSETFROM:-0500
TZOFFSETTO:-0400
TZNAME:America/New_York EDT
END:DAYLIGHT
BEGIN:DAYLIGHT
DTSTART:20280312T030000
RDATE:20281105T010000
TZOFFSETFROM:-0500
TZOFFSETTO:-0400
TZNAME:America/New_York EDT
END:DAYLIGHT
BEGIN:DAYLIGHT
DTSTART:20290311T030000
RDATE:20291104T010000
TZOFFSETFROM:-0500
TZOFFSETTO:-0400
TZNAME:America/New_York EDT
END:DAYLIGHT
BEGIN:DAYLIGHT
DTSTART:20300310T030000
RDATE:20301103T010000
TZOFFSETFROM:-0500
TZOFFSETTO:-0400
TZNAME:America/New_York EDT
END:DAYLIGHT
END:VTIMEZONE
BEGIN:VEVENT
UID:27d872536cbed8b15c56eff98381033c
CATEGORIES:WEB
CREATED:20250624T094730
SUMMARY:Weatherization Health & Safety - Online
LOCATION:Online
DESCRIPTION:<p><br />&nbsp;<span style="color: #336699; font-family: tahoma,arial,helve
 tica,sans-serif; font-size: 14pt;"><span style="color: #000000;"><strong><s
 pan style="color: #336699;">Weatherization Health &amp; Safety - Online&nbs
 p;</span></strong></span></span></p><p>&nbsp;</p><p><span style="color: #33
 6699; font-family: tahoma,arial,helvetica,sans-serif; font-size: 14pt;"><sp
 an style="color: #000000;"><strong><span style="color: #336699;">GoToWebina
 r Event</span></strong></span></span></p><p><strong><span style="font-famil
 y: 'Tahoma','sans-serif'; color: #336699; font-size: 13.5pt;"></span></stro
 ng></p><p>&nbsp;</p><p><span style="font-size: 12pt;"><em><span style="text
 -decoration: underline;"><span style="font-family: 'Tahoma','sans-serif'; c
 olor: black;">Course Description:</span></span></em></span>&nbsp;</p><p><sp
 an style="font-family: Tahoma, sans-serif; color: black; font-size: 12pt;">
 This online course will be covered in one day.&nbsp; Class starts at 9:00am
  and will break at noon for an hour lunch.&nbsp; The next half session will
  start at 1:00pm and go until 4:00pm.<br /><br /></span><span style="font-f
 amily: Tahoma, sans-serif; color: black; font-size: 12pt;">Identifying heal
 th and safety issues in client homes is a fundamental task in the Weatheriz
 ation program. This course will prepare the weatherization professional to 
 perform the H&amp;S inspection as well as required tests. Areas to be cover
 ed include: CO in ambient and flue gases, CAZ depressurization, worst case 
 backdrafting, moisture/mold, asbestos, lead, clearances to combustibles, ov
 erloaded electrical circuits, unvented space heating.&nbsp;<br /><br /></sp
 an><span style="font-family: Tahoma, sans-serif; color: black; font-size: 1
 2pt;">This is an HCR mandated training for Weatherization Directors, Audito
 rs, Crew Supervisors and Crews. If you are a new Director or have new staff
 , you are strongly advised to attend.&nbsp; This training requires attendan
 ce every three (3) years.</span>&nbsp;</p><p>&nbsp;</p><p><span style="font
 -family: 'Tahoma', 'sans-serif'; color: black; font-size: 12pt;"></span></p
 ><p><span style="font-size: 12pt;"><em><span style="text-decoration: underl
 ine;"><span style="font-family: 'Tahoma','sans-serif'; color: black;">Class
  Size</span></span></em><span style="font-family: 'Tahoma','sans-serif'; co
 lor: black;">: 25</span></span>&nbsp;<span style="font-family: 'Tahoma', 's
 ans-serif'; color: black; font-size: 12pt;"></span></p><p>&nbsp;</p><p><spa
 n style="font-size: 12pt;"><em><span style="text-decoration: underline;"><s
 pan style="font-family: 'Tahoma','sans-serif'; color: black;">BPI CEU</span
 ></span></em><span style="text-decoration: underline;"><span style="font-fa
 mily: 'Tahoma','sans-serif'; color: black;">:</span></span><span style="fon
 t-family: 'Tahoma','sans-serif'; color: black;">&nbsp;3</span></span></p><p
 ><span style="font-family: 'Tahoma', 'sans-serif'; color: black; font-size:
  12pt;"></span></p><p>&nbsp;</p><p><span style="font-size: 12pt;"><span sty
 le="text-decoration: underline;"><span style="font-family: 'Tahoma','sans-s
 erif'; color: black;"><em>Instructor</em>:</span></span><span style="font-f
 amily: 'Tahoma','sans-serif'; color: black;">&nbsp; Joe Ilacqua</span><span
  style="font-family: 'Tahoma','sans-serif'; color: black;">&nbsp;- NYSWDA</
 span></span>&nbsp;</p><p><span style="font-family: 'Tahoma', 'sans-serif'; 
 color: black; font-size: 12pt;"></span></p><p>&nbsp;</p><p><span style="fon
 t-size: 12pt;"><em><span style="text-decoration: underline;"><span style="f
 ont-family: 'Tahoma','sans-serif'; color: black;">Course Fees:&nbsp;</span>
 </span></em></span>&nbsp;</p><p><span style="font-size: 12pt;"><span style=
 "color: black; font-family: 'Tahoma','sans-serif';">$262/person - NY&nbsp;W
 eatherization Sub-grantees</span></span></p><p><span style="font-size: 12pt
 ;"><span style="color: black; font-family: 'Tahoma','sans-serif';">$262/per
 son - affiliate members</span><span style="color: black; font-family: 'Taho
 ma','sans-serif';"></span></span></p><p><span style="font-size: 12pt;"><spa
 n style="color: black; font-family: 'Tahoma','sans-serif';">$380/person - n
 on-members</span><span style="color: black; font-family: 'Tahoma','sans-ser
 if';"></span><span style="color: black; font-family: 'Tahoma','sans-serif';
 "></span><em><span style="color: black; font-family: 'Tahoma','sans-serif';
 "><br /></span></em></span></p><p>&nbsp;</p><p><span style="color: #0000ff;
 "><em><strong><span style="font-family: tahoma, arial, helvetica, sans-seri
 f; font-size: 14pt;"><span style="color: #0000ff;"></span></span></strong><
 /em></span><span style="background-color: initial; color: inherit; font-fam
 ily: inherit; font-size: 1rem;"> </span><em style="background-color: initia
 l; color: inherit; font-family: inherit; font-size: 1rem;"><strong><span st
 yle="background: white; color: #02613f; font-family: 'Georgia','serif';"><s
 pan style="font-size: small;">**Special note</span></span></strong></em><sp
 an style="background: white; color: black; font-family: 'Georgia','serif';"
 ><span style="font-size: small;"><i><strong>&nbsp;-&nbsp;if you wish to bec
 ome an Affiliate Member please contact&nbsp;Karen McMahon (315-701-0440 ext
 . 223,&nbsp;</strong></i></span><i><strong><span id="cloak35b19650fc8cd631c
 59ba2def1679c80">This email address is being protected from spambots. You n
 eed JavaScript enabled to view it.</span><script type='text/javascript'>
		
 		document.getElementById('cloak35b19650fc8cd631c59ba2def1679c80').innerHTM
 L = '';
				var prefix = 'ma' + 'il' + 'to';
				var path = 'hr' + 'ef' + '
 =';
				var addy35b19650fc8cd631c59ba2def1679c80 = 'kmcmahon' + '@';
				ad
 dy35b19650fc8cd631c59ba2def1679c80 = addy35b19650fc8cd631c59ba2def1679c80 +
  'nyswda' + '.' + 'org';
				var addy_text35b19650fc8cd631c59ba2def1679c80 
 = '<span style="color: #0000ff; font-size: small;">kmcmahon' + '@' + 'nyswd
 a' + '.' + 'org</span>';document.getElementById('cloak35b19650fc8cd631c59ba
 2def1679c80').innerHTML += '<a ' + path + '\'' + prefix + ':' + addy35b1965
 0fc8cd631c59ba2def1679c80 + '\'>'+addy_text35b19650fc8cd631c59ba2def1679c80
 +'<\/a>';
		</script><span style="font-size: small;">)&nbsp;</span></strong
 ></i></span><i style="background-color: initial; color: inherit; font-famil
 y: inherit; font-size: 1rem;"></i><span style="font-size: small;"><strong><
 span style="background: white; color: #02613f; font-family: 'Georgia','seri
 f';">BEFORE YOU REGISTER&nbsp;</span></strong><em><b><span style="backgroun
 d: white; color: black; font-family: 'Georgia','serif';">for the course</sp
 an></b></em><strong><span style="background: white; color: black; font-fami
 ly: 'Georgia','serif';">.</span></strong></span><span style="background-col
 or: initial; color: inherit; font-family: inherit; font-size: 1rem;"></span
 ></p><p>&nbsp;</p><p><span style="font-family: georgia, palatino; font-size
 : 10pt;"><strong><em><span style="color: #10704d; background: white;">Throu
 gh the support of NYS HCR funding, we are able to provide </span></em></str
 ong><em><strong><span style="color: #02613f; background: white;">quality tr
 aining at&nbsp;discounted rates to NYSWDA members.</span></strong></em></sp
 an></p><p>&nbsp;</p><p><span style="font-size: 12pt;"><em style="background
 -color: initial; color: inherit; font-family: inherit; font-size: 1rem;"><s
 trong><span style="font-family: Tahoma;"><span style="font-family: tahoma, 
 arial, helvetica, sans-serif; font-size: 14pt;"><span style="color: #0000ff
 ;"><strong><a href="index.php?option=com_civicrm&amp;task=civicrm/event/reg
 ister&amp;reset=1&amp;id=14427" style="color: #0000ff;">Click here to regis
 ter</a>&nbsp;</strong></span><span style="font-family: tahoma,arial,helveti
 ca,sans-serif; font-size: 14pt;"></span><span style="font-family: tahoma, a
 rial, helvetica, sans-serif; font-size: 14pt;"></span><span style="font-fam
 ily: tahoma, arial, helvetica, sans-serif; font-size: 14pt;"></span></span>
 <span style="font-family: tahoma,arial,helvetica,sans-serif; font-size: 14p
 t;"></span><span style="font-family: tahoma, arial, helvetica, sans-serif; 
 font-size: 14pt;"></span><span style="font-family: tahoma, arial, helvetica
 , sans-serif; font-size: 14pt;"></span><em></em><span style="color: #0000ff
 ;"></span> </span><span style="font-family: Arial, Helvetica;"></span><span
  style="font-family: Tahoma;"></span><em></em><span style="font-size: 14pt;
 "></span></strong></em></span></p><p><span style="font-family: 'Arial','san
 s-serif'; color: black; font-size: 10pt;"></span></p><p>&nbsp;</p><p><span 
 style="font-family: 'Arial','sans-serif'; color: black; font-size: 10pt;"><
 /span></p><p>&nbsp;</p><p>&nbsp;</p><p>&nbsp;</p><p>&nbsp;</p><p>&nbsp;</p>
X-ALT-DESC;FMTTYPE=text/html:<p><br />&nbsp;<span style="color: #336699; font-family: tahoma,arial,helve
 tica,sans-serif; font-size: 14pt;"><span style="color: #000000;"><strong><s
 pan style="color: #336699;">Weatherization Health &amp; Safety - Online&nbs
 p;</span></strong></span></span></p><p>&nbsp;</p><p><span style="color: #33
 6699; font-family: tahoma,arial,helvetica,sans-serif; font-size: 14pt;"><sp
 an style="color: #000000;"><strong><span style="color: #336699;">GoToWebina
 r Event</span></strong></span></span></p><p><strong><span style="font-famil
 y: 'Tahoma','sans-serif'; color: #336699; font-size: 13.5pt;"></span></stro
 ng></p><p>&nbsp;</p><p><span style="font-size: 12pt;"><em><span style="text
 -decoration: underline;"><span style="font-family: 'Tahoma','sans-serif'; c
 olor: black;">Course Description:</span></span></em></span>&nbsp;</p><p><sp
 an style="font-family: Tahoma, sans-serif; color: black; font-size: 12pt;">
 This online course will be covered in one day.&nbsp; Class starts at 9:00am
  and will break at noon for an hour lunch.&nbsp; The next half session will
  start at 1:00pm and go until 4:00pm.<br /><br /></span><span style="font-f
 amily: Tahoma, sans-serif; color: black; font-size: 12pt;">Identifying heal
 th and safety issues in client homes is a fundamental task in the Weatheriz
 ation program. This course will prepare the weatherization professional to 
 perform the H&amp;S inspection as well as required tests. Areas to be cover
 ed include: CO in ambient and flue gases, CAZ depressurization, worst case 
 backdrafting, moisture/mold, asbestos, lead, clearances to combustibles, ov
 erloaded electrical circuits, unvented space heating.&nbsp;<br /><br /></sp
 an><span style="font-family: Tahoma, sans-serif; color: black; font-size: 1
 2pt;">This is an HCR mandated training for Weatherization Directors, Audito
 rs, Crew Supervisors and Crews. If you are a new Director or have new staff
 , you are strongly advised to attend.&nbsp; This training requires attendan
 ce every three (3) years.</span>&nbsp;</p><p>&nbsp;</p><p><span style="font
 -family: 'Tahoma', 'sans-serif'; color: black; font-size: 12pt;"></span></p
 ><p><span style="font-size: 12pt;"><em><span style="text-decoration: underl
 ine;"><span style="font-family: 'Tahoma','sans-serif'; color: black;">Class
  Size</span></span></em><span style="font-family: 'Tahoma','sans-serif'; co
 lor: black;">: 25</span></span>&nbsp;<span style="font-family: 'Tahoma', 's
 ans-serif'; color: black; font-size: 12pt;"></span></p><p>&nbsp;</p><p><spa
 n style="font-size: 12pt;"><em><span style="text-decoration: underline;"><s
 pan style="font-family: 'Tahoma','sans-serif'; color: black;">BPI CEU</span
 ></span></em><span style="text-decoration: underline;"><span style="font-fa
 mily: 'Tahoma','sans-serif'; color: black;">:</span></span><span style="fon
 t-family: 'Tahoma','sans-serif'; color: black;">&nbsp;3</span></span></p><p
 ><span style="font-family: 'Tahoma', 'sans-serif'; color: black; font-size:
  12pt;"></span></p><p>&nbsp;</p><p><span style="font-size: 12pt;"><span sty
 le="text-decoration: underline;"><span style="font-family: 'Tahoma','sans-s
 erif'; color: black;"><em>Instructor</em>:</span></span><span style="font-f
 amily: 'Tahoma','sans-serif'; color: black;">&nbsp; Joe Ilacqua</span><span
  style="font-family: 'Tahoma','sans-serif'; color: black;">&nbsp;- NYSWDA</
 span></span>&nbsp;</p><p><span style="font-family: 'Tahoma', 'sans-serif'; 
 color: black; font-size: 12pt;"></span></p><p>&nbsp;</p><p><span style="fon
 t-size: 12pt;"><em><span style="text-decoration: underline;"><span style="f
 ont-family: 'Tahoma','sans-serif'; color: black;">Course Fees:&nbsp;</span>
 </span></em></span>&nbsp;</p><p><span style="font-size: 12pt;"><span style=
 "color: black; font-family: 'Tahoma','sans-serif';">$262/person - NY&nbsp;W
 eatherization Sub-grantees</span></span></p><p><span style="font-size: 12pt
 ;"><span style="color: black; font-family: 'Tahoma','sans-serif';">$262/per
 son - affiliate members</span><span style="color: black; font-family: 'Taho
 ma','sans-serif';"></span></span></p><p><span style="font-size: 12pt;"><spa
 n style="color: black; font-family: 'Tahoma','sans-serif';">$380/person - n
 on-members</span><span style="color: black; font-family: 'Tahoma','sans-ser
 if';"></span><span style="color: black; font-family: 'Tahoma','sans-serif';
 "></span><em><span style="color: black; font-family: 'Tahoma','sans-serif';
 "><br /></span></em></span></p><p>&nbsp;</p><p><span style="color: #0000ff;
 "><em><strong><span style="font-family: tahoma, arial, helvetica, sans-seri
 f; font-size: 14pt;"><span style="color: #0000ff;"></span></span></strong><
 /em></span><span style="background-color: initial; color: inherit; font-fam
 ily: inherit; font-size: 1rem;"> </span><em style="background-color: initia
 l; color: inherit; font-family: inherit; font-size: 1rem;"><strong><span st
 yle="background: white; color: #02613f; font-family: 'Georgia','serif';"><s
 pan style="font-size: small;">**Special note</span></span></strong></em><sp
 an style="background: white; color: black; font-family: 'Georgia','serif';"
 ><span style="font-size: small;"><i><strong>&nbsp;-&nbsp;if you wish to bec
 ome an Affiliate Member please contact&nbsp;Karen McMahon (315-701-0440 ext
 . 223,&nbsp;</strong></i></span><i><strong><span id="cloak35b19650fc8cd631c
 59ba2def1679c80">This email address is being protected from spambots. You n
 eed JavaScript enabled to view it.</span><script type='text/javascript'>
		
 		document.getElementById('cloak35b19650fc8cd631c59ba2def1679c80').innerHTM
 L = '';
				var prefix = 'ma' + 'il' + 'to';
				var path = 'hr' + 'ef' + '
 =';
				var addy35b19650fc8cd631c59ba2def1679c80 = 'kmcmahon' + '@';
				ad
 dy35b19650fc8cd631c59ba2def1679c80 = addy35b19650fc8cd631c59ba2def1679c80 +
  'nyswda' + '.' + 'org';
				var addy_text35b19650fc8cd631c59ba2def1679c80 
 = '<span style="color: #0000ff; font-size: small;">kmcmahon' + '@' + 'nyswd
 a' + '.' + 'org</span>';document.getElementById('cloak35b19650fc8cd631c59ba
 2def1679c80').innerHTML += '<a ' + path + '\'' + prefix + ':' + addy35b1965
 0fc8cd631c59ba2def1679c80 + '\'>'+addy_text35b19650fc8cd631c59ba2def1679c80
 +'<\/a>';
		</script><span style="font-size: small;">)&nbsp;</span></strong
 ></i></span><i style="background-color: initial; color: inherit; font-famil
 y: inherit; font-size: 1rem;"></i><span style="font-size: small;"><strong><
 span style="background: white; color: #02613f; font-family: 'Georgia','seri
 f';">BEFORE YOU REGISTER&nbsp;</span></strong><em><b><span style="backgroun
 d: white; color: black; font-family: 'Georgia','serif';">for the course</sp
 an></b></em><strong><span style="background: white; color: black; font-fami
 ly: 'Georgia','serif';">.</span></strong></span><span style="background-col
 or: initial; color: inherit; font-family: inherit; font-size: 1rem;"></span
 ></p><p>&nbsp;</p><p><span style="font-family: georgia, palatino; font-size
 : 10pt;"><strong><em><span style="color: #10704d; background: white;">Throu
 gh the support of NYS HCR funding, we are able to provide </span></em></str
 ong><em><strong><span style="color: #02613f; background: white;">quality tr
 aining at&nbsp;discounted rates to NYSWDA members.</span></strong></em></sp
 an></p><p>&nbsp;</p><p><span style="font-size: 12pt;"><em style="background
 -color: initial; color: inherit; font-family: inherit; font-size: 1rem;"><s
 trong><span style="font-family: Tahoma;"><span style="font-family: tahoma, 
 arial, helvetica, sans-serif; font-size: 14pt;"><span style="color: #0000ff
 ;"><strong><a href="https://www.nyswda.org/index.php?option=com_civicrm&amp
 ;task=civicrm/event/register&amp;reset=1&amp;id=14427" style="color: #0000f
 f;">Click here to register</a>&nbsp;</strong></span><span style="font-famil
 y: tahoma,arial,helvetica,sans-serif; font-size: 14pt;"></span><span style=
 "font-family: tahoma, arial, helvetica, sans-serif; font-size: 14pt;"></spa
 n><span style="font-family: tahoma, arial, helvetica, sans-serif; font-size
 : 14pt;"></span></span><span style="font-family: tahoma,arial,helvetica,san
 s-serif; font-size: 14pt;"></span><span style="font-family: tahoma, arial, 
 helvetica, sans-serif; font-size: 14pt;"></span><span style="font-family: t
 ahoma, arial, helvetica, sans-serif; font-size: 14pt;"></span><em></em><spa
 n style="color: #0000ff;"></span> </span><span style="font-family: Arial, H
 elvetica;"></span><span style="font-family: Tahoma;"></span><em></em><span 
 style="font-size: 14pt;"></span></strong></em></span></p><p><span style="fo
 nt-family: 'Arial','sans-serif'; color: black; font-size: 10pt;"></span></p
 ><p>&nbsp;</p><p><span style="font-family: 'Arial','sans-serif'; color: bla
 ck; font-size: 10pt;"></span></p><p>&nbsp;</p><p>&nbsp;</p><p>&nbsp;</p><p>
 &nbsp;</p><p>&nbsp;</p>
CONTACT:This email address is being protected from spambots. You need JavaScript enabled to view it.
				document.getElementById('cloak001a6db7e4fd34e0de56a32a0c9b54b7').innerHTML = '';
				var prefix = '&#109;a' + 'i&#108;' + '&#116;o';
				var path = 'hr' + 'ef' + '=';
				var addy001a6db7e4fd34e0de56a32a0c9b54b7 = 'rv&#105;ss&#101;r' + '&#64;';
				addy001a6db7e4fd34e0de56a32a0c9b54b7 = addy001a6db7e4fd34e0de56a32a0c9b54b7 + 'nyswd&#97;' + '&#46;' + '&#111;rg';
				var addy_text001a6db7e4fd34e0de56a32a0c9b54b7 = 'rv&#105;ss&#101;r' + '&#64;' + 'nyswd&#97;' + '&#46;' + '&#111;rg';document.getElementById('cloak001a6db7e4fd34e0de56a32a0c9b54b7').innerHTML += '<a ' + path + '\'' + prefix + ':' + addy001a6db7e4fd34e0de56a32a0c9b54b7 + '\'>'+addy_text001a6db7e4fd34e0de56a32a0c9b54b7+'';
		
DTSTAMP:20260424T044309
DTSTART;TZID=America/New_York:20250819T090000
DTEND;TZID=America/New_York:20250819T160000
SEQUENCE:0
TRANSP:OPAQUE
END:VEVENT
END:VCALENDAR