BEGIN:VCALENDAR
VERSION:2.0
PRODID:-//jEvents 2.0 for Joomla//EN
CALSCALE:GREGORIAN
METHOD:PUBLISH
BEGIN:VTIMEZONE
TZID:America/New_York
BEGIN:STANDARD
DTSTART:20241103T010000
RDATE:20250309T030000
TZOFFSETFROM:-0400
TZOFFSETTO:-0500
TZNAME:America/New_York EST
END:STANDARD
BEGIN:STANDARD
DTSTART:20251102T010000
RDATE:20260308T030000
TZOFFSETFROM:-0400
TZOFFSETTO:-0500
TZNAME:America/New_York EST
END:STANDARD
BEGIN:STANDARD
DTSTART:20261101T010000
RDATE:20270314T030000
TZOFFSETFROM:-0400
TZOFFSETTO:-0500
TZNAME:America/New_York EST
END:STANDARD
BEGIN:STANDARD
DTSTART:20271107T010000
RDATE:20280312T030000
TZOFFSETFROM:-0400
TZOFFSETTO:-0500
TZNAME:America/New_York EST
END:STANDARD
BEGIN:STANDARD
DTSTART:20281105T010000
RDATE:20290311T030000
TZOFFSETFROM:-0400
TZOFFSETTO:-0500
TZNAME:America/New_York EST
END:STANDARD
BEGIN:STANDARD
DTSTART:20291104T010000
RDATE:20300310T030000
TZOFFSETFROM:-0400
TZOFFSETTO:-0500
TZNAME:America/New_York EST
END:STANDARD
BEGIN:STANDARD
DTSTART:20301103T010000
RDATE:20310309T030000
TZOFFSETFROM:-0400
TZOFFSETTO:-0500
TZNAME:America/New_York EST
END:STANDARD
BEGIN:DAYLIGHT
DTSTART:20240820T090000
RDATE:20241103T010000
TZOFFSETFROM:-0500
TZOFFSETTO:-0400
TZNAME:America/New_York EDT
END:DAYLIGHT
BEGIN:DAYLIGHT
DTSTART:20250309T030000
RDATE:20251102T010000
TZOFFSETFROM:-0500
TZOFFSETTO:-0400
TZNAME:America/New_York EDT
END:DAYLIGHT
BEGIN:DAYLIGHT
DTSTART:20260308T030000
RDATE:20261101T010000
TZOFFSETFROM:-0500
TZOFFSETTO:-0400
TZNAME:America/New_York EDT
END:DAYLIGHT
BEGIN:DAYLIGHT
DTSTART:20270314T030000
RDATE:20271107T010000
TZOFFSETFROM:-0500
TZOFFSETTO:-0400
TZNAME:America/New_York EDT
END:DAYLIGHT
BEGIN:DAYLIGHT
DTSTART:20280312T030000
RDATE:20281105T010000
TZOFFSETFROM:-0500
TZOFFSETTO:-0400
TZNAME:America/New_York EDT
END:DAYLIGHT
BEGIN:DAYLIGHT
DTSTART:20290311T030000
RDATE:20291104T010000
TZOFFSETFROM:-0500
TZOFFSETTO:-0400
TZNAME:America/New_York EDT
END:DAYLIGHT
BEGIN:DAYLIGHT
DTSTART:20300310T030000
RDATE:20301103T010000
TZOFFSETFROM:-0500
TZOFFSETTO:-0400
TZNAME:America/New_York EDT
END:DAYLIGHT
END:VTIMEZONE
BEGIN:VEVENT
UID:e3cdf175304bc8ad85e6b1a3621b9d8a
CATEGORIES:WEB
CREATED:20250808T145431
SUMMARY:WA Software Refresher - Online
LOCATION:Online
DESCRIPTION:<p><br />&nbsp;<span style="color: #336699; font-family: tahoma, arial, hel
 vetica, sans-serif; font-size: 14pt;"><span style="color: #000000;"><strong
 ><span style="color: #336699;">WA Software Refresher - Online&nbsp;</span><
 /strong></span></span></p><p>&nbsp;</p><p><span style="color: #336699; font
 -family: tahoma, arial, helvetica, sans-serif; font-size: 14pt;"><span styl
 e="color: #000000;"><strong><span style="color: #336699;">Microsoft Teams E
 vent</span></strong></span></span></p><p><strong><span style="font-family: 
 Tahoma, 'sans-serif'; color: #336699; font-size: 13.5pt;"></span></strong><
 /p><p>&nbsp;</p><p><span style="color: black;"><span style="font-size: 12pt
 ;"><em><span style="text-decoration: underline;"><span style="font-family: 
 Tahoma, 'sans-serif';">Course Description:</span></span></em></span>&nbsp;<
 /span></p><p><span style="font-family: tahoma, arial, helvetica, sans-serif
 ; font-size: 12pt; color: black;">This online training is designed for indi
 viduals who have previously taken the Weatherization Assistant (WA) Softwar
 e training or are currently working with the software.&nbsp;</span></p><p><
 span style="font-family: tahoma, arial, helvetica, sans-serif; font-size: 1
 2pt; color: black;">The session will be conducted in a <strong>Q&amp;A-base
 d format</strong>, focusing on real-world scenarios and common challenges.<
 /span></p><p><span style="font-family: tahoma, arial, helvetica, sans-serif
 ; font-size: 12pt; color: black;"><strong>Training Focus:</strong></span></
 p><ul><li><span style="font-family: tahoma, arial, helvetica, sans-serif; f
 ont-size: 12pt; color: black;">Setting up agencies</span></li><li><span sty
 le="font-family: tahoma, arial, helvetica, sans-serif; font-size: 12pt; col
 or: black;">Managing users</span></li><li><span style="font-family: tahoma,
  arial, helvetica, sans-serif; font-size: 12pt; color: black;">Configuring 
 libraries</span></li></ul><p><span style="font-family: tahoma, arial, helve
 tica, sans-serif; font-size: 12pt; color: black;"><strong>Duration:</strong
 > Approximately 4 hours (may be extended depending on the number of questio
 ns).</span></p><p><span style="font-family: tahoma, arial, helvetica, sans-
 serif; font-size: 12pt; color: black;">To get the most out of the session, 
 please prepare your questions in advance.</span></p><p><span style="color: 
 black;"></span></p><p>&nbsp;</p><p><span style="font-family: Tahoma, 'sans-
 serif'; color: black; font-size: 12pt;"></span></p><p><span style="color: b
 lack;"><span style="font-size: 12pt;"><em><span style="text-decoration: und
 erline;"><span style="font-family: Tahoma, 'sans-serif';">Class Size</span>
 </span></em><span style="font-family: Tahoma, 'sans-serif';">: 30</span></s
 pan>&nbsp;<span style="font-family: Tahoma, 'sans-serif'; font-size: 12pt;"
 ></span></span></p><p>&nbsp;&nbsp;</p><p><span style="color: black;"></span
 ></p><p><span style="font-size: 12pt; color: black;"><em><span style="text-
 decoration: underline;"><span style="font-family: Tahoma, 'sans-serif';">BP
 I CEU</span></span></em><span style="text-decoration: underline;"><span sty
 le="font-family: Tahoma, 'sans-serif';">:</span></span><span style="font-fa
 mily: Tahoma, 'sans-serif';">&nbsp;none</span></span></p><p>&nbsp;</p><p><s
 pan style="font-family: Tahoma, 'sans-serif'; color: black; font-size: 12pt
 ;"></span></p><p><span style="color: black;"></span></p><p><span style="col
 or: black;"><span style="font-size: 12pt;"><span style="text-decoration: un
 derline;"><span style="font-family: Tahoma, 'sans-serif';"><em>Instructor</
 em>:</span></span><span style="font-family: Tahoma, 'sans-serif';">&nbsp; J
 oe Maggiore</span><span style="font-family: Tahoma, 'sans-serif';">&nbsp;- 
 NYSWDA</span></span>&nbsp;</span></p><p>&nbsp;</p><p><span style="font-fami
 ly: Tahoma, 'sans-serif'; color: black; font-size: 12pt;"></span></p><p><sp
 an style="color: black;"></span></p><p><span style="font-size: 12pt; color:
  black;"><em><span style="text-decoration: underline;"><span style="font-fa
 mily: Tahoma, 'sans-serif';">Course Fees:</span></span></em><span style="fo
 nt-family: Tahoma, 'sans-serif';"> none</span></span>&nbsp;</p><p><span sty
 le="font-size: 12pt;"><span style="color: black; font-family: Tahoma, 'sans
 -serif';"></span></span></p><p>&nbsp;</p><p><span style="font-family: tahom
 a, arial, helvetica, sans-serif; font-size: 14pt;"><span style="color: #000
 0ff;"><em><strong><span style="color: #0000ff;"><a href="index.php?option=c
 om_civicrm&amp;task=civicrm/event/register&amp;reset=1&amp;id=14446" style=
 "color: #0000ff;"><span style="font-family: tahoma, arial, helvetica, sans-
 serif; font-size: 14pt;">Click here to register&nbsp;</span></a></span><spa
 n style="font-family: tahoma, arial, helvetica, sans-serif; font-size: 14pt
 ;"></span></strong></em></span><span style="font-family: tahoma, arial, hel
 vetica, sans-serif; font-size: 14pt;"></span></span><span style="font-famil
 y: tahoma, arial, helvetica, sans-serif; font-size: 14pt;"></span><span sty
 le="font-family: tahoma, arial, helvetica, sans-serif; font-size: 14pt;"></
 span><span style="font-family: tahoma, arial, helvetica, sans-serif; font-s
 ize: 14pt;"></span><em></em><span style="color: #0000ff;"></span></p><p>&nb
 sp;</p><p><span style="font-family: Arial, 'sans-serif'; color: black; font
 -size: 10pt;"></span></p><p>&nbsp;</p><p><span style="font-family: Arial, '
 sans-serif'; color: black; font-size: 10pt;"></span></p><p>&nbsp;</p><p>&nb
 sp;</p><p>&nbsp;</p><p>&nbsp;</p><p>&nbsp;</p>
X-ALT-DESC;FMTTYPE=text/html:<p><br />&nbsp;<span style="color: #336699; font-family: tahoma, arial, hel
 vetica, sans-serif; font-size: 14pt;"><span style="color: #000000;"><strong
 ><span style="color: #336699;">WA Software Refresher - Online&nbsp;</span><
 /strong></span></span></p><p>&nbsp;</p><p><span style="color: #336699; font
 -family: tahoma, arial, helvetica, sans-serif; font-size: 14pt;"><span styl
 e="color: #000000;"><strong><span style="color: #336699;">Microsoft Teams E
 vent</span></strong></span></span></p><p><strong><span style="font-family: 
 Tahoma, 'sans-serif'; color: #336699; font-size: 13.5pt;"></span></strong><
 /p><p>&nbsp;</p><p><span style="color: black;"><span style="font-size: 12pt
 ;"><em><span style="text-decoration: underline;"><span style="font-family: 
 Tahoma, 'sans-serif';">Course Description:</span></span></em></span>&nbsp;<
 /span></p><p><span style="font-family: tahoma, arial, helvetica, sans-serif
 ; font-size: 12pt; color: black;">This online training is designed for indi
 viduals who have previously taken the Weatherization Assistant (WA) Softwar
 e training or are currently working with the software.&nbsp;</span></p><p><
 span style="font-family: tahoma, arial, helvetica, sans-serif; font-size: 1
 2pt; color: black;">The session will be conducted in a <strong>Q&amp;A-base
 d format</strong>, focusing on real-world scenarios and common challenges.<
 /span></p><p><span style="font-family: tahoma, arial, helvetica, sans-serif
 ; font-size: 12pt; color: black;"><strong>Training Focus:</strong></span></
 p><ul><li><span style="font-family: tahoma, arial, helvetica, sans-serif; f
 ont-size: 12pt; color: black;">Setting up agencies</span></li><li><span sty
 le="font-family: tahoma, arial, helvetica, sans-serif; font-size: 12pt; col
 or: black;">Managing users</span></li><li><span style="font-family: tahoma,
  arial, helvetica, sans-serif; font-size: 12pt; color: black;">Configuring 
 libraries</span></li></ul><p><span style="font-family: tahoma, arial, helve
 tica, sans-serif; font-size: 12pt; color: black;"><strong>Duration:</strong
 > Approximately 4 hours (may be extended depending on the number of questio
 ns).</span></p><p><span style="font-family: tahoma, arial, helvetica, sans-
 serif; font-size: 12pt; color: black;">To get the most out of the session, 
 please prepare your questions in advance.</span></p><p><span style="color: 
 black;"></span></p><p>&nbsp;</p><p><span style="font-family: Tahoma, 'sans-
 serif'; color: black; font-size: 12pt;"></span></p><p><span style="color: b
 lack;"><span style="font-size: 12pt;"><em><span style="text-decoration: und
 erline;"><span style="font-family: Tahoma, 'sans-serif';">Class Size</span>
 </span></em><span style="font-family: Tahoma, 'sans-serif';">: 30</span></s
 pan>&nbsp;<span style="font-family: Tahoma, 'sans-serif'; font-size: 12pt;"
 ></span></span></p><p>&nbsp;&nbsp;</p><p><span style="color: black;"></span
 ></p><p><span style="font-size: 12pt; color: black;"><em><span style="text-
 decoration: underline;"><span style="font-family: Tahoma, 'sans-serif';">BP
 I CEU</span></span></em><span style="text-decoration: underline;"><span sty
 le="font-family: Tahoma, 'sans-serif';">:</span></span><span style="font-fa
 mily: Tahoma, 'sans-serif';">&nbsp;none</span></span></p><p>&nbsp;</p><p><s
 pan style="font-family: Tahoma, 'sans-serif'; color: black; font-size: 12pt
 ;"></span></p><p><span style="color: black;"></span></p><p><span style="col
 or: black;"><span style="font-size: 12pt;"><span style="text-decoration: un
 derline;"><span style="font-family: Tahoma, 'sans-serif';"><em>Instructor</
 em>:</span></span><span style="font-family: Tahoma, 'sans-serif';">&nbsp; J
 oe Maggiore</span><span style="font-family: Tahoma, 'sans-serif';">&nbsp;- 
 NYSWDA</span></span>&nbsp;</span></p><p>&nbsp;</p><p><span style="font-fami
 ly: Tahoma, 'sans-serif'; color: black; font-size: 12pt;"></span></p><p><sp
 an style="color: black;"></span></p><p><span style="font-size: 12pt; color:
  black;"><em><span style="text-decoration: underline;"><span style="font-fa
 mily: Tahoma, 'sans-serif';">Course Fees:</span></span></em><span style="fo
 nt-family: Tahoma, 'sans-serif';"> none</span></span>&nbsp;</p><p><span sty
 le="font-size: 12pt;"><span style="color: black; font-family: Tahoma, 'sans
 -serif';"></span></span></p><p>&nbsp;</p><p><span style="font-family: tahom
 a, arial, helvetica, sans-serif; font-size: 14pt;"><span style="color: #000
 0ff;"><em><strong><span style="color: #0000ff;"><a href="https://www.nyswda
 .org/index.php?option=com_civicrm&amp;task=civicrm/event/register&amp;reset
 =1&amp;id=14446" style="color: #0000ff;"><span style="font-family: tahoma, 
 arial, helvetica, sans-serif; font-size: 14pt;">Click here to register&nbsp
 ;</span></a></span><span style="font-family: tahoma, arial, helvetica, sans
 -serif; font-size: 14pt;"></span></strong></em></span><span style="font-fam
 ily: tahoma, arial, helvetica, sans-serif; font-size: 14pt;"></span></span>
 <span style="font-family: tahoma, arial, helvetica, sans-serif; font-size: 
 14pt;"></span><span style="font-family: tahoma, arial, helvetica, sans-seri
 f; font-size: 14pt;"></span><span style="font-family: tahoma, arial, helvet
 ica, sans-serif; font-size: 14pt;"></span><em></em><span style="color: #000
 0ff;"></span></p><p>&nbsp;</p><p><span style="font-family: Arial, 'sans-ser
 if'; color: black; font-size: 10pt;"></span></p><p>&nbsp;</p><p><span style
 ="font-family: Arial, 'sans-serif'; color: black; font-size: 10pt;"></span>
 </p><p>&nbsp;</p><p>&nbsp;</p><p>&nbsp;</p><p>&nbsp;</p><p>&nbsp;</p>
CONTACT:This email address is being protected from spambots. You need JavaScript enabled to view it.
				document.getElementById('cloakd384792e4492d2f397a230189f63256a').innerHTML = '';
				var prefix = '&#109;a' + 'i&#108;' + '&#116;o';
				var path = 'hr' + 'ef' + '=';
				var addyd384792e4492d2f397a230189f63256a = 'rv&#105;ss&#101;r' + '&#64;';
				addyd384792e4492d2f397a230189f63256a = addyd384792e4492d2f397a230189f63256a + 'nyswd&#97;' + '&#46;' + '&#111;rg';
				var addy_textd384792e4492d2f397a230189f63256a = 'rv&#105;ss&#101;r' + '&#64;' + 'nyswd&#97;' + '&#46;' + '&#111;rg';document.getElementById('cloakd384792e4492d2f397a230189f63256a').innerHTML += '<a ' + path + '\'' + prefix + ':' + addyd384792e4492d2f397a230189f63256a + '\'>'+addy_textd384792e4492d2f397a230189f63256a+'';
		
DTSTAMP:20260424T044308
DTSTART;TZID=America/New_York:20250821T090000
DTEND;TZID=America/New_York:20250821T120000
SEQUENCE:0
TRANSP:OPAQUE
END:VEVENT
END:VCALENDAR