BEGIN:VCALENDAR
VERSION:2.0
PRODID:-//jEvents 2.0 for Joomla//EN
CALSCALE:GREGORIAN
METHOD:PUBLISH
BEGIN:VTIMEZONE
TZID:America/New_York
BEGIN:STANDARD
DTSTART:20241103T010000
RDATE:20250309T030000
TZOFFSETFROM:-0400
TZOFFSETTO:-0500
TZNAME:America/New_York EST
END:STANDARD
BEGIN:STANDARD
DTSTART:20251102T010000
RDATE:20260308T030000
TZOFFSETFROM:-0400
TZOFFSETTO:-0500
TZNAME:America/New_York EST
END:STANDARD
BEGIN:STANDARD
DTSTART:20261101T010000
RDATE:20270314T030000
TZOFFSETFROM:-0400
TZOFFSETTO:-0500
TZNAME:America/New_York EST
END:STANDARD
BEGIN:STANDARD
DTSTART:20271107T010000
RDATE:20280312T030000
TZOFFSETFROM:-0400
TZOFFSETTO:-0500
TZNAME:America/New_York EST
END:STANDARD
BEGIN:STANDARD
DTSTART:20281105T010000
RDATE:20290311T030000
TZOFFSETFROM:-0400
TZOFFSETTO:-0500
TZNAME:America/New_York EST
END:STANDARD
BEGIN:STANDARD
DTSTART:20291104T010000
RDATE:20300310T030000
TZOFFSETFROM:-0400
TZOFFSETTO:-0500
TZNAME:America/New_York EST
END:STANDARD
BEGIN:STANDARD
DTSTART:20301103T010000
RDATE:20310309T030000
TZOFFSETFROM:-0400
TZOFFSETTO:-0500
TZNAME:America/New_York EST
END:STANDARD
BEGIN:DAYLIGHT
DTSTART:20240827T090000
RDATE:20241103T010000
TZOFFSETFROM:-0500
TZOFFSETTO:-0400
TZNAME:America/New_York EDT
END:DAYLIGHT
BEGIN:DAYLIGHT
DTSTART:20250309T030000
RDATE:20251102T010000
TZOFFSETFROM:-0500
TZOFFSETTO:-0400
TZNAME:America/New_York EDT
END:DAYLIGHT
BEGIN:DAYLIGHT
DTSTART:20260308T030000
RDATE:20261101T010000
TZOFFSETFROM:-0500
TZOFFSETTO:-0400
TZNAME:America/New_York EDT
END:DAYLIGHT
BEGIN:DAYLIGHT
DTSTART:20270314T030000
RDATE:20271107T010000
TZOFFSETFROM:-0500
TZOFFSETTO:-0400
TZNAME:America/New_York EDT
END:DAYLIGHT
BEGIN:DAYLIGHT
DTSTART:20280312T030000
RDATE:20281105T010000
TZOFFSETFROM:-0500
TZOFFSETTO:-0400
TZNAME:America/New_York EDT
END:DAYLIGHT
BEGIN:DAYLIGHT
DTSTART:20290311T030000
RDATE:20291104T010000
TZOFFSETFROM:-0500
TZOFFSETTO:-0400
TZNAME:America/New_York EDT
END:DAYLIGHT
BEGIN:DAYLIGHT
DTSTART:20300310T030000
RDATE:20301103T010000
TZOFFSETFROM:-0500
TZOFFSETTO:-0400
TZNAME:America/New_York EDT
END:DAYLIGHT
END:VTIMEZONE
BEGIN:VEVENT
UID:610ec7c5dc3da90fb7599b0081e8f14c
CATEGORIES:WEB
CREATED:20250808T145723
SUMMARY:WA Software Refresher - Online
LOCATION:Online
DESCRIPTION:\n WA Software Refresher - Online \n
 \n
Microsoft Teams Event\n
\n
 \n
Cou
 rse Description: \n
This online training is designed for individuals who ha
 ve previously taken the Weatherization Assistant (WA) Software training or 
 are currently working with the software. \n
The session will be conducted i
 n a Q&amp;A-based format, focusing on real-world scenarios and common chall
 enges.\n
Training Focus:\n

\n - Setting up agencies
\n - Managing users
\n
  - Configuring libraries

Duration: Approximately 4 hours (may be extended 
 depending on the number of questions).\n
To get the most out of the session
 , please prepare your questions in advance.\n
\n
 \n
\n
Class Size: 30 \n
 
  \n
\n
BPI CEU: none\n
 \n
\n
\n
Instructor:  Joe Maggiore - NYSWDA \n
 \n

 \n
\n
Course Fees: none \n
\n
 \n
CLASS FULL - call or email  This email ad
 dress is being protected from spambots. You need JavaScript enabled to view
  it.
				document.getElementById('cloak450080e67e9ec0037e6ed7817b3aad53').i
 nnerHTML = '';
				var prefix = 'ma' + 'il' + 'to';
				var path = 'hr' + '
 ef' + '=';
				var addy450080e67e9ec0037e6ed7817b3aad53 = 'rvisser' + '@';

 				addy450080e67e9ec0037e6ed7817b3aad53 = addy450080e67e9ec0037e6ed7817b3a
 ad53 + 'nyswda' + '.' + 'org';
				var addy_text450080e67e9ec0037e6ed7817b3
 aad53 = 'rvisser' + '@' + 'nyswda' + '.' + 'org';document.getElementById('c
 loak450080e67e9ec0037e6ed7817b3aad53').innerHTML += '<a ' + path + '\'' + p
 refix + ':' + addy450080e67e9ec0037e6ed7817b3aad53 + '\'>'+addy_text450080e
 67e9ec0037e6ed7817b3aad53+'';
		 for availability or wait list \n
 \n
\n
 \
 n
\n
 \n
 \n
 \n
 \n
 \n
X-ALT-DESC;FMTTYPE=text/html:<p><br />&nbsp;<span style="color: #336699; font-family: tahoma, arial, hel
 vetica, sans-serif; font-size: 14pt;"><span style="color: #000000;"><strong
 ><span style="color: #336699;">WA Software Refresher - Online&nbsp;</span><
 /strong></span></span></p><p>&nbsp;</p><p><span style="color: #336699; font
 -family: tahoma, arial, helvetica, sans-serif; font-size: 14pt;"><span styl
 e="color: #000000;"><strong><span style="color: #336699;">Microsoft Teams E
 vent</span></strong></span></span></p><p><strong><span style="font-family: 
 Tahoma, 'sans-serif'; color: #336699; font-size: 13.5pt;"></span></strong><
 /p><p>&nbsp;</p><p><span style="color: black;"><span style="font-size: 12pt
 ;"><em><span style="text-decoration: underline;"><span style="font-family: 
 Tahoma, 'sans-serif';">Course Description:</span></span></em></span>&nbsp;<
 /span></p><p><span style="font-family: tahoma, arial, helvetica, sans-serif
 ; font-size: 12pt; color: black;">This online training is designed for indi
 viduals who have previously taken the Weatherization Assistant (WA) Softwar
 e training or are currently working with the software.&nbsp;</span></p><p><
 span style="font-family: tahoma, arial, helvetica, sans-serif; font-size: 1
 2pt; color: black;">The session will be conducted in a <strong>Q&amp;A-base
 d format</strong>, focusing on real-world scenarios and common challenges.<
 /span></p><p><span style="font-family: tahoma, arial, helvetica, sans-serif
 ; font-size: 12pt; color: black;"><strong>Training Focus:</strong></span></
 p><ul><li><span style="font-family: tahoma, arial, helvetica, sans-serif; f
 ont-size: 12pt; color: black;">Setting up agencies</span></li><li><span sty
 le="font-family: tahoma, arial, helvetica, sans-serif; font-size: 12pt; col
 or: black;">Managing users</span></li><li><span style="font-family: tahoma,
  arial, helvetica, sans-serif; font-size: 12pt; color: black;">Configuring 
 libraries</span></li></ul><p><span style="font-family: tahoma, arial, helve
 tica, sans-serif; font-size: 12pt; color: black;"><strong>Duration:</strong
 > Approximately 4 hours (may be extended depending on the number of questio
 ns).</span></p><p><span style="font-family: tahoma, arial, helvetica, sans-
 serif; font-size: 12pt; color: black;">To get the most out of the session, 
 please prepare your questions in advance.</span></p><p><span style="color: 
 black;"></span></p><p>&nbsp;</p><p><span style="font-family: Tahoma, 'sans-
 serif'; color: black; font-size: 12pt;"></span></p><p><span style="color: b
 lack;"><span style="font-size: 12pt;"><em><span style="text-decoration: und
 erline;"><span style="font-family: Tahoma, 'sans-serif';">Class Size</span>
 </span></em><span style="font-family: Tahoma, 'sans-serif';">: 30</span></s
 pan>&nbsp;<span style="font-family: Tahoma, 'sans-serif'; font-size: 12pt;"
 ></span></span></p><p>&nbsp;&nbsp;</p><p><span style="color: black;"></span
 ></p><p><span style="font-size: 12pt; color: black;"><em><span style="text-
 decoration: underline;"><span style="font-family: Tahoma, 'sans-serif';">BP
 I CEU</span></span></em><span style="text-decoration: underline;"><span sty
 le="font-family: Tahoma, 'sans-serif';">:</span></span><span style="font-fa
 mily: Tahoma, 'sans-serif';">&nbsp;none</span></span></p><p>&nbsp;</p><p><s
 pan style="font-family: Tahoma, 'sans-serif'; color: black; font-size: 12pt
 ;"></span></p><p><span style="color: black;"></span></p><p><span style="col
 or: black;"><span style="font-size: 12pt;"><span style="text-decoration: un
 derline;"><span style="font-family: Tahoma, 'sans-serif';"><em>Instructor</
 em>:</span></span><span style="font-family: Tahoma, 'sans-serif';">&nbsp; J
 oe Maggiore</span><span style="font-family: Tahoma, 'sans-serif';">&nbsp;- 
 NYSWDA</span></span>&nbsp;</span></p><p>&nbsp;</p><p><span style="font-fami
 ly: Tahoma, 'sans-serif'; color: black; font-size: 12pt;"></span></p><p><sp
 an style="color: black;"></span></p><p><span style="font-size: 12pt; color:
  black;"><em><span style="text-decoration: underline;"><span style="font-fa
 mily: Tahoma, 'sans-serif';">Course Fees:</span></span></em><span style="fo
 nt-family: Tahoma, 'sans-serif';"> none</span></span>&nbsp;</p><p><span sty
 le="font-size: 12pt;"><span style="color: black; font-family: Tahoma, 'sans
 -serif';"></span></span></p><p>&nbsp;</p><p><span style="font-family: tahom
 a, arial, helvetica, sans-serif; font-size: 14pt;"><span style="color: #000
 0ff;"><em><strong><span style="font-family: tahoma, arial, helvetica, sans-
 serif; font-size: 14pt;"><span style="color: #ffffff; font-family: tahoma, 
 arial, helvetica, sans-serif; font-size: 14pt;"><span style="color: #ff0000
 ;">CLASS FULL - call or email</span>&nbsp; <span id="cloak450080e67e9ec0037
 e6ed7817b3aad53">This email address is being protected from spambots. You n
 eed JavaScript enabled to view it.</span><script type='text/javascript'>
		
 		document.getElementById('cloak450080e67e9ec0037e6ed7817b3aad53').innerHTM
 L = '';
				var prefix = 'ma' + 'il' + 'to';
				var path = 'hr' + 'ef' + '
 =';
				var addy450080e67e9ec0037e6ed7817b3aad53 = 'rvisser' + '@';
				add
 y450080e67e9ec0037e6ed7817b3aad53 = addy450080e67e9ec0037e6ed7817b3aad53 + 
 'nyswda' + '.' + 'org';
				var addy_text450080e67e9ec0037e6ed7817b3aad53 =
  '<span style="color: #0066cc;">rvisser' + '@' + 'nyswda' + '.' + 'org</spa
 n>';document.getElementById('cloak450080e67e9ec0037e6ed7817b3aad53').innerH
 TML += '<a ' + path + '\'' + prefix + ':' + addy450080e67e9ec0037e6ed7817b3
 aad53 + '\'>'+addy_text450080e67e9ec0037e6ed7817b3aad53+'<\/a>';
		</script
 > <span style="color: #ff0000;">for availability or wait list</span></span>
 <em></em><span style="font-family: tahoma, arial, helvetica, sans-serif; fo
 nt-size: 14pt;"></span><em></em><span style="color: #0000ff;"></span><span 
 style="font-family: tahoma, arial, helvetica, sans-serif; font-size: 14pt;"
 ></span> </span></strong></em></span><span style="font-family: tahoma, aria
 l, helvetica, sans-serif; font-size: 14pt;"></span></span><span style="font
 -family: tahoma, arial, helvetica, sans-serif; font-size: 14pt;"></span><sp
 an style="font-family: tahoma, arial, helvetica, sans-serif; font-size: 14p
 t;"></span><span style="font-family: tahoma, arial, helvetica, sans-serif; 
 font-size: 14pt;"></span><em></em><span style="color: #0000ff;"></span></p>
 <p>&nbsp;</p><p><span style="font-family: Arial, 'sans-serif'; color: black
 ; font-size: 10pt;"></span></p><p>&nbsp;</p><p><span style="font-family: Ar
 ial, 'sans-serif'; color: black; font-size: 10pt;"></span></p><p>&nbsp;</p>
 <p>&nbsp;</p><p>&nbsp;</p><p>&nbsp;</p><p>&nbsp;</p>
CONTACT:This email address is being protected from spambots. You need JavaScript enabled to view it.
				document.getElementById('cloak54c735c3478b977d71f207dbafcf6776').innerHTML = '';
				var prefix = '&#109;a' + 'i&#108;' + '&#116;o';
				var path = 'hr' + 'ef' + '=';
				var addy54c735c3478b977d71f207dbafcf6776 = 'rv&#105;ss&#101;r' + '&#64;';
				addy54c735c3478b977d71f207dbafcf6776 = addy54c735c3478b977d71f207dbafcf6776 + 'nyswd&#97;' + '&#46;' + '&#111;rg';
				var addy_text54c735c3478b977d71f207dbafcf6776 = 'rv&#105;ss&#101;r' + '&#64;' + 'nyswd&#97;' + '&#46;' + '&#111;rg';document.getElementById('cloak54c735c3478b977d71f207dbafcf6776').innerHTML += '<a ' + path + '\'' + prefix + ':' + addy54c735c3478b977d71f207dbafcf6776 + '\'>'+addy_text54c735c3478b977d71f207dbafcf6776+'';
		
DTSTAMP:20260424T044003
DTSTART;TZID=America/New_York:20250828T090000
DTEND;TZID=America/New_York:20250828T120000
SEQUENCE:0
TRANSP:OPAQUE
END:VEVENT
END:VCALENDAR