BEGIN:VCALENDAR
VERSION:2.0
PRODID:-//jEvents 2.0 for Joomla//EN
CALSCALE:GREGORIAN
METHOD:PUBLISH
BEGIN:VTIMEZONE
TZID:America/New_York
BEGIN:STANDARD
DTSTART:20241103T010000
RDATE:20250309T030000
TZOFFSETFROM:-0400
TZOFFSETTO:-0500
TZNAME:America/New_York EST
END:STANDARD
BEGIN:STANDARD
DTSTART:20251102T010000
RDATE:20260308T030000
TZOFFSETFROM:-0400
TZOFFSETTO:-0500
TZNAME:America/New_York EST
END:STANDARD
BEGIN:STANDARD
DTSTART:20261101T010000
RDATE:20270314T030000
TZOFFSETFROM:-0400
TZOFFSETTO:-0500
TZNAME:America/New_York EST
END:STANDARD
BEGIN:STANDARD
DTSTART:20271107T010000
RDATE:20280312T030000
TZOFFSETFROM:-0400
TZOFFSETTO:-0500
TZNAME:America/New_York EST
END:STANDARD
BEGIN:STANDARD
DTSTART:20281105T010000
RDATE:20290311T030000
TZOFFSETFROM:-0400
TZOFFSETTO:-0500
TZNAME:America/New_York EST
END:STANDARD
BEGIN:STANDARD
DTSTART:20291104T010000
RDATE:20300310T030000
TZOFFSETFROM:-0400
TZOFFSETTO:-0500
TZNAME:America/New_York EST
END:STANDARD
BEGIN:STANDARD
DTSTART:20301103T010000
RDATE:20310309T030000
TZOFFSETFROM:-0400
TZOFFSETTO:-0500
TZNAME:America/New_York EST
END:STANDARD
BEGIN:DAYLIGHT
DTSTART:20240907T090000
RDATE:20241103T010000
TZOFFSETFROM:-0500
TZOFFSETTO:-0400
TZNAME:America/New_York EDT
END:DAYLIGHT
BEGIN:DAYLIGHT
DTSTART:20250309T030000
RDATE:20251102T010000
TZOFFSETFROM:-0500
TZOFFSETTO:-0400
TZNAME:America/New_York EDT
END:DAYLIGHT
BEGIN:DAYLIGHT
DTSTART:20260308T030000
RDATE:20261101T010000
TZOFFSETFROM:-0500
TZOFFSETTO:-0400
TZNAME:America/New_York EDT
END:DAYLIGHT
BEGIN:DAYLIGHT
DTSTART:20270314T030000
RDATE:20271107T010000
TZOFFSETFROM:-0500
TZOFFSETTO:-0400
TZNAME:America/New_York EDT
END:DAYLIGHT
BEGIN:DAYLIGHT
DTSTART:20280312T030000
RDATE:20281105T010000
TZOFFSETFROM:-0500
TZOFFSETTO:-0400
TZNAME:America/New_York EDT
END:DAYLIGHT
BEGIN:DAYLIGHT
DTSTART:20290311T030000
RDATE:20291104T010000
TZOFFSETFROM:-0500
TZOFFSETTO:-0400
TZNAME:America/New_York EDT
END:DAYLIGHT
BEGIN:DAYLIGHT
DTSTART:20300310T030000
RDATE:20301103T010000
TZOFFSETFROM:-0500
TZOFFSETTO:-0400
TZNAME:America/New_York EDT
END:DAYLIGHT
END:VTIMEZONE
BEGIN:VEVENT
UID:6e90c62b785b34130a4ea98dd06dd5ba
CATEGORIES:At Syracuse
CREATED:20250814T145051
SUMMARY:BPI Manufactured Housing Professional
LOCATION:NYSWDA Training Center - East Syracuse
DESCRIPTION:<p><span style="color: #336699;"><strong><span style="font-family: Tahoma;"
 ><span style="font-size: medium;"><span style="color: #336699; font-size: 1
 2pt;"><span><span><br />&nbsp;</span><span style="font-size: 14pt;"><span s
 tyle="color: #000000;"><strong><span style="color: #336699;">BPI Manufactur
 ed Housing Professional </span></strong></span></span></span></span></span>
 </span></strong></span></p><p>&nbsp;</p><p><span style="color: #336699;"><s
 trong><span style="font-family: Tahoma;"><span style="font-size: medium;"><
 span style="color: #336699; font-size: 12pt;"><span><span style="font-size:
  14pt;"><span style="color: #000000;"><strong><span style="color: #336699;"
 >Training Location:&nbsp;&nbsp;NYSWDA Training Center (Building 1)&nbsp;- 5
 869 Fisher Road, East Syracuse, NY 13057</span></strong></span></span></spa
 n></span></span></span></strong></span></p><p>&nbsp;</p><p><span style="col
 or: #336699;"><span style="font-family: Tahoma;"><span style="font-size: me
 dium;"><span style="color: #336699; font-size: 12pt;"><span><span style="fo
 nt-size: 14pt;"><span style="color: #000000;"><span style="color: #336699;"
 ></span></span></span></span></span></span></span><span style="font-family:
  Tahoma;"><span style="font-size: medium;"><span style="color: #000000;"><s
 pan style="font-size: small;"><span style="font-size: 12pt;"><span style="t
 ext-decoration: underline;"><em><span style="font-family: Tahoma;">Course D
 escription:<br /></span></em></span><span style="font-family: Tahoma;">This
  four day course will prepare you to&nbsp;take the BPI Manufactured Housing
  Specialist Certification written and field tests. As part of this training
 , BPI standards and work practices will be reviewed. Attendees will look at
  common problem areas during the course of an energy audit and prepare a wo
 rkscope to remedy these issues. Topics addressed will include typical manuf
 actured home construction, heating system basics, distribution system evalu
 ation and repairs, belly repair, air sealing and insulation best practices.
  Because of the large amount of BPI building analyst curriculum incorporate
 d into this training, it is strongly recommended that attendees hold BPI Bu
 ilding Analyst certification and have a good working knowledge of auditing 
 procedures. A<span style="font-family: Tahoma;">fter the trainees successfu
 lly complete the written portion of the test, we will schedule them for the
  Field test.<span style="color: #000000;"><span style="font-family: Tahoma;
 "><br /><span style="text-decoration: underline;"><em><br /><br />Agenda</e
 m><span style="font-family: Arial, Helvetica;"> <br /></span></span><span s
 tyle="font-family: Arial, Helvetica;"><span style="color: #000000;"><span s
 tyle="font-family: Times;"><strong><span style="font-family: Tahoma;">Day 1
 : Pre-Test </span></strong><span style="font-family: Tahoma;"><br />MH Over
 view/ Construction Standards <br />BPI Standards and Best Work Practices <b
 r />MH Tools and Equipment<br />Heating and Distribution Systems <br /><br 
 /><strong>Day 2: Overview of Belly Repairs </strong><br />Overview of Roof 
 Insulation Installation <br />Overview of Sidewall Insulation Installation 
 <br />Door &amp; Window Replacement<br /><br /><strong>Day 3: Manufactured 
 Housing Audit Procedures</strong><br />MH CAZ Testing / Duct Diagnostics<br
  />Review of BPI Standards and Best Work Practices<span style="color: #0000
 00;"><br /><br /><span style="color: #000000;"><strong>Day 4: Online MH Tes
 t<span style="text-decoration: underline;"></span></strong><span style="tex
 t-decoration: underline;"><em><br /><br /><br />Who Should Attend:<br /></e
 m></span><em><span style="font-family: Tahoma;"></span></em><span style="fo
 nt-family: Tahoma;"><span style="font-family: Tahoma;">Auditors/Energy Anal
 ysts with strong auditing skills<span style="font-family: Tahoma;"><br /><b
 r /><br /><span style="text-decoration: underline;"><em><span style="font-f
 amily: Tahoma;">Dates;<br /></span></em></span><em><span style="font-family
 : Tahoma;"><span style="font-family: Tahoma;"></span></span></em><span styl
 e="font-family: Tahoma;"><span style="font-family: Tahoma;">Course covers t
 he dates of September 8-11, 2025</span></span></span></span></span></span><
 /span></span></span></span></span></span></span></span></span></span></span
 ></span></span></span></span></p><p><span style="color: #336699;"><span sty
 le="font-family: Tahoma;"><span style="font-size: medium;"><span style="col
 or: #000000;"><span style="font-size: small;"><span style="font-size: 12pt;
 "><span style="font-family: Tahoma;"><span style="font-family: Tahoma;"><sp
 an style="color: #000000;"><span style="font-family: Tahoma;"><span style="
 font-family: Arial, Helvetica;"><span style="color: #000000;"><span style="
 font-family: Times;"><span style="font-family: Tahoma;"><span style="color:
  #000000;"><span style="color: #000000;"><span style="font-family: Tahoma;"
 ><span style="font-family: Tahoma;"><span style="font-family: Tahoma;"><spa
 n style="font-family: Tahoma;"><span style="font-family: Tahoma;"></span></
 span></span></span></span></span></span></span></span></span></span></span>
 </span></span></span></span></span></span></span></span></span>&nbsp;</p><p
 ><span style="color: #336699;"><span style="font-family: Tahoma;"><span sty
 le="font-size: medium;"><span style="color: #000000;"><span style="font-siz
 e: small;"><span style="font-size: 12pt;"><span style="font-family: Tahoma;
 "><span style="font-family: Tahoma;"><span style="color: #000000;"><span st
 yle="font-family: Tahoma;"><span style="font-family: Arial, Helvetica;"><sp
 an style="color: #000000;"><span style="font-family: Times;"><span style="f
 ont-family: Tahoma;"><span style="color: #000000;"><span style="color: #000
 000;"><span style="font-family: Tahoma;"><span style="font-family: Tahoma;"
 ><span style="font-family: Tahoma;"><span style="font-family: Tahoma;"><spa
 n style="font-family: Tahoma;">Start Time: Monday-Thursday 9:00am<br />End 
 Time: Monday-Wednesday 5:00pm / Thursday test starts after a class review s
 ession with&nbsp;1 1/2&nbsp;hours to complete<br /><br /><br /><span style=
 "text-decoration: underline;"><em><span style="font-family: Tahoma;">Prereq
 uisites:</span></em></span><em><span style="font-family: Tahoma;"> </span><
 /em><span style="font-family: Tahoma;"><span style="font-family: Tahoma;">B
 PI Building Analyst Professional certification<em><span style="font-family:
  Tahoma;"><br /></span></em><span style="font-family: Tahoma;"><span style=
 "font-family: Tahoma;"><br /><br /><span style="text-decoration: underline;
 "><em>Class Size</em></span>: 6<br /><br /><br /><span style="text-decorati
 on: underline;"><em>BPI CEU</em>:</span> 6<br /><br /><br /><span style="te
 xt-decoration: underline;"><em><span style="font-family: Tahoma;">Instructo
 rs:<br /></span></em></span><span style="font-family: Tahoma;">Joe Ilacqua,
  NYSWDA<span style="font-family: Tahoma;"><br /><br /><br /><span style="te
 xt-decoration: underline;"><em><span style="font-family: Tahoma;">Other Not
 es:<br /></span></em></span><span style="font-family: Tahoma;">For agencies
  to comply with HCR staff certification regulations only <span style="text-
 decoration: underline;">one</span> Manufactured Housing Specialist is requi
 red per agency. See PPM- Subgrantee Staff Certification Requirements for mo
 re information. Bring your auditing bags with meters and appropriate work c
 lothes.<span style="font-family: Times;"><br /><span style="font-family: Ta
 homa;"><br /><br /><span style="text-decoration: underline;"><em><span styl
 e="font-family: Tahoma;">Course Fees;&nbsp;</span></em><span style="font-fa
 mily: Tahoma;"></span><span style="font-family: Tahoma;"></span></span><spa
 n style="font-family: Tahoma;"><span style="color: #ff6600;"></span></span>
 <span style="font-family: Tahoma;"><br /></span><span style="font-family: T
 ahoma;"><span style="font-family: Tahoma;">$725/person - NY Weatherization 
 Sub-grantees&nbsp;<br />$725/person - affiliate members&nbsp;<br />$1,450/p
 erson - non-members and private contractors&nbsp;</span></span></span></spa
 n></span></span></span></span></span></span></span></span></span></span></s
 pan></span></span></span></span></span></span></span></span></span></span><
 /span></span></span></span></span></span></span></p><p>&nbsp;</p><p style="
 margin-top: 0in; margin-right: 0in; margin-bottom: 0pt;"><strong><i><span s
 tyle="background: white; color: #02613f; font-family: 'Georgia','serif';"><
 span style="font-size: small;">**Special note</span></span></i></strong><st
 rong><i><span style="background: white; color: black; font-family: 'Georgia
 ','serif';"><span style="font-size: small;">&nbsp;-&nbsp;if you wish to bec
 ome an Affiliate Member, and&nbsp;save off the non-member rate, please cont
 act&nbsp;Karen McMahon (315-701-0440 ext. 223,&nbsp;</span><span id="cloak6
 3afbc4d4dc9e0f20fdeaf8b2387c684">This email address is being protected from
  spambots. You need JavaScript enabled to view it.</span><script type='text
 /javascript'>
				document.getElementById('cloak63afbc4d4dc9e0f20fdeaf8b238
 7c684').innerHTML = '';
				var prefix = 'ma' + 'il' + 'to';
				var path =
  'hr' + 'ef' + '=';
				var addy63afbc4d4dc9e0f20fdeaf8b2387c684 = 'kmcmaho
 n' + '@';
				addy63afbc4d4dc9e0f20fdeaf8b2387c684 = addy63afbc4d4dc9e0f20f
 deaf8b2387c684 + 'nyswda' + '.' + 'org';
				var addy_text63afbc4d4dc9e0f20
 fdeaf8b2387c684 = '<span style="color: #0000ff; font-size: small;">kmcmahon
 ' + '@' + 'nyswda' + '.' + 'org</span>';document.getElementById('cloak63afb
 c4d4dc9e0f20fdeaf8b2387c684').innerHTML += '<a ' + path + '\'' + prefix + '
 :' + addy63afbc4d4dc9e0f20fdeaf8b2387c684 + '\'>'+addy_text63afbc4d4dc9e0f2
 0fdeaf8b2387c684+'<\/a>';
		</script><span style="font-size: small;">)&nbsp
 ;</span></span></i></strong><span style="font-size: small;"><strong><span s
 tyle="background: white; color: #02613f; font-family: 'Georgia','serif';">B
 EFORE YOU REGISTER&nbsp;</span></strong><em><b><span style="background: whi
 te; color: black; font-family: 'Georgia','serif';">for the course</span></b
 ></em><strong><span style="background: white; color: black; font-family: 'G
 eorgia','serif';">.</span></strong></span></p><p>&nbsp;</p><p><span style="
 color: #336699;"><span style="font-family: Tahoma;"><span style="font-size:
  medium;"><span style="color: #000000;"><span style="font-size: small;"><sp
 an style="font-size: 12pt;"><span style="font-family: Tahoma;"><span style=
 "font-family: Tahoma;"><span style="color: #000000;"><span style="font-fami
 ly: Tahoma;"><span style="font-family: Arial, Helvetica;"><span style="colo
 r: #000000;"><span style="font-family: Times;"><span style="font-family: Ta
 homa;"><span style="color: #000000;"><span style="color: #000000;"><span st
 yle="font-family: Tahoma;"><span style="font-family: Tahoma;"><span style="
 font-family: Tahoma;"><span style="font-family: Tahoma;"><span style="font-
 family: Tahoma;"><span style="font-family: Tahoma;"><span style="font-famil
 y: Tahoma;"><span style="font-family: Tahoma;"><span style="font-family: Ta
 homa;"><span style="font-family: Tahoma;"><span style="font-family: Tahoma;
 "><span style="font-family: Tahoma;"><span style="font-family: Times;"><spa
 n style="font-family: Tahoma;"><span style="font-family: Tahoma;"><span sty
 le="font-family: Tahoma;"><span style="font-family: Times New Roman; font-s
 ize: small;"></span><span style="font-family: Tahoma;">NYSWDA will not be r
 esponsible for hotel costs, travel to and from the training, breakfast and 
 dinner meals, or incidentals. Lunches are ARE NOT included.<br /><br />Cour
 se fees include<span style="font-family: Times;"> <span style="font-family:
  Tahoma;">"Your Mobile Home: Energy and Repair Guide" by John Krigger<br />
 <br /><em>(Financial assistance may be available from local NYS Department 
 of Labor One-Stop Centers)</em><span style="font-family: Times;"><br /><spa
 n style="font-family: Tahoma;"><br /><br /><span style="text-decoration: un
 derline;"><em>BPI Fees;<br /></em></span><span style="font-family: Tahoma;"
 >$220/person - 50-question written Manufactured Housing test<br />$550/pers
 on - Field test<br /><span style="color: #000000;"><strong>&nbsp;</strong><
 /span></span></span></span></span></span></span></span></span></span></span
 ></span></span></span></span></span></span></span></span></span></span></sp
 an></span></span></span></span></span></span></span></span></span></span></
 span></span></span></span></span></span></span></p><p><em><strong><span sty
 le="color: #0000ff; font-family: tahoma,arial,helvetica,sans-serif; font-si
 ze: 14pt;"><a href="index.php?option=com_civicrm&amp;task=civicrm/event/reg
 ister&amp;reset=1&amp;id=14448" style="color: #0000ff;">Click here to regis
 ter</a></span></strong></em></p><p>&nbsp;</p>
X-ALT-DESC;FMTTYPE=text/html:<p><span style="color: #336699;"><strong><span style="font-family: Tahoma;"
 ><span style="font-size: medium;"><span style="color: #336699; font-size: 1
 2pt;"><span><span><br />&nbsp;</span><span style="font-size: 14pt;"><span s
 tyle="color: #000000;"><strong><span style="color: #336699;">BPI Manufactur
 ed Housing Professional </span></strong></span></span></span></span></span>
 </span></strong></span></p><p>&nbsp;</p><p><span style="color: #336699;"><s
 trong><span style="font-family: Tahoma;"><span style="font-size: medium;"><
 span style="color: #336699; font-size: 12pt;"><span><span style="font-size:
  14pt;"><span style="color: #000000;"><strong><span style="color: #336699;"
 >Training Location:&nbsp;&nbsp;NYSWDA Training Center (Building 1)&nbsp;- 5
 869 Fisher Road, East Syracuse, NY 13057</span></strong></span></span></spa
 n></span></span></span></strong></span></p><p>&nbsp;</p><p><span style="col
 or: #336699;"><span style="font-family: Tahoma;"><span style="font-size: me
 dium;"><span style="color: #336699; font-size: 12pt;"><span><span style="fo
 nt-size: 14pt;"><span style="color: #000000;"><span style="color: #336699;"
 ></span></span></span></span></span></span></span><span style="font-family:
  Tahoma;"><span style="font-size: medium;"><span style="color: #000000;"><s
 pan style="font-size: small;"><span style="font-size: 12pt;"><span style="t
 ext-decoration: underline;"><em><span style="font-family: Tahoma;">Course D
 escription:<br /></span></em></span><span style="font-family: Tahoma;">This
  four day course will prepare you to&nbsp;take the BPI Manufactured Housing
  Specialist Certification written and field tests. As part of this training
 , BPI standards and work practices will be reviewed. Attendees will look at
  common problem areas during the course of an energy audit and prepare a wo
 rkscope to remedy these issues. Topics addressed will include typical manuf
 actured home construction, heating system basics, distribution system evalu
 ation and repairs, belly repair, air sealing and insulation best practices.
  Because of the large amount of BPI building analyst curriculum incorporate
 d into this training, it is strongly recommended that attendees hold BPI Bu
 ilding Analyst certification and have a good working knowledge of auditing 
 procedures. A<span style="font-family: Tahoma;">fter the trainees successfu
 lly complete the written portion of the test, we will schedule them for the
  Field test.<span style="color: #000000;"><span style="font-family: Tahoma;
 "><br /><span style="text-decoration: underline;"><em><br /><br />Agenda</e
 m><span style="font-family: Arial, Helvetica;"> <br /></span></span><span s
 tyle="font-family: Arial, Helvetica;"><span style="color: #000000;"><span s
 tyle="font-family: Times;"><strong><span style="font-family: Tahoma;">Day 1
 : Pre-Test </span></strong><span style="font-family: Tahoma;"><br />MH Over
 view/ Construction Standards <br />BPI Standards and Best Work Practices <b
 r />MH Tools and Equipment<br />Heating and Distribution Systems <br /><br 
 /><strong>Day 2: Overview of Belly Repairs </strong><br />Overview of Roof 
 Insulation Installation <br />Overview of Sidewall Insulation Installation 
 <br />Door &amp; Window Replacement<br /><br /><strong>Day 3: Manufactured 
 Housing Audit Procedures</strong><br />MH CAZ Testing / Duct Diagnostics<br
  />Review of BPI Standards and Best Work Practices<span style="color: #0000
 00;"><br /><br /><span style="color: #000000;"><strong>Day 4: Online MH Tes
 t<span style="text-decoration: underline;"></span></strong><span style="tex
 t-decoration: underline;"><em><br /><br /><br />Who Should Attend:<br /></e
 m></span><em><span style="font-family: Tahoma;"></span></em><span style="fo
 nt-family: Tahoma;"><span style="font-family: Tahoma;">Auditors/Energy Anal
 ysts with strong auditing skills<span style="font-family: Tahoma;"><br /><b
 r /><br /><span style="text-decoration: underline;"><em><span style="font-f
 amily: Tahoma;">Dates;<br /></span></em></span><em><span style="font-family
 : Tahoma;"><span style="font-family: Tahoma;"></span></span></em><span styl
 e="font-family: Tahoma;"><span style="font-family: Tahoma;">Course covers t
 he dates of September 8-11, 2025</span></span></span></span></span></span><
 /span></span></span></span></span></span></span></span></span></span></span
 ></span></span></span></span></p><p><span style="color: #336699;"><span sty
 le="font-family: Tahoma;"><span style="font-size: medium;"><span style="col
 or: #000000;"><span style="font-size: small;"><span style="font-size: 12pt;
 "><span style="font-family: Tahoma;"><span style="font-family: Tahoma;"><sp
 an style="color: #000000;"><span style="font-family: Tahoma;"><span style="
 font-family: Arial, Helvetica;"><span style="color: #000000;"><span style="
 font-family: Times;"><span style="font-family: Tahoma;"><span style="color:
  #000000;"><span style="color: #000000;"><span style="font-family: Tahoma;"
 ><span style="font-family: Tahoma;"><span style="font-family: Tahoma;"><spa
 n style="font-family: Tahoma;"><span style="font-family: Tahoma;"></span></
 span></span></span></span></span></span></span></span></span></span></span>
 </span></span></span></span></span></span></span></span></span>&nbsp;</p><p
 ><span style="color: #336699;"><span style="font-family: Tahoma;"><span sty
 le="font-size: medium;"><span style="color: #000000;"><span style="font-siz
 e: small;"><span style="font-size: 12pt;"><span style="font-family: Tahoma;
 "><span style="font-family: Tahoma;"><span style="color: #000000;"><span st
 yle="font-family: Tahoma;"><span style="font-family: Arial, Helvetica;"><sp
 an style="color: #000000;"><span style="font-family: Times;"><span style="f
 ont-family: Tahoma;"><span style="color: #000000;"><span style="color: #000
 000;"><span style="font-family: Tahoma;"><span style="font-family: Tahoma;"
 ><span style="font-family: Tahoma;"><span style="font-family: Tahoma;"><spa
 n style="font-family: Tahoma;">Start Time: Monday-Thursday 9:00am<br />End 
 Time: Monday-Wednesday 5:00pm / Thursday test starts after a class review s
 ession with&nbsp;1 1/2&nbsp;hours to complete<br /><br /><br /><span style=
 "text-decoration: underline;"><em><span style="font-family: Tahoma;">Prereq
 uisites:</span></em></span><em><span style="font-family: Tahoma;"> </span><
 /em><span style="font-family: Tahoma;"><span style="font-family: Tahoma;">B
 PI Building Analyst Professional certification<em><span style="font-family:
  Tahoma;"><br /></span></em><span style="font-family: Tahoma;"><span style=
 "font-family: Tahoma;"><br /><br /><span style="text-decoration: underline;
 "><em>Class Size</em></span>: 6<br /><br /><br /><span style="text-decorati
 on: underline;"><em>BPI CEU</em>:</span> 6<br /><br /><br /><span style="te
 xt-decoration: underline;"><em><span style="font-family: Tahoma;">Instructo
 rs:<br /></span></em></span><span style="font-family: Tahoma;">Joe Ilacqua,
  NYSWDA<span style="font-family: Tahoma;"><br /><br /><br /><span style="te
 xt-decoration: underline;"><em><span style="font-family: Tahoma;">Other Not
 es:<br /></span></em></span><span style="font-family: Tahoma;">For agencies
  to comply with HCR staff certification regulations only <span style="text-
 decoration: underline;">one</span> Manufactured Housing Specialist is requi
 red per agency. See PPM- Subgrantee Staff Certification Requirements for mo
 re information. Bring your auditing bags with meters and appropriate work c
 lothes.<span style="font-family: Times;"><br /><span style="font-family: Ta
 homa;"><br /><br /><span style="text-decoration: underline;"><em><span styl
 e="font-family: Tahoma;">Course Fees;&nbsp;</span></em><span style="font-fa
 mily: Tahoma;"></span><span style="font-family: Tahoma;"></span></span><spa
 n style="font-family: Tahoma;"><span style="color: #ff6600;"></span></span>
 <span style="font-family: Tahoma;"><br /></span><span style="font-family: T
 ahoma;"><span style="font-family: Tahoma;">$725/person - NY Weatherization 
 Sub-grantees&nbsp;<br />$725/person - affiliate members&nbsp;<br />$1,450/p
 erson - non-members and private contractors&nbsp;</span></span></span></spa
 n></span></span></span></span></span></span></span></span></span></span></s
 pan></span></span></span></span></span></span></span></span></span></span><
 /span></span></span></span></span></span></span></p><p>&nbsp;</p><p style="
 margin-top: 0in; margin-right: 0in; margin-bottom: 0pt;"><strong><i><span s
 tyle="background: white; color: #02613f; font-family: 'Georgia','serif';"><
 span style="font-size: small;">**Special note</span></span></i></strong><st
 rong><i><span style="background: white; color: black; font-family: 'Georgia
 ','serif';"><span style="font-size: small;">&nbsp;-&nbsp;if you wish to bec
 ome an Affiliate Member, and&nbsp;save off the non-member rate, please cont
 act&nbsp;Karen McMahon (315-701-0440 ext. 223,&nbsp;</span><span id="cloak6
 3afbc4d4dc9e0f20fdeaf8b2387c684">This email address is being protected from
  spambots. You need JavaScript enabled to view it.</span><script type='text
 /javascript'>
				document.getElementById('cloak63afbc4d4dc9e0f20fdeaf8b238
 7c684').innerHTML = '';
				var prefix = 'ma' + 'il' + 'to';
				var path =
  'hr' + 'ef' + '=';
				var addy63afbc4d4dc9e0f20fdeaf8b2387c684 = 'kmcmaho
 n' + '@';
				addy63afbc4d4dc9e0f20fdeaf8b2387c684 = addy63afbc4d4dc9e0f20f
 deaf8b2387c684 + 'nyswda' + '.' + 'org';
				var addy_text63afbc4d4dc9e0f20
 fdeaf8b2387c684 = '<span style="color: #0000ff; font-size: small;">kmcmahon
 ' + '@' + 'nyswda' + '.' + 'org</span>';document.getElementById('cloak63afb
 c4d4dc9e0f20fdeaf8b2387c684').innerHTML += '<a ' + path + '\'' + prefix + '
 :' + addy63afbc4d4dc9e0f20fdeaf8b2387c684 + '\'>'+addy_text63afbc4d4dc9e0f2
 0fdeaf8b2387c684+'<\/a>';
		</script><span style="font-size: small;">)&nbsp
 ;</span></span></i></strong><span style="font-size: small;"><strong><span s
 tyle="background: white; color: #02613f; font-family: 'Georgia','serif';">B
 EFORE YOU REGISTER&nbsp;</span></strong><em><b><span style="background: whi
 te; color: black; font-family: 'Georgia','serif';">for the course</span></b
 ></em><strong><span style="background: white; color: black; font-family: 'G
 eorgia','serif';">.</span></strong></span></p><p>&nbsp;</p><p><span style="
 color: #336699;"><span style="font-family: Tahoma;"><span style="font-size:
  medium;"><span style="color: #000000;"><span style="font-size: small;"><sp
 an style="font-size: 12pt;"><span style="font-family: Tahoma;"><span style=
 "font-family: Tahoma;"><span style="color: #000000;"><span style="font-fami
 ly: Tahoma;"><span style="font-family: Arial, Helvetica;"><span style="colo
 r: #000000;"><span style="font-family: Times;"><span style="font-family: Ta
 homa;"><span style="color: #000000;"><span style="color: #000000;"><span st
 yle="font-family: Tahoma;"><span style="font-family: Tahoma;"><span style="
 font-family: Tahoma;"><span style="font-family: Tahoma;"><span style="font-
 family: Tahoma;"><span style="font-family: Tahoma;"><span style="font-famil
 y: Tahoma;"><span style="font-family: Tahoma;"><span style="font-family: Ta
 homa;"><span style="font-family: Tahoma;"><span style="font-family: Tahoma;
 "><span style="font-family: Tahoma;"><span style="font-family: Times;"><spa
 n style="font-family: Tahoma;"><span style="font-family: Tahoma;"><span sty
 le="font-family: Tahoma;"><span style="font-family: Times New Roman; font-s
 ize: small;"></span><span style="font-family: Tahoma;">NYSWDA will not be r
 esponsible for hotel costs, travel to and from the training, breakfast and 
 dinner meals, or incidentals. Lunches are ARE NOT included.<br /><br />Cour
 se fees include<span style="font-family: Times;"> <span style="font-family:
  Tahoma;">"Your Mobile Home: Energy and Repair Guide" by John Krigger<br />
 <br /><em>(Financial assistance may be available from local NYS Department 
 of Labor One-Stop Centers)</em><span style="font-family: Times;"><br /><spa
 n style="font-family: Tahoma;"><br /><br /><span style="text-decoration: un
 derline;"><em>BPI Fees;<br /></em></span><span style="font-family: Tahoma;"
 >$220/person - 50-question written Manufactured Housing test<br />$550/pers
 on - Field test<br /><span style="color: #000000;"><strong>&nbsp;</strong><
 /span></span></span></span></span></span></span></span></span></span></span
 ></span></span></span></span></span></span></span></span></span></span></sp
 an></span></span></span></span></span></span></span></span></span></span></
 span></span></span></span></span></span></span></p><p><em><strong><span sty
 le="color: #0000ff; font-family: tahoma,arial,helvetica,sans-serif; font-si
 ze: 14pt;"><a href="https://www.nyswda.org/index.php?option=com_civicrm&amp
 ;task=civicrm/event/register&amp;reset=1&amp;id=14448" style="color: #0000f
 f;">Click here to register</a></span></strong></em></p><p>&nbsp;</p>
CONTACT:This email address is being protected from spambots. You need JavaScript enabled to view it.
				document.getElementById('cloak28f208fa264cd17f385c3afe1b031f8e').innerHTML = '';
				var prefix = '&#109;a' + 'i&#108;' + '&#116;o';
				var path = 'hr' + 'ef' + '=';
				var addy28f208fa264cd17f385c3afe1b031f8e = 'rv&#105;ss&#101;r' + '&#64;';
				addy28f208fa264cd17f385c3afe1b031f8e = addy28f208fa264cd17f385c3afe1b031f8e + 'nyswd&#97;' + '&#46;' + '&#111;rg';
				var addy_text28f208fa264cd17f385c3afe1b031f8e = 'rv&#105;ss&#101;r' + '&#64;' + 'nyswd&#97;' + '&#46;' + '&#111;rg';document.getElementById('cloak28f208fa264cd17f385c3afe1b031f8e').innerHTML += '<a ' + path + '\'' + prefix + ':' + addy28f208fa264cd17f385c3afe1b031f8e + '\'>'+addy_text28f208fa264cd17f385c3afe1b031f8e+'';
		
DTSTAMP:20260424T044229
DTSTART;TZID=America/New_York:20250908T090000
DTEND;TZID=America/New_York:20250911T163000
SEQUENCE:0
TRANSP:OPAQUE
END:VEVENT
END:VCALENDAR