BEGIN:VCALENDAR
VERSION:2.0
PRODID:-//jEvents 2.0 for Joomla//EN
CALSCALE:GREGORIAN
METHOD:PUBLISH
BEGIN:VTIMEZONE
TZID:America/New_York
BEGIN:STANDARD
DTSTART:20241111T090000
RDATE:20250309T030000
TZOFFSETFROM:-0400
TZOFFSETTO:-0500
TZNAME:America/New_York EST
END:STANDARD
BEGIN:STANDARD
DTSTART:20251102T010000
RDATE:20260308T030000
TZOFFSETFROM:-0400
TZOFFSETTO:-0500
TZNAME:America/New_York EST
END:STANDARD
BEGIN:STANDARD
DTSTART:20261101T010000
RDATE:20270314T030000
TZOFFSETFROM:-0400
TZOFFSETTO:-0500
TZNAME:America/New_York EST
END:STANDARD
BEGIN:STANDARD
DTSTART:20271107T010000
RDATE:20280312T030000
TZOFFSETFROM:-0400
TZOFFSETTO:-0500
TZNAME:America/New_York EST
END:STANDARD
BEGIN:STANDARD
DTSTART:20281105T010000
RDATE:20290311T030000
TZOFFSETFROM:-0400
TZOFFSETTO:-0500
TZNAME:America/New_York EST
END:STANDARD
BEGIN:STANDARD
DTSTART:20291104T010000
RDATE:20300310T030000
TZOFFSETFROM:-0400
TZOFFSETTO:-0500
TZNAME:America/New_York EST
END:STANDARD
BEGIN:STANDARD
DTSTART:20301103T010000
RDATE:20310309T030000
TZOFFSETFROM:-0400
TZOFFSETTO:-0500
TZNAME:America/New_York EST
END:STANDARD
BEGIN:DAYLIGHT
DTSTART:20250309T030000
RDATE:20251102T010000
TZOFFSETFROM:-0500
TZOFFSETTO:-0400
TZNAME:America/New_York EDT
END:DAYLIGHT
BEGIN:DAYLIGHT
DTSTART:20260308T030000
RDATE:20261101T010000
TZOFFSETFROM:-0500
TZOFFSETTO:-0400
TZNAME:America/New_York EDT
END:DAYLIGHT
BEGIN:DAYLIGHT
DTSTART:20270314T030000
RDATE:20271107T010000
TZOFFSETFROM:-0500
TZOFFSETTO:-0400
TZNAME:America/New_York EDT
END:DAYLIGHT
BEGIN:DAYLIGHT
DTSTART:20280312T030000
RDATE:20281105T010000
TZOFFSETFROM:-0500
TZOFFSETTO:-0400
TZNAME:America/New_York EDT
END:DAYLIGHT
BEGIN:DAYLIGHT
DTSTART:20290311T030000
RDATE:20291104T010000
TZOFFSETFROM:-0500
TZOFFSETTO:-0400
TZNAME:America/New_York EDT
END:DAYLIGHT
BEGIN:DAYLIGHT
DTSTART:20300310T030000
RDATE:20301103T010000
TZOFFSETFROM:-0500
TZOFFSETTO:-0400
TZNAME:America/New_York EDT
END:DAYLIGHT
END:VTIMEZONE
BEGIN:VEVENT
UID:9df3d4038fb989ecdd14ac406aacf477
CATEGORIES:At Syracuse
CREATED:20250908T155540
SUMMARY:OSHA 10 Hour Construction Safety Certification
LOCATION:NYSWDA Training Center - East Syracuse
DESCRIPTION: \n
 OSHA 10 Hour Construction Safety Certification\n
 \n
Training Location
 : NYSWDA Training Center – 5869 Fisher Road, East Syracuse, NY 13057\n\nThi
 s training is for;\nAll Weatherization field staff and general construction
  trade contractors.\n
 \n
\nCourse Description;\nWorking in a safe manner o
 n the job is as much an employee responsibility as it is for management to 
 provide a safe work environment.  This two-day course is an OSHA-authorized
  educational outreach program and will result in the issue of an OSHA 10-Ho
 ur Construction Safety Certificate upon successful completion of both days.
   NYSWDA has examined the OSHA requirements and created a program focusing 
 on the Weatherization jobsite and general construction safety.\n
 \n
Dates;
 \nNovember 12-13, 2025\nDAY ONE 9:00am - 4:30pm  and DAY TWO 9:00am - 1:00p
 m\n
 \n
 \n
Class Size; 10\n
\n\nBPI CEU; 5\n
 \n
\nInstructors; Joe Ilacqu
 a - NYSWDA\n
\n\nCourse Fees; \n$131/person (WAP sub-grantees)  \n
$131/per
 son (affiliate members)   \n
$190/person (non-members) \n
 \n
  \n
**Specia
 l note - if you wish to become an Affiliate Member, and save off the non-me
 mber rate, please contact Karen McMahon (315-701-0440, This email address i
 s being protected from spambots. You need JavaScript enabled to view it.
		
 		document.getElementById('cloak85928217ab912fcda04291842bb630e7').innerHTM
 L = '';
				var prefix = 'ma' + 'il' + 'to';
				var path = 'hr' + 'ef' + '
 =';
				var addy85928217ab912fcda04291842bb630e7 = 'kmcmahon' + '@';
				ad
 dy85928217ab912fcda04291842bb630e7 = addy85928217ab912fcda04291842bb630e7 +
  'nyswda' + '.' + 'org';
				var addy_text85928217ab912fcda04291842bb630e7 
 = 'kmcmahon' + '@' + 'nyswda' + '.' + 'org';document.getElementById('cloak8
 5928217ab912fcda04291842bb630e7').innerHTML += '<a ' + path + '\'' + prefix
  + ':' + addy85928217ab912fcda04291842bb630e7 + '\' target="_blank">'+addy_
 text85928217ab912fcda04291842bb630e7+'';
		) BEFORE YOU REGISTER for the co
 urse.\n
 \n
CLASS FULL - call or email  This email address is being protect
 ed from spambots. You need JavaScript enabled to view it.
				document.getE
 lementById('cloakbd7827211cc862f65a2702e76d993111').innerHTML = '';
				var
  prefix = 'ma' + 'il' + 'to';
				var path = 'hr' + 'ef' + '=';
				var add
 ybd7827211cc862f65a2702e76d993111 = 'rvisser' + '@';
				addybd7827211cc862
 f65a2702e76d993111 = addybd7827211cc862f65a2702e76d993111 + 'nyswda' + '.' 
 + 'org';
				var addy_textbd7827211cc862f65a2702e76d993111 = 'rvisser' + '@
 ' + 'nyswda' + '.' + 'org';document.getElementById('cloakbd7827211cc862f65a
 2702e76d993111').innerHTML += '<a ' + path + '\'' + prefix + ':' + addybd78
 27211cc862f65a2702e76d993111 + '\'>'+addy_textbd7827211cc862f65a2702e76d993
 111+'';
		 for availability or wait list\n
X-ALT-DESC;FMTTYPE=text/html:<p><span style="color: #336699; font-size: 12pt;"><span><span>&nbsp;</span>
 </span></span></p><p><span style="color: #336699; font-size: 12pt;"><span><
 span><strong><span style="color: #336699; font-size: 13.5pt;">&nbsp;<span s
 tyle="font-family: tahoma,arial,helvetica,sans-serif; font-size: 14pt;">OSH
 A 10 Hour Construction Safety Certification</span></span></strong></span></
 span></span></p><p>&nbsp;</p><p><span style="color: #336699; font-size: 12p
 t;"><span><span><span style="color: #000000;"><span><strong><span style="co
 lor: #336699;"><strong style="color: #336699; font-family: 'Times New Roman
 '; font-size: medium;"><span style="font-family: Tahoma;"><span style="font
 -size: medium;"><strong><span style="color: #336699; font-size: 13.5pt;">Tr
 aining Location:&nbsp;NYSWDA Training Center – 5869 Fisher Road, East Syrac
 use, NY 13057</span></strong></span></span></strong></span></strong></span>
 </span></span></span></span><span style="color: #336699; font-size: 12pt;">
 <span style="font-family: Tahoma;"><span><span style="color: #000000;"><em>
 <span><br /><br /><span style="text-decoration: underline;"><span style="fo
 nt-family: Tahoma;">This training is for;</span></span><span style="font-fa
 mily: Tahoma;"><span style="font-family: Tahoma;"><br /></span></span></spa
 n></em><span><span style="font-family: Tahoma;"><span style="font-family: T
 ahoma;"><span style="font-family: Tahoma;">All Weatherization field staff a
 nd general construction trade contractors.</span></span></span></span></spa
 n></span></span></span></p><p><span style="color: #336699; font-size: 12pt;
 "><span style="font-family: Tahoma;"><span><span style="color: #000000;"><s
 pan><span style="font-family: Tahoma;"><span style="font-family: Tahoma;"><
 span style="font-family: Tahoma;"><span style="font-family: Tahoma;"></span
 ></span></span></span></span></span></span></span></span>&nbsp;</p><p><span
  style="color: #336699; font-size: 12pt;"><span style="font-family: Tahoma;
 "><span><span style="color: #000000;"><span><span style="font-family: Tahom
 a;"><span style="font-family: Tahoma;"><span style="font-family: Tahoma;"><
 span style="font-family: Tahoma;"><br /><span style="text-decoration: under
 line;"><em><span style="font-family: Tahoma;">Course Description;</span></e
 m></span><em><span style="font-family: Tahoma;"><span style="font-family: T
 ahoma;"><br /></span></span></em><span style="font-family: Tahoma;"><span s
 tyle="font-family: Tahoma;"><span style="font-family: Tahoma;">Working in a
  safe manner on the job is as much an employee responsibility as it is for 
 management to provide a safe work environment.&nbsp; This two-day course is
  an OSHA-authorized educational outreach program and will result in the iss
 ue of an OSHA 10-Hour Construction Safety Certificate upon successful compl
 etion of both days.&nbsp;&nbsp;NYSWDA has examined the OSHA requirements an
 d created a program focusing on the Weatherization jobsite and general cons
 truction safety.</span></span></span></span></span></span></span></span></s
 pan></span></span></span></p><p><span style="color: #336699; font-size: 12p
 t;"><span style="font-family: Tahoma;"><span><span style="color: #000000;">
 <span><span style="font-family: Tahoma;"><span style="font-family: Tahoma;"
 ><span style="font-family: Tahoma;"><span style="font-family: Tahoma;"><spa
 n style="font-family: Tahoma;"><span style="font-family: Tahoma;"><span sty
 le="font-family: Tahoma;"><span style="text-decoration: underline;"><em></e
 m></span></span></span></span></span></span></span></span></span></span></s
 pan></span></span>&nbsp;</p><p><span style="color: #336699; font-size: 12pt
 ;"><span style="font-family: Tahoma;"><span><span style="color: #000000;"><
 span style="font-family: Tahoma;"><span style="font-family: Tahoma;"><span 
 style="font-family: Tahoma;"><span style="font-family: Tahoma;"><span style
 ="font-family: Tahoma;"><span style="font-family: Tahoma;"><span style="fon
 t-family: Tahoma;"><span style="text-decoration: underline;"><em>Dates;<br 
 /></em></span><span style="font-family: Tahoma;">November 12-13, 2025<br />
 DAY ONE 9:00am - 4:30pm&nbsp; and DAY TWO 9:00am - 1:00pm</span></span></sp
 an></span></span></span></span></span></span></span></span></span></p><p>&n
 bsp;</p><p>&nbsp;</p><p><span style="color: #336699; font-size: 12pt;"><spa
 n style="font-family: Tahoma;"><span><span style="color: #000000;"><span><s
 pan style="font-family: Tahoma;"><span style="font-family: Tahoma;"><span s
 tyle="font-family: Tahoma;"><span style="font-family: Tahoma;"><span style=
 "font-family: Tahoma;"><span style="font-family: Tahoma;"><span style="font
 -family: Tahoma;"><span style="font-family: Tahoma;"><span style="font-fami
 ly: Tahoma;"><span style="font-family: Tahoma;"><span style="text-decoratio
 n: underline;"><em>Class Size;</em></span>&nbsp;10</span></span></span></sp
 an></span></span></span></span></span></span></span></span></span></span></
 span></p><p><span style="color: #336699; font-size: 12pt;"><span style="fon
 t-family: Tahoma;"><span><span style="color: #000000;"><span><span style="f
 ont-family: Tahoma;"><span style="font-family: Tahoma;"><span style="font-f
 amily: Tahoma;"><span style="font-family: Tahoma;"><span style="font-family
 : Tahoma;"><span style="font-family: Tahoma;"><span style="font-family: Tah
 oma;"><span style="font-family: Tahoma;"><span style="font-family: Tahoma;"
 ><span style="font-family: Tahoma;"><br /><br /><span style="text-decoratio
 n: underline;"><em>BPI CEU;</em></span> 5</span></span></span></span></span
 ></span></span></span></span></span></span></span></span></span></span></p>
 <p><span style="color: #336699; font-size: 12pt;"><span style="font-family:
  Tahoma;"><span><span style="color: #000000;"><span><span style="font-famil
 y: Tahoma;"><span style="font-family: Tahoma;"><span style="font-family: Ta
 homa;"><span style="font-family: Tahoma;"><span style="font-family: Tahoma;
 "><span style="font-family: Tahoma;"><span style="font-family: Tahoma;"><sp
 an style="font-family: Tahoma;"><span style="font-family: Tahoma;"><span st
 yle="font-family: Tahoma;"></span></span></span></span></span></span></span
 ></span></span></span></span></span></span></span></span>&nbsp;</p><p><span
  style="color: #336699; font-size: 12pt;"><span style="font-family: Tahoma;
 "><span><span style="color: #000000;"><span><span style="font-family: Tahom
 a;"><span style="font-family: Tahoma;"><span style="font-family: Tahoma;"><
 span style="font-family: Tahoma;"><span style="font-family: Tahoma;"><span 
 style="font-family: Tahoma;"><span style="font-family: Tahoma;"><span style
 ="font-family: Tahoma;"><span style="font-family: Tahoma;"><span style="fon
 t-family: Tahoma;"><br /><span style="text-decoration: underline;"><em><spa
 n style="font-family: Tahoma;">Instructors;</span></em></span><span style="
 font-family: Tahoma;">&nbsp;Joe Ilacqua - NYSWDA</span></span></span></span
 ></span></span></span></span></span></span></span></span></span></span></sp
 an></span></p><p><span style="color: #336699; font-size: 12pt;"><span style
 ="font-family: Tahoma;"><span><span style="color: #000000;"><span><span sty
 le="font-family: Tahoma;"><span style="font-family: Tahoma;"><span style="f
 ont-family: Tahoma;"><span style="font-family: Tahoma;"><span style="font-f
 amily: Tahoma;"><span style="font-family: Tahoma;"><span style="font-family
 : Tahoma;"><span style="font-family: Tahoma;"><span style="font-family: Tah
 oma;"><span style="font-family: Tahoma;"><span style="font-family: Tahoma;"
 ><br /><br /><span style="text-decoration: underline;"><em>Course Fees; <br
  /></em></span><span style="font-family: Tahoma;"><span style="font-size: 1
 2pt;"><span style="font-family: Tahoma;">$131/person (WAP sub-grantees)&nbs
 p;</span><span style="color: #eb501b;"> </span></span></span></span></span>
 </span></span></span></span></span></span></span></span></span></span></spa
 n></span></span></span></p><p><span style="color: #336699;"><span style="fo
 nt-family: Tahoma;"><span style="font-size: medium;"><span style="color: #0
 00000;"><span style="font-family: Arial, Helvetica;"><span style="font-size
 : x-small;"><span style="font-family: Tahoma;"><span style="font-size: smal
 l;"><span style="font-family: Tahoma;"><span style="font-family: Tahoma;"><
 span style="font-family: Tahoma;"><span style="font-family: Arial, Helvetic
 a;"><span style="font-size: x-small;"><span style="font-family: Tahoma;"><s
 pan style="font-size: small;"><span style="font-family: Tahoma;"><span styl
 e="font-family: Tahoma;"><span style="font-family: Arial, Helvetica;"><span
  style="font-size: x-small;"><span style="font-family: Tahoma;"><span style
 ="font-size: small;"><span style="font-family: Arial, Helvetica;"><span sty
 le="font-size: x-small;"><span style="font-family: Tahoma;"><span style="fo
 nt-size: small;"><span style="font-family: Arial, Helvetica;"><span style="
 font-size: x-small;"><span style="font-family: Tahoma;"><span style="font-s
 ize: small;"><span style="font-family: Arial, Helvetica;"><span style="font
 -size: x-small;"><span style="color: #000000;"><span style="font-family: Ta
 homa;"><span style="font-size: small;"><span style="color: #000000;"><span 
 style="font-family: Tahoma;"><span style="font-family: Tahoma;"><span style
 ="color: #336699;"><span style="font-family: Tahoma;"><span style="font-siz
 e: medium;"><span style="color: #000000;"><span style="font-family: Arial, 
 Helvetica;"><span style="font-size: x-small;"><span style="font-size: small
 ;"><span style="font-family: Tahoma;"><span style="font-family: Tahoma;"><s
 pan style="font-family: Tahoma;"><span style="font-family: Arial, Helvetica
 ;"><span style="font-size: x-small;"><span style="font-family: Tahoma;"><sp
 an style="font-size: small;"><span style="font-family: Tahoma;"><span style
 ="font-family: Tahoma;"><span style="font-family: Arial, Helvetica;"><span 
 style="font-size: x-small;"><span style="font-family: Tahoma;"><span style=
 "font-size: small;"><span style="font-family: Arial, Helvetica;"><span styl
 e="font-size: x-small;"><span style="font-family: Tahoma;"><span style="fon
 t-size: small;"><span style="font-family: Arial, Helvetica;"><span style="f
 ont-size: x-small;"><span style="font-family: Tahoma;"><span style="font-si
 ze: small;"><span style="font-family: Arial, Helvetica;"><span style="font-
 size: x-small;"><span style="color: #000000;"><span style="font-family: Tah
 oma;"><span style="font-size: small;"><span style="color: #000000;"><span s
 tyle="font-family: Tahoma;"><span style="font-family: Tahoma;"><span style=
 "font-size: 12pt;">$131/person (affiliate members) &nbsp;<em><span style="c
 olor: #eb501b;"> </span></em></span></span></span></span></span></span></sp
 an></span></span></span></span></span></span></span></span></span></span></
 span></span></span></span></span></span></span></span></span></span></span>
 </span></span></span></span></span></span></span></span></span></span></spa
 n></span></span></span></span></span></span></span></span></span></span></s
 pan></span></span></span></span></span></span></span></span></span></span><
 /span></span></span></span></span></span></span></span></span></span></span
 ></span></span></span></p><p><span style="color: #336699;"><span style="fon
 t-family: Tahoma;"><span style="font-size: medium;"><span style="color: #00
 0000;"><span style="font-family: Arial, Helvetica;"><span style="font-size:
  x-small;"><span style="font-family: Tahoma;"><span style="font-size: small
 ;"><span style="font-family: Tahoma;"><span style="font-family: Tahoma;"><s
 pan style="font-family: Tahoma;"><span style="font-family: Arial, Helvetica
 ;"><span style="font-size: x-small;"><span style="font-family: Tahoma;"><sp
 an style="font-size: small;"><span style="font-family: Tahoma;"><span style
 ="font-family: Tahoma;"><span style="font-family: Arial, Helvetica;"><span 
 style="font-size: x-small;"><span style="font-family: Tahoma;"><span style=
 "font-size: small;"><span style="font-family: Arial, Helvetica;"><span styl
 e="font-size: x-small;"><span style="font-family: Tahoma;"><span style="fon
 t-size: small;"><span style="font-family: Arial, Helvetica;"><span style="f
 ont-size: x-small;"><span style="font-family: Tahoma;"><span style="font-si
 ze: small;"><span style="font-family: Arial, Helvetica;"><span style="font-
 size: x-small;"><span style="color: #000000;"><span style="font-family: Tah
 oma;"><span style="font-size: small;"><span style="color: #000000;"><span s
 tyle="font-family: Tahoma;"><span style="font-family: Tahoma;"><span style=
 "color: #336699;"><span style="font-family: Tahoma;"><span style="font-size
 : medium;"><span style="color: #000000;"><span style="font-family: Arial, H
 elvetica;"><span style="font-size: x-small;"><span style="font-size: small;
 "><span style="font-family: Tahoma;"><span style="font-family: Tahoma;"><sp
 an style="font-family: Tahoma;"><span style="font-family: Arial, Helvetica;
 "><span style="font-size: x-small;"><span style="font-family: Tahoma;"><spa
 n style="font-size: small;"><span style="font-family: Tahoma;"><span style=
 "font-family: Tahoma;"><span style="font-family: Arial, Helvetica;"><span s
 tyle="font-size: x-small;"><span style="font-family: Tahoma;"><span style="
 font-size: small;"><span style="font-family: Arial, Helvetica;"><span style
 ="font-size: x-small;"><span style="font-family: Tahoma;"><span style="font
 -size: small;"><span style="font-family: Arial, Helvetica;"><span style="fo
 nt-size: x-small;"><span style="font-family: Tahoma;"><span style="font-siz
 e: small;"><span style="font-family: Arial, Helvetica;"><span style="font-s
 ize: x-small;"><span style="color: #000000;"><span style="font-family: Taho
 ma;"><span style="font-size: small;"><span style="color: #000000;"><span st
 yle="font-family: Tahoma;"><span style="font-family: Tahoma;"><span style="
 font-size: 12pt;">$190/person (non-members)&nbsp;</span></span></span></spa
 n></span></span></span></span></span></span></span></span></span></span></s
 pan></span></span></span></span></span></span></span></span></span></span><
 /span></span></span></span></span></span></span></span></span></span></span
 ></span></span></span></span></span></span></span></span></span></span></sp
 an></span></span></span></span></span></span></span></span></span></span></
 span></span></span></span></span></span></span></span></span></span></span>
 </span></span></span></span></span></span></p><p>&nbsp;</p><p><span style="
 color: #336699; font-size: 12pt;"><span style="font-family: Tahoma;"><span>
 <span style="color: #000000;"><span><span style="font-family: Tahoma;"><spa
 n style="font-family: Tahoma;"><span style="font-family: Tahoma;"><span sty
 le="font-family: Tahoma;"><span style="font-family: Tahoma;"><span style="f
 ont-family: Tahoma;"><span style="font-family: Tahoma;"><span style="font-f
 amily: Tahoma;"><span style="font-family: Tahoma;"><span style="font-family
 : Tahoma;"><span style="font-family: Tahoma;"><em><span style="font-family:
  Tahoma;">&nbsp;&nbsp;</span></em></span></span></span></span></span></span
 ></span></span></span></span></span></span></span></span></span></span></p>
 <p><em><strong><span style="font-family: tahoma,arial,helvetica,sans-serif;
  font-size: 12pt;"><span style="color: #336699;"><span style="font-family: 
 Tahoma;"><span style="font-size: medium;"><span style="color: #000000;"><sp
 an style="font-size: small;"><span style="font-size: 12pt;"><span style="fo
 nt-family: Tahoma;"><span style="font-family: Tahoma;"><span style="color: 
 #000000;"><span style="font-family: Tahoma;"><span style="font-family: Aria
 l, Helvetica;"><span style="color: #000000;"><span style="font-family: Time
 s;"><span style="font-family: Tahoma;"><span style="color: #000000;"><span 
 style="color: #000000;"><span style="font-family: Tahoma;"><span style="fon
 t-family: Tahoma;"><span style="font-family: Tahoma;"><span style="font-fam
 ily: Tahoma;"><span style="font-family: Tahoma;"><span style="font-family: 
 Tahoma;"><span style="font-family: Tahoma;"><span style="font-family: Tahom
 a;"><span style="font-family: Tahoma;"><span style="font-family: Tahoma;"><
 span style="font-family: Tahoma;"><span style="font-family: Tahoma;"><span 
 style="font-family: Times;"><span style="font-family: Tahoma;"><span style=
 "font-family: Tahoma;"><span style="font-family: Tahoma;"><span style="colo
 r: #ff6600; font-family: tahoma,arial,helvetica,sans-serif; font-size: 12pt
 ;"><span style="background: white; color: #02613f; font-family: 'Georgia','
 serif';"><span style="font-size: small;"><strong><em><span style="color: #0
 2613f;">**Special note</span></em></strong></span></span><span style="backg
 round: white; color: black; font-family: 'Georgia','serif';"><span style="f
 ont-size: small;"><i><strong>&nbsp;-&nbsp;if you wish to become an Affiliat
 e Member, and&nbsp;save off the non-member rate, please contact Karen McMah
 on (315-701-0440,&nbsp;</strong></i></span><i><strong><span id="cloak859282
 17ab912fcda04291842bb630e7">This email address is being protected from spam
 bots. You need JavaScript enabled to view it.</span><script type='text/java
 script'>
				document.getElementById('cloak85928217ab912fcda04291842bb630e7
 ').innerHTML = '';
				var prefix = 'ma' + 'il' + 'to';
				var path = 'hr'
  + 'ef' + '=';
				var addy85928217ab912fcda04291842bb630e7 = 'kmcmahon' + 
 '@';
				addy85928217ab912fcda04291842bb630e7 = addy85928217ab912fcda042918
 42bb630e7 + 'nyswda' + '.' + 'org';
				var addy_text85928217ab912fcda04291
 842bb630e7 = '<span style="color: #0000ff; font-size: small;">kmcmahon' + '
 @' + 'nyswda' + '.' + 'org</span>';document.getElementById('cloak85928217ab
 912fcda04291842bb630e7').innerHTML += '<a ' + path + '\'' + prefix + ':' + 
 addy85928217ab912fcda04291842bb630e7 + '\' target="_blank">'+addy_text85928
 217ab912fcda04291842bb630e7+'<\/a>';
		</script><span style="font-size: sma
 ll;">)&nbsp;</span></strong></i></span><i></i><span style="font-size: small
 ;"><strong><span style="background: white; color: #02613f; font-family: 'Ge
 orgia','serif';">BEFORE YOU REGISTER&nbsp;</span></strong><em><b><span styl
 e="background: white; color: black; font-family: 'Georgia','serif';">for th
 e course</span></b></em><strong><span style="background: white; color: blac
 k; font-family: 'Georgia','serif';">.</span></strong></span></span></span><
 /span></span></span></span></span></span></span></span></span></span></span
 ></span></span></span></span></span></span></span></span></span></span></sp
 an></span></span></span></span></span></span></span></span></span></span></
 strong></em></p><p>&nbsp;</p><p><span style="color: #0000ff;"><em><strong><
 span style="color: #0000ff;"><span style="color: #0000ff;"><em><strong><spa
 n style="color: #ffffff; font-family: tahoma, arial, helvetica, sans-serif;
  font-size: 14pt;"><span style="color: #ff0000;">CLASS FULL - call or email
 </span>&nbsp; <span id="cloakbd7827211cc862f65a2702e76d993111">This email a
 ddress is being protected from spambots. You need JavaScript enabled to vie
 w it.</span><script type='text/javascript'>
				document.getElementById('cl
 oakbd7827211cc862f65a2702e76d993111').innerHTML = '';
				var prefix = 'ma'
  + 'il' + 'to';
				var path = 'hr' + 'ef' + '=';
				var addybd7827211cc86
 2f65a2702e76d993111 = 'rvisser' + '@';
				addybd7827211cc862f65a2702e76d99
 3111 = addybd7827211cc862f65a2702e76d993111 + 'nyswda' + '.' + 'org';
				v
 ar addy_textbd7827211cc862f65a2702e76d993111 = '<span style="color: #0066cc
 ;">rvisser' + '@' + 'nyswda' + '.' + 'org</span>';document.getElementById('
 cloakbd7827211cc862f65a2702e76d993111').innerHTML += '<a ' + path + '\'' + 
 prefix + ':' + addybd7827211cc862f65a2702e76d993111 + '\'>'+addy_textbd7827
 211cc862f65a2702e76d993111+'<\/a>';
		</script> <span style="color: #ff0000
 ;">for availability or wait list</span></span></strong></em><span style="fo
 nt-family: tahoma,arial,helvetica,sans-serif; font-size: 14pt;"></span></sp
 an><span style="font-family: tahoma, arial, helvetica, sans-serif; font-siz
 e: 14pt;"></span></span></strong></em></span></p>
CONTACT:This email address is being protected from spambots. You need JavaScript enabled to view it.
				document.getElementById('cloakb7a2c73108bc990d1d3f9eaea48af358').innerHTML = '';
				var prefix = '&#109;a' + 'i&#108;' + '&#116;o';
				var path = 'hr' + 'ef' + '=';
				var addyb7a2c73108bc990d1d3f9eaea48af358 = 'rv&#105;ss&#101;r' + '&#64;';
				addyb7a2c73108bc990d1d3f9eaea48af358 = addyb7a2c73108bc990d1d3f9eaea48af358 + 'nyswd&#97;' + '&#46;' + '&#111;rg';
				var addy_textb7a2c73108bc990d1d3f9eaea48af358 = 'rv&#105;ss&#101;r' + '&#64;' + 'nyswd&#97;' + '&#46;' + '&#111;rg';document.getElementById('cloakb7a2c73108bc990d1d3f9eaea48af358').innerHTML += '<a ' + path + '\'' + prefix + ':' + addyb7a2c73108bc990d1d3f9eaea48af358 + '\'>'+addy_textb7a2c73108bc990d1d3f9eaea48af358+'';
		
DTSTAMP:20260424T044004
DTSTART;TZID=America/New_York:20251112T090000
DTEND;TZID=America/New_York:20251113T160000
SEQUENCE:0
TRANSP:OPAQUE
END:VEVENT
END:VCALENDAR