BEGIN:VCALENDAR
VERSION:2.0
PRODID:-//jEvents 2.0 for Joomla//EN
CALSCALE:GREGORIAN
METHOD:PUBLISH
BEGIN:VTIMEZONE
TZID:America/New_York
BEGIN:STANDARD
DTSTART:20250225T090000
RDATE:20250309T030000
TZOFFSETFROM:-0400
TZOFFSETTO:-0500
TZNAME:America/New_York EST
END:STANDARD
BEGIN:STANDARD
DTSTART:20251102T010000
RDATE:20260308T030000
TZOFFSETFROM:-0400
TZOFFSETTO:-0500
TZNAME:America/New_York EST
END:STANDARD
BEGIN:STANDARD
DTSTART:20261101T010000
RDATE:20270314T030000
TZOFFSETFROM:-0400
TZOFFSETTO:-0500
TZNAME:America/New_York EST
END:STANDARD
BEGIN:STANDARD
DTSTART:20271107T010000
RDATE:20280312T030000
TZOFFSETFROM:-0400
TZOFFSETTO:-0500
TZNAME:America/New_York EST
END:STANDARD
BEGIN:STANDARD
DTSTART:20281105T010000
RDATE:20290311T030000
TZOFFSETFROM:-0400
TZOFFSETTO:-0500
TZNAME:America/New_York EST
END:STANDARD
BEGIN:STANDARD
DTSTART:20291104T010000
RDATE:20300310T030000
TZOFFSETFROM:-0400
TZOFFSETTO:-0500
TZNAME:America/New_York EST
END:STANDARD
BEGIN:STANDARD
DTSTART:20301103T010000
RDATE:20310309T030000
TZOFFSETFROM:-0400
TZOFFSETTO:-0500
TZNAME:America/New_York EST
END:STANDARD
BEGIN:DAYLIGHT
DTSTART:20250309T030000
RDATE:20251102T010000
TZOFFSETFROM:-0500
TZOFFSETTO:-0400
TZNAME:America/New_York EDT
END:DAYLIGHT
BEGIN:DAYLIGHT
DTSTART:20260308T030000
RDATE:20261101T010000
TZOFFSETFROM:-0500
TZOFFSETTO:-0400
TZNAME:America/New_York EDT
END:DAYLIGHT
BEGIN:DAYLIGHT
DTSTART:20270314T030000
RDATE:20271107T010000
TZOFFSETFROM:-0500
TZOFFSETTO:-0400
TZNAME:America/New_York EDT
END:DAYLIGHT
BEGIN:DAYLIGHT
DTSTART:20280312T030000
RDATE:20281105T010000
TZOFFSETFROM:-0500
TZOFFSETTO:-0400
TZNAME:America/New_York EDT
END:DAYLIGHT
BEGIN:DAYLIGHT
DTSTART:20290311T030000
RDATE:20291104T010000
TZOFFSETFROM:-0500
TZOFFSETTO:-0400
TZNAME:America/New_York EDT
END:DAYLIGHT
BEGIN:DAYLIGHT
DTSTART:20300310T030000
RDATE:20301103T010000
TZOFFSETFROM:-0500
TZOFFSETTO:-0400
TZNAME:America/New_York EDT
END:DAYLIGHT
END:VTIMEZONE
BEGIN:VEVENT
UID:613a9719a8a958c503c4f93e9e393fc3
CATEGORIES:WEB
CREATED:20251231T113241
SUMMARY:NYS Manufactured Housing Mechanics Certification - Online
LOCATION:NYSWDA Training Center - East Syracuse
DESCRIPTION: \n
 NYS Manufactured Housing Mechanics Certification - Online\n
 \n
GoToWe
 binar Event\n\nThis training is for:\nWeatherization crew chiefs/auditors, 
 weatherization agency sub-contractors, private contractors\n\nCourse Descri
 ption:\nThis training will prepare those attending to take the New York Sta
 te Manufactured Housing Mechanic certification written test. If your busine
 ss or agency conducts structural repairs on mobile homes or manufactured ho
 using to stay in compliance with NY State Code Enforcement requirements, yo
 u will need at least one staff member with this certification. Structural r
 epairs include replacement of door/window framing, replacement of subfloor 
 plywood, or replacement of interior wall and ceiling panels. This staff mem
 ber must be on-site during these repairs. This individual certification is 
 valid for two years.\n\nDates;\nFebruary 26, 2026 / 9:00am - noon (with a 1
  hour break) then class resumes from 1:00pm - 4:00pm.  There is an exceptio
 n for Retailers &amp; Installers - you will only be taking the first half o
 f this class.  Only those looking for the Mechanics certification will comp
 lete the second half.\n\nPrerequisites: \nCompletion of high school, GED or
  equivalent (U.S. Armed Forces report) showing successful completion of hig
 h school level education.  One year full time employment in manufactured ho
 using industry or an industry substantially similar (1 year construction in
 dustry experience or 1 year manufactured housing repair and weatherization 
 experience generally accepted). Field experience in manufactured housing re
 pairs and weatherization techniques\n\nClass Size: 20\n\nBPI CEU: 3\n\nInst
 ructors: Joel Harper - MHC Consultants LLC\n\nCourse Fees: \n$262/person - 
 NY Weatherization Sub-grantees\n$262/person - affiliate members\n$380/perso
 n - non-members\n$220/person - Retailers and Installers \n
 \n
**Special no
 te - if you wish to become an Affiliate Member, and save off the non-member
  rate, please contact Karen McMahon (315-701-0440 ext. 223, This email addr
 ess is being protected from spambots. You need JavaScript enabled to view i
 t.
				document.getElementById('cloak9015ec55dc97029b97e58e528c28e274').inn
 erHTML = '';
				var prefix = 'ma' + 'il' + 'to';
				var path = 'hr' + 'ef
 ' + '=';
				var addy9015ec55dc97029b97e58e528c28e274 = 'kmcmahon' + '@';
	
 			addy9015ec55dc97029b97e58e528c28e274 = addy9015ec55dc97029b97e58e528c28e
 274 + 'nyswda' + '.' + 'org';
				var addy_text9015ec55dc97029b97e58e528c28
 e274 = 'kmcmahon' + '@' + 'nyswda' + '.' + 'org';document.getElementById('c
 loak9015ec55dc97029b97e58e528c28e274').innerHTML += '<a ' + path + '\'' + p
 refix + ':' + addy9015ec55dc97029b97e58e528c28e274 + '\'>'+addy_text9015ec5
 5dc97029b97e58e528c28e274+'';
		) BEFORE YOU REGISTER for the course.\n\n
 
 \n
Click here to register (index.php?option=com_civicrm&amp;task=civicrm/ev
 ent/register&amp;reset=1&amp;id=14482)\n
X-ALT-DESC;FMTTYPE=text/html:<p>&nbsp;</p><p><span style="color: #336699; font-size: 12pt;"><span><span>
 &nbsp;</span><span><span style="color: #000000;"><span><strong><span style=
 "color: #336699;"><span style="font-family: tahoma,arial,helvetica,sans-ser
 if; font-size: 14pt;">NYS Manufactured Housing Mechanics Certification - On
 line</span></span></strong></span></span></span></span></span></p><p>&nbsp;
 </p><p><span style="color: #336699; font-size: 12pt;"><span><span><span sty
 le="color: #000000;"><span><strong><span style="color: #336699;"><span styl
 e="font-family: tahoma,arial,helvetica,sans-serif; font-size: 14pt;"><span 
 style="color: #336699;">GoToWebinar Event</span><span></span><span></span><
 span></span><span style="color: #000000;"></span><span></span><span></span>
 <span style="color: #336699; font-family: tahoma,arial,helvetica,sans-serif
 ; font-size: 14pt;"></span><span></span><span style="font-family: Tahoma;">
 </span><span style="font-family: Tahoma;"></span><span style="color: #00000
 0;"></span><span style="font-size: small;"></span><span style="font-family:
  Tahoma;"></span><span style="color: #000000;"></span><span style="font-siz
 e: x-small;"></span><span style="font-family: Arial, Helvetica;"></span><sp
 an style="font-size: small;"></span><span style="font-family: Tahoma;"></sp
 an><span style="font-size: x-small;"></span><span style="font-family: Arial
 , Helvetica;"></span><span style="font-size: small;"></span><span style="fo
 nt-family: Tahoma;"></span><span style="font-size: x-small;"></span><span s
 tyle="font-family: Arial, Helvetica;"></span><span style="font-size: small;
 "></span><span style="font-family: Tahoma;"></span><span style="font-size: 
 x-small;"></span><span style="font-family: Arial, Helvetica;"></span><span 
 style="font-family: Tahoma;"></span><span style="font-family: Tahoma;"></sp
 an><span style="font-size: small;"></span><span style="font-family: Tahoma;
 "></span><span style="font-size: x-small;"></span><span style="font-family:
  Arial, Helvetica;"></span><span style="font-family: Tahoma;"></span><span 
 style="font-family: Tahoma;"></span><span style="font-family: Tahoma;"></sp
 an><span style="font-size: small;"></span><span style="font-family: Tahoma;
 "></span><span style="font-size: x-small;"></span><span style="font-family:
  Arial, Helvetica;"></span><span style="color: #000000;"></span><span style
 ="font-size: medium;"></span><span style="font-family: Tahoma;"></span><spa
 n style="color: #336699;"></span></span><br /></span></strong></span></span
 ></span></span></span><span style="color: #336699; font-size: 12pt;"><span 
 style="font-family: Tahoma;"><span><span style="color: #000000;"><em><span>
 <br /></span></em></span></span></span></span><span style="color: #336699; 
 font-size: 12pt;"><span style="font-family: Tahoma;"><span><span style="col
 or: #000000;"><em><span><span style="text-decoration: underline;"><span sty
 le="font-family: Tahoma;">This training is for:</span></span><span style="f
 ont-family: Tahoma;"><span style="font-family: Tahoma;"><br /></span></span
 ></span></em><span style="font-family: Tahoma;"><span style="font-family: T
 ahoma;"><span style="font-family: Tahoma;">Weatherization crew chiefs/audit
 ors, weatherization agency sub-contractors, private contractors<span style=
 "font-family: Tahoma;"><br /><br /><span style="text-decoration: underline;
 "><em><span style="font-family: Tahoma;">Course Description:</span></em></s
 pan><em><span style="font-family: Tahoma;"><span style="font-family: Tahoma
 ;"><br /></span></span></em><span style="font-family: Tahoma;"><span style=
 "font-family: Tahoma;"><span style="font-family: Tahoma;">This training wil
 l prepare those attending to take the New York State Manufactured Housing M
 echanic certification written test. If your business or agency conducts str
 uctural repairs on mobile homes or manufactured housing to stay in complian
 ce with NY State Code Enforcement requirements, you will need at least one 
 staff member with this certification. Structural repairs include replacemen
 t of door/window framing, replacement of subfloor plywood, or replacement o
 f interior wall and ceiling panels. This staff member must be on-site durin
 g these repairs. This individual certification is valid for two years.<br /
 ><br /><span style="text-decoration: underline;"><em>Dates;<br /></em></spa
 n><span style="font-family: Tahoma;">February 26, 2026 / 9:00am - noon (wit
 h a 1 hour break) then class resumes from 1:00pm - 4:00pm.&nbsp; There is a
 n exception for Retailers &amp; Installers - you will only be taking the fi
 rst half of this class.&nbsp; Only those looking for the Mechanics certific
 ation will complete the second half.<br /><br /><span style="text-decoratio
 n: underline;"><em><span style="font-family: Tahoma;">Prerequisites:</span>
 </em></span><em><span style="font-family: Tahoma;"> <br /></span></em><span
  style="font-family: Tahoma;">Completion of high school, GED or equivalent 
 (U.S. Armed Forces report) showing successful completion of high school lev
 el education.&nbsp; One year full time employment in manufactured housing i
 ndustry or an industry substantially similar (1 year construction industry 
 experience or 1 year manufactured housing repair and weatherization experie
 nce generally accepted). Field experience in manufactured housing repairs a
 nd weatherization techniques<span style="font-family: Tahoma;"><br /><em><b
 r /><span style="text-decoration: underline;">Class Size</span></em>: 20<br
  /><br /><span style="text-decoration: underline;"><em>BPI CEU</em>:</span>
 &nbsp;3<br /><br /><span style="text-decoration: underline;"><em><span styl
 e="font-family: Tahoma;">Instructors:</span></em></span><em><span style="fo
 nt-family: Tahoma;"> </span></em><span style="font-family: Tahoma;">Joel Ha
 rper -&nbsp;<span style="font-family: Tahoma;">MHC Consultants LLC</span><s
 pan style="font-family: Tahoma;"></span><span style="font-family: Tahoma;">
 </span><span style="font-family: Tahoma;"></span><span style="font-family: 
 Tahoma;"></span><span style="font-family: Tahoma;"></span><span style="font
 -family: Tahoma;"></span><span style="font-family: Tahoma;"></span><span st
 yle="font-family: Tahoma;"></span><span style="font-family: Tahoma;"></span
 ><span style="font-family: Tahoma;"></span><span></span><span style="color:
  #000000;"></span><span></span><span></span><span style="color: #336699; fo
 nt-size: 12pt;"></span><br /><br /><span style="text-decoration: underline;
 "><em>Course Fees:&nbsp;</em></span><em><span style="color: #ff6600;"></spa
 n></em><em><br /></em><span style="font-family: Tahoma;">$262/person -&nbsp
 ;NY&nbsp;Weatherization Sub-grantees<br /></span></span></span></span></spa
 n></span></span></span></span></span></span></span></span></span></span></s
 pan><span style="color: #336699; font-size: 12pt;"><span style="font-family
 : Tahoma;"><span style="color: #000000;"><span><span><span><span><span><spa
 n><span><span><span><span><span><span>$262/person -&nbsp;affiliate members<
 br /></span></span></span></span></span></span></span></span></span></span>
 </span></span></span></span></span><span style="color: #336699; font-size: 
 12pt;"><span style="font-family: Tahoma;"><span style="color: #000000;"><sp
 an><span><span><span><span><span><span><span><span><span><span><span>$380/p
 erson -&nbsp;non-members<br />$220/person - Retailers and Installers&nbsp;<
 /span></span></span></span></span></span></span></span></span></span></span
 ></span></span></span></span></p><p>&nbsp;</p><p><span style="color: #33669
 9; font-size: 12pt;"><span style="font-family: Tahoma;"><span><span style="
 color: #000000;"><span><span style="font-family: Tahoma;"><span style="font
 -family: Tahoma;"><span style="font-family: Tahoma;"><span style="font-fami
 ly: Tahoma;"><span style="font-family: Tahoma;"><span style="font-family: T
 ahoma;"><span style="font-family: Tahoma;"><span style="font-family: Tahoma
 ;"><span style="font-family: Tahoma;"><span style="font-family: Tahoma;"><s
 pan style="font-family: Tahoma;"><em><span style="font-family: Tahoma;"><em
 ><strong><span style="background: white; color: #02613f; font-family: 'Geor
 gia','serif';"><span style="font-size: small;">**Special note</span></span>
 </strong></em><span style="background: white; color: black; font-family: 'G
 eorgia','serif';"><span style="font-size: small;"><i><strong>&nbsp;-&nbsp;i
 f you wish to become an Affiliate Member, and&nbsp;save off the non-member 
 rate, please contact&nbsp;Karen McMahon (315-701-0440 ext. 223,&nbsp;</stro
 ng></i></span><i><strong><span id="cloak9015ec55dc97029b97e58e528c28e274">T
 his email address is being protected from spambots. You need JavaScript ena
 bled to view it.</span><script type='text/javascript'>
				document.getElem
 entById('cloak9015ec55dc97029b97e58e528c28e274').innerHTML = '';
				var pr
 efix = 'ma' + 'il' + 'to';
				var path = 'hr' + 'ef' + '=';
				var addy90
 15ec55dc97029b97e58e528c28e274 = 'kmcmahon' + '@';
				addy9015ec55dc97029b
 97e58e528c28e274 = addy9015ec55dc97029b97e58e528c28e274 + 'nyswda' + '.' + 
 'org';
				var addy_text9015ec55dc97029b97e58e528c28e274 = '<span style="co
 lor: #0000ff; font-size: small;">kmcmahon' + '@' + 'nyswda' + '.' + 'org</s
 pan>';document.getElementById('cloak9015ec55dc97029b97e58e528c28e274').inne
 rHTML += '<a ' + path + '\'' + prefix + ':' + addy9015ec55dc97029b97e58e528
 c28e274 + '\'>'+addy_text9015ec55dc97029b97e58e528c28e274+'<\/a>';
		</scri
 pt><span style="font-size: small;">)&nbsp;</span></strong></i></span><i></i
 ><span style="font-size: small;"><strong><span style="background: white; co
 lor: #02613f; font-family: 'Georgia','serif';">BEFORE YOU REGISTER&nbsp;</s
 pan></strong><em><b><span style="background: white; color: black; font-fami
 ly: 'Georgia','serif';">for the course</span></b></em><strong><span style="
 background: white; color: black; font-family: 'Georgia','serif';">.</span><
 /strong></span></span></em></span></span></span></span></span></span></span
 ></span></span></span></span></span></span></span><span style="background-c
 olor: initial; color: inherit; font-family: inherit; font-size: 1rem;"></sp
 an><span style="color: #0000ff;"><em><strong><span style="font-size: 14pt; 
 font-family: tahoma,arial,helvetica,sans-serif;"></span></strong></em></spa
 n><span style="background-color: initial; color: inherit; font-family: inhe
 rit; font-size: 1rem;"></span><span><span style="color: #000000;"><span><sp
 an style="font-family: Tahoma;"><span style="font-family: Tahoma;"><span st
 yle="font-family: Tahoma;"><span style="font-family: Tahoma;"><span style="
 font-family: Tahoma;"><span style="font-family: Tahoma;"><span style="font-
 family: Tahoma;"><span style="font-family: Tahoma;"><span style="font-famil
 y: Tahoma;"><span style="font-family: Tahoma;"><span style="font-family: Ta
 homa;"><em><span style="font-family: Tahoma;"><br /></span></em></span></sp
 an></span></span></span></span></span></span></span></span></span></span></
 span></span></span></span></p><p>&nbsp;</p><p><span style="color: #0000ff;"
 ><em><strong><span style="font-family: tahoma, arial, helvetica, sans-serif
 ; font-size: 14pt;"><a href="https://www.nyswda.org/index.php?option=com_ci
 vicrm&amp;task=civicrm/event/register&amp;reset=1&amp;id=14482" style="colo
 r: #0000ff;">Click here to register</a></span></strong></em></span></p>
CONTACT:Robyn Wolk
DTSTAMP:20260423T203416
DTSTART;TZID=America/New_York:20260226T090000
DTEND;TZID=America/New_York:20260226T160000
SEQUENCE:0
TRANSP:OPAQUE
END:VEVENT
END:VCALENDAR