BEGIN:VCALENDAR
VERSION:2.0
PRODID:-//jEvents 2.0 for Joomla//EN
CALSCALE:GREGORIAN
METHOD:PUBLISH
BEGIN:VTIMEZONE
TZID:America/New_York
BEGIN:STANDARD
DTSTART:20250208T090000
RDATE:20250309T030000
TZOFFSETFROM:-0400
TZOFFSETTO:-0500
TZNAME:America/New_York EST
END:STANDARD
BEGIN:STANDARD
DTSTART:20251102T010000
RDATE:20260308T030000
TZOFFSETFROM:-0400
TZOFFSETTO:-0500
TZNAME:America/New_York EST
END:STANDARD
BEGIN:STANDARD
DTSTART:20261101T010000
RDATE:20270314T030000
TZOFFSETFROM:-0400
TZOFFSETTO:-0500
TZNAME:America/New_York EST
END:STANDARD
BEGIN:STANDARD
DTSTART:20271107T010000
RDATE:20280312T030000
TZOFFSETFROM:-0400
TZOFFSETTO:-0500
TZNAME:America/New_York EST
END:STANDARD
BEGIN:STANDARD
DTSTART:20281105T010000
RDATE:20290311T030000
TZOFFSETFROM:-0400
TZOFFSETTO:-0500
TZNAME:America/New_York EST
END:STANDARD
BEGIN:STANDARD
DTSTART:20291104T010000
RDATE:20300310T030000
TZOFFSETFROM:-0400
TZOFFSETTO:-0500
TZNAME:America/New_York EST
END:STANDARD
BEGIN:STANDARD
DTSTART:20301103T010000
RDATE:20310309T030000
TZOFFSETFROM:-0400
TZOFFSETTO:-0500
TZNAME:America/New_York EST
END:STANDARD
BEGIN:DAYLIGHT
DTSTART:20250309T030000
RDATE:20251102T010000
TZOFFSETFROM:-0500
TZOFFSETTO:-0400
TZNAME:America/New_York EDT
END:DAYLIGHT
BEGIN:DAYLIGHT
DTSTART:20260308T030000
RDATE:20261101T010000
TZOFFSETFROM:-0500
TZOFFSETTO:-0400
TZNAME:America/New_York EDT
END:DAYLIGHT
BEGIN:DAYLIGHT
DTSTART:20270314T030000
RDATE:20271107T010000
TZOFFSETFROM:-0500
TZOFFSETTO:-0400
TZNAME:America/New_York EDT
END:DAYLIGHT
BEGIN:DAYLIGHT
DTSTART:20280312T030000
RDATE:20281105T010000
TZOFFSETFROM:-0500
TZOFFSETTO:-0400
TZNAME:America/New_York EDT
END:DAYLIGHT
BEGIN:DAYLIGHT
DTSTART:20290311T030000
RDATE:20291104T010000
TZOFFSETFROM:-0500
TZOFFSETTO:-0400
TZNAME:America/New_York EDT
END:DAYLIGHT
BEGIN:DAYLIGHT
DTSTART:20300310T030000
RDATE:20301103T010000
TZOFFSETFROM:-0500
TZOFFSETTO:-0400
TZNAME:America/New_York EDT
END:DAYLIGHT
END:VTIMEZONE
BEGIN:VEVENT
UID:69d00606dadaa3bda381981253784a25
CATEGORIES:At Syracuse
CREATED:20251231T114239
SUMMARY:Boot Camp for Weatherization Installers
LOCATION:NYSWDA Training Center - East Syracuse
DESCRIPTION:Boot Camp\n
 \n
Training Location: NYSWDA Training Center (Building 2) - 58
 69 Fisher Road, East Syracuse, NY 13057\n
 \n
Who Should Attend;\nEntry lev
 el field staff and weatherization contractors - see detailed below.\n
 \n
C
 ourse Description;\nThis intensive 4-day training based at NYSWDA's Energy 
 Efficiency Training Center (Building 2) in East Syracuse, is a great introd
 uction to building science principles and hands-on air sealing, dense pack 
 and loose fill cellulose insulation installation. Using our state-of-the-ar
 t realistic wall, ceiling and attic props, trainees will learn the techniqu
 es needed to effectively weatherize our clients' homes.\n
\n
During this co
 urse, the trainees will be introduced to both HCR and BPI standards and reg
 ulations on Health &amp; Safety, Lead Safe work practices and safe and prop
 er use of tools and equipment. Trainees will also become proficient on the 
 set up of blower doors and understand basic use of an infrared camera durin
 g air sealing operations.\n
 \n
\n
All three HCR mandatory trainings are co
 vered in this course: \n

Air Sealing - mandatory for WX directors, energy 
 auditors, post inspectors, crew chiefs and crew personnel
Health &amp; Safe
 ty - mandatory for WX directors, energy auditors, post inspectors, crew chi
 efs and heating technicians
\n - Lead Safe Weatherization - mandatory for a
 ll employees who may come in contact with lead based paint while performing
  their duties\n\n

Please reference the WAP Policies and Procedures manual 
 for further details. The above-listed trainings are mandatory for the posit
 ions stated. If a subgrantee hires a new employee into one of these postion
 s, or a current employee transfers into one of these positions, it is manda
 tory that they receive this training within six (6) months of their start d
 ate. These mandatory training sessions must be repeated every three (3) yea
 rs by subgrantee personnel who occupy these positions.\n
  \n
Agenda; \nDay
  One\n
9AM-9:20 intro’s\n9:20AM 10:15  Health and safety presentation until
  worst case\n10:15AM-10:30AM Break\n10:30AM -Noon- Split group into 2 group
 s to conduct worst case depressurization and combustion safety testing in p
 ressure house. One group to do blower door set up with hoses and manometer.
 \nNoon-1PM Lunch\n1PM-4PM Remainer of health and safety power point\n
 \n
D
 ay Two\n
9AM to 10:15AM LSW power points\n10:15am-10:30AM Break\n10:30AM-no
 on  LSW power points and videos\n12PM-1PM Lunch\n1PM-2:30 PM LSW power poin
 ts and videos and lead safe test\n2:30-4PM LSW hands on activities includin
 g Making of an I door, Vertical enclosure and PPE and showing of the positi
 ve pressure system\n
 \n
Day Three\n
9AM-10:15 AM (Finish, if necessary any
  material not covered from Day 1)\n10:15-10:30AM Break\n10:30- 12:00 PM Air
  sealing presentation\n12;00PM-1PM Lunch break\n1PM-4PM Air sealing hands o
 n activities group will be split into two. Balloon framed wall discussion a
 nd techniques and drill wall. Group 2 will work on the balloon frame wall a
 nd the rim joist spray foam.\n
 \n
Day Four\n
9AM- 10:30AM Finish up any re
 maining Power points\n10:30AM- 12PM Hands on activities to include recessed
  light enclosure chimney air sealing and Insulation lab presentation\n12PM-
 1PM Lunch\n1PM-2:30PM Switch groups and repeat the above material\n2:30PM-3
 :15PM questions/ graduation and dismissal\n
 \n
Dates;\nCourse covers the d
 ates of February 9-12, 2026\nStart Times:  ALL DAYS - 9:00am\nEnd Times: AL
 L DAYS 4:00pm\n
 \n
Other Notes:\nDue to the nature of the training, all at
 tendees will be required to sign a waiver of liability and a photo/video re
 lease form at the start of the training.\n
 \n
Prerequisites: None\n
\nClas
 s Size: 10\n
\nBPI CEU: 16\n
\nInstructors:, Joe Ilacqua, NYSWDA\n\n
\nCour
 se Fees; \n
$950/person - NY Weatherization Sub-grantees \n
$950/person - a
 ffiliate members \n
$1,450/person - non-members \n
\n
Students will receive
  a lunch break but lunches are no longer provided.\n
 \n
**Special note - i
 f you wish to become an Affiliate Member, and save off the non-member rate,
  please contact Karen McMahon (315-701-0440 ext. 223, This email address is
  being protected from spambots. You need JavaScript enabled to view it.
			
 	document.getElementById('cloakdcec9e0a5cedb2781198653a5ebd19d1').innerHTML
  = '';
				var prefix = 'ma' + 'il' + 'to';
				var path = 'hr' + 'ef' + '=
 ';
				var addydcec9e0a5cedb2781198653a5ebd19d1 = 'kmcmahon' + '@';
				add
 ydcec9e0a5cedb2781198653a5ebd19d1 = addydcec9e0a5cedb2781198653a5ebd19d1 + 
 'nyswda' + '.' + 'org';
				var addy_textdcec9e0a5cedb2781198653a5ebd19d1 =
  'kmcmahon' + '@' + 'nyswda' + '.' + 'org';document.getElementById('cloakdc
 ec9e0a5cedb2781198653a5ebd19d1').innerHTML += '<a ' + path + '\'' + prefix 
 + ':' + addydcec9e0a5cedb2781198653a5ebd19d1 + '\'>'+addy_textdcec9e0a5cedb
 2781198653a5ebd19d1+'';
		) BEFORE YOU REGISTER for the course.\n
 \n
  \n

 Click here to register  (index.php?option=com_civicrm&amp;task=civicrm/even
 t/register&amp;reset=1&amp;id=14483)    \n
X-ALT-DESC;FMTTYPE=text/html:<p><strong><span style="font-family: Tahoma, sans-serif; color: #336699; fo
 nt-size: 13.5pt;">Boot Camp</span></strong></p><p>&nbsp;</p><p><strong><spa
 n style="font-family: Tahoma, sans-serif; color: #336699; font-size: 13.5pt
 ;">Training Location: NYSWDA Training Center (Building 2) - 5869 Fisher Roa
 d, East Syracuse, NY 13057</span></strong></p><p>&nbsp;</p><p><span style="
 color: #000000;"><em><span style="text-decoration: underline;"><span style=
 "font-family: Tahoma, sans-serif;"><span style="font-size: 12pt;">Who Shoul
 d Attend;<br /></span></span></span></em><span style="font-family: Tahoma, 
 sans-serif;"><span style="font-size: 12pt;">Entry level field staff and wea
 therization contractors - see detailed below.</span></span></span></p><p><s
 pan style="color: #000000;"><span style="font-family: Tahoma, sans-serif;">
 <span style="font-size: 12pt;"></span></span>&nbsp;</span></p><p><span styl
 e="color: #000000;"><em><span style="text-decoration: underline;"><span sty
 le="font-family: Tahoma, sans-serif;"><span style="font-size: 12pt;">Course
 </span></span></span><span style="text-decoration: underline;"><span style=
 "font-family: Tahoma, sans-serif;"><span style="font-size: 12pt;"> Descript
 ion</span></span></span></em><span style="font-family: Tahoma, sans-serif;"
 ><span style="font-size: 12pt;">;<br /></span></span><span style="font-fami
 ly: Tahoma, sans-serif; font-size: 12pt;">This intensive 4-day training bas
 ed at NYSWDA's Energy Efficiency Training Center (Building 2) in East Syrac
 use, is a great introduction to building science principles and hands-on ai
 r sealing, dense pack and loose fill cellulose insulation installation. Usi
 ng our state-of-the-art realistic wall, ceiling and attic props, trainees w
 ill learn the techniques needed to effectively weatherize our clients' home
 s.</span></span></p><p><span style="font-family: Tahoma, sans-serif; color:
  #000000; font-size: 12pt;"></span></p><p><span style="font-family: Tahoma,
  sans-serif; color: #000000; font-size: 12pt;">During this course, the trai
 nees will be introduced to both HCR and BPI standards and regulations on He
 alth &amp; Safety, Lead Safe work practices and safe and proper use of tool
 s and equipment. Trainees will also become proficient on the set up of blow
 er doors and understand basic use of an infrared camera during air sealing 
 operations.</span></p><p>&nbsp;</p><p><span style="font-family: Tahoma, san
 s-serif; color: #000000; font-size: 12pt;"></span></p><p><span style="font-
 family: Tahoma, sans-serif; color: #000000; font-size: 12pt;">All three HCR
  mandatory trainings are covered in this course: </span></p><ul><li style="
 color: black;"><span style="font-family: Tahoma, sans-serif; font-size: 12p
 t; color: #000000;">Air Sealing - mandatory for WX directors, energy audito
 rs, post inspectors, crew chiefs and crew personnel</span></li><li style="c
 olor: black;"><span style="font-family: Tahoma, sans-serif; font-size: 12pt
 ; color: #000000;">Health &amp; Safety - mandatory for WX directors, energy
  auditors, post inspectors, crew chiefs and heating technicians</span></li>
 <li><span style="font-family: Tahoma, sans-serif; color: #000000; font-size
 : 12pt;">Lead Safe Weatherization - mandatory for all employees who may com
 e in contact with lead based paint while performing their duties<br /><br /
 ></span></li></ul><p><span style="font-family: Tahoma, sans-serif; color: #
 000000; font-size: 12pt;">Please reference the WAP Policies and Procedures 
 manual for further details. The above-listed trainings are mandatory for th
 e positions stated. If a subgrantee hires a new employee into one of these 
 postions, or a current employee transfers into one of these positions, it i
 s mandatory that they receive this training within six (6) months of their 
 start date. These mandatory training sessions must be repeated every three 
 (3) years by subgrantee personnel who occupy these positions.</span></p><p>
 <span style="color: #000000;">&nbsp;&nbsp;</span></p><p><span style="color:
  #000000;"><span style="font-size: 12pt;"><em><span style="text-decoration:
  underline;"><span style="font-family: Tahoma, sans-serif;">Agenda;</span><
 /span></em></span>&nbsp;<br /><span style="font-size: 12pt;"><span style="f
 ont-family: Tahoma, sans-serif;">Day One</span></span></span></p><p style="
 margin-bottom: 8px; line-height: 115%;"><span style="color: #000000;"><span
  style="font-size: 12pt; line-height: 115%; font-family: tahoma, arial, hel
 vetica, sans-serif;">9AM-9:20 intro’s<br /></span><span style="font-size: 1
 2pt; line-height: 115%; font-family: tahoma, arial, helvetica, sans-serif;"
 >9:20AM 10:15&nbsp; Health and safety presentation until worst case<br /></
 span><span style="font-size: 12pt; line-height: 115%; font-family: tahoma, 
 arial, helvetica, sans-serif;">10:15AM-10:30AM Break<br /></span><span styl
 e="font-size: 12pt; line-height: 115%; font-family: tahoma, arial, helvetic
 a, sans-serif;">10:30AM -Noon- Split group into 2 groups to conduct worst c
 ase depressurization and combustion safety testing in pressure house. One g
 roup to do blower door set up with hoses and manometer.<br /></span><span s
 tyle="font-size: 12pt; line-height: 115%; font-family: tahoma, arial, helve
 tica, sans-serif;">Noon-1PM Lunch<br /></span><span style="font-size: 12pt;
  line-height: 115%; font-family: tahoma, arial, helvetica, sans-serif;">1PM
 -4PM Remainer of health and safety power point</span></span></p><p>&nbsp;</
 p><p><span style="font-size: 12pt; color: #000000;"><span style="text-decor
 ation: underline;"><span style="font-family: Tahoma, sans-serif;">Day Two</
 span></span></span></p><p style="margin-bottom: 8px; line-height: 115%;"><s
 pan style="color: #000000;"><span style="font-size: 12pt; line-height: 115%
 ; font-family: tahoma, arial, helvetica, sans-serif;">9AM to 10:15AM LSW po
 wer points<br /></span><span style="font-size: 12pt; line-height: 115%; fon
 t-family: tahoma, arial, helvetica, sans-serif;">10:15am-10:30AM Break<br /
 ></span><span style="font-size: 12pt; line-height: 115%; font-family: tahom
 a, arial, helvetica, sans-serif;">10:30AM-noon&nbsp; LSW power points and v
 ideos<br /></span><span style="font-size: 12pt; line-height: 115%; font-fam
 ily: tahoma, arial, helvetica, sans-serif;">12PM-1PM Lunch<br /></span><spa
 n style="font-size: 12pt; line-height: 115%; font-family: tahoma, arial, he
 lvetica, sans-serif;">1PM-2:30 PM LSW power points and videos and lead safe
  test<br /></span><span style="font-size: 12pt; line-height: 115%; font-fam
 ily: tahoma, arial, helvetica, sans-serif;">2:30-4PM LSW hands on activitie
 s including Making of an I door, Vertical enclosure and PPE and showing of 
 the positive pressure system</span></span></p><p><span style="color: #00000
 0;"><span style="font-size: 12pt;"><span style="font-family: Tahoma, sans-s
 erif;"></span></span>&nbsp;</span></p><p><span style="text-decoration: unde
 rline; color: #000000;"><span style="font-size: 12pt;"><span style="font-fa
 mily: Tahoma, sans-serif;">Day Three</span></span></span></p><p style="marg
 in-bottom: 8px; line-height: 115%;"><span style="color: #000000;"><span sty
 le="font-size: 12pt; line-height: 115%; font-family: tahoma, arial, helveti
 ca, sans-serif;">9AM-10:15 AM (Finish, if necessary any material not covere
 d from Day 1)<br /></span><span style="font-size: 12pt; line-height: 115%; 
 font-family: tahoma, arial, helvetica, sans-serif;">10:15-10:30AM Break<br 
 /></span><span style="font-size: 12pt; line-height: 115%; font-family: taho
 ma, arial, helvetica, sans-serif;">10:30- 12:00 PM Air sealing presentation
 <br /></span><span style="font-family: tahoma, arial, helvetica, sans-serif
 ; font-size: 12pt; background-color: inherit; caret-color: auto;">12;00PM-1
 PM Lunch break<br /></span><span style="font-size: 12pt; line-height: 115%;
  font-family: tahoma, arial, helvetica, sans-serif;">1PM-4PM Air sealing ha
 nds on activities group will be split into two. Balloon framed wall discuss
 ion and techniques and drill wall. Group 2 will work on the balloon frame w
 all and the rim joist spray foam.</span></span></p><p><span style="color: #
 000000;"><span style="font-size: 12pt;"><span style="font-family: Tahoma, s
 ans-serif;"></span></span>&nbsp;</span></p><p><span style="text-decoration:
  underline; color: #000000;"><span style="font-size: 12pt;"><span style="fo
 nt-family: Tahoma, sans-serif;">Day Four</span></span></span></p><p style="
 margin-bottom: 8px; line-height: 115%;"><span style="color: #000000;"><span
  style="font-size: 12pt; line-height: 115%; font-family: tahoma, arial, hel
 vetica, sans-serif;">9AM- 10:30AM Finish up any remaining Power points<br /
 ></span><span style="font-size: 12pt; line-height: 115%; font-family: tahom
 a, arial, helvetica, sans-serif;">10:30AM- 12PM Hands on activities to incl
 ude recessed light enclosure chimney air sealing and Insulation lab present
 ation<br /></span><span style="font-size: 12pt; line-height: 115%; font-fam
 ily: tahoma, arial, helvetica, sans-serif;">12PM-1PM Lunch<br /></span><spa
 n style="font-size: 12pt; line-height: 115%; font-family: tahoma, arial, he
 lvetica, sans-serif;">1PM-2:30PM Switch groups and repeat the above materia
 l<br /></span><span style="font-size: 12pt; line-height: 115%; font-family:
  tahoma, arial, helvetica, sans-serif;">2:30PM-3:15PM questions/ graduation
  and dismissal</span></span></p><p>&nbsp;</p><p><span style="color: #000000
 ;"><span style="font-size: 12pt;"><em><span style="text-decoration: underli
 ne;"><span style="font-family: Tahoma, sans-serif;">Dates;<br /></span></sp
 an></em></span><span style="font-family: tahoma, arial, helvetica, sans-ser
 if; font-size: 12pt;">Course covers the dates of February 9-12, 2026<br /><
 /span><span style="font-family: tahoma, arial, helvetica, sans-serif; font-
 size: 12pt;">Start Times:&nbsp; ALL DAYS - 9:00am<br /></span><span style="
 font-family: tahoma, arial, helvetica, sans-serif; font-size: 12pt;">End Ti
 mes: ALL DAYS 4:00pm</span></span></p><p><span style="color: #000000;"><spa
 n style="font-family: Arial, sans-serif; font-size: 12pt;"></span>&nbsp;</s
 pan></p><p><span style="color: #000000;"><span style="font-size: 12pt;"><em
 ><span style="text-decoration: underline;"><span style="font-family: Tahoma
 , sans-serif;">Other Notes:</span></span></em><span style="font-family: Tah
 oma, sans-serif;"><br /></span></span><span style="font-size: 12pt;"><span 
 style="font-family: Tahoma, sans-serif;">Due to the nature of the training,
  all attendees will be required to sign a waiver of liability and a photo/v
 ideo release form at the start of the training.</span></span></span></p><p>
 <span style="font-family: tahoma, arial, helvetica, sans-serif; font-size: 
 12pt; color: #000000;"><strong>&nbsp;</strong></span></p><p><span style="fo
 nt-size: 12pt; color: #000000;"><em><span style="text-decoration: underline
 ;"><span style="font-family: Tahoma, sans-serif;">Prerequisites:</span></sp
 an></em><em><span style="font-family: Tahoma, sans-serif;"> </span></em><sp
 an style="font-family: Tahoma, sans-serif;">None</span></span></p><p><span 
 style="font-size: 12pt; color: #000000;"><em><span style="text-decoration: 
 underline;"><span style="font-family: Tahoma, sans-serif;"><br />Class Size
 :</span></span></em>&nbsp;<span style="font-family: Tahoma, sans-serif;">10
 </span></span></p><p><span style="font-size: 12pt; color: #000000;"><em><sp
 an style="text-decoration: underline;"><span style="font-family: Tahoma, sa
 ns-serif;"><br />BPI CEU</span></span></em><span style="text-decoration: un
 derline;"><span style="font-family: Tahoma, sans-serif;">:</span></span><sp
 an style="font-family: Tahoma, sans-serif;"> 16</span></span></p><p><span s
 tyle="font-size: 12pt; color: #000000;"><em><span style="text-decoration: u
 nderline;"><span style="font-family: Tahoma, sans-serif;"><br /></span></sp
 an></em><em><span style="text-decoration: underline;"><span style="font-fam
 ily: Tahoma, sans-serif;">Instructors:</span></span></em><span style="font-
 family: Tahoma, sans-serif;">, Joe Ilacqua, NYSWDA<br /></span></span></p><
 p><span style="font-size: 12pt; color: #000000;"><em><span style="text-deco
 ration: underline;"><span style="font-family: Tahoma, sans-serif;"><br />Co
 urse</span></span></em><span style="text-decoration: underline;"><span styl
 e="font-family: Tahoma, sans-serif;"> Fees;</span></span><span style="font-
 family: Tahoma, sans-serif;"> </span></span></p><p><span style="color: #000
 000;"><span style="font-family: Tahoma, sans-serif; font-size: 12pt;">$950/
 person - NY Weatherization Sub-grantees</span><span style="font-family: Tah
 oma, sans-serif; font-size: 12pt;"><em> </em></span></span></p><p><span sty
 le="font-family: Tahoma, sans-serif; color: #000000; font-size: 12pt;">$950
 /person - affiliate members </span></p><p><span style="font-family: Tahoma,
  sans-serif; color: #000000; font-size: 12pt;">$1,450/person - non-members 
 </span></p><p><span style="color: #000000;"></span></p><p><span style="font
 -family: Tahoma; font-size: 12pt; color: #000000;">Students will receive a 
 lunch break but lunches are no longer provided.</span></p><p>&nbsp;</p><p s
 tyle="margin-top: 0in; margin-right: 0in; margin-bottom: 0pt;"><strong><i><
 span style="background: white; color: #02613f; font-family: Georgia, serif;
 "><span style="font-size: small;">**Special note</span></span></i></strong>
 <strong><i><span style="background: white; color: black; font-family: Georg
 ia, serif;"><span style="font-size: small;">&nbsp;-&nbsp;if you wish to bec
 ome an Affiliate Member, and&nbsp;save off the non-member rate, please cont
 act&nbsp;Karen McMahon (315-701-0440 ext. 223,&nbsp;</span><span id="cloakd
 cec9e0a5cedb2781198653a5ebd19d1">This email address is being protected from
  spambots. You need JavaScript enabled to view it.</span><script type='text
 /javascript'>
				document.getElementById('cloakdcec9e0a5cedb2781198653a5eb
 d19d1').innerHTML = '';
				var prefix = 'ma' + 'il' + 'to';
				var path =
  'hr' + 'ef' + '=';
				var addydcec9e0a5cedb2781198653a5ebd19d1 = 'kmcmaho
 n' + '@';
				addydcec9e0a5cedb2781198653a5ebd19d1 = addydcec9e0a5cedb27811
 98653a5ebd19d1 + 'nyswda' + '.' + 'org';
				var addy_textdcec9e0a5cedb2781
 198653a5ebd19d1 = '<span style="color: #0000ff; font-size: small;">kmcmahon
 ' + '@' + 'nyswda' + '.' + 'org</span>';document.getElementById('cloakdcec9
 e0a5cedb2781198653a5ebd19d1').innerHTML += '<a ' + path + '\'' + prefix + '
 :' + addydcec9e0a5cedb2781198653a5ebd19d1 + '\'>'+addy_textdcec9e0a5cedb278
 1198653a5ebd19d1+'<\/a>';
		</script><span style="font-size: small;">)&nbsp
 ;</span></span></i></strong><span style="font-size: small;"><strong><span s
 tyle="background: white; color: #02613f; font-family: Georgia, serif;">BEFO
 RE YOU REGISTER&nbsp;</span></strong><em><b><span style="background: white;
  color: black; font-family: Georgia, serif;">for the course</span></b></em>
 <strong><span style="background: white; color: black; font-family: Georgia,
  serif;">.</span></strong></span></p><p><span style="color: #ff6600; font-f
 amily: tahoma, arial, helvetica, sans-serif; font-size: 12pt;"><span style=
 "color: #ff6600; font-family: tahoma, arial, helvetica, sans-serif; font-si
 ze: 12pt;"><span style="font-family: 'Times New Roman'; font-size: small;">
 </span></span></span>&nbsp;</p><p>&nbsp;&nbsp;</p><p><span style="color: #0
 000ff;"><em><strong><span style="font-family: tahoma, arial, helvetica, san
 s-serif; font-size: 14pt;"><span style="font-family: tahoma, arial, helveti
 ca, sans-serif; font-size: 14pt;"><span style="font-family: tahoma, arial, 
 helvetica, sans-serif; font-size: 14pt;"><span style="font-family: tahoma, 
 arial, helvetica, sans-serif; font-size: 14pt;"><span style="font-family: t
 ahoma,arial,helvetica,sans-serif; font-size: 14pt;"><span style="font-famil
 y: tahoma, arial, helvetica, sans-serif; font-size: 14pt;"><a href="https:/
 /www.nyswda.org/index.php?option=com_civicrm&amp;task=civicrm/event/registe
 r&amp;reset=1&amp;id=14483"><span style="color: #0000ff;"><strong><span sty
 le="font-family: tahoma, arial, helvetica, sans-serif; font-size: 14pt;">Cl
 ick here to register&nbsp;</span></strong></span></a><span style="font-fami
 ly: Tahoma;"></span><span style="font-family: Times;"></span><span style="f
 ont-family: Tahoma;"></span><span style="font-family: Tahoma;"></span><span
  style="font-family: Tahoma;"></span><span style="font-family: Tahoma;"></s
 pan><span style="font-family: Times;"></span><span style="font-family: Taho
 ma;"></span><span style="font-family: Tahoma;"></span><span style="font-fam
 ily: Tahoma;"></span><span style="font-family: Tahoma;"></span><span style=
 "font-family: Tahoma;"></span><span style="font-family: Tahoma;"></span><sp
 an style="font-family: Tahoma;"></span><span style="font-family: Tahoma;"><
 /span><span style="font-family: Tahoma;"></span><span style="font-family: T
 ahoma;"></span><span style="font-family: Tahoma;"></span><span style="font-
 family: Tahoma;"></span><span style="font-family: Tahoma;"></span><span sty
 le="font-family: Times;"></span><span style="font-family: Arial, Helvetica;
 "></span><span style="font-family: Tahoma;"></span><span style="font-family
 : Tahoma;"></span><span style="font-size: 14pt;"></span><em></em><span styl
 e="color: #0000ff;"></span>&nbsp;</span><em></em><span style="color: #0000f
 f;"></span> </span><span style="font-family: tahoma, arial, helvetica, sans
 -serif; font-size: 14pt;"></span><span style="font-family: tahoma, arial, h
 elvetica, sans-serif; font-size: 14pt;"></span><em></em><span style="color:
  #0000ff;"></span> </span><span style="font-family: tahoma, arial, helvetic
 a, sans-serif; font-size: 14pt;"></span><span style="color: #0000ff;"></spa
 n><span style="font-family: tahoma, arial, helvetica, sans-serif; font-size
 : 14pt;"></span><em></em><span style="color: #0000ff;"></span></span><span 
 style="font-family: tahoma, arial, helvetica, sans-serif; font-size: 14pt;"
 ></span><em></em><span style="font-family: tahoma, arial, helvetica, sans-s
 erif; font-size: 14pt;"></span><span style="font-family: tahoma, arial, hel
 vetica, sans-serif; font-size: 14pt;"></span><span style="font-family: taho
 ma, arial, helvetica, sans-serif; font-size: 14pt;"></span><em></em><span s
 tyle="color: #0000ff;"></span> </span><span style="font-family: tahoma, ari
 al, helvetica, sans-serif; font-size: 14pt;"></span><span style="font-famil
 y: tahoma, arial, helvetica, sans-serif; font-size: 14pt;"></span><span sty
 le="font-family: tahoma, arial, helvetica, sans-serif; font-size: 14pt;"></
 span><em></em><span style="font-family: tahoma, arial, helvetica, sans-seri
 f; font-size: 14pt; color: #0000ff;"></span></span></strong></em></span></p
 >
CONTACT:Robyn Wolk
DTSTAMP:20260423T203837
DTSTART;TZID=America/New_York:20260209T090000
DTEND;TZID=America/New_York:20260212T170000
SEQUENCE:0
TRANSP:OPAQUE
END:VEVENT
END:VCALENDAR