BEGIN:VCALENDAR
VERSION:2.0
PRODID:-//jEvents 2.0 for Joomla//EN
CALSCALE:GREGORIAN
METHOD:PUBLISH
BEGIN:VTIMEZONE
TZID:America/New_York
BEGIN:STANDARD
DTSTART:20250217T090000
RDATE:20250309T030000
TZOFFSETFROM:-0400
TZOFFSETTO:-0500
TZNAME:America/New_York EST
END:STANDARD
BEGIN:STANDARD
DTSTART:20251102T010000
RDATE:20260308T030000
TZOFFSETFROM:-0400
TZOFFSETTO:-0500
TZNAME:America/New_York EST
END:STANDARD
BEGIN:STANDARD
DTSTART:20261101T010000
RDATE:20270314T030000
TZOFFSETFROM:-0400
TZOFFSETTO:-0500
TZNAME:America/New_York EST
END:STANDARD
BEGIN:STANDARD
DTSTART:20271107T010000
RDATE:20280312T030000
TZOFFSETFROM:-0400
TZOFFSETTO:-0500
TZNAME:America/New_York EST
END:STANDARD
BEGIN:STANDARD
DTSTART:20281105T010000
RDATE:20290311T030000
TZOFFSETFROM:-0400
TZOFFSETTO:-0500
TZNAME:America/New_York EST
END:STANDARD
BEGIN:STANDARD
DTSTART:20291104T010000
RDATE:20300310T030000
TZOFFSETFROM:-0400
TZOFFSETTO:-0500
TZNAME:America/New_York EST
END:STANDARD
BEGIN:STANDARD
DTSTART:20301103T010000
RDATE:20310309T030000
TZOFFSETFROM:-0400
TZOFFSETTO:-0500
TZNAME:America/New_York EST
END:STANDARD
BEGIN:DAYLIGHT
DTSTART:20250309T030000
RDATE:20251102T010000
TZOFFSETFROM:-0500
TZOFFSETTO:-0400
TZNAME:America/New_York EDT
END:DAYLIGHT
BEGIN:DAYLIGHT
DTSTART:20260308T030000
RDATE:20261101T010000
TZOFFSETFROM:-0500
TZOFFSETTO:-0400
TZNAME:America/New_York EDT
END:DAYLIGHT
BEGIN:DAYLIGHT
DTSTART:20270314T030000
RDATE:20271107T010000
TZOFFSETFROM:-0500
TZOFFSETTO:-0400
TZNAME:America/New_York EDT
END:DAYLIGHT
BEGIN:DAYLIGHT
DTSTART:20280312T030000
RDATE:20281105T010000
TZOFFSETFROM:-0500
TZOFFSETTO:-0400
TZNAME:America/New_York EDT
END:DAYLIGHT
BEGIN:DAYLIGHT
DTSTART:20290311T030000
RDATE:20291104T010000
TZOFFSETFROM:-0500
TZOFFSETTO:-0400
TZNAME:America/New_York EDT
END:DAYLIGHT
BEGIN:DAYLIGHT
DTSTART:20300310T030000
RDATE:20301103T010000
TZOFFSETFROM:-0500
TZOFFSETTO:-0400
TZNAME:America/New_York EDT
END:DAYLIGHT
END:VTIMEZONE
BEGIN:VEVENT
UID:0f139847c18d53b7ab2e1ea4c363a4a5
CATEGORIES:At Syracuse
CREATED:20260106T161217
SUMMARY:Infrared Applications for Building Science
LOCATION:NYSWDA Training Center - East Syracuse
DESCRIPTION:ÂÂÂ \n
 Infrared Applications for Building Science\n
 \n
Training Location:
   NYSWDA Training Center - 5869 Fisher Road, East Syracuse, NY 13057\n
 \n

 This training is for;\nWeatherization Auditors, Post Inspectors, Field Staf
 f, and Building Home Performance Contractors\n
\n
Course Description;\n\n
T
 his two-day training consists of classroom-based instruction and hands-on f
 ield exercises. Upon completion, participants will demonstrate a working kn
 owledge of heat transfer mechanisms and building science fundamentals as th
 ey relate to residential thermal diagnostics and energy efficiency.\n\nThe 
 course provides detailed instruction on the operation, calibration, and opt
 imal use of thermal imaging equipment, including interpretation of infrared
  data and identification of building envelope deficiencies. Participants wi
 ll apply these skills in blower door–assisted air sealing diagnostics, resi
 dential energy audit inspections, and post-retrofit verification to assess 
 air leakage, insulation performance, and overall building envelope integrit
 y.\n
\n
\n
Agenda;\n
Day One\n

\n - Introductions and Overview
\n - Variou
 s uses of IR Imaging
\n - Energy properties related to movement and detecti
 on
\n - Explanation of related IR terms and their context (Emissivity/Black
  bodies, IR spectrum, reflectance, emittance &amp; transmittance)
\n - Hand
 s-on camera work &amp; exercises in classroom
\n - Review of typical imager
  features
\n - Describe how energy moves and is influenced as it moves thro
 ugh a residential structure
\n - Determine whether to take internal and ext
 ernal thermal images
\n - Using Imagers to detect thermal and pressure boun
 dary issues
\n - Understanding thermal images and characteristics they may 
 be showing
\n - Generating Reports and collecting data
\n - Generating a ro
 utine

 \n
Day Two\n

\n - Review day one
\n - Comparing images to issues
\
 n - Prepare imagers to produce and image
\n - The NYSWDA Infrared Golf Cour
 se Thermal
\n - The NYSWDA Infrared Golf Course Pressure (with Blower Door)
 
\n - Discussion about the hands-on images
\n - Review and selection of the
  most useful features/processesÂÂ 

 \n
Dates;\nFebruary 18-19, 2026 / 9:00
 am - 4:30pm\n
 \n
Attendees must bring their IR camera with charged batteri
 es. Depending on conditions, a portion of the training may be held outside.
  so bring appropriate clothing for the weather conditions.\n
 \n
Class Size
 ; 6\n
\n
BPI CEU; 8\n
Â\n
Instructor;  Al McMahon - Infraspection Level 1 T
 hermographers/NYSWDA trainer\n\n
\n
Course Fees; \n
 $375/person - NY Weath
 erization Sub-grantees\n
$375/person - affiliate members\n
$750/person - no
 n-members\n
 \n
**Special note - if you wish to become an Affiliate Member,
  and save off the non-member rate, please contact Karen McMahon (315-701-04
 40 ext. 223, This email address is being protected from spambots. You need 
 JavaScript enabled to view it.
				document.getElementById('cloak2b68ba76dd
 032662ce528df6d1b51946').innerHTML = '';
				var prefix = 'ma' + 'il' + 'to
 ';
				var path = 'hr' + 'ef' + '=';
				var addy2b68ba76dd032662ce528df6d1
 b51946 = 'kmcmahon' + '@';
				addy2b68ba76dd032662ce528df6d1b51946 = addy2
 b68ba76dd032662ce528df6d1b51946 + 'nyswda' + '.' + 'org';
				var addy_text
 2b68ba76dd032662ce528df6d1b51946 = 'kmcmahon' + '@' + 'nyswda' + '.' + 'org
 ';document.getElementById('cloak2b68ba76dd032662ce528df6d1b51946').innerHTM
 L += '<a ' + path + '\'' + prefix + ':' + addy2b68ba76dd032662ce528df6d1b51
 946 + '\'>'+addy_text2b68ba76dd032662ce528df6d1b51946+'';
		) BEFORE YOU RE
 GISTER for the course.\n
\n
\nClick here to register  (index.php?option=com
 _civicrm&amp;task=civicrm/event/register&amp;reset=1&amp;id=14486)\n\n
X-ALT-DESC;FMTTYPE=text/html:<p><span style="color: #ffffff;">ÂÂÂ&nbsp;</span></p><p><span style="color:
  #336699; font-size: 12pt; font-family: tahoma, arial, helvetica, sans-seri
 f;">&nbsp;<span style="color: #000000;"><strong><span style="color: #336699
 ;"><span style="font-size: 14pt;">Infrared Applications for Building Scienc
 e</span></span></strong></span></span></p><p>&nbsp;</p><p><span style="colo
 r: #336699; font-size: 12pt;"><span><span><span style="color: #000000;"><sp
 an><strong><span style="color: #336699;"><span style="font-size: 14pt; font
 -family: tahoma, arial, helvetica, sans-serif;">Training Location:&nbsp;&nb
 sp;NYSWDA Training Center&nbsp;- 5869 Fisher Road, East Syracuse, NY 13057<
 /span></span></strong></span></span></span></span></span></p><p>&nbsp;</p><
 p><span style="color: #000000; font-size: 12pt;"><span style="font-family: 
 Tahoma;"><em><span style="text-decoration: underline;"><span style="font-fa
 mily: Tahoma;">This training is for;</span></span><span style="font-family:
  Tahoma;"><span style="font-family: Tahoma;"><br /></span></span></em><span
  style="font-family: Tahoma;"><span style="font-family: Tahoma;"><span styl
 e="font-family: Tahoma;">Weatherization Auditors, Post Inspectors, Field St
 aff, and Building Home Performance Contractors</span></span></span></span><
 /span></p><p><span style="color: #000000;"></span></p><p><span style="color
 : #000000; font-size: 12pt;"><span style="font-family: Tahoma;"><span style
 ="font-family: Tahoma;"><span style="font-family: Tahoma;"><span style="fon
 t-family: Tahoma;"><span style="font-family: Tahoma;"><span style="text-dec
 oration: underline;"><em><span style="font-family: Tahoma;">Course Descript
 ion;</span></em></span><em><span style="font-family: Tahoma;"><span style="
 font-family: Tahoma;"><br /></span></span></em></span></span></span></span>
 </span></span></p><p><span style="color: #000000;"><span style="font-family
 : tahoma, arial, helvetica, sans-serif; font-size: 12pt;">This two-day trai
 ning consists of classroom-based instruction and hands-on field exercises. 
 Upon completion, participants will demonstrate a working knowledge of heat 
 transfer mechanisms and building science fundamentals as they relate to res
 idential thermal diagnostics and energy efficiency.<br /><br /></span><span
  style="font-family: tahoma, arial, helvetica, sans-serif; font-size: 12pt;
 ">The course provides detailed instruction on the operation, calibration, a
 nd optimal use of thermal imaging equipment, including interpretation of in
 frared data and identification of building envelope deficiencies. Participa
 nts will apply these skills in blower door–assisted air sealing diagnostics
 , residential energy audit inspections, and post-retrofit verification to a
 ssess air leakage, insulation performance, and overall building envelope in
 tegrity.</span></span></p><p><span style="color: #000000; font-size: 12pt;"
 ><span style="font-family: Tahoma;"><span style="font-family: Tahoma;"><spa
 n style="font-family: Tahoma;"><span style="font-family: Tahoma;"><span sty
 le="font-family: Tahoma;"></span></span></span></span></span></span></p><p>
 <span style="color: #000000;"></span></p><p><span style="color: #000000; fo
 nt-size: 12pt;"><span style="font-family: Tahoma;"><span style="font-family
 : Tahoma;"><span style="font-family: Tahoma;"><span style="font-family: Tah
 oma;"><span style="font-family: Tahoma;"><span style="font-family: Tahoma;"
 ><span style="font-family: Tahoma;"><span style="font-family: Tahoma;"><spa
 n style="text-decoration: underline;"><em>Agenda;</em></span></span></span>
 </span></span></span></span></span></span></span></p><p><span style="text-d
 ecoration: underline; color: #000000;"><span style="font-size: 12pt;"><span
  style="font-family: Tahoma;"><span><span style="font-family: Tahoma;"><spa
 n style="font-family: Tahoma;"><span style="font-family: Tahoma;"><span sty
 le="font-family: Tahoma;"><span style="font-family: Tahoma;"><span style="f
 ont-family: Tahoma;"><span style="font-family: Tahoma;">Day One</span></spa
 n></span></span></span></span></span></span></span></span></span></p><ul st
 yle="list-style-type: circle;"><li><span style="color: #000000; font-size: 
 12pt;"><span style="font-family: Tahoma;"><span style="font-family: Tahoma;
 "><span style="font-family: Tahoma;"><span style="font-family: Tahoma;"><sp
 an style="font-family: Tahoma;"><span style="font-family: Tahoma;"><span st
 yle="font-family: Tahoma;"><span style="font-family: Tahoma;">Introductions
  and Overview</span></span></span></span></span></span></span></span></span
 ></li><li><span style="font-family: tahoma, arial, helvetica, sans-serif; f
 ont-size: 12pt; color: #000000;">Various uses of IR Imaging</span></li><li>
 <span style="font-family: tahoma, arial, helvetica, sans-serif; font-size: 
 12pt; color: #000000;">Energy properties related to movement and detection<
 /span></li><li><span style="font-family: tahoma, arial, helvetica, sans-ser
 if; font-size: 12pt; color: #000000;">Explanation of related IR terms and t
 heir context (Emissivity/Black bodies, IR spectrum, reflectance, emittance 
 &amp; transmittance)</span></li><li><span style="color: #000000; font-size:
  12pt;"><span style="font-family: Tahoma;"><span style="font-family: Tahoma
 ;"><span style="font-family: Tahoma;"><span style="font-family: Tahoma;"><s
 pan style="font-family: Tahoma;"><span style="font-family: Tahoma;"><span s
 tyle="font-family: Tahoma;"><span style="font-family: Tahoma;">Hands-on cam
 era work &amp; exercises in classroom</span></span></span></span></span></s
 pan></span></span></span></li><li><span style="color: #000000; font-size: 1
 2pt;"><span style="font-family: Tahoma;"><span style="font-family: Tahoma;"
 ><span style="font-family: Tahoma;"><span style="font-family: Tahoma;"><spa
 n style="font-family: Tahoma;"><span style="font-family: Tahoma;"><span sty
 le="font-family: Tahoma;"><span style="font-family: Tahoma;">Review of typi
 cal imager features</span></span></span></span></span></span></span></span>
 </span></li><li><span style="color: #000000; font-size: 12pt;"><span style=
 "font-family: Tahoma;"><span style="font-family: Tahoma;"><span style="font
 -family: Tahoma;"><span style="font-family: Tahoma;"><span style="font-fami
 ly: Tahoma;"><span style="font-family: Tahoma;"><span style="font-family: T
 ahoma;"><span style="font-family: Tahoma;">Describe how energy moves and is
  influenced as it moves through a residential structure</span></span></span
 ></span></span></span></span></span></span></li><li><span style="color: #00
 0000; font-size: 12pt;"><span style="font-family: Tahoma;"><span style="fon
 t-family: Tahoma;"><span style="font-family: Tahoma;"><span style="font-fam
 ily: Tahoma;"><span style="font-family: Tahoma;"><span style="font-family: 
 Tahoma;"><span style="font-family: Tahoma;"><span style="font-family: Tahom
 a;">Determine whether to take internal and external thermal images</span></
 span></span></span></span></span></span></span></span></li><li><span style=
 "color: #000000; font-size: 12pt;"><span style="font-family: Tahoma;"><span
  style="font-family: Tahoma;"><span style="font-family: Tahoma;"><span styl
 e="font-family: Tahoma;"><span style="font-family: Tahoma;"><span style="fo
 nt-family: Tahoma;"><span style="font-family: Tahoma;"><span style="font-fa
 mily: Tahoma;">Using Imagers to detect thermal and pressure boundary issues
 </span></span></span></span></span></span></span></span></span></li><li><sp
 an style="color: #000000; font-size: 12pt;"><span style="font-family: Tahom
 a;"><span style="font-family: Tahoma;"><span style="font-family: Tahoma;"><
 span style="font-family: Tahoma;"><span style="font-family: Tahoma;"><span 
 style="font-family: Tahoma;"><span style="font-family: Tahoma;"><span style
 ="font-family: Tahoma;">Understanding thermal images and characteristics th
 ey may be showing</span></span></span></span></span></span></span></span></
 span></li><li><span style="color: #000000; font-size: 12pt;"><span style="f
 ont-family: Tahoma;"><span style="font-family: Tahoma;"><span style="font-f
 amily: Tahoma;"><span style="font-family: Tahoma;"><span style="font-family
 : Tahoma;"><span style="font-family: Tahoma;"><span style="font-family: Tah
 oma;"><span style="font-family: Tahoma;">Generating Reports and collecting 
 data</span></span></span></span></span></span></span></span></span></li><li
 ><span style="color: #000000; font-size: 12pt;"><span style="font-family: T
 ahoma;"><span style="font-family: Tahoma;"><span style="font-family: Tahoma
 ;"><span style="font-family: Tahoma;"><span style="font-family: Tahoma;"><s
 pan style="font-family: Tahoma;"><span style="font-family: Tahoma;"><span s
 tyle="font-family: Tahoma;">Generating a routine</span></span></span></span
 ></span></span></span></span></span></li></ul><p>&nbsp;</p><p><span style="
 text-decoration: underline; color: #000000;"><span style="font-size: 12pt;"
 ><span style="font-family: Tahoma;"><span><span style="font-family: Tahoma;
 "><span style="font-family: Tahoma;"><span style="font-family: Tahoma;"><sp
 an style="font-family: Tahoma;"><span style="font-family: Tahoma;"><span st
 yle="font-family: Tahoma;"><span style="font-family: Tahoma;">Day Two</span
 ></span></span></span></span></span></span></span></span></span></span></p>
 <ul style="list-style-type: circle;"><li><span style="color: #000000; font-
 size: 12pt;"><span style="font-family: Tahoma;"><span style="font-family: T
 ahoma;"><span style="font-family: Tahoma;"><span style="font-family: Tahoma
 ;"><span style="font-family: Tahoma;"><span style="font-family: Tahoma;"><s
 pan style="font-family: Tahoma;"><span style="font-family: Tahoma;">Review 
 day one</span></span></span></span></span></span></span></span></span></li>
 <li><span style="color: #000000; font-size: 12pt;"><span style="font-family
 : Tahoma;"><span style="font-family: Tahoma;"><span style="font-family: Tah
 oma;"><span style="font-family: Tahoma;"><span style="font-family: Tahoma;"
 ><span style="font-family: Tahoma;"><span style="font-family: Tahoma;"><spa
 n style="font-family: Tahoma;">Comparing images to issues</span></span></sp
 an></span></span></span></span></span></span></li><li><span style="color: #
 000000; font-size: 12pt;"><span style="font-family: Tahoma;"><span style="f
 ont-family: Tahoma;"><span style="font-family: Tahoma;"><span style="font-f
 amily: Tahoma;"><span style="font-family: Tahoma;"><span style="font-family
 : Tahoma;"><span style="font-family: Tahoma;"><span style="font-family: Tah
 oma;">Prepare imagers to produce and image</span></span></span></span></spa
 n></span></span></span></span></li><li><span style="color: #000000; font-si
 ze: 12pt;"><span style="font-family: Tahoma;"><span style="font-family: Tah
 oma;"><span style="font-family: Tahoma;"><span style="font-family: Tahoma;"
 ><span style="font-family: Tahoma;"><span style="font-family: Tahoma;"><spa
 n style="font-family: Tahoma;"><span style="font-family: Tahoma;">The NYSWD
 A Infrared Golf Course Thermal</span></span></span></span></span></span></s
 pan></span></span></li><li><span style="color: #000000; font-size: 12pt;"><
 span style="font-family: Tahoma;"><span style="font-family: Tahoma;"><span 
 style="font-family: Tahoma;"><span style="font-family: Tahoma;"><span style
 ="font-family: Tahoma;"><span style="font-family: Tahoma;"><span style="fon
 t-family: Tahoma;"><span style="font-family: Tahoma;">The NYSWDA Infrared G
 olf Course Pressure (with Blower Door)</span></span></span></span></span></
 span></span></span></span></li><li><span style="color: #000000; font-size: 
 12pt;"><span style="font-family: Tahoma;"><span style="font-family: Tahoma;
 "><span style="font-family: Tahoma;"><span style="font-family: Tahoma;"><sp
 an style="font-family: Tahoma;"><span style="font-family: Tahoma;"><span st
 yle="font-family: Tahoma;"><span style="font-family: Tahoma;">Discussion ab
 out the hands-on images</span></span></span></span></span></span></span></s
 pan></span></li><li><span style="color: #000000;"><span style="font-size: 1
 2pt;"><span style="font-family: Tahoma;"><span style="font-family: Tahoma;"
 ><span style="font-family: Tahoma;"><span style="font-family: Tahoma;"><spa
 n style="font-family: Tahoma;"><span style="font-family: Tahoma;"><span sty
 le="font-family: Tahoma;"><span style="font-family: Tahoma;">Review and sel
 ection of the most useful features/processes</span></span></span></span></s
 pan></span></span></span></span>ÂÂ&nbsp;</span></li></ul><p>&nbsp;</p><p><s
 pan style="color: #000000; font-size: 12pt;"><span style="font-family: Taho
 ma;"><span style="font-family: Tahoma;"><span style="font-family: Tahoma;">
 <span style="font-family: Tahoma;"><span style="font-family: Tahoma;"><span
  style="font-family: Tahoma;"><span style="font-family: Tahoma;"><span styl
 e="font-family: Tahoma;"><span style="text-decoration: underline;"><em>Date
 s;<br /></em></span><span style="font-family: Tahoma;">February 18-19, 2026
  / 9:00am - 4:30pm</span></span></span></span></span></span></span></span><
 /span></span></p><p>&nbsp;</p><p><span style="color: #336699; font-size: 12
 pt;"><span style="font-family: Tahoma;"><span><span style="color: #000000;"
 ><span><span style="font-family: Tahoma;"><span style="font-family: Tahoma;
 "><span style="font-family: Tahoma;"><span style="font-family: Tahoma;"><sp
 an style="font-family: Tahoma;"><span style="font-family: Tahoma;"><span st
 yle="font-family: Tahoma;"><span style="font-family: Tahoma;"><span style="
 font-family: Tahoma;"><span style="font-family: Tahoma;"><strong><span styl
 e="color: #ff0000;">Attendees must bring their IR camera with charged batte
 ries.&nbsp;Depending on conditions, a portion of the training may be held o
 utside. so bring appropriate clothing for the weather conditions.</span></s
 trong></span></span></span></span></span></span></span></span></span></span
 ></span></span></span></span></span></p><p>&nbsp;</p><p><span style="color:
  #000000; font-size: 12pt;"><span style="font-family: Tahoma;"><span style=
 "font-family: Tahoma;"><span style="font-family: Tahoma;"><span style="font
 -family: Tahoma;"><span style="font-family: Tahoma;"><span style="font-fami
 ly: Tahoma;"><span style="font-family: Tahoma;"><span style="font-family: T
 ahoma;"><span style="font-family: Tahoma;"><span style="font-family: Tahoma
 ;"><span style="font-family: Tahoma;"><span style="text-decoration: underli
 ne;"><em>Class Size;</em></span>&nbsp;6</span></span></span></span></span><
 /span></span></span></span></span></span></span></p><p><span style="color: 
 #000000;"></span></p><p><span style="color: #000000; font-size: 12pt;"><spa
 n style="font-family: Tahoma;"><span style="font-family: Tahoma;"><span sty
 le="font-family: Tahoma;"><span style="font-family: Tahoma;"><span style="f
 ont-family: Tahoma;"><span style="font-family: Tahoma;"><span style="font-f
 amily: Tahoma;"><span style="font-family: Tahoma;"><span style="font-family
 : Tahoma;"><span style="font-family: Tahoma;"><span style="font-family: Tah
 oma;"><span style="text-decoration: underline;"><em>BPI CEU;</em></span> 8<
 /span></span></span></span></span></span></span></span></span></span></span
 ></span></p><p><span style="color: #000000;">Â</span></p><p><span style="co
 lor: #000000; font-size: 12pt;"><span style="font-family: Tahoma;"><span st
 yle="font-family: Tahoma;"><span style="font-family: Tahoma;"><span style="
 font-family: Tahoma;"><span style="font-family: Tahoma;"><span style="font-
 family: Tahoma;"><span style="font-family: Tahoma;"><span style="font-famil
 y: Tahoma;"><span style="font-family: Tahoma;"><span style="font-family: Ta
 homa;"><span style="font-family: Tahoma;"><span style="text-decoration: und
 erline;"><em><span style="font-family: Tahoma;">Instructor;</span></em></sp
 an><span style="font-family: Tahoma;">&nbsp; Al McMahon - Infraspection Lev
 el 1 Thermographers/NYSWDA trainer</span><span style="font-family: Tahoma;"
 ><br /><span style="font-family: Tahoma;"><span style="text-decoration: und
 erline;"><em></em></span></span></span></span></span></span></span></span><
 /span></span></span></span></span></span></span></p><p><span style="color: 
 #000000;"></span></p><p><span style="color: #000000; font-size: 12pt;"><spa
 n style="font-family: Tahoma;"><span style="font-family: Tahoma;"><span sty
 le="font-family: Tahoma;"><span style="font-family: Tahoma;"><span style="f
 ont-family: Tahoma;"><span style="font-family: Tahoma;"><span style="font-f
 amily: Tahoma;"><span style="font-family: Tahoma;"><span style="font-family
 : Tahoma;"><span style="font-family: Tahoma;"><span style="font-family: Tah
 oma;"><span style="font-family: Tahoma;"><span style="font-family: Tahoma;"
 ><span style="text-decoration: underline;"><em>Course Fees;</em></span><em 
 style="color: #000000;"> </em></span></span></span></span></span></span></s
 pan></span></span></span></span></span></span></span></p><p><span style="co
 lor: #000000; font-size: 12pt;"><span style="font-family: Tahoma;"><span st
 yle="font-family: Tahoma;"><span style="font-family: Tahoma;"><span style="
 font-family: Tahoma;"><span style="font-family: Tahoma;"><span style="font-
 family: Tahoma;"><span style="font-family: Tahoma;"><span style="font-famil
 y: Tahoma;"><span style="font-family: Tahoma;"><span style="font-family: Ta
 homa;"><span style="font-family: Tahoma;"><span style="font-family: Tahoma;
 "><em style="color: #000000;"> </em><span style="font-family: Tahoma;">$375
 /person - NY Weatherization Sub-grantees</span></span></span></span></span>
 </span></span></span></span></span></span></span></span></span></p><p><span
  style="color: #000000; font-size: 12pt;"><span style="font-family: Tahoma;
 "><span style="font-family: Tahoma;"><span style="font-family: Tahoma;"><sp
 an style="font-family: Tahoma;"><span style="font-family: Tahoma;"><span st
 yle="font-family: Tahoma;"><span style="font-family: Tahoma;"><span style="
 font-family: Tahoma;"><span style="font-family: Tahoma;"><span style="font-
 family: Tahoma;"><span style="font-family: Tahoma;"><span style="font-famil
 y: Tahoma;"><span style="font-family: Tahoma;">$375/person - affiliate memb
 ers</span></span></span></span></span></span></span></span></span></span></
 span></span></span></span></p><p><span style="color: #000000; font-size: 12
 pt;"><span style="font-family: Tahoma;"><span style="font-family: Tahoma;">
 <span style="font-family: Tahoma;"><span style="font-family: Tahoma;"><span
  style="font-family: Tahoma;"><span style="font-family: Tahoma;"><span styl
 e="font-family: Tahoma;"><span style="font-family: Tahoma;"><span style="fo
 nt-family: Tahoma;"><span style="font-family: Tahoma;"><span style="font-fa
 mily: Tahoma;"><span style="font-family: Tahoma;"><span style="font-family:
  Tahoma;">$750/person - non-members</span></span></span></span></span></spa
 n></span></span></span></span></span></span></span></span></p><p>&nbsp;</p>
 <p><span style="color: #ff6600; font-family: tahoma, arial, helvetica, sans
 -serif; font-size: 12pt;"><span style="color: #ff6600; font-family: tahoma,
  arial, helvetica, sans-serif; font-size: 12pt;"><strong><i><span style="ba
 ckground: white; color: #02613f; font-family: Georgia, serif;"><span style=
 "font-size: small;">**Special note</span></span></i></strong><strong><i><sp
 an style="background: white; color: black; font-family: Georgia, serif;"><s
 pan style="font-size: small;">&nbsp;-&nbsp;if you wish to become an Affilia
 te Member, and&nbsp;save off the non-member rate, please contact&nbsp;Karen
  McMahon (315-701-0440 ext. 223,&nbsp;</span><span id="cloak2b68ba76dd03266
 2ce528df6d1b51946">This email address is being protected from spambots. You
  need JavaScript enabled to view it.</span><script type='text/javascript'>

 				document.getElementById('cloak2b68ba76dd032662ce528df6d1b51946').innerH
 TML = '';
				var prefix = 'ma' + 'il' + 'to';
				var path = 'hr' + 'ef' +
  '=';
				var addy2b68ba76dd032662ce528df6d1b51946 = 'kmcmahon' + '@';
				
 addy2b68ba76dd032662ce528df6d1b51946 = addy2b68ba76dd032662ce528df6d1b51946
  + 'nyswda' + '.' + 'org';
				var addy_text2b68ba76dd032662ce528df6d1b5194
 6 = '<span style="color: #0000ff; font-size: small;">kmcmahon' + '@' + 'nys
 wda' + '.' + 'org</span>';document.getElementById('cloak2b68ba76dd032662ce5
 28df6d1b51946').innerHTML += '<a ' + path + '\'' + prefix + ':' + addy2b68b
 a76dd032662ce528df6d1b51946 + '\'>'+addy_text2b68ba76dd032662ce528df6d1b519
 46+'<\/a>';
		</script><span style="font-size: small;">)&nbsp;</span></span
 ></i></strong><span style="font-size: small;"><strong><span style="backgrou
 nd: white; color: #02613f; font-family: Georgia, serif;">BEFORE YOU REGISTE
 R&nbsp;</span></strong><em><b><span style="background: white; color: black;
  font-family: Georgia, serif;">for the course</span></b></em><strong><span 
 style="background: white; color: black; font-family: Georgia, serif;">.</sp
 an></strong></span></span></span></p><p><span style="color: #336699; font-s
 ize: 12pt;"><span style="font-family: Tahoma;"><span><span><span><span styl
 e="font-family: Tahoma;"><span style="font-family: Tahoma;"><span style="fo
 nt-family: Tahoma;"><span style="font-family: Tahoma;"><span style="font-fa
 mily: Tahoma;"><span style="font-family: Tahoma;"><span style="font-family:
  Tahoma;"><span style="font-family: Tahoma;"><span style="font-family: Taho
 ma;"><span style="font-family: Tahoma;"><span style="font-family: Tahoma;">
 </span></span></span></span></span></span></span></span></span></span></spa
 n></span></span></span></span></span></p><p><span style="color: #336699; fo
 nt-size: 12pt;"><span style="font-family: Tahoma;"><span><span><span><span 
 style="font-family: Tahoma;"><span style="font-family: Tahoma;"><span style
 ="font-family: Tahoma;"><span style="font-family: Tahoma;"><span style="fon
 t-family: Tahoma;"><span style="font-family: Tahoma;"><span style="font-fam
 ily: Tahoma;"><span style="font-family: Tahoma;"><span style="font-family: 
 Tahoma;"><span style="font-family: Tahoma;"><span style="font-family: Tahom
 a;"><span style="font-family: Tahoma;"><strong><br /><a href="https://www.n
 yswda.org/index.php?option=com_civicrm&amp;task=civicrm/event/register&amp;
 reset=1&amp;id=14486"><span style="font-family: tahoma, arial, helvetica, s
 ans-serif; font-size: 14pt;"><span style="color: #0000ff;"><em>Click here t
 o register&nbsp;</em></span></span></a><br /><span></span></strong></span><
 /span></span></span></span></span></span></span></span></span></span></span
 ></span></span></span></span></span></p>
CONTACT:Robyn Wolk
DTSTAMP:20260423T221324
DTSTART;TZID=America/New_York:20260218T090000
DTEND;TZID=America/New_York:20260219T163000
SEQUENCE:0
TRANSP:OPAQUE
END:VEVENT
END:VCALENDAR