BEGIN:VCALENDAR
VERSION:2.0
PRODID:-//jEvents 2.0 for Joomla//EN
CALSCALE:GREGORIAN
METHOD:PUBLISH
BEGIN:VTIMEZONE
TZID:America/New_York
BEGIN:STANDARD
DTSTART:20250208T090000
RDATE:20250309T030000
TZOFFSETFROM:-0400
TZOFFSETTO:-0500
TZNAME:America/New_York EST
END:STANDARD
BEGIN:STANDARD
DTSTART:20251102T010000
RDATE:20260308T030000
TZOFFSETFROM:-0400
TZOFFSETTO:-0500
TZNAME:America/New_York EST
END:STANDARD
BEGIN:STANDARD
DTSTART:20261101T010000
RDATE:20270314T030000
TZOFFSETFROM:-0400
TZOFFSETTO:-0500
TZNAME:America/New_York EST
END:STANDARD
BEGIN:STANDARD
DTSTART:20271107T010000
RDATE:20280312T030000
TZOFFSETFROM:-0400
TZOFFSETTO:-0500
TZNAME:America/New_York EST
END:STANDARD
BEGIN:STANDARD
DTSTART:20281105T010000
RDATE:20290311T030000
TZOFFSETFROM:-0400
TZOFFSETTO:-0500
TZNAME:America/New_York EST
END:STANDARD
BEGIN:STANDARD
DTSTART:20291104T010000
RDATE:20300310T030000
TZOFFSETFROM:-0400
TZOFFSETTO:-0500
TZNAME:America/New_York EST
END:STANDARD
BEGIN:STANDARD
DTSTART:20301103T010000
RDATE:20310309T030000
TZOFFSETFROM:-0400
TZOFFSETTO:-0500
TZNAME:America/New_York EST
END:STANDARD
BEGIN:DAYLIGHT
DTSTART:20250309T030000
RDATE:20251102T010000
TZOFFSETFROM:-0500
TZOFFSETTO:-0400
TZNAME:America/New_York EDT
END:DAYLIGHT
BEGIN:DAYLIGHT
DTSTART:20260308T030000
RDATE:20261101T010000
TZOFFSETFROM:-0500
TZOFFSETTO:-0400
TZNAME:America/New_York EDT
END:DAYLIGHT
BEGIN:DAYLIGHT
DTSTART:20270314T030000
RDATE:20271107T010000
TZOFFSETFROM:-0500
TZOFFSETTO:-0400
TZNAME:America/New_York EDT
END:DAYLIGHT
BEGIN:DAYLIGHT
DTSTART:20280312T030000
RDATE:20281105T010000
TZOFFSETFROM:-0500
TZOFFSETTO:-0400
TZNAME:America/New_York EDT
END:DAYLIGHT
BEGIN:DAYLIGHT
DTSTART:20290311T030000
RDATE:20291104T010000
TZOFFSETFROM:-0500
TZOFFSETTO:-0400
TZNAME:America/New_York EDT
END:DAYLIGHT
BEGIN:DAYLIGHT
DTSTART:20300310T030000
RDATE:20301103T010000
TZOFFSETFROM:-0500
TZOFFSETTO:-0400
TZNAME:America/New_York EDT
END:DAYLIGHT
END:VTIMEZONE
BEGIN:VEVENT
UID:8b95fbdf681a5b0127828bae83399a82
CATEGORIES:At Syracuse
CREATED:20260109T161753
SUMMARY:Combustion Appliance Zone Testing 101
LOCATION:NYSWDA Training Center - East Syracuse
DESCRIPTION:CAZ 101\n
 \n
Training Location: NYSWDA Training Center (Building 1) – 5869
  Fisher Road, East Syracuse, NY 13057\n
 \n
Course Description;\nIn this co
 urse students will learn the current Building Performance Institute (BPI) s
 tandards and procedures for initial home safety inspections and CAZ testing
 . Students will also review the principles of combustion and how gas and oi
 l-fired appliances combust fuel to deliver heat to the home. \n \n \n
Atten
 dees will be introduced to testing and safety equipment such as manometers,
  gas leak detectors, ambient carbon monoxide detectors, and combustion anal
 yzers. \n
\n
Attendees are encouraged to bring their own equipment.\n\n
 \n
 
Weatherization Field Staff:  With the introduction of the new Quality Cont
 rol Inspection requirements, it is doubly important that your crew supervis
 ors are performing the HCR required daily test-out procedures correctly.  P
 lease consider sending your crew leaders to this course to sharpen their CA
 Z testing skills and to enhance your agency's compliance with HCR's policie
 s.\n
 \n
\n
Agenda;\nUpon completion of this course, participants will be a
 ble to:\n\n
• Perform initial safety inspection and testing procedures\n• C
 omplete “worst case depressurization” setup/testing\n• Identify potential C
 AZ problems\n• Evaluate combustion appliance spillage and action levels\n• 
 Evaluate combustion appliance CO limits and action levels\n• Evaluate ambie
 nt CO and action levels\n• Operate all related safety and testing equipment
 \n
 \n
Prerequisites: \nNone\n
 \n
Class Size: 6\n
 \n
BPI CEU: 3.75\n
 \n

 Instructors; Bob Braunlich - NYSWDA\n
 \n
Course Fees:\n$262/person - NY We
 atherization Sub-grantees\n$262/person - affiliate members\n$380/person - n
 on-members\n
 \n
**Special note - if you wish to become an Affiliate Member
 , and save off the non-member rate, please contact Karen McMahon (315-701-0
 440 ext. 223, This email address is being protected from spambots. You need
  JavaScript enabled to view it.
				document.getElementById('cloak96beac603
 9b4038c5e3adce4cede97e6').innerHTML = '';
				var prefix = 'ma' + 'il' + 't
 o';
				var path = 'hr' + 'ef' + '=';
				var addy96beac6039b4038c5e3adce4c
 ede97e6 = 'kmcmahon' + '@';
				addy96beac6039b4038c5e3adce4cede97e6 = addy
 96beac6039b4038c5e3adce4cede97e6 + 'nyswda' + '.' + 'org';
				var addy_tex
 t96beac6039b4038c5e3adce4cede97e6 = 'kmcmahon' + '@' + 'nyswda' + '.' + 'or
 g';document.getElementById('cloak96beac6039b4038c5e3adce4cede97e6').innerHT
 ML += '<a ' + path + '\'' + prefix + ':' + addy96beac6039b4038c5e3adce4cede
 97e6 + '\'>'+addy_text96beac6039b4038c5e3adce4cede97e6+'';
		) BEFORE YOU R
 EGISTER for the course.\n
 \n
CLASS FULL - call or email  This email addres
 s is being protected from spambots. You need JavaScript enabled to view it.
 
				document.getElementById('cloak2540d2e8712f46066fc3f7d106b5f1a3').inner
 HTML = '';
				var prefix = 'ma' + 'il' + 'to';
				var path = 'hr' + 'ef' 
 + '=';
				var addy2540d2e8712f46066fc3f7d106b5f1a3 = 'rwolk' + '@';
				ad
 dy2540d2e8712f46066fc3f7d106b5f1a3 = addy2540d2e8712f46066fc3f7d106b5f1a3 +
  'nyswda' + '.' + 'org';
				var addy_text2540d2e8712f46066fc3f7d106b5f1a3 
 = 'rwolk' + '@' + 'nyswda' + '.' + 'org';document.getElementById('cloak2540
 d2e8712f46066fc3f7d106b5f1a3').innerHTML += '<a ' + path + '\'' + prefix + 
 ':' + addy2540d2e8712f46066fc3f7d106b5f1a3 + '\'>'+addy_text2540d2e8712f460
 66fc3f7d106b5f1a3+'';
		 for availability or wait list\n
\n
\n\n\n\n
X-ALT-DESC;FMTTYPE=text/html:<p><strong><span style="color: #336699; font-family: tahoma, arial, helveti
 ca, sans-serif; font-size: 13.5pt;">CAZ 101</span></strong></p><p>&nbsp;</p
 ><p><strong><span style="color: #336699; font-family: tahoma, arial, helvet
 ica, sans-serif; font-size: 13.5pt;">Training Location: NYSWDA Training Cen
 ter (Building 1) – 5869 Fisher Road, East Syracuse, NY 13057</span></strong
 ></p><p>&nbsp;</p><p><span style="color: black;"><span style="font-family: 
 tahoma, arial, helvetica, sans-serif; font-size: 12pt;"><span style="font-f
 amily: Tahoma;"><span style="font-family: Tahoma;"><span style="font-family
 : Tahoma;"><span style="font-family: Tahoma;"><span style="text-decoration:
  underline;"><em><span style="font-family: Tahoma;">Course Description;<br 
 /></span></em></span></span></span></span></span></span></span><span style=
 "font-size: 12pt; color: black;"><span style="font-family: Tahoma, sans-ser
 if; border: 1pt none windowtext; padding: 0in;">In this course students wil
 l learn the current Building Performance Institute (BPI) standards and proc
 edures for initial home safety inspections and CAZ testing. Students will a
 lso review the principles of combustion and how gas and oil-fired appliance
 s combust fuel to deliver heat to the home. </span><span style="font-family
 : Verdana, sans-serif;"><br /> <br /> </span></span></p><p style="margin: 0
 in; line-height: 15.6pt;"><span style="font-family: Tahoma, sans-serif; col
 or: black; border: 1pt none windowtext; padding: 0in; font-size: 12pt;">Att
 endees will be introduced to testing and safety equipment such as manometer
 s, gas leak detectors, ambient carbon monoxide detectors, and combustion an
 alyzers. </span></p><p style="margin: 0in; line-height: 15.6pt;"><span styl
 e="font-family: Tahoma, sans-serif; color: black; border: 1pt none windowte
 xt; padding: 0in; font-size: 12pt;"></span></p><p style="margin: 0in; line-
 height: 15.6pt;"><span style="font-family: Tahoma, sans-serif; color: black
 ; border: 1pt none windowtext; padding: 0in; font-size: 12pt;">Attendees ar
 e encouraged to bring their own equipment.</span><span style="font-family: 
 tahoma, arial, helvetica, sans-serif; font-size: 12pt;"><br /></span></p><p
 >&nbsp;</p><p><span style="color: black;"><strong><span style="font-family:
  tahoma, arial, helvetica, sans-serif; font-size: 12pt;">Weatherization Fie
 ld Staff:&nbsp; With the introduction of the new Quality Control Inspection
  requirements, it is doubly important that your crew supervisors are perfor
 ming the HCR required daily test-out procedures correctly.&nbsp; Please con
 sider sending your crew leaders to this course to sharpen their CAZ testing
  skills and to enhance your agency's compliance with HCR's policies.</span>
 </strong></span></p><p>&nbsp;</p><p><span style="color: black;"></span></p>
 <p><span style="font-family: tahoma, arial, helvetica, sans-serif; font-siz
 e: 12pt; color: black;"><span style="font-family: Tahoma;"><span style="fon
 t-family: Tahoma;"><span style="font-family: Tahoma;"><span style="font-fam
 ily: Tahoma;"><span style="font-family: Tahoma;"><span style="font-family: 
 Tahoma;"><span style="font-family: Tahoma;"><span style="text-decoration: u
 nderline;"><em>Agenda;<br /></em></span></span></span></span></span></span>
 </span></span></span><span style="font-family: tahoma, arial, helvetica, sa
 ns-serif; font-size: 12pt; color: black;">Upon completion of this course, p
 articipants will be able to:<br /></span></p><p><span style="font-family: t
 ahoma, arial, helvetica, sans-serif; font-size: 12pt; color: black;">• Perf
 orm initial safety inspection and testing procedures</span><br /><span styl
 e="font-family: tahoma, arial, helvetica, sans-serif; font-size: 12pt; colo
 r: black;">• Complete “worst case depressurization” setup/testing</span><br
  /><span style="font-family: tahoma, arial, helvetica, sans-serif; font-siz
 e: 12pt; color: black;">• Identify potential CAZ problems</span><br /><span
  style="font-family: tahoma, arial, helvetica, sans-serif; font-size: 12pt;
  color: black;">• Evaluate combustion appliance spillage and action levels<
 /span><br /><span style="font-family: tahoma, arial, helvetica, sans-serif;
  font-size: 12pt; color: black;">•&nbsp;<span style="font-family: tahoma, a
 rial, helvetica, sans-serif; font-size: 12pt; color: black;">Evaluate combu
 stion appliance CO limits and action levels</span></span><br /><span style=
 "font-family: tahoma, arial, helvetica, sans-serif; font-size: 12pt; color:
  black;">• Evaluate ambient CO and action levels</span><br /><span style="f
 ont-family: tahoma, arial, helvetica, sans-serif; font-size: 12pt;"><span s
 tyle="color: black;">• Operate all related safety and testing equipment</sp
 an></span></p><p>&nbsp;</p><p><span style="font-family: tahoma, arial, helv
 etica, sans-serif; font-size: 12pt;"><span><span style="font-family: Tahoma
 ;"><span style="font-family: Tahoma;"><span style="font-family: Tahoma;"><s
 pan style="font-family: Tahoma;"><span style="font-family: Tahoma;"><span s
 tyle="font-family: Tahoma;"><span style="font-family: Tahoma;"><span style=
 "font-family: Tahoma;"><span style="color: black;"><span style="text-decora
 tion: underline;"><em><span style="font-family: Tahoma;">Prerequisites:</sp
 an></em></span><em><span style="font-family: Tahoma;"> <br /></span></em><s
 pan style="font-family: Tahoma;">None</span></span></span></span></span></s
 pan></span></span></span></span></span></span></p><p>&nbsp;</p><p><span sty
 le="font-family: tahoma, arial, helvetica, sans-serif; font-size: 12pt;"><s
 pan><span style="font-family: Tahoma;"><span style="font-family: Tahoma;"><
 span style="font-family: Tahoma;"><span style="font-family: Tahoma;"><span 
 style="font-family: Tahoma;"><span style="font-family: Tahoma;"><span style
 ="font-family: Tahoma;"><span style="font-family: Tahoma;"><span style="col
 or: black;"><span style="font-family: Tahoma;"><span style="font-family: Ta
 homa;"><em><span style="text-decoration: underline;">Class Size</span></em>
 : 6</span></span></span></span></span></span></span></span></span></span></
 span></span></span></p><p>&nbsp;</p><p><span style="font-family: tahoma, ar
 ial, helvetica, sans-serif; font-size: 12pt;"><span><span style="font-famil
 y: Tahoma;"><span style="font-family: Tahoma;"><span style="font-family: Ta
 homa;"><span style="font-family: Tahoma;"><span style="font-family: Tahoma;
 "><span style="font-family: Tahoma;"><span style="font-family: Tahoma;"><sp
 an style="font-family: Tahoma;"><span style="color: black;"><span style="fo
 nt-family: Tahoma;"><span style="font-family: Tahoma;"><span style="text-de
 coration: underline;"><em>BPI CEU</em>:</span> 3.75</span></span></span></s
 pan></span></span></span></span></span></span></span></span></span></p><p>&
 nbsp;</p><p><span style="font-family: tahoma, arial, helvetica, sans-serif;
  font-size: 12pt;"><span><span style="font-family: Tahoma;"><span style="fo
 nt-family: Tahoma;"><span style="font-family: Tahoma;"><span style="font-fa
 mily: Tahoma;"><span style="font-family: Tahoma;"><span style="font-family:
  Tahoma;"><span style="font-family: Tahoma;"><span style="font-family: Taho
 ma;"><span style="color: black;"><span style="font-family: Tahoma;"><span s
 tyle="font-family: Tahoma;"><em><span style="text-decoration: underline;"><
 span style="font-family: Tahoma;">Instructors;</span></span></em><span styl
 e="font-family: Tahoma;"> Bob Braunlich - NYSWDA</span></span></span></span
 ></span></span></span></span></span></span></span></span></span></span></p>
 <p>&nbsp;</p><p><span style="font-family: tahoma, arial, helvetica, sans-se
 rif; font-size: 12pt;"><span><span style="font-family: Tahoma;"><span style
 ="font-family: Tahoma;"><span style="font-family: Tahoma;"><span style="fon
 t-family: Tahoma;"><span style="font-family: Tahoma;"><span style="font-fam
 ily: Tahoma;"><span style="font-family: Tahoma;"><span style="font-family: 
 Tahoma;"><span style="font-family: Tahoma;"><span style="font-family: Tahom
 a;"><span style="font-family: Tahoma;"><span style="text-decoration: underl
 ine;"><span style="color: black; text-decoration: underline;"><em>Course</e
 m></span></span><span style="color: black;"><em><span style="text-decoratio
 n: underline;"> Fees</span>:<br /></em></span></span></span></span></span><
 /span></span></span></span></span></span></span></span></span><span style="
 font-family: Tahoma; color: #000000; font-size: 12pt; background-color: inh
 erit; caret-color: auto;">$262/person - NY Weatherization Sub-grantees<br /
 ></span><span style="color: #000000; font-size: 12pt;"><span style="font-fa
 mily: Tahoma;"><span style="font-family: Tahoma;"><span style="font-family:
  Tahoma;"><span style="font-family: Tahoma;"><span style="font-family: Taho
 ma;"><span style="font-family: Tahoma;"><span style="font-family: Tahoma;">
 <span style="font-family: Tahoma;"><span style="font-family: Tahoma;"><span
  style="font-family: Tahoma;"><span style="font-family: Tahoma;"><span styl
 e="font-family: Tahoma;"><span style="font-family: Tahoma;">$262/person - a
 ffiliate members<br /></span></span></span></span></span></span></span></sp
 an></span></span></span></span></span></span><span style="color: #000000; f
 ont-size: 12pt;"><span style="font-family: Tahoma;"><span style="font-famil
 y: Tahoma;"><span style="font-family: Tahoma;"><span style="font-family: Ta
 homa;"><span style="font-family: Tahoma;"><span style="font-family: Tahoma;
 "><span style="font-family: Tahoma;"><span style="font-family: Tahoma;"><sp
 an style="font-family: Tahoma;"><span style="font-family: Tahoma;"><span st
 yle="font-family: Tahoma;"><span style="font-family: Tahoma;"><span style="
 font-family: Tahoma;">$380/person - non-members</span></span></span></span>
 </span></span></span></span></span></span></span></span></span></span></p><
 p>&nbsp;</p><p><span style="color: #ff6600; font-family: tahoma, arial, hel
 vetica, sans-serif; font-size: 12pt;"><span style="color: #ff6600; font-fam
 ily: tahoma, arial, helvetica, sans-serif; font-size: 12pt;"><strong><i><sp
 an style="background: white; color: #02613f; font-family: Georgia, serif;">
 <span style="font-size: small;">**Special note</span></span></i></strong><s
 trong><i><span style="background: white; color: black; font-family: Georgia
 , serif;"><span style="font-size: small;">&nbsp;-&nbsp;if you wish to becom
 e an Affiliate Member, and&nbsp;save off the non-member rate, please contac
 t&nbsp;Karen McMahon (315-701-0440 ext. 223,&nbsp;</span><span id="cloak96b
 eac6039b4038c5e3adce4cede97e6">This email address is being protected from s
 pambots. You need JavaScript enabled to view it.</span><script type='text/j
 avascript'>
				document.getElementById('cloak96beac6039b4038c5e3adce4cede9
 7e6').innerHTML = '';
				var prefix = 'ma' + 'il' + 'to';
				var path = '
 hr' + 'ef' + '=';
				var addy96beac6039b4038c5e3adce4cede97e6 = 'kmcmahon'
  + '@';
				addy96beac6039b4038c5e3adce4cede97e6 = addy96beac6039b4038c5e3a
 dce4cede97e6 + 'nyswda' + '.' + 'org';
				var addy_text96beac6039b4038c5e3
 adce4cede97e6 = '<span style="color: #0000ff; font-size: small;">kmcmahon' 
 + '@' + 'nyswda' + '.' + 'org</span>';document.getElementById('cloak96beac6
 039b4038c5e3adce4cede97e6').innerHTML += '<a ' + path + '\'' + prefix + ':'
  + addy96beac6039b4038c5e3adce4cede97e6 + '\'>'+addy_text96beac6039b4038c5e
 3adce4cede97e6+'<\/a>';
		</script><span style="font-size: small;">)&nbsp;<
 /span></span></i></strong><span style="font-size: small;"><strong><span sty
 le="background: white; color: #02613f; font-family: Georgia, serif;">BEFORE
  YOU REGISTER&nbsp;</span></strong><em><b><span style="background: white; c
 olor: black; font-family: Georgia, serif;">for the course</span></b></em><s
 trong><span style="background: white; color: black; font-family: Georgia, s
 erif;">.</span></strong></span></span></span></p><p>&nbsp;</p><p><span styl
 e="color: #336699; font-size: 12pt;"><span style="font-family: Tahoma;"><sp
 an><span><span><span style="font-family: Tahoma;"><span style="font-family:
  Tahoma;"><span style="font-family: Tahoma;"><span style="font-family: Taho
 ma;"><span style="font-family: Tahoma;"><span style="font-family: Tahoma;">
 <span style="font-family: Tahoma;"><span style="font-family: Tahoma;"><span
  style="font-family: Tahoma;"><span style="font-family: Tahoma;"><span styl
 e="font-family: Tahoma;"><span style="font-family: Tahoma;"><em><strong><sp
 an style="color: #ffffff; font-family: tahoma, arial, helvetica, sans-serif
 ; font-size: 14pt;"><span style="color: #ff0000;">CLASS FULL - call or emai
 l</span>&nbsp; <span id="cloak2540d2e8712f46066fc3f7d106b5f1a3">This email 
 address is being protected from spambots. You need JavaScript enabled to vi
 ew it.</span><script type='text/javascript'>
				document.getElementById('c
 loak2540d2e8712f46066fc3f7d106b5f1a3').innerHTML = '';
				var prefix = 'ma
 ' + 'il' + 'to';
				var path = 'hr' + 'ef' + '=';
				var addy2540d2e8712f
 46066fc3f7d106b5f1a3 = 'rwolk' + '@';
				addy2540d2e8712f46066fc3f7d106b5f
 1a3 = addy2540d2e8712f46066fc3f7d106b5f1a3 + 'nyswda' + '.' + 'org';
				va
 r addy_text2540d2e8712f46066fc3f7d106b5f1a3 = '<span style="color: #0066cc;
 ">rwolk' + '@' + 'nyswda' + '.' + 'org</span>';document.getElementById('clo
 ak2540d2e8712f46066fc3f7d106b5f1a3').innerHTML += '<a ' + path + '\'' + pre
 fix + ':' + addy2540d2e8712f46066fc3f7d106b5f1a3 + '\'>'+addy_text2540d2e87
 12f46066fc3f7d106b5f1a3+'<\/a>';
		</script> <span style="color: #ff0000;">
 for availability or wait list</span></span></strong></em><span style="color
 : #0000ff;"></span><span style="font-family: tahoma, arial, helvetica, sans
 -serif; font-size: 14pt;"></span><span style="font-family: tahoma, arial, h
 elvetica, sans-serif; font-size: 14pt;"></span><span style="font-family: ta
 homa, arial, helvetica, sans-serif; font-size: 14pt;"></span><span style="f
 ont-family: tahoma, arial, helvetica, sans-serif; font-size: 14pt;"></span>
 <em></em><span style="font-family: tahoma, arial, helvetica, sans-serif; fo
 nt-size: 14pt;"></span><span style="font-family: tahoma, arial, helvetica, 
 sans-serif; font-size: 14pt;"></span><span style="font-family: tahoma, aria
 l, helvetica, sans-serif; font-size: 14pt;"></span><em></em><span style="co
 lor: #0000ff;"></span></span></span></span></span></span></span></span></sp
 an></span></span></span></span></span></span></span></span></span></p><p><s
 pan style="font-family: tahoma, arial, helvetica, sans-serif; font-size: 12
 pt;"><span><span style="font-family: Tahoma;"><span style="font-family: Tah
 oma;"><span style="font-family: Tahoma;"><span style="font-family: Tahoma;"
 ><span style="font-family: Tahoma;"><span style="font-family: Tahoma;"><spa
 n style="font-family: Tahoma;"><span style="font-family: Tahoma;"><span sty
 le="font-family: Tahoma;"><span style="font-family: Tahoma;"><span style="f
 ont-family: Tahoma;"></span></span></span></span></span></span></span></spa
 n></span></span></span></span></span></p><p><span style="font-family: tahom
 a, arial, helvetica, sans-serif; font-size: 12pt;"><span><span style="font-
 family: Tahoma;"><span style="font-family: Tahoma;"><span style="font-famil
 y: Tahoma;"><span style="font-family: Tahoma;"><span style="font-family: Ta
 homa;"><span style="font-family: Tahoma;"><span style="font-family: Tahoma;
 "><span style="font-family: Tahoma;"><span style="font-family: Tahoma;"><sp
 an style="font-family: Tahoma;"><span style="font-family: Tahoma;"><em><spa
 n style="font-family: Tahoma;"><strong><br /><br /><br /></strong></span></
 em></span></span></span></span></span></span></span></span></span></span></
 span></span></span></p>
CONTACT:Robyn Wolk
DTSTAMP:20260423T203543
DTSTART;TZID=America/New_York:20260209T090000
DTEND;TZID=America/New_York:20260209T163000
SEQUENCE:0
TRANSP:OPAQUE
END:VEVENT
END:VCALENDAR