BEGIN:VCALENDAR
VERSION:2.0
PRODID:-//jEvents 2.0 for Joomla//EN
CALSCALE:GREGORIAN
METHOD:PUBLISH
BEGIN:VTIMEZONE
TZID:America/New_York
BEGIN:STANDARD
DTSTART:20251102T010000
RDATE:20260308T030000
TZOFFSETFROM:-0400
TZOFFSETTO:-0500
TZNAME:America/New_York EST
END:STANDARD
BEGIN:STANDARD
DTSTART:20261101T010000
RDATE:20270314T030000
TZOFFSETFROM:-0400
TZOFFSETTO:-0500
TZNAME:America/New_York EST
END:STANDARD
BEGIN:STANDARD
DTSTART:20271107T010000
RDATE:20280312T030000
TZOFFSETFROM:-0400
TZOFFSETTO:-0500
TZNAME:America/New_York EST
END:STANDARD
BEGIN:STANDARD
DTSTART:20281105T010000
RDATE:20290311T030000
TZOFFSETFROM:-0400
TZOFFSETTO:-0500
TZNAME:America/New_York EST
END:STANDARD
BEGIN:STANDARD
DTSTART:20291104T010000
RDATE:20300310T030000
TZOFFSETFROM:-0400
TZOFFSETTO:-0500
TZNAME:America/New_York EST
END:STANDARD
BEGIN:STANDARD
DTSTART:20301103T010000
RDATE:20310309T030000
TZOFFSETFROM:-0400
TZOFFSETTO:-0500
TZNAME:America/New_York EST
END:STANDARD
BEGIN:DAYLIGHT
DTSTART:20250317T090000
RDATE:20251102T010000
TZOFFSETFROM:-0500
TZOFFSETTO:-0400
TZNAME:America/New_York EDT
END:DAYLIGHT
BEGIN:DAYLIGHT
DTSTART:20260308T030000
RDATE:20261101T010000
TZOFFSETFROM:-0500
TZOFFSETTO:-0400
TZNAME:America/New_York EDT
END:DAYLIGHT
BEGIN:DAYLIGHT
DTSTART:20270314T030000
RDATE:20271107T010000
TZOFFSETFROM:-0500
TZOFFSETTO:-0400
TZNAME:America/New_York EDT
END:DAYLIGHT
BEGIN:DAYLIGHT
DTSTART:20280312T030000
RDATE:20281105T010000
TZOFFSETFROM:-0500
TZOFFSETTO:-0400
TZNAME:America/New_York EDT
END:DAYLIGHT
BEGIN:DAYLIGHT
DTSTART:20290311T030000
RDATE:20291104T010000
TZOFFSETFROM:-0500
TZOFFSETTO:-0400
TZNAME:America/New_York EDT
END:DAYLIGHT
BEGIN:DAYLIGHT
DTSTART:20300310T030000
RDATE:20301103T010000
TZOFFSETFROM:-0500
TZOFFSETTO:-0400
TZNAME:America/New_York EDT
END:DAYLIGHT
END:VTIMEZONE
BEGIN:VEVENT
UID:c7d5c1672d334d598013a0c04608a34f
CATEGORIES:WEB
CREATED:20260203T163418
SUMMARY:One Day Lead Safe Weatherization - Online
LOCATION:Online
DESCRIPTION:\n One Day Lead Safe Weatherization - Online \n
 \n
GoToWebinar Event\n
\n

  \n
Course Description: \n
This online course will be covered in one day.  
 Class starts at 9:00am and will break at noon for an hour lunch.  The next 
 half session will start at 1:00pm and go until 4:00pm.\n\nWhenever we work 
 on houses that were built before 1978 there is a good chance that there cou
 ld be lead based paint on the inside and outside. Disturbing this paint cou
 ld harm us and the families we work with. This NYSWDA Lead Safe Weatherizat
 ion Training satisfies the HCR requirement that all Weatherization staff wo
 rking in houses built before 1978 receive training on safe work practices t
 o reduce exposure to lead dust. NYSWDA uses the DOE curriculum which also s
 atisfies the DOE and OSHA requirements for employees working around lead pa
 int. This training is also required for your sub-contractors' employees who
  work on weatherization units.\n\nThis is an HCR mandated training for Weat
 herization Directors, Auditors, Crew Supervisors and Crews. If you are a ne
 w Director or have new staff, you are strongly advised to attend.  This tra
 ining requires attendance every three (3) years. \n
 \n
\n
Class Size: 25 \
 n
 \n
BPI CEU: 3\n
\n
 \n
Instructor:  Al McMahon - NYSWDA \n
\n
 \n
Course
  Fees:  \n
$262/person - NY Weatherization Sub-grantees\n
$262/person - aff
 iliate members\n
$380/person - non-members\n\n
 \n
 **Special note - if you
  wish to become an Affiliate Member please contact Karen McMahon (315-701-0
 440 ext. 223, This email address is being protected from spambots. You need
  JavaScript enabled to view it.
				document.getElementById('cloak484248568
 024b23db6f9a391aa5de8f7').innerHTML = '';
				var prefix = 'ma' + 'il' + 't
 o';
				var path = 'hr' + 'ef' + '=';
				var addy484248568024b23db6f9a391a
 a5de8f7 = 'kmcmahon' + '@';
				addy484248568024b23db6f9a391aa5de8f7 = addy
 484248568024b23db6f9a391aa5de8f7 + 'nyswda' + '.' + 'org';
				var addy_tex
 t484248568024b23db6f9a391aa5de8f7 = 'kmcmahon' + '@' + 'nyswda' + '.' + 'or
 g';document.getElementById('cloak484248568024b23db6f9a391aa5de8f7').innerHT
 ML += '<a ' + path + '\'' + prefix + ':' + addy484248568024b23db6f9a391aa5d
 e8f7 + '\'>'+addy_text484248568024b23db6f9a391aa5de8f7+'';
		) BEFORE YOU R
 EGISTER for the course.\n
 \n
 \n
CLASS FULL - call or email  This email ad
 dress is being protected from spambots. You need JavaScript enabled to view
  it.
				document.getElementById('cloak522e3d52f8e04e477ecd4d1f302fdeaf').i
 nnerHTML = '';
				var prefix = 'ma' + 'il' + 'to';
				var path = 'hr' + '
 ef' + '=';
				var addy522e3d52f8e04e477ecd4d1f302fdeaf = 'rwolk' + '@';
		
 		addy522e3d52f8e04e477ecd4d1f302fdeaf = addy522e3d52f8e04e477ecd4d1f302fde
 af + 'nyswda' + '.' + 'org';
				var addy_text522e3d52f8e04e477ecd4d1f302fd
 eaf = 'rwolk' + '@' + 'nyswda' + '.' + 'org';document.getElementById('cloak
 522e3d52f8e04e477ecd4d1f302fdeaf').innerHTML += '<a ' + path + '\'' + prefi
 x + ':' + addy522e3d52f8e04e477ecd4d1f302fdeaf + '\'>'+addy_text522e3d52f8e
 04e477ecd4d1f302fdeaf+'';
		 for availability or wait list \n
 \n
\n
 \n
\n
 
 \n
 \n
 \n
 \n
 \n
X-ALT-DESC;FMTTYPE=text/html:<p><br />&nbsp;<span style="color: #336699; font-family: tahoma,arial,helve
 tica,sans-serif; font-size: 14pt;"><span style="color: #000000;"><strong><s
 pan style="color: #336699;">One Day Lead Safe Weatherization - Online&nbsp;
 </span></strong></span></span></p><p>&nbsp;</p><p><span style="color: #3366
 99; font-family: tahoma,arial,helvetica,sans-serif; font-size: 14pt;"><span
  style="color: #000000;"><strong><span style="color: #336699;">GoToWebinar 
 Event</span></strong></span></span></p><p><strong><span style="font-family:
  'Tahoma','sans-serif'; color: #336699; font-size: 13.5pt;"></span></strong
 ></p><p>&nbsp;</p><p><span style="font-size: 12pt;"><em><span style="text-d
 ecoration: underline;"><span style="font-family: 'Tahoma','sans-serif'; col
 or: black;">Course Description:</span></span></em></span>&nbsp;</p><p><span
  style="font-family: Tahoma, sans-serif; color: black; font-size: 12pt;"><s
 pan style="font-family: Tahoma, sans-serif; color: black; font-size: 12pt;"
 >This online course will be covered in one day.&nbsp; Class starts at 9:00a
 m and will break at noon for an hour lunch.&nbsp; The next half session wil
 l start at 1:00pm and go until 4:00pm.</span><br /><br /></span><span style
 ="font-family: tahoma, arial, helvetica, sans-serif; font-size: 12pt;">When
 ever we work on houses that were built before 1978 there is a good chance t
 hat there could be lead based paint on the inside and outside. Disturbing t
 his paint could harm us and the families we work with. This NYSWDA Lead Saf
 e Weatherization Training satisfies the HCR requirement that all Weatheriza
 tion staff working in houses built before 1978 receive training on safe wor
 k practices to reduce exposure to lead dust. NYSWDA uses the DOE curriculum
  which also satisfies the DOE and OSHA requirements for employees working a
 round lead paint. This training is also required for your sub-contractors' 
 employees who work on weatherization units.<br /><br /></span><span style="
 font-family: Tahoma, sans-serif; color: black; font-size: 12pt;">This is an
  HCR mandated training for Weatherization Directors, Auditors, Crew Supervi
 sors and Crews. If you are a new Director or have new staff, you are strong
 ly advised to attend.&nbsp; This training requires attendance every three (
 3) years.</span>&nbsp;</p><p>&nbsp;</p><p><span style="font-family: 'Tahoma
 ', 'sans-serif'; color: black; font-size: 12pt;"></span></p><p><span style=
 "font-size: 12pt;"><em><span style="text-decoration: underline;"><span styl
 e="font-family: 'Tahoma','sans-serif'; color: black;">Class Size</span></sp
 an></em><span style="font-family: 'Tahoma','sans-serif'; color: black;">: 2
 5</span></span>&nbsp;<span style="font-family: 'Tahoma', 'sans-serif'; colo
 r: black; font-size: 12pt;"></span></p><p>&nbsp;</p><p><span style="font-si
 ze: 12pt;"><em><span style="text-decoration: underline;"><span style="font-
 family: 'Tahoma','sans-serif'; color: black;">BPI CEU</span></span></em><sp
 an style="text-decoration: underline;"><span style="font-family: 'Tahoma','
 sans-serif'; color: black;">:</span></span><span style="font-family: 'Tahom
 a','sans-serif'; color: black;">&nbsp;3</span></span></p><p><span style="fo
 nt-family: 'Tahoma', 'sans-serif'; color: black; font-size: 12pt;"></span><
 /p><p>&nbsp;</p><p><span style="font-size: 12pt;"><span style="text-decorat
 ion: underline;"><span style="font-family: 'Tahoma','sans-serif'; color: bl
 ack;"><em>Instructor</em>:</span></span><span style="font-family: 'Tahoma',
 'sans-serif'; color: black;">&nbsp; Al McMahon&nbsp;</span><span style="fon
 t-family: 'Tahoma','sans-serif'; color: black;">- NYSWDA</span></span>&nbsp
 ;</p><p><span style="font-family: 'Tahoma', 'sans-serif'; color: black; fon
 t-size: 12pt;"></span></p><p>&nbsp;</p><p><span style="font-size: 12pt;"><e
 m><span style="text-decoration: underline;"><span style="font-family: 'Taho
 ma','sans-serif'; color: black;">Course Fees:&nbsp;</span></span></em></spa
 n>&nbsp;</p><p><span style="font-size: 12pt;"><span style="color: black; fo
 nt-family: 'Tahoma','sans-serif';">$262/person - NY&nbsp;Weatherization Sub
 -grantees</span></span></p><p><span style="font-size: 12pt;"><span style="c
 olor: black; font-family: 'Tahoma','sans-serif';">$262/person - affiliate m
 embers</span><span style="color: black; font-family: 'Tahoma','sans-serif';
 "></span></span></p><p><span style="font-size: 12pt;"><span style="color: b
 lack; font-family: 'Tahoma','sans-serif';">$380/person - non-members</span>
 <span style="color: black; font-family: 'Tahoma','sans-serif';"></span><spa
 n style="color: black; font-family: 'Tahoma','sans-serif';"></span><em><spa
 n style="color: black; font-family: 'Tahoma','sans-serif';"><br /></span></
 em></span></p><p>&nbsp;</p><p><span style="color: #0000ff;"><em><strong><sp
 an style="font-family: tahoma, arial, helvetica, sans-serif; font-size: 14p
 t;"><span style="color: #0000ff;"></span></span></strong></em></span><span 
 style="background-color: initial; color: inherit; font-family: inherit; fon
 t-size: 1rem;"> </span><em style="background-color: initial; color: inherit
 ; font-family: inherit; font-size: 1rem;"><strong><span style="background: 
 white; color: #02613f; font-family: 'Georgia','serif';"><span style="font-s
 ize: small;">**Special note</span></span></strong></em><span style="backgro
 und: white; color: black; font-family: 'Georgia','serif';"><span style="fon
 t-size: small;"><i><strong>&nbsp;-&nbsp;if you wish to become an Affiliate 
 Member please contact&nbsp;Karen McMahon (315-701-0440 ext. 223,&nbsp;</str
 ong></i></span><i><strong><span id="cloak484248568024b23db6f9a391aa5de8f7">
 This email address is being protected from spambots. You need JavaScript en
 abled to view it.</span><script type='text/javascript'>
				document.getEle
 mentById('cloak484248568024b23db6f9a391aa5de8f7').innerHTML = '';
				var p
 refix = 'ma' + 'il' + 'to';
				var path = 'hr' + 'ef' + '=';
				var addy4
 84248568024b23db6f9a391aa5de8f7 = 'kmcmahon' + '@';
				addy484248568024b23
 db6f9a391aa5de8f7 = addy484248568024b23db6f9a391aa5de8f7 + 'nyswda' + '.' +
  'org';
				var addy_text484248568024b23db6f9a391aa5de8f7 = '<span style="c
 olor: #0000ff; font-size: small;">kmcmahon' + '@' + 'nyswda' + '.' + 'org</
 span>';document.getElementById('cloak484248568024b23db6f9a391aa5de8f7').inn
 erHTML += '<a ' + path + '\'' + prefix + ':' + addy484248568024b23db6f9a391
 aa5de8f7 + '\'>'+addy_text484248568024b23db6f9a391aa5de8f7+'<\/a>';
		</scr
 ipt><span style="font-size: small;">)&nbsp;</span></strong></i></span><i st
 yle="background-color: initial; color: inherit; font-family: inherit; font-
 size: 1rem;"></i><span style="font-size: small;"><strong><span style="backg
 round: white; color: #02613f; font-family: 'Georgia','serif';">BEFORE YOU R
 EGISTER&nbsp;</span></strong><em><b><span style="background: white; color: 
 black; font-family: 'Georgia','serif';">for the course</span></b></em><stro
 ng><span style="background: white; color: black; font-family: 'Georgia','se
 rif';">.</span></strong></span><span style="background-color: initial; colo
 r: inherit; font-family: inherit; font-size: 1rem;"></span></p><p>&nbsp;</p
 ><p>&nbsp;</p><p><em><strong><span style="font-family: tahoma, arial, helve
 tica, sans-serif; font-size: 14pt;"><span style="font-family: tahoma, arial
 , helvetica, sans-serif; font-size: 14pt;"><span style="color: #ffffff; fon
 t-family: tahoma, arial, helvetica, sans-serif; font-size: 14pt;"><span sty
 le="color: #ff0000;">CLASS FULL - call or email</span>&nbsp; <span id="cloa
 k522e3d52f8e04e477ecd4d1f302fdeaf">This email address is being protected fr
 om spambots. You need JavaScript enabled to view it.</span><script type='te
 xt/javascript'>
				document.getElementById('cloak522e3d52f8e04e477ecd4d1f3
 02fdeaf').innerHTML = '';
				var prefix = 'ma' + 'il' + 'to';
				var path
  = 'hr' + 'ef' + '=';
				var addy522e3d52f8e04e477ecd4d1f302fdeaf = 'rwolk
 ' + '@';
				addy522e3d52f8e04e477ecd4d1f302fdeaf = addy522e3d52f8e04e477ec
 d4d1f302fdeaf + 'nyswda' + '.' + 'org';
				var addy_text522e3d52f8e04e477e
 cd4d1f302fdeaf = '<span style="color: #0066cc;">rwolk' + '@' + 'nyswda' + '
 .' + 'org</span>';document.getElementById('cloak522e3d52f8e04e477ecd4d1f302
 fdeaf').innerHTML += '<a ' + path + '\'' + prefix + ':' + addy522e3d52f8e04
 e477ecd4d1f302fdeaf + '\'>'+addy_text522e3d52f8e04e477ecd4d1f302fdeaf+'<\/a
 >';
		</script> <span style="color: #ff0000;">for availability or wait list
 </span></span><span style="font-family: tahoma, arial, helvetica, sans-seri
 f; font-size: 14pt;"></span><span style="color: #0000ff;"></span><span styl
 e="color: #0000ff;"></span> </span></span></strong></em><span style="font-f
 amily: tahoma,arial,helvetica,sans-serif; font-size: 14pt;"></span><span st
 yle="font-family: tahoma, arial, helvetica, sans-serif; font-size: 14pt;"><
 /span><span style="font-family: tahoma, arial, helvetica, sans-serif; font-
 size: 14pt;"></span><em></em><span style="color: #0000ff;"></span></p><p>&n
 bsp;</p><p><span style="font-family: 'Arial','sans-serif'; color: black; fo
 nt-size: 10pt;"></span></p><p>&nbsp;</p><p><span style="font-family: 'Arial
 ','sans-serif'; color: black; font-size: 10pt;"></span></p><p>&nbsp;</p><p>
 &nbsp;</p><p>&nbsp;</p><p>&nbsp;</p><p>&nbsp;</p>
CONTACT:Robyn Wolk
DTSTAMP:20260423T203615
DTSTART;TZID=America/New_York:20260318T090000
DTEND;TZID=America/New_York:20260318T160000
SEQUENCE:0
TRANSP:OPAQUE
END:VEVENT
END:VCALENDAR