BEGIN:VCALENDAR
VERSION:2.0
PRODID:-//jEvents 2.0 for Joomla//EN
CALSCALE:GREGORIAN
METHOD:PUBLISH
BEGIN:VTIMEZONE
TZID:America/New_York
BEGIN:STANDARD
DTSTART:20250301T090000
RDATE:20250309T030000
TZOFFSETFROM:-0400
TZOFFSETTO:-0500
TZNAME:America/New_York EST
END:STANDARD
BEGIN:STANDARD
DTSTART:20251102T010000
RDATE:20260308T030000
TZOFFSETFROM:-0400
TZOFFSETTO:-0500
TZNAME:America/New_York EST
END:STANDARD
BEGIN:STANDARD
DTSTART:20261101T010000
RDATE:20270314T030000
TZOFFSETFROM:-0400
TZOFFSETTO:-0500
TZNAME:America/New_York EST
END:STANDARD
BEGIN:STANDARD
DTSTART:20271107T010000
RDATE:20280312T030000
TZOFFSETFROM:-0400
TZOFFSETTO:-0500
TZNAME:America/New_York EST
END:STANDARD
BEGIN:STANDARD
DTSTART:20281105T010000
RDATE:20290311T030000
TZOFFSETFROM:-0400
TZOFFSETTO:-0500
TZNAME:America/New_York EST
END:STANDARD
BEGIN:STANDARD
DTSTART:20291104T010000
RDATE:20300310T030000
TZOFFSETFROM:-0400
TZOFFSETTO:-0500
TZNAME:America/New_York EST
END:STANDARD
BEGIN:STANDARD
DTSTART:20301103T010000
RDATE:20310309T030000
TZOFFSETFROM:-0400
TZOFFSETTO:-0500
TZNAME:America/New_York EST
END:STANDARD
BEGIN:DAYLIGHT
DTSTART:20250309T030000
RDATE:20251102T010000
TZOFFSETFROM:-0500
TZOFFSETTO:-0400
TZNAME:America/New_York EDT
END:DAYLIGHT
BEGIN:DAYLIGHT
DTSTART:20260308T030000
RDATE:20261101T010000
TZOFFSETFROM:-0500
TZOFFSETTO:-0400
TZNAME:America/New_York EDT
END:DAYLIGHT
BEGIN:DAYLIGHT
DTSTART:20270314T030000
RDATE:20271107T010000
TZOFFSETFROM:-0500
TZOFFSETTO:-0400
TZNAME:America/New_York EDT
END:DAYLIGHT
BEGIN:DAYLIGHT
DTSTART:20280312T030000
RDATE:20281105T010000
TZOFFSETFROM:-0500
TZOFFSETTO:-0400
TZNAME:America/New_York EDT
END:DAYLIGHT
BEGIN:DAYLIGHT
DTSTART:20290311T030000
RDATE:20291104T010000
TZOFFSETFROM:-0500
TZOFFSETTO:-0400
TZNAME:America/New_York EDT
END:DAYLIGHT
BEGIN:DAYLIGHT
DTSTART:20300310T030000
RDATE:20301103T010000
TZOFFSETFROM:-0500
TZOFFSETTO:-0400
TZNAME:America/New_York EDT
END:DAYLIGHT
END:VTIMEZONE
BEGIN:VEVENT
UID:daf25a24a3ca584d4c394610bc79e044
CATEGORIES:WEB
CREATED:20260224T113513
SUMMARY:WA Software Refresher  - Audit & Report - Online
LOCATION:Online
DESCRIPTION:<p><br />&nbsp;<span style="color: #336699; font-family: tahoma, arial, hel
 vetica, sans-serif; font-size: 14pt;"><span style="color: #000000;"><strong
 ><span style="color: #336699;">WA Software Refresher - Audit &amp; Report -
  Online&nbsp;</span></strong></span></span></p><p>&nbsp;</p><p><span style=
 "color: #336699; font-family: tahoma, arial, helvetica, sans-serif; font-si
 ze: 14pt;"><span style="color: #000000;"><strong><span style="color: #33669
 9;">GoTo Webinar Event</span></strong></span></span></p><p><strong><span st
 yle="font-family: Tahoma, 'sans-serif'; color: #336699; font-size: 13.5pt;"
 ></span></strong></p><p>&nbsp;</p><p><span style="color: black;"><span styl
 e="font-size: 12pt;"><em><span style="text-decoration: underline;"><span st
 yle="font-family: Tahoma, 'sans-serif';">Course Description:</span></span><
 /em></span>&nbsp;</span></p><p><span style="font-family: tahoma, arial, hel
 vetica, sans-serif; font-size: 12pt; color: black;">This online training is
  designed for individuals who have previously taken the Weatherization Assi
 stant (WA) Software training or are currently working with the software.&nb
 sp;</span></p><p><span style="font-family: tahoma, arial, helvetica, sans-s
 erif; font-size: 12pt; color: black;">Training will focus on the whole audi
 t entry process, updates to the process and how to interpret the audit repo
 rt.&nbsp; We will also review when and how to use the Energy Factor Calcula
 tor.</span></p><p><span style="font-family: tahoma, arial, helvetica, sans-
 serif; font-size: 12pt; color: black;">This session will be conducted in a&
 nbsp;<strong>Q&amp;A-based format&nbsp;</strong>and sill focus&nbsp;on real
 -world scenarios and common challenges.</span></p><p>&nbsp;</p><p><span sty
 le="font-family: tahoma, arial, helvetica, sans-serif; font-size: 12pt; col
 or: black;"><strong>Training Focus:</strong></span></p><ul><li><span style=
 "font-family: tahoma, arial, helvetica, sans-serif; font-size: 12pt; color:
  black;">Audit data-entry into WA</span></li><li><span style="font-family: 
 tahoma, arial, helvetica, sans-serif; font-size: 12pt; color: black;">Updat
 es to audit data entry process</span></li><li><span style="font-family: tah
 oma, arial, helvetica, sans-serif; font-size: 12pt; color: black;">When and
  how to use the Energy Factor Calculator</span></li></ul><p>&nbsp;</p><p><s
 pan style="font-family: tahoma, arial, helvetica, sans-serif; font-size: 12
 pt; color: black;"><strong>Duration:</strong> Approximately 5 hours (may be
  extended depending on the number of questions).</span></p><p><span style="
 font-family: tahoma, arial, helvetica, sans-serif; font-size: 12pt; color: 
 black;">To get the most out of the session, please prepare your questions i
 n advance.</span></p><p><span style="color: black;"></span></p><p>&nbsp;</p
 ><p><span style="font-family: Tahoma, 'sans-serif'; color: black; font-size
 : 12pt;"><span style="font-family: Tahoma;"><span style="text-decoration: u
 nderline;"><em>Dates;<br /></em></span><span style="font-family: Tahoma;">M
 arch 2, 2026 / 9:00am - noon (with a 1 hour break) then class resumes from 
 1:00pm - 3:00pm.&nbsp;</span></span><span style="font-family: Tahoma;"></sp
 an><span style="font-family: Tahoma;"></span><span style="font-family: Taho
 ma;"></span><span style="font-family: Tahoma;"></span><span style="font-fam
 ily: Tahoma;"></span><span style="font-family: Tahoma;"></span><span style=
 "color: #000000;"></span><span></span><span style="font-family: Tahoma;"></
 span><span style="color: #336699; font-size: 12pt;"></span>&nbsp;</span></p
 ><p>&nbsp;&nbsp;&nbsp;</p><p><span style="color: black;"><span style="font-
 size: 12pt;"><em><span style="text-decoration: underline;"><span style="fon
 t-family: Tahoma, 'sans-serif';">Class Size</span></span></em><span style="
 font-family: Tahoma, 'sans-serif';">: 30</span></span>&nbsp;<span style="fo
 nt-family: Tahoma, 'sans-serif'; font-size: 12pt;"></span></span></p><p>&nb
 sp;&nbsp;</p><p><span style="color: black;"></span></p><p><span style="font
 -size: 12pt; color: black;"><em><span style="text-decoration: underline;"><
 span style="font-family: Tahoma, 'sans-serif';">BPI CEU</span></span></em><
 span style="text-decoration: underline;"><span style="font-family: Tahoma, 
 'sans-serif';">:</span></span><span style="font-family: Tahoma, 'sans-serif
 ';">&nbsp;5</span></span></p><p>&nbsp;<span style="font-family: Tahoma, 'sa
 ns-serif'; color: black; font-size: 12pt;"></span></p><p><span style="color
 : black;"></span></p><p><span style="color: black;"><span style="font-size:
  12pt;"><span style="text-decoration: underline;"><span style="font-family:
  Tahoma, 'sans-serif';"><em>Instructor</em>:</span></span><span style="font
 -family: Tahoma, 'sans-serif';">&nbsp; Bob Braunlich</span><span style="fon
 t-family: Tahoma, 'sans-serif';">&nbsp;- NYSWDA</span></span>&nbsp;</span><
 /p><p>&nbsp;</p><p><span style="color: black;"></span></p><p><span style="f
 ont-size: 12pt; color: black;"><em><span style="text-decoration: underline;
 "><span style="font-family: Tahoma, 'sans-serif';">Course Fees:</span></spa
 n></em><span style="font-family: Tahoma, 'sans-serif';">&nbsp;$250</span></
 span></p><p><span style="font-size: 12pt;"><span style="color: black; font-
 family: Tahoma, 'sans-serif';"></span></span></p><p>&nbsp;</p><p><span styl
 e="font-family: tahoma, arial, helvetica, sans-serif; font-size: 14pt;"><sp
 an style="color: #0000ff;"><em><strong><span style="font-family: tahoma, ar
 ial, helvetica, sans-serif; font-size: 14pt;"><span style="color: #0000ff;"
 ><span style="color: #ffffff; font-family: tahoma,arial,helvetica,sans-seri
 f; font-size: 14pt;"><span style="color: #ff0000;">CLASS FULL - call or ema
 il</span>&nbsp; <span id="cloak76bad8bdbb3e4dc5c8304e1c9bacfce6">This email
  address is being protected from spambots. You need JavaScript enabled to v
 iew it.</span><script type='text/javascript'>
				document.getElementById('
 cloak76bad8bdbb3e4dc5c8304e1c9bacfce6').innerHTML = '';
				var prefix = 'm
 a' + 'il' + 'to';
				var path = 'hr' + 'ef' + '=';
				var addy76bad8bdbb3
 e4dc5c8304e1c9bacfce6 = 'rwolk' + '@';
				addy76bad8bdbb3e4dc5c8304e1c9bac
 fce6 = addy76bad8bdbb3e4dc5c8304e1c9bacfce6 + 'nyswda' + '.' + 'org';
				v
 ar addy_text76bad8bdbb3e4dc5c8304e1c9bacfce6 = '<span style="color: #0066cc
 ;">rwolk' + '@' + 'nyswda' + '.' + 'org</span>';document.getElementById('cl
 oak76bad8bdbb3e4dc5c8304e1c9bacfce6').innerHTML += '<a ' + path + '\'' + pr
 efix + ':' + addy76bad8bdbb3e4dc5c8304e1c9bacfce6 + '\'>'+addy_text76bad8bd
 bb3e4dc5c8304e1c9bacfce6+'<\/a>';
		</script> <span style="color: #ff0000;"
 >for availability or wait list</span></span><em></em><span style="font-fami
 ly: tahoma,arial,helvetica,sans-serif; font-size: 14pt;"></span></span><spa
 n style="font-family: tahoma, arial, helvetica, sans-serif; font-size: 14pt
 ;"></span><span style="font-family: tahoma, arial, helvetica, sans-serif; f
 ont-size: 14pt;"></span><span style="font-family: tahoma, arial, helvetica,
  sans-serif; font-size: 14pt;"></span><span style="font-family: tahoma, ari
 al, helvetica, sans-serif; font-size: 14pt;"></span><em></em><span style="f
 ont-family: tahoma, arial, helvetica, sans-serif; font-size: 14pt;"></span>
 <span style="font-family: tahoma, arial, helvetica, sans-serif; font-size: 
 14pt;"></span><span style="font-family: tahoma, arial, helvetica, sans-seri
 f; font-size: 14pt;"></span><em></em><span style="color: #0000ff;"></span> 
 </span></strong></em></span><span style="font-family: tahoma, arial, helvet
 ica, sans-serif; font-size: 14pt;"></span></span><span style="font-family: 
 tahoma, arial, helvetica, sans-serif; font-size: 14pt;"></span><span style=
 "font-family: tahoma, arial, helvetica, sans-serif; font-size: 14pt;"></spa
 n><span style="font-family: tahoma, arial, helvetica, sans-serif; font-size
 : 14pt;"></span><em></em><span style="color: #0000ff;"></span></p><p>&nbsp;
 </p><p><span style="font-family: Arial, 'sans-serif'; color: black; font-si
 ze: 10pt;"></span></p><p>&nbsp;</p><p><span style="font-family: Arial, 'san
 s-serif'; color: black; font-size: 10pt;"></span></p><p>&nbsp;</p><p>&nbsp;
 </p><p>&nbsp;</p><p>&nbsp;</p><p>&nbsp;</p>
CONTACT:Robyn Wolk
DTSTAMP:20260423T220815
DTSTART;TZID=America/New_York:20260302T090000
DTEND;TZID=America/New_York:20260302T150000
SEQUENCE:0
TRANSP:OPAQUE
END:VEVENT
END:VCALENDAR