BEGIN:VCALENDAR
VERSION:2.0
PRODID:-//jEvents 2.0 for Joomla//EN
CALSCALE:GREGORIAN
METHOD:PUBLISH
BEGIN:VTIMEZONE
TZID:America/New_York
BEGIN:STANDARD
DTSTART:20251102T010000
RDATE:20260308T030000
TZOFFSETFROM:-0400
TZOFFSETTO:-0500
TZNAME:America/New_York EST
END:STANDARD
BEGIN:STANDARD
DTSTART:20261101T010000
RDATE:20270314T030000
TZOFFSETFROM:-0400
TZOFFSETTO:-0500
TZNAME:America/New_York EST
END:STANDARD
BEGIN:STANDARD
DTSTART:20271107T010000
RDATE:20280312T030000
TZOFFSETFROM:-0400
TZOFFSETTO:-0500
TZNAME:America/New_York EST
END:STANDARD
BEGIN:STANDARD
DTSTART:20281105T010000
RDATE:20290311T030000
TZOFFSETFROM:-0400
TZOFFSETTO:-0500
TZNAME:America/New_York EST
END:STANDARD
BEGIN:STANDARD
DTSTART:20291104T010000
RDATE:20300310T030000
TZOFFSETFROM:-0400
TZOFFSETTO:-0500
TZNAME:America/New_York EST
END:STANDARD
BEGIN:STANDARD
DTSTART:20301103T010000
RDATE:20310309T030000
TZOFFSETFROM:-0400
TZOFFSETTO:-0500
TZNAME:America/New_York EST
END:STANDARD
BEGIN:DAYLIGHT
DTSTART:20250503T090000
RDATE:20251102T010000
TZOFFSETFROM:-0500
TZOFFSETTO:-0400
TZNAME:America/New_York EDT
END:DAYLIGHT
BEGIN:DAYLIGHT
DTSTART:20260308T030000
RDATE:20261101T010000
TZOFFSETFROM:-0500
TZOFFSETTO:-0400
TZNAME:America/New_York EDT
END:DAYLIGHT
BEGIN:DAYLIGHT
DTSTART:20270314T030000
RDATE:20271107T010000
TZOFFSETFROM:-0500
TZOFFSETTO:-0400
TZNAME:America/New_York EDT
END:DAYLIGHT
BEGIN:DAYLIGHT
DTSTART:20280312T030000
RDATE:20281105T010000
TZOFFSETFROM:-0500
TZOFFSETTO:-0400
TZNAME:America/New_York EDT
END:DAYLIGHT
BEGIN:DAYLIGHT
DTSTART:20290311T030000
RDATE:20291104T010000
TZOFFSETFROM:-0500
TZOFFSETTO:-0400
TZNAME:America/New_York EDT
END:DAYLIGHT
BEGIN:DAYLIGHT
DTSTART:20300310T030000
RDATE:20301103T010000
TZOFFSETFROM:-0500
TZOFFSETTO:-0400
TZNAME:America/New_York EDT
END:DAYLIGHT
END:VTIMEZONE
BEGIN:VEVENT
UID:49f8df2ea12e92e018b5446b5d9d635f
CATEGORIES:At Syracuse
CREATED:20260406T104039
SUMMARY:BPI Manufactured Housing Professional
LOCATION:NYSWDA Training Center - East Syracuse
DESCRIPTION:\n BPI Manufactured Housing Professional \n
 \n
Training Location:  NYSWDA 
 Training Center - 5869 Fisher Road, East Syracuse, NY 13057\n
 \n
Course De
 scription:\nThis four day course will prepare you to take the BPI Manufactu
 red Housing Specialist Certification written and field tests. As part of th
 is training, BPI standards and work practices will be reviewed. Attendees w
 ill look at common problem areas during the course of an energy audit and p
 repare a workscope to remedy these issues. Topics addressed will include ty
 pical manufactured home construction, heating system basics, distribution s
 ystem evaluation and repairs, belly repair, air sealing and insulation best
  practices. Because of the large amount of BPI building analyst curriculum 
 incorporated into this training, it is strongly recommended that attendees 
 hold BPI Building Analyst certification and have a good working knowledge o
 f auditing procedures. After the trainees successfully complete the written
  portion of the test, we will schedule them for the Field test.\n\n\nAgenda
  \nDay 1: Pre-Test \nMH Overview/ Construction Standards \nBPI Standards an
 d Best Work Practices \nMH Tools and Equipment\nHeating and Distribution Sy
 stems \n\nDay 2: Overview of Belly Repairs \nOverview of Roof Insulation In
 stallation \nOverview of Sidewall Insulation Installation \nDoor &amp; Wind
 ow Replacement\n\nDay 3: Manufactured Housing Audit Procedures\nMH CAZ Test
 ing / Duct Diagnostics\nReview of BPI Standards and Best Work Practices\n\n
 Day 4: Online MH Test\n\n\nWho Should Attend:\nIf you already have an ACTIV
 E BPI Building Analyst Professional (BA-P) you can take the 50 question MH 
 test at the end of this training.  If you do not, you will be required to t
 ake a 100 question test with 50 of those questions related to the course co
 ntent, and 50 questions on building science which is not covered in this tr
 aining.\n\n\nDates;\nCourse covers the dates of May 4-7, 2026\n
 \n
Start T
 ime: Monday-Thursday 9:00am\nEnd Time: Monday-Wednesday 5:00pm / Thursday t
 est starts after a class review session with 1 1/2 hours to complete\n\n\nP
 rerequisites: BPI Building Analyst Professional certification\n\n\nClass Si
 ze: 6\n\n\nBPI CEU: 24\n\n\nInstructors:\nJoe Ilacqua, NYSWDA\n\n\nOther No
 tes:\nFor agencies to comply with HCR staff certification regulations only 
 one Manufactured Housing Specialist is required per agency. See PPM- Subgra
 ntee Staff Certification Requirements for more information. Bring your audi
 ting bags with meters and appropriate work clothes.\n\n\nCourse Fees; \n$72
 5/person - NY Weatherization Sub-grantees \n$725/person - affiliate members
  \n$1,450/person - non-members and private contractors \n
 \n
**Special not
 e - if you wish to become an Affiliate Member, and save off the non-member 
 rate, please contact Karen McMahon (315-701-0440 ext. 223, This email addre
 ss is being protected from spambots. You need JavaScript enabled to view it
 .
				document.getElementById('cloak8ebec5245eacfb9806bbcdd10de13333').inne
 rHTML = '';
				var prefix = 'ma' + 'il' + 'to';
				var path = 'hr' + 'ef'
  + '=';
				var addy8ebec5245eacfb9806bbcdd10de13333 = 'kmcmahon' + '@';
		
 		addy8ebec5245eacfb9806bbcdd10de13333 = addy8ebec5245eacfb9806bbcdd10de133
 33 + 'nyswda' + '.' + 'org';
				var addy_text8ebec5245eacfb9806bbcdd10de13
 333 = 'kmcmahon' + '@' + 'nyswda' + '.' + 'org';document.getElementById('cl
 oak8ebec5245eacfb9806bbcdd10de13333').innerHTML += '<a ' + path + '\'' + pr
 efix + ':' + addy8ebec5245eacfb9806bbcdd10de13333 + '\'>'+addy_text8ebec524
 5eacfb9806bbcdd10de13333+'';
		) BEFORE YOU REGISTER for the course.\n
 \n

 BPI Fees;\n$220/person - 50-question online Manufactured Housing test\n$550
 /person - Field test\n \n
Only those on the wait list will be notified to r
 egister for this training.  Please email  This email address is being prote
 cted from spambots. You need JavaScript enabled to view it.
				document.ge
 tElementById('cloaka962b124b8b721968e3d0f299cd52f6e').innerHTML = '';
				v
 ar prefix = 'ma' + 'il' + 'to';
				var path = 'hr' + 'ef' + '=';
				var a
 ddya962b124b8b721968e3d0f299cd52f6e = 'rwolk' + '@';
				addya962b124b8b721
 968e3d0f299cd52f6e = addya962b124b8b721968e3d0f299cd52f6e + 'nyswda' + '.' 
 + 'org';
				var addy_texta962b124b8b721968e3d0f299cd52f6e = 'rwolk' + '@' 
 + 'nyswda' + '.' + 'org';document.getElementById('cloaka962b124b8b721968e3d
 0f299cd52f6e').innerHTML += '<a ' + path + '\'' + prefix + ':' + addya962b1
 24b8b721968e3d0f299cd52f6e + '\'>'+addy_texta962b124b8b721968e3d0f299cd52f6
 e+'';
		 for availability or wait list\n
 \n
X-ALT-DESC;FMTTYPE=text/html:<p><span style="color: #336699;"><strong><span style="font-family: Tahoma;"
 ><span style="font-size: medium;"><span style="color: #336699; font-size: 1
 2pt;"><span><span><br />&nbsp;</span><span style="font-size: 14pt;"><span s
 tyle="color: #000000;"><strong><span style="color: #336699;">BPI Manufactur
 ed Housing Professional </span></strong></span></span></span></span></span>
 </span></strong></span></p><p>&nbsp;</p><p><span style="color: #336699;"><s
 trong><span style="font-family: Tahoma;"><span style="font-size: medium;"><
 span style="color: #336699; font-size: 12pt;"><span><span style="font-size:
  14pt;"><span style="color: #000000;"><strong><span style="color: #336699;"
 >Training Location:&nbsp;&nbsp;NYSWDA Training Center - 5869 Fisher Road, E
 ast Syracuse, NY 13057</span></strong></span></span></span></span></span></
 span></strong></span></p><p>&nbsp;</p><p><span style="color: #336699;"><spa
 n style="font-family: Tahoma;"><span style="font-size: medium;"><span style
 ="color: #336699; font-size: 12pt;"><span><span style="font-size: 14pt;"><s
 pan style="color: #000000;"><span style="color: #336699;"></span></span></s
 pan></span></span></span></span><span style="font-family: Tahoma;"><span st
 yle="font-size: medium;"><span style="color: #000000;"><span style="font-si
 ze: small;"><span style="font-size: 12pt;"><span style="text-decoration: un
 derline;"><em><span style="font-family: Tahoma;">Course Description:<br /><
 /span></em></span><span style="font-family: Tahoma;">This four day course w
 ill prepare you to&nbsp;take the BPI Manufactured Housing Specialist Certif
 ication written and field tests. As part of this training, BPI standards an
 d work practices will be reviewed. Attendees will look at common problem ar
 eas during the course of an energy audit and prepare a workscope to remedy 
 these issues. Topics addressed will include typical manufactured home const
 ruction, heating system basics, distribution system evaluation and repairs,
  belly repair, air sealing and insulation best practices. Because of the la
 rge amount of BPI building analyst curriculum incorporated into this traini
 ng, it is strongly recommended that attendees hold BPI Building Analyst cer
 tification and have a good working knowledge of auditing procedures. A<span
  style="font-family: Tahoma;">fter the trainees successfully complete the w
 ritten portion of the test, we will schedule them for the Field test.<span 
 style="color: #000000;"><span style="font-family: Tahoma;"><br /><span styl
 e="text-decoration: underline;"><em><br /><br />Agenda</em><span style="fon
 t-family: Arial, Helvetica;"> <br /></span></span><span style="font-family:
  Arial, Helvetica;"><span style="color: #000000;"><span style="font-family:
  Times;"><strong><span style="font-family: Tahoma;">Day 1: Pre-Test </span>
 </strong><span style="font-family: Tahoma;"><br />MH Overview/ Construction
  Standards <br />BPI Standards and Best Work Practices <br />MH Tools and E
 quipment<br />Heating and Distribution Systems <br /><br /><strong>Day 2: O
 verview of Belly Repairs </strong><br />Overview of Roof Insulation Install
 ation <br />Overview of Sidewall Insulation Installation <br />Door &amp; W
 indow Replacement<br /><br /><strong>Day 3: Manufactured Housing Audit Proc
 edures</strong><br />MH CAZ Testing / Duct Diagnostics<br />Review of BPI S
 tandards and Best Work Practices<span style="color: #000000;"><br /><br /><
 span style="color: #000000;"><strong>Day 4: Online MH Test<span style="text
 -decoration: underline;"></span></strong><span style="text-decoration: unde
 rline;"><em><br /><br /><br />Who Should Attend:<br /></em></span><em><span
  style="font-family: Tahoma;"></span></em><span style="font-family: Tahoma;
 "><span style="font-family: Tahoma;">If you already have an ACTIVE BPI Buil
 ding Analyst Professional (BA-P) you can take the 50 question MH test at th
 e end of this training.&nbsp; If you do not, you will be required to take a
  100 question test with 50 of those questions related to the course content
 , and 50 questions on building science which is not covered in this trainin
 g.<span style="font-family: Tahoma;"><br /><br /><br /><span style="text-de
 coration: underline;"><em><span style="font-family: Tahoma;">Dates;<br /></
 span></em></span><em><span style="font-family: Tahoma;"><span style="font-f
 amily: Tahoma;"></span></span></em><span style="font-family: Tahoma;"><span
  style="font-family: Tahoma;">Course covers the dates of May 4-7, 2026</spa
 n></span></span></span></span></span></span></span></span></span></span></s
 pan></span></span></span></span></span></span></span></span></span></p><p><
 span style="color: #336699;"><span style="font-family: Tahoma;"><span style
 ="font-size: medium;"><span style="color: #000000;"><span style="font-size:
  small;"><span style="font-size: 12pt;"><span style="font-family: Tahoma;">
 <span style="font-family: Tahoma;"><span style="color: #000000;"><span styl
 e="font-family: Tahoma;"><span style="font-family: Arial, Helvetica;"><span
  style="color: #000000;"><span style="font-family: Times;"><span style="fon
 t-family: Tahoma;"><span style="color: #000000;"><span style="color: #00000
 0;"><span style="font-family: Tahoma;"><span style="font-family: Tahoma;"><
 span style="font-family: Tahoma;"><span style="font-family: Tahoma;"><span 
 style="font-family: Tahoma;"></span></span></span></span></span></span></sp
 an></span></span></span></span></span></span></span></span></span></span></
 span></span></span></span>&nbsp;</p><p><span style="color: #336699;"><span 
 style="font-family: Tahoma;"><span style="font-size: medium;"><span style="
 color: #000000;"><span style="font-size: small;"><span style="font-size: 12
 pt;"><span style="font-family: Tahoma;"><span style="font-family: Tahoma;">
 <span style="color: #000000;"><span style="font-family: Tahoma;"><span styl
 e="font-family: Arial, Helvetica;"><span style="color: #000000;"><span styl
 e="font-family: Times;"><span style="font-family: Tahoma;"><span style="col
 or: #000000;"><span style="color: #000000;"><span style="font-family: Tahom
 a;"><span style="font-family: Tahoma;"><span style="font-family: Tahoma;"><
 span style="font-family: Tahoma;"><span style="font-family: Tahoma;">Start 
 Time: Monday-Thursday 9:00am<br />End Time: Monday-Wednesday 5:00pm / Thurs
 day test starts after a class review session with&nbsp;1 1/2&nbsp;hours to 
 complete<br /><br /><br /><span style="text-decoration: underline;"><em><sp
 an style="font-family: Tahoma;">Prerequisites:</span></em></span><em><span 
 style="font-family: Tahoma;"> </span></em><span style="font-family: Tahoma;
 "><span style="font-family: Tahoma;">BPI Building Analyst Professional cert
 ification<em><span style="font-family: Tahoma;"><br /></span></em><span sty
 le="font-family: Tahoma;"><span style="font-family: Tahoma;"><br /><br /><s
 pan style="text-decoration: underline;"><em>Class Size</em></span>: 6<br />
 <br /><br /><span style="text-decoration: underline;"><em>BPI CEU</em>:</sp
 an>&nbsp;24<br /><br /><br /><span style="text-decoration: underline;"><em>
 <span style="font-family: Tahoma;">Instructors:<br /></span></em></span><sp
 an style="font-family: Tahoma;">Joe Ilacqua, NYSWDA<span style="font-family
 : Tahoma;"><br /><br /><br /><span style="text-decoration: underline;"><em>
 <span style="font-family: Tahoma;">Other Notes:<br /></span></em></span><sp
 an style="font-family: Tahoma;">For agencies to comply with HCR staff certi
 fication regulations only <span style="text-decoration: underline;">one</sp
 an> Manufactured Housing Specialist is required per agency. See PPM- Subgra
 ntee Staff Certification Requirements for more information. Bring your audi
 ting bags with meters and appropriate work clothes.<span style="font-family
 : Times;"><br /><span style="font-family: Tahoma;"><br /><br /><span style=
 "text-decoration: underline;"><em><span style="font-family: Tahoma;">Course
  Fees;&nbsp;</span></em><span style="font-family: Tahoma;"></span><span sty
 le="font-family: Tahoma;"></span></span><span style="font-family: Tahoma;">
 <span style="color: #ff6600;"></span></span><span style="font-family: Tahom
 a;"><br /></span><span style="font-family: Tahoma;"><span style="font-famil
 y: Tahoma;">$725/person - NY Weatherization Sub-grantees&nbsp;<br />$725/pe
 rson - affiliate members&nbsp;<br />$1,450/person - non-members and private
  contractors&nbsp;</span></span></span></span></span></span></span></span><
 /span></span></span></span></span></span></span></span></span></span></span
 ></span></span></span></span></span></span></span></span></span></span></sp
 an></span></span></p><p>&nbsp;</p><p style="margin-top: 0in; margin-right: 
 0in; margin-bottom: 0pt;"><strong><i><span style="background: white; color:
  #02613f; font-family: 'Georgia','serif';"><span style="font-size: small;">
 **Special note</span></span></i></strong><strong><i><span style="background
 : white; color: black; font-family: 'Georgia','serif';"><span style="font-s
 ize: small;">&nbsp;-&nbsp;if you wish to become an Affiliate Member, and&nb
 sp;save off the non-member rate, please contact&nbsp;Karen McMahon (315-701
 -0440 ext. 223,&nbsp;</span><span id="cloak8ebec5245eacfb9806bbcdd10de13333
 ">This email address is being protected from spambots. You need JavaScript 
 enabled to view it.</span><script type='text/javascript'>
				document.getE
 lementById('cloak8ebec5245eacfb9806bbcdd10de13333').innerHTML = '';
				var
  prefix = 'ma' + 'il' + 'to';
				var path = 'hr' + 'ef' + '=';
				var add
 y8ebec5245eacfb9806bbcdd10de13333 = 'kmcmahon' + '@';
				addy8ebec5245eacf
 b9806bbcdd10de13333 = addy8ebec5245eacfb9806bbcdd10de13333 + 'nyswda' + '.'
  + 'org';
				var addy_text8ebec5245eacfb9806bbcdd10de13333 = '<span style=
 "color: #0000ff; font-size: small;">kmcmahon' + '@' + 'nyswda' + '.' + 'org
 </span>';document.getElementById('cloak8ebec5245eacfb9806bbcdd10de13333').i
 nnerHTML += '<a ' + path + '\'' + prefix + ':' + addy8ebec5245eacfb9806bbcd
 d10de13333 + '\'>'+addy_text8ebec5245eacfb9806bbcdd10de13333+'<\/a>';
		</s
 cript><span style="font-size: small;">)&nbsp;</span></span></i></strong><sp
 an style="font-size: small;"><strong><span style="background: white; color:
  #02613f; font-family: 'Georgia','serif';">BEFORE YOU REGISTER&nbsp;</span>
 </strong><em><b><span style="background: white; color: black; font-family: 
 'Georgia','serif';">for the course</span></b></em><strong><span style="back
 ground: white; color: black; font-family: 'Georgia','serif';">.</span></str
 ong></span></p><p>&nbsp;</p><p><span style="color: #336699;"><span style="f
 ont-family: Tahoma;"><span style="font-size: medium;"><span style="color: #
 000000;"><span style="font-size: small;"><span style="font-size: 12pt;"><sp
 an style="font-family: Tahoma;"><span style="font-family: Tahoma;"><span st
 yle="color: #000000;"><span style="font-family: Tahoma;"><span style="font-
 family: Arial, Helvetica;"><span style="color: #000000;"><span style="font-
 family: Times;"><span style="font-family: Tahoma;"><span style="color: #000
 000;"><span style="color: #000000;"><span style="font-family: Tahoma;"><spa
 n style="font-family: Tahoma;"><span style="font-family: Tahoma;"><span sty
 le="font-family: Tahoma;"><span style="font-family: Tahoma;"><span style="f
 ont-family: Tahoma;"><span style="font-family: Tahoma;"><span style="font-f
 amily: Tahoma;"><span style="font-family: Tahoma;"><span style="font-family
 : Tahoma;"><span style="font-family: Tahoma;"><span style="font-family: Tah
 oma;"><span style="font-family: Times;"><span style="font-family: Tahoma;">
 <span style="font-family: Tahoma;"><span style="font-family: Tahoma;"><span
  style="font-family: Tahoma;"><span style="font-family: Times;"><span style
 ="font-family: Tahoma;"><span style="font-family: Times;"><span style="font
 -family: Tahoma;"><span style="text-decoration: underline;"><em>BPI Fees;<b
 r /></em></span><span style="font-family: Tahoma;">$220/person - 50-questio
 n online Manufactured Housing test<br />$550/person - Field test<br /><span
  style="color: #000000;"><strong>&nbsp;</strong></span></span></span></span
 ></span></span></span></span></span></span></span></span></span></span></sp
 an></span></span></span></span></span></span></span></span></span></span></
 span></span></span></span></span></span></span></span></span></span></span>
 </span></span></span></p><p><em><strong><span style="font-family: tahoma, a
 rial, helvetica, sans-serif; font-size: 14pt;"><strong><em><strong><span st
 yle="color: #ffffff; font-family: tahoma,arial,helvetica,sans-serif; font-s
 ize: 14pt;"><span style="color: #ff0000;">Only those on the wait list will 
 be notified to register for this training.&nbsp; Please email</span>&nbsp; 
 <span id="cloaka962b124b8b721968e3d0f299cd52f6e">This email address is bein
 g protected from spambots. You need JavaScript enabled to view it.</span><s
 cript type='text/javascript'>
				document.getElementById('cloaka962b124b8b
 721968e3d0f299cd52f6e').innerHTML = '';
				var prefix = 'ma' + 'il' + 'to'
 ;
				var path = 'hr' + 'ef' + '=';
				var addya962b124b8b721968e3d0f299cd
 52f6e = 'rwolk' + '@';
				addya962b124b8b721968e3d0f299cd52f6e = addya962b
 124b8b721968e3d0f299cd52f6e + 'nyswda' + '.' + 'org';
				var addy_texta962
 b124b8b721968e3d0f299cd52f6e = '<span style="color: #0066cc;">rwolk' + '@' 
 + 'nyswda' + '.' + 'org</span>';document.getElementById('cloaka962b124b8b72
 1968e3d0f299cd52f6e').innerHTML += '<a ' + path + '\'' + prefix + ':' + add
 ya962b124b8b721968e3d0f299cd52f6e + '\'>'+addy_texta962b124b8b721968e3d0f29
 9cd52f6e+'<\/a>';
		</script> <span style="color: #ff0000;">for availabilit
 y or wait list</span></span></strong></em><span style="color: #ffffff;"></s
 pan></strong><span style="font-family: tahoma,arial,helvetica,sans-serif; f
 ont-size: 14pt;"></span><span style="font-family: tahoma, arial, helvetica,
  sans-serif; font-size: 14pt;"></span><span style="font-family: tahoma, ari
 al, helvetica, sans-serif; font-size: 14pt;"></span></span><span style="fon
 t-family: tahoma, arial, helvetica, sans-serif; font-size: 14pt;"></span><s
 pan style="font-family: tahoma, arial, helvetica, sans-serif; font-size: 14
 pt;"></span><span style="font-family: tahoma, arial, helvetica, sans-serif;
  font-size: 14pt;"></span></strong></em></p><p>&nbsp;</p>
CONTACT:This email address is being protected from spambots. You need JavaScript enabled to view it.
				document.getElementById('cloak34596a3d1df6bf5aa2c92a611c3c4756').innerHTML = '';
				var prefix = '&#109;a' + 'i&#108;' + '&#116;o';
				var path = 'hr' + 'ef' + '=';
				var addy34596a3d1df6bf5aa2c92a611c3c4756 = 'rw&#111;lk' + '&#64;';
				addy34596a3d1df6bf5aa2c92a611c3c4756 = addy34596a3d1df6bf5aa2c92a611c3c4756 + 'nyswd&#97;' + '&#46;' + '&#111;rg';
				var addy_text34596a3d1df6bf5aa2c92a611c3c4756 = 'rw&#111;lk' + '&#64;' + 'nyswd&#97;' + '&#46;' + '&#111;rg';document.getElementById('cloak34596a3d1df6bf5aa2c92a611c3c4756').innerHTML += '<a ' + path + '\'' + prefix + ':' + addy34596a3d1df6bf5aa2c92a611c3c4756 + '\'>'+addy_text34596a3d1df6bf5aa2c92a611c3c4756+'';
		
DTSTAMP:20260423T173130
DTSTART;TZID=America/New_York:20260504T090000
DTEND;TZID=America/New_York:20260507T163000
SEQUENCE:0
TRANSP:OPAQUE
END:VEVENT
END:VCALENDAR