BEGIN:VCALENDAR
VERSION:2.0
PRODID:-//jEvents 2.0 for Joomla//EN
CALSCALE:GREGORIAN
METHOD:PUBLISH
BEGIN:VTIMEZONE
TZID:America/New_York
BEGIN:STANDARD
DTSTART:20251102T010000
RDATE:20260308T030000
TZOFFSETFROM:-0400
TZOFFSETTO:-0500
TZNAME:America/New_York EST
END:STANDARD
BEGIN:STANDARD
DTSTART:20261101T010000
RDATE:20270314T030000
TZOFFSETFROM:-0400
TZOFFSETTO:-0500
TZNAME:America/New_York EST
END:STANDARD
BEGIN:STANDARD
DTSTART:20271107T010000
RDATE:20280312T030000
TZOFFSETFROM:-0400
TZOFFSETTO:-0500
TZNAME:America/New_York EST
END:STANDARD
BEGIN:STANDARD
DTSTART:20281105T010000
RDATE:20290311T030000
TZOFFSETFROM:-0400
TZOFFSETTO:-0500
TZNAME:America/New_York EST
END:STANDARD
BEGIN:STANDARD
DTSTART:20291104T010000
RDATE:20300310T030000
TZOFFSETFROM:-0400
TZOFFSETTO:-0500
TZNAME:America/New_York EST
END:STANDARD
BEGIN:STANDARD
DTSTART:20301103T010000
RDATE:20310309T030000
TZOFFSETFROM:-0400
TZOFFSETTO:-0500
TZNAME:America/New_York EST
END:STANDARD
BEGIN:DAYLIGHT
DTSTART:20250614T090000
RDATE:20251102T010000
TZOFFSETFROM:-0500
TZOFFSETTO:-0400
TZNAME:America/New_York EDT
END:DAYLIGHT
BEGIN:DAYLIGHT
DTSTART:20260308T030000
RDATE:20261101T010000
TZOFFSETFROM:-0500
TZOFFSETTO:-0400
TZNAME:America/New_York EDT
END:DAYLIGHT
BEGIN:DAYLIGHT
DTSTART:20270314T030000
RDATE:20271107T010000
TZOFFSETFROM:-0500
TZOFFSETTO:-0400
TZNAME:America/New_York EDT
END:DAYLIGHT
BEGIN:DAYLIGHT
DTSTART:20280312T030000
RDATE:20281105T010000
TZOFFSETFROM:-0500
TZOFFSETTO:-0400
TZNAME:America/New_York EDT
END:DAYLIGHT
BEGIN:DAYLIGHT
DTSTART:20290311T030000
RDATE:20291104T010000
TZOFFSETFROM:-0500
TZOFFSETTO:-0400
TZNAME:America/New_York EDT
END:DAYLIGHT
BEGIN:DAYLIGHT
DTSTART:20300310T030000
RDATE:20301103T010000
TZOFFSETFROM:-0500
TZOFFSETTO:-0400
TZNAME:America/New_York EDT
END:DAYLIGHT
END:VTIMEZONE
BEGIN:VEVENT
UID:86a388c8fd5424feb3decef14d714bb9
CATEGORIES:WEB
CREATED:20260414T151304
SUMMARY:Weatherization Health & Safety - Online
LOCATION:Online
DESCRIPTION:<p><br />&nbsp;<span style="color: #336699; font-family: tahoma,arial,helve
 tica,sans-serif; font-size: 14pt;"><span style="color: #000000;"><strong><s
 pan style="color: #336699;">Weatherization Health &amp; Safety - Online&nbs
 p;</span></strong></span></span></p><p>&nbsp;</p><p><span style="color: #33
 6699; font-family: tahoma,arial,helvetica,sans-serif; font-size: 14pt;"><sp
 an style="color: #000000;"><strong><span style="color: #336699;">GoToWebina
 r Event</span></strong></span></span></p><p><strong><span style="font-famil
 y: 'Tahoma','sans-serif'; color: #336699; font-size: 13.5pt;"></span></stro
 ng></p><p>&nbsp;</p><p><span style="font-size: 12pt;"><em><span style="text
 -decoration: underline;"><span style="font-family: 'Tahoma','sans-serif'; c
 olor: black;">Course Description:</span></span></em></span>&nbsp;</p><p><sp
 an style="font-family: Tahoma, sans-serif; color: black; font-size: 12pt;">
 This online course will be covered in one day.&nbsp; Class starts at 9:00am
  and will break at noon for an hour lunch.&nbsp; The next half session will
  start at 1:00pm and go until 4:00pm.<br /><br /></span><span style="font-f
 amily: Tahoma, sans-serif; color: black; font-size: 12pt;">Identifying heal
 th and safety issues in client homes is a fundamental task in the Weatheriz
 ation program. This course will prepare the weatherization professional to 
 perform the H&amp;S inspection as well as required tests. Areas to be cover
 ed include: CO in ambient and flue gases, CAZ depressurization, worst case 
 backdrafting, moisture/mold, asbestos, lead, clearances to combustibles, ov
 erloaded electrical circuits, unvented space heating.&nbsp;<br /><br /></sp
 an><span style="font-family: Tahoma, sans-serif; color: black; font-size: 1
 2pt;">This is an HCR mandated training for Weatherization Directors, Audito
 rs, Crew Supervisors and Crews. If you are a new Director or have new staff
 , you are strongly advised to attend.&nbsp; This training requires attendan
 ce every three (3) years.</span>&nbsp;</p><p>&nbsp;</p><p><span style="font
 -family: 'Tahoma', 'sans-serif'; color: black; font-size: 12pt;"></span></p
 ><p><span style="font-size: 12pt;"><em><span style="text-decoration: underl
 ine;"><span style="font-family: 'Tahoma','sans-serif'; color: black;">Class
  Size</span></span></em><span style="font-family: 'Tahoma','sans-serif'; co
 lor: black;">: 25</span></span>&nbsp;<span style="font-family: 'Tahoma', 's
 ans-serif'; color: black; font-size: 12pt;"></span></p><p>&nbsp;</p><p><spa
 n style="font-size: 12pt;"><em><span style="text-decoration: underline;"><s
 pan style="font-family: 'Tahoma','sans-serif'; color: black;">BPI CEU</span
 ></span></em><span style="text-decoration: underline;"><span style="font-fa
 mily: 'Tahoma','sans-serif'; color: black;">:</span></span><span style="fon
 t-family: 'Tahoma','sans-serif'; color: black;">&nbsp;6</span></span></p><p
 ><span style="font-family: 'Tahoma', 'sans-serif'; color: black; font-size:
  12pt;"></span></p><p>&nbsp;</p><p><span style="font-size: 12pt;"><span sty
 le="text-decoration: underline;"><span style="font-family: 'Tahoma','sans-s
 erif'; color: black;"><em>Instructor</em>:</span></span><span style="font-f
 amily: 'Tahoma','sans-serif'; color: black;">&nbsp; Al McMahon</span><span 
 style="font-family: 'Tahoma','sans-serif'; color: black;">&nbsp;- NYSWDA</s
 pan></span>&nbsp;</p><p><span style="font-family: 'Tahoma', 'sans-serif'; c
 olor: black; font-size: 12pt;"></span></p><p>&nbsp;</p><p><span style="font
 -size: 12pt;"><em><span style="text-decoration: underline;"><span style="fo
 nt-family: 'Tahoma','sans-serif'; color: black;">Course Fees:&nbsp;</span><
 /span></em></span>&nbsp;</p><p><span style="font-size: 12pt;"><span style="
 color: black; font-family: 'Tahoma','sans-serif';">$262/person - NY&nbsp;We
 atherization Sub-grantees</span></span></p><p><span style="font-size: 12pt;
 "><span style="color: black; font-family: 'Tahoma','sans-serif';">$262/pers
 on - affiliate members</span><span style="color: black; font-family: 'Tahom
 a','sans-serif';"></span></span></p><p><span style="font-size: 12pt;"><span
  style="color: black; font-family: 'Tahoma','sans-serif';">$380/person - no
 n-members</span><span style="color: black; font-family: 'Tahoma','sans-seri
 f';"></span><span style="color: black; font-family: 'Tahoma','sans-serif';"
 ></span><em><span style="color: black; font-family: 'Tahoma','sans-serif';"
 ><br /></span></em></span></p><p>&nbsp;</p><p><span style="color: #0000ff;"
 ><em><strong><span style="font-family: tahoma, arial, helvetica, sans-serif
 ; font-size: 14pt;"><span style="color: #0000ff;"></span></span></strong></
 em></span><span style="background-color: initial; color: inherit; font-fami
 ly: inherit; font-size: 1rem;"> </span><em style="background-color: initial
 ; color: inherit; font-family: inherit; font-size: 1rem;"><strong><span sty
 le="background: white; color: #02613f; font-family: 'Georgia','serif';"><sp
 an style="font-size: small;">**Special note</span></span></strong></em><spa
 n style="background: white; color: black; font-family: 'Georgia','serif';">
 <span style="font-size: small;"><i><strong>&nbsp;-&nbsp;if you wish to beco
 me an Affiliate Member please contact&nbsp;Karen McMahon (315-701-0440 ext.
  223,&nbsp;</strong></i></span><i><strong><span id="cloak95d66883e6275cd73b
 31b4993fbed482">This email address is being protected from spambots. You ne
 ed JavaScript enabled to view it.</span><script type='text/javascript'>
			
 	document.getElementById('cloak95d66883e6275cd73b31b4993fbed482').innerHTML
  = '';
				var prefix = 'ma' + 'il' + 'to';
				var path = 'hr' + 'ef' + '=
 ';
				var addy95d66883e6275cd73b31b4993fbed482 = 'kmcmahon' + '@';
				add
 y95d66883e6275cd73b31b4993fbed482 = addy95d66883e6275cd73b31b4993fbed482 + 
 'nyswda' + '.' + 'org';
				var addy_text95d66883e6275cd73b31b4993fbed482 =
  '<span style="color: #0000ff; font-size: small;">kmcmahon' + '@' + 'nyswda
 ' + '.' + 'org</span>';document.getElementById('cloak95d66883e6275cd73b31b4
 993fbed482').innerHTML += '<a ' + path + '\'' + prefix + ':' + addy95d66883
 e6275cd73b31b4993fbed482 + '\'>'+addy_text95d66883e6275cd73b31b4993fbed482+
 '<\/a>';
		</script><span style="font-size: small;">)&nbsp;</span></strong>
 </i></span><i style="background-color: initial; color: inherit; font-family
 : inherit; font-size: 1rem;"></i><span style="font-size: small;"><strong><s
 pan style="background: white; color: #02613f; font-family: 'Georgia','serif
 ';">BEFORE YOU REGISTER&nbsp;</span></strong><em><b><span style="background
 : white; color: black; font-family: 'Georgia','serif';">for the course</spa
 n></b></em><strong><span style="background: white; color: black; font-famil
 y: 'Georgia','serif';">.</span></strong></span><span style="background-colo
 r: initial; color: inherit; font-family: inherit; font-size: 1rem;"></span>
 </p><p>&nbsp;</p><p><span style="font-family: georgia, palatino; font-size:
  10pt;"><strong><em><span style="color: #10704d; background: white;">Throug
 h the support of NYS HCR funding, we are able to provide </span></em></stro
 ng><em><strong><span style="color: #02613f; background: white;">quality tra
 ining at&nbsp;discounted rates to NYSWDA members.</span></strong></em></spa
 n></p><p>&nbsp;</p><p><span style="font-size: 12pt;"><em style="background-
 color: initial; color: inherit; font-family: inherit; font-size: 1rem;"><st
 rong><span style="font-family: Tahoma;"><span style="font-family: tahoma, a
 rial, helvetica, sans-serif; font-size: 14pt; color: #0000ff;"><a href="ind
 ex.php?option=com_civicrm&amp;task=civicrm/event/register&amp;reset=1&amp;i
 d=14516" style="color: #0000ff;">Click here to register</a>&nbsp;</span><sp
 an style="font-family: tahoma, arial, helvetica, sans-serif; font-size: 14p
 t;"></span><em></em><span style="color: #0000ff;"></span> </span><span styl
 e="font-family: Arial, Helvetica;"></span><span style="font-family: Tahoma;
 "></span><em></em><span style="font-size: 14pt;"></span></strong></em></spa
 n></p><p><span style="font-family: 'Arial','sans-serif'; color: black; font
 -size: 10pt;"></span></p><p>&nbsp;</p><p><span style="font-family: 'Arial',
 'sans-serif'; color: black; font-size: 10pt;"></span></p><p>&nbsp;</p><p>&n
 bsp;</p><p>&nbsp;</p><p>&nbsp;</p><p>&nbsp;</p>
X-ALT-DESC;FMTTYPE=text/html:<p><br />&nbsp;<span style="color: #336699; font-family: tahoma,arial,helve
 tica,sans-serif; font-size: 14pt;"><span style="color: #000000;"><strong><s
 pan style="color: #336699;">Weatherization Health &amp; Safety - Online&nbs
 p;</span></strong></span></span></p><p>&nbsp;</p><p><span style="color: #33
 6699; font-family: tahoma,arial,helvetica,sans-serif; font-size: 14pt;"><sp
 an style="color: #000000;"><strong><span style="color: #336699;">GoToWebina
 r Event</span></strong></span></span></p><p><strong><span style="font-famil
 y: 'Tahoma','sans-serif'; color: #336699; font-size: 13.5pt;"></span></stro
 ng></p><p>&nbsp;</p><p><span style="font-size: 12pt;"><em><span style="text
 -decoration: underline;"><span style="font-family: 'Tahoma','sans-serif'; c
 olor: black;">Course Description:</span></span></em></span>&nbsp;</p><p><sp
 an style="font-family: Tahoma, sans-serif; color: black; font-size: 12pt;">
 This online course will be covered in one day.&nbsp; Class starts at 9:00am
  and will break at noon for an hour lunch.&nbsp; The next half session will
  start at 1:00pm and go until 4:00pm.<br /><br /></span><span style="font-f
 amily: Tahoma, sans-serif; color: black; font-size: 12pt;">Identifying heal
 th and safety issues in client homes is a fundamental task in the Weatheriz
 ation program. This course will prepare the weatherization professional to 
 perform the H&amp;S inspection as well as required tests. Areas to be cover
 ed include: CO in ambient and flue gases, CAZ depressurization, worst case 
 backdrafting, moisture/mold, asbestos, lead, clearances to combustibles, ov
 erloaded electrical circuits, unvented space heating.&nbsp;<br /><br /></sp
 an><span style="font-family: Tahoma, sans-serif; color: black; font-size: 1
 2pt;">This is an HCR mandated training for Weatherization Directors, Audito
 rs, Crew Supervisors and Crews. If you are a new Director or have new staff
 , you are strongly advised to attend.&nbsp; This training requires attendan
 ce every three (3) years.</span>&nbsp;</p><p>&nbsp;</p><p><span style="font
 -family: 'Tahoma', 'sans-serif'; color: black; font-size: 12pt;"></span></p
 ><p><span style="font-size: 12pt;"><em><span style="text-decoration: underl
 ine;"><span style="font-family: 'Tahoma','sans-serif'; color: black;">Class
  Size</span></span></em><span style="font-family: 'Tahoma','sans-serif'; co
 lor: black;">: 25</span></span>&nbsp;<span style="font-family: 'Tahoma', 's
 ans-serif'; color: black; font-size: 12pt;"></span></p><p>&nbsp;</p><p><spa
 n style="font-size: 12pt;"><em><span style="text-decoration: underline;"><s
 pan style="font-family: 'Tahoma','sans-serif'; color: black;">BPI CEU</span
 ></span></em><span style="text-decoration: underline;"><span style="font-fa
 mily: 'Tahoma','sans-serif'; color: black;">:</span></span><span style="fon
 t-family: 'Tahoma','sans-serif'; color: black;">&nbsp;6</span></span></p><p
 ><span style="font-family: 'Tahoma', 'sans-serif'; color: black; font-size:
  12pt;"></span></p><p>&nbsp;</p><p><span style="font-size: 12pt;"><span sty
 le="text-decoration: underline;"><span style="font-family: 'Tahoma','sans-s
 erif'; color: black;"><em>Instructor</em>:</span></span><span style="font-f
 amily: 'Tahoma','sans-serif'; color: black;">&nbsp; Al McMahon</span><span 
 style="font-family: 'Tahoma','sans-serif'; color: black;">&nbsp;- NYSWDA</s
 pan></span>&nbsp;</p><p><span style="font-family: 'Tahoma', 'sans-serif'; c
 olor: black; font-size: 12pt;"></span></p><p>&nbsp;</p><p><span style="font
 -size: 12pt;"><em><span style="text-decoration: underline;"><span style="fo
 nt-family: 'Tahoma','sans-serif'; color: black;">Course Fees:&nbsp;</span><
 /span></em></span>&nbsp;</p><p><span style="font-size: 12pt;"><span style="
 color: black; font-family: 'Tahoma','sans-serif';">$262/person - NY&nbsp;We
 atherization Sub-grantees</span></span></p><p><span style="font-size: 12pt;
 "><span style="color: black; font-family: 'Tahoma','sans-serif';">$262/pers
 on - affiliate members</span><span style="color: black; font-family: 'Tahom
 a','sans-serif';"></span></span></p><p><span style="font-size: 12pt;"><span
  style="color: black; font-family: 'Tahoma','sans-serif';">$380/person - no
 n-members</span><span style="color: black; font-family: 'Tahoma','sans-seri
 f';"></span><span style="color: black; font-family: 'Tahoma','sans-serif';"
 ></span><em><span style="color: black; font-family: 'Tahoma','sans-serif';"
 ><br /></span></em></span></p><p>&nbsp;</p><p><span style="color: #0000ff;"
 ><em><strong><span style="font-family: tahoma, arial, helvetica, sans-serif
 ; font-size: 14pt;"><span style="color: #0000ff;"></span></span></strong></
 em></span><span style="background-color: initial; color: inherit; font-fami
 ly: inherit; font-size: 1rem;"> </span><em style="background-color: initial
 ; color: inherit; font-family: inherit; font-size: 1rem;"><strong><span sty
 le="background: white; color: #02613f; font-family: 'Georgia','serif';"><sp
 an style="font-size: small;">**Special note</span></span></strong></em><spa
 n style="background: white; color: black; font-family: 'Georgia','serif';">
 <span style="font-size: small;"><i><strong>&nbsp;-&nbsp;if you wish to beco
 me an Affiliate Member please contact&nbsp;Karen McMahon (315-701-0440 ext.
  223,&nbsp;</strong></i></span><i><strong><span id="cloak95d66883e6275cd73b
 31b4993fbed482">This email address is being protected from spambots. You ne
 ed JavaScript enabled to view it.</span><script type='text/javascript'>
			
 	document.getElementById('cloak95d66883e6275cd73b31b4993fbed482').innerHTML
  = '';
				var prefix = 'ma' + 'il' + 'to';
				var path = 'hr' + 'ef' + '=
 ';
				var addy95d66883e6275cd73b31b4993fbed482 = 'kmcmahon' + '@';
				add
 y95d66883e6275cd73b31b4993fbed482 = addy95d66883e6275cd73b31b4993fbed482 + 
 'nyswda' + '.' + 'org';
				var addy_text95d66883e6275cd73b31b4993fbed482 =
  '<span style="color: #0000ff; font-size: small;">kmcmahon' + '@' + 'nyswda
 ' + '.' + 'org</span>';document.getElementById('cloak95d66883e6275cd73b31b4
 993fbed482').innerHTML += '<a ' + path + '\'' + prefix + ':' + addy95d66883
 e6275cd73b31b4993fbed482 + '\'>'+addy_text95d66883e6275cd73b31b4993fbed482+
 '<\/a>';
		</script><span style="font-size: small;">)&nbsp;</span></strong>
 </i></span><i style="background-color: initial; color: inherit; font-family
 : inherit; font-size: 1rem;"></i><span style="font-size: small;"><strong><s
 pan style="background: white; color: #02613f; font-family: 'Georgia','serif
 ';">BEFORE YOU REGISTER&nbsp;</span></strong><em><b><span style="background
 : white; color: black; font-family: 'Georgia','serif';">for the course</spa
 n></b></em><strong><span style="background: white; color: black; font-famil
 y: 'Georgia','serif';">.</span></strong></span><span style="background-colo
 r: initial; color: inherit; font-family: inherit; font-size: 1rem;"></span>
 </p><p>&nbsp;</p><p><span style="font-family: georgia, palatino; font-size:
  10pt;"><strong><em><span style="color: #10704d; background: white;">Throug
 h the support of NYS HCR funding, we are able to provide </span></em></stro
 ng><em><strong><span style="color: #02613f; background: white;">quality tra
 ining at&nbsp;discounted rates to NYSWDA members.</span></strong></em></spa
 n></p><p>&nbsp;</p><p><span style="font-size: 12pt;"><em style="background-
 color: initial; color: inherit; font-family: inherit; font-size: 1rem;"><st
 rong><span style="font-family: Tahoma;"><span style="font-family: tahoma, a
 rial, helvetica, sans-serif; font-size: 14pt; color: #0000ff;"><a href="htt
 ps://www.nyswda.org/index.php?option=com_civicrm&amp;task=civicrm/event/reg
 ister&amp;reset=1&amp;id=14516" style="color: #0000ff;">Click here to regis
 ter</a>&nbsp;</span><span style="font-family: tahoma, arial, helvetica, san
 s-serif; font-size: 14pt;"></span><em></em><span style="color: #0000ff;"></
 span> </span><span style="font-family: Arial, Helvetica;"></span><span styl
 e="font-family: Tahoma;"></span><em></em><span style="font-size: 14pt;"></s
 pan></strong></em></span></p><p><span style="font-family: 'Arial','sans-ser
 if'; color: black; font-size: 10pt;"></span></p><p>&nbsp;</p><p><span style
 ="font-family: 'Arial','sans-serif'; color: black; font-size: 10pt;"></span
 ></p><p>&nbsp;</p><p>&nbsp;</p><p>&nbsp;</p><p>&nbsp;</p><p>&nbsp;</p>
CONTACT:Robyn Wolk
DTSTAMP:20260423T173126
DTSTART;TZID=America/New_York:20260615T090000
DTEND;TZID=America/New_York:20260615T160000
SEQUENCE:0
TRANSP:OPAQUE
END:VEVENT
END:VCALENDAR