BEGIN:VCALENDAR
VERSION:2.0
PRODID:-//jEvents 2.0 for Joomla//EN
CALSCALE:GREGORIAN
METHOD:PUBLISH
BEGIN:VTIMEZONE
TZID:America/New_York
BEGIN:STANDARD
DTSTART:20251102T010000
RDATE:20260308T030000
TZOFFSETFROM:-0400
TZOFFSETTO:-0500
TZNAME:America/New_York EST
END:STANDARD
BEGIN:STANDARD
DTSTART:20261101T010000
RDATE:20270314T030000
TZOFFSETFROM:-0400
TZOFFSETTO:-0500
TZNAME:America/New_York EST
END:STANDARD
BEGIN:STANDARD
DTSTART:20271107T010000
RDATE:20280312T030000
TZOFFSETFROM:-0400
TZOFFSETTO:-0500
TZNAME:America/New_York EST
END:STANDARD
BEGIN:STANDARD
DTSTART:20281105T010000
RDATE:20290311T030000
TZOFFSETFROM:-0400
TZOFFSETTO:-0500
TZNAME:America/New_York EST
END:STANDARD
BEGIN:STANDARD
DTSTART:20291104T010000
RDATE:20300310T030000
TZOFFSETFROM:-0400
TZOFFSETTO:-0500
TZNAME:America/New_York EST
END:STANDARD
BEGIN:STANDARD
DTSTART:20301103T010000
RDATE:20310309T030000
TZOFFSETFROM:-0400
TZOFFSETTO:-0500
TZNAME:America/New_York EST
END:STANDARD
BEGIN:DAYLIGHT
DTSTART:20250615T090000
RDATE:20251102T010000
TZOFFSETFROM:-0500
TZOFFSETTO:-0400
TZNAME:America/New_York EDT
END:DAYLIGHT
BEGIN:DAYLIGHT
DTSTART:20260308T030000
RDATE:20261101T010000
TZOFFSETFROM:-0500
TZOFFSETTO:-0400
TZNAME:America/New_York EDT
END:DAYLIGHT
BEGIN:DAYLIGHT
DTSTART:20270314T030000
RDATE:20271107T010000
TZOFFSETFROM:-0500
TZOFFSETTO:-0400
TZNAME:America/New_York EDT
END:DAYLIGHT
BEGIN:DAYLIGHT
DTSTART:20280312T030000
RDATE:20281105T010000
TZOFFSETFROM:-0500
TZOFFSETTO:-0400
TZNAME:America/New_York EDT
END:DAYLIGHT
BEGIN:DAYLIGHT
DTSTART:20290311T030000
RDATE:20291104T010000
TZOFFSETFROM:-0500
TZOFFSETTO:-0400
TZNAME:America/New_York EDT
END:DAYLIGHT
BEGIN:DAYLIGHT
DTSTART:20300310T030000
RDATE:20301103T010000
TZOFFSETFROM:-0500
TZOFFSETTO:-0400
TZNAME:America/New_York EDT
END:DAYLIGHT
END:VTIMEZONE
BEGIN:VEVENT
UID:ecefedbfdedf4398ca506e6fd1b01175
CATEGORIES:WEB
CREATED:20260414T151726
SUMMARY:Air Sealing Techniques - Online
LOCATION:Online
DESCRIPTION:<p><br />&nbsp;<span style="color: #336699; font-family: tahoma,arial,helve
 tica,sans-serif; font-size: 14pt;"><span style="color: #000000;"><strong><s
 pan style="color: #336699;">Air Sealing Techniques - Online&nbsp;</span></s
 trong></span></span></p><p>&nbsp;</p><p><span style="color: #336699; font-f
 amily: tahoma,arial,helvetica,sans-serif; font-size: 14pt;"><span style="co
 lor: #000000;"><strong><span style="color: #336699;">GoToWebinar Event</spa
 n></strong></span></span></p><p><strong><span style="font-family: 'Tahoma',
 'sans-serif'; color: #336699; font-size: 13.5pt;"></span></strong></p><p>&n
 bsp;</p><p><span style="font-size: 12pt;"><em><span style="text-decoration:
  underline;"><span style="font-family: 'Tahoma','sans-serif'; color: black;
 ">Course Description:</span></span></em></span>&nbsp;</p><p><span style="fo
 nt-family: Tahoma, sans-serif; color: black; font-size: 12pt;"><span style=
 "font-family: Tahoma, sans-serif; color: black; font-size: 12pt;">This onli
 ne course will be covered in one day.&nbsp; Class starts at 9:00am and will
  break at noon for an hour lunch.&nbsp; The next half session will start at
  1:00pm and go until 4:00pm.</span><br /><br /></span><span style="font-fam
 ily: Tahoma, sans-serif; color: black; font-size: 12pt;">This training will
  review procedures meant to optimize a crew's work production so they bette
 r meet their air sealing goals.&nbsp; Using powerpoint and video, the audie
 nce will learn about basic physics that effect air flow, techniques used in
  air sealing, use of blower doors to diagnose problems, prioritizing worksc
 opes, and the use of proper air sealing materials.<br /><br /></span><span 
 style="font-family: Tahoma, sans-serif; color: black; font-size: 12pt;">Thi
 s is an HCR mandated training for Weatherization Directors, Auditors, Crew 
 Supervisors and Crews. If you are a new Director or have new staff, you are
  strongly advised to attend.&nbsp; This training requires attendance every 
 three (3) years.</span>&nbsp;</p><p>&nbsp;</p><p><span style="font-family: 
 'Tahoma', 'sans-serif'; color: black; font-size: 12pt;"></span></p><p><span
  style="font-size: 12pt;"><em><span style="text-decoration: underline;"><sp
 an style="font-family: 'Tahoma','sans-serif'; color: black;">Class Size</sp
 an></span></em><span style="font-family: 'Tahoma','sans-serif'; color: blac
 k;">: 25</span></span>&nbsp;<span style="font-family: 'Tahoma', 'sans-serif
 '; color: black; font-size: 12pt;"></span></p><p>&nbsp;</p><p><span style="
 font-size: 12pt;"><em><span style="text-decoration: underline;"><span style
 ="font-family: 'Tahoma','sans-serif'; color: black;">BPI CEU</span></span><
 /em><span style="text-decoration: underline;"><span style="font-family: 'Ta
 homa','sans-serif'; color: black;">:</span></span><span style="font-family:
  'Tahoma','sans-serif'; color: black;">&nbsp;6</span></span></p><p><span st
 yle="font-family: 'Tahoma', 'sans-serif'; color: black; font-size: 12pt;"><
 /span></p><p>&nbsp;</p><p><span style="font-size: 12pt;"><span style="text-
 decoration: underline;"><span style="font-family: 'Tahoma','sans-serif'; co
 lor: black;"><em>Instructor</em>:</span></span><span style="font-family: 'T
 ahoma','sans-serif'; color: black;">&nbsp; Al McMahon</span><span style="fo
 nt-family: 'Tahoma','sans-serif'; color: black;">&nbsp;- NYSWDA</span></spa
 n>&nbsp;</p><p><span style="font-family: 'Tahoma', 'sans-serif'; color: bla
 ck; font-size: 12pt;"></span></p><p>&nbsp;</p><p><span style="font-size: 12
 pt;"><em><span style="text-decoration: underline;"><span style="font-family
 : 'Tahoma','sans-serif'; color: black;">Course Fees:&nbsp;</span></span></e
 m></span>&nbsp;</p><p><span style="font-size: 12pt;"><span style="color: bl
 ack; font-family: 'Tahoma','sans-serif';">$262/person - NY&nbsp;Weatherizat
 ion Sub-grantees</span></span></p><p><span style="font-size: 12pt;"><span s
 tyle="color: black; font-family: 'Tahoma','sans-serif';">$262/person - affi
 liate members</span><span style="color: black; font-family: 'Tahoma','sans-
 serif';"></span></span></p><p><span style="font-size: 12pt;"><span style="c
 olor: black; font-family: 'Tahoma','sans-serif';">$380/person - non-members
 </span><span style="color: black; font-family: 'Tahoma','sans-serif';"></sp
 an><span style="color: black; font-family: 'Tahoma','sans-serif';"></span><
 em><span style="color: black; font-family: 'Tahoma','sans-serif';"><br /></
 span></em></span></p><p>&nbsp;</p><p><span style="color: #0000ff;"><em><str
 ong><span style="font-family: tahoma, arial, helvetica, sans-serif; font-si
 ze: 14pt;"><span style="color: #0000ff;"></span></span></strong></em></span
 ><span style="background-color: initial; color: inherit; font-family: inher
 it; font-size: 1rem;"> </span><em style="background-color: initial; color: 
 inherit; font-family: inherit; font-size: 1rem;"><strong><span style="backg
 round: white; color: #02613f; font-family: 'Georgia','serif';"><span style=
 "font-size: small;">**Special note</span></span></strong></em><span style="
 background: white; color: black; font-family: 'Georgia','serif';"><span sty
 le="font-size: small;"><i><strong>&nbsp;-&nbsp;if you wish to become an Aff
 iliate Member please contact&nbsp;Karen McMahon (315-701-0440 ext. 223,&nbs
 p;</strong></i></span><i><strong><span id="cloakb140e59a1700f70d9f8f4a28c93
 b3f21">This email address is being protected from spambots. You need JavaSc
 ript enabled to view it.</span><script type='text/javascript'>
				document
 .getElementById('cloakb140e59a1700f70d9f8f4a28c93b3f21').innerHTML = '';
		
 		var prefix = 'ma' + 'il' + 'to';
				var path = 'hr' + 'ef' + '=';
				va
 r addyb140e59a1700f70d9f8f4a28c93b3f21 = 'kmcmahon' + '@';
				addyb140e59a
 1700f70d9f8f4a28c93b3f21 = addyb140e59a1700f70d9f8f4a28c93b3f21 + 'nyswda' 
 + '.' + 'org';
				var addy_textb140e59a1700f70d9f8f4a28c93b3f21 = '<span s
 tyle="color: #0000ff; font-size: small;">kmcmahon' + '@' + 'nyswda' + '.' +
  'org</span>';document.getElementById('cloakb140e59a1700f70d9f8f4a28c93b3f2
 1').innerHTML += '<a ' + path + '\'' + prefix + ':' + addyb140e59a1700f70d9
 f8f4a28c93b3f21 + '\'>'+addy_textb140e59a1700f70d9f8f4a28c93b3f21+'<\/a>';

 		</script><span style="font-size: small;">)&nbsp;</span></strong></i></spa
 n><i style="background-color: initial; color: inherit; font-family: inherit
 ; font-size: 1rem;"></i><span style="font-size: small;"><strong><span style
 ="background: white; color: #02613f; font-family: 'Georgia','serif';">BEFOR
 E YOU REGISTER&nbsp;</span></strong><em><b><span style="background: white; 
 color: black; font-family: 'Georgia','serif';">for the course</span></b></e
 m><strong><span style="background: white; color: black; font-family: 'Georg
 ia','serif';">.</span></strong></span><span style="background-color: initia
 l; color: inherit; font-family: inherit; font-size: 1rem;"></span></p><p>&n
 bsp;</p><p>&nbsp;</p><p><em><span style="font-family: Tahoma, sans-serif; c
 olor: black;"><span style="font-family: tahoma, arial, helvetica, sans-seri
 f; font-size: 14pt;"><span style="font-family: tahoma, arial, helvetica, sa
 ns-serif; font-size: 14pt;"><span style="color: #0000ff;"><strong><a href="
 index.php?option=com_civicrm&amp;task=civicrm/event/register&amp;reset=1&am
 p;id=14517" style="color: #0000ff;">Click here to register</a></strong>&nbs
 p;</span><em></em><span style="color: #0000ff;"></span> </span><span style=
 "font-family: tahoma, arial, helvetica, sans-serif; font-size: 14pt;"></spa
 n></span><span style="font-family: tahoma,arial,helvetica,sans-serif; font-
 size: 14pt;"></span><span style="font-family: tahoma, arial, helvetica, san
 s-serif; font-size: 14pt;"></span><span style="font-family: tahoma, arial, 
 helvetica, sans-serif; font-size: 14pt;"></span><em></em><span style="color
 : #0000ff;"></span></span></em></p><p><span style="font-family: 'Arial','sa
 ns-serif'; color: black; font-size: 10pt;"></span></p><p>&nbsp;</p><p><span
  style="font-family: 'Arial','sans-serif'; color: black; font-size: 10pt;">
 </span></p><p>&nbsp;</p><p>&nbsp;</p><p>&nbsp;</p><p>&nbsp;</p><p>&nbsp;</p
 >
X-ALT-DESC;FMTTYPE=text/html:<p><br />&nbsp;<span style="color: #336699; font-family: tahoma,arial,helve
 tica,sans-serif; font-size: 14pt;"><span style="color: #000000;"><strong><s
 pan style="color: #336699;">Air Sealing Techniques - Online&nbsp;</span></s
 trong></span></span></p><p>&nbsp;</p><p><span style="color: #336699; font-f
 amily: tahoma,arial,helvetica,sans-serif; font-size: 14pt;"><span style="co
 lor: #000000;"><strong><span style="color: #336699;">GoToWebinar Event</spa
 n></strong></span></span></p><p><strong><span style="font-family: 'Tahoma',
 'sans-serif'; color: #336699; font-size: 13.5pt;"></span></strong></p><p>&n
 bsp;</p><p><span style="font-size: 12pt;"><em><span style="text-decoration:
  underline;"><span style="font-family: 'Tahoma','sans-serif'; color: black;
 ">Course Description:</span></span></em></span>&nbsp;</p><p><span style="fo
 nt-family: Tahoma, sans-serif; color: black; font-size: 12pt;"><span style=
 "font-family: Tahoma, sans-serif; color: black; font-size: 12pt;">This onli
 ne course will be covered in one day.&nbsp; Class starts at 9:00am and will
  break at noon for an hour lunch.&nbsp; The next half session will start at
  1:00pm and go until 4:00pm.</span><br /><br /></span><span style="font-fam
 ily: Tahoma, sans-serif; color: black; font-size: 12pt;">This training will
  review procedures meant to optimize a crew's work production so they bette
 r meet their air sealing goals.&nbsp; Using powerpoint and video, the audie
 nce will learn about basic physics that effect air flow, techniques used in
  air sealing, use of blower doors to diagnose problems, prioritizing worksc
 opes, and the use of proper air sealing materials.<br /><br /></span><span 
 style="font-family: Tahoma, sans-serif; color: black; font-size: 12pt;">Thi
 s is an HCR mandated training for Weatherization Directors, Auditors, Crew 
 Supervisors and Crews. If you are a new Director or have new staff, you are
  strongly advised to attend.&nbsp; This training requires attendance every 
 three (3) years.</span>&nbsp;</p><p>&nbsp;</p><p><span style="font-family: 
 'Tahoma', 'sans-serif'; color: black; font-size: 12pt;"></span></p><p><span
  style="font-size: 12pt;"><em><span style="text-decoration: underline;"><sp
 an style="font-family: 'Tahoma','sans-serif'; color: black;">Class Size</sp
 an></span></em><span style="font-family: 'Tahoma','sans-serif'; color: blac
 k;">: 25</span></span>&nbsp;<span style="font-family: 'Tahoma', 'sans-serif
 '; color: black; font-size: 12pt;"></span></p><p>&nbsp;</p><p><span style="
 font-size: 12pt;"><em><span style="text-decoration: underline;"><span style
 ="font-family: 'Tahoma','sans-serif'; color: black;">BPI CEU</span></span><
 /em><span style="text-decoration: underline;"><span style="font-family: 'Ta
 homa','sans-serif'; color: black;">:</span></span><span style="font-family:
  'Tahoma','sans-serif'; color: black;">&nbsp;6</span></span></p><p><span st
 yle="font-family: 'Tahoma', 'sans-serif'; color: black; font-size: 12pt;"><
 /span></p><p>&nbsp;</p><p><span style="font-size: 12pt;"><span style="text-
 decoration: underline;"><span style="font-family: 'Tahoma','sans-serif'; co
 lor: black;"><em>Instructor</em>:</span></span><span style="font-family: 'T
 ahoma','sans-serif'; color: black;">&nbsp; Al McMahon</span><span style="fo
 nt-family: 'Tahoma','sans-serif'; color: black;">&nbsp;- NYSWDA</span></spa
 n>&nbsp;</p><p><span style="font-family: 'Tahoma', 'sans-serif'; color: bla
 ck; font-size: 12pt;"></span></p><p>&nbsp;</p><p><span style="font-size: 12
 pt;"><em><span style="text-decoration: underline;"><span style="font-family
 : 'Tahoma','sans-serif'; color: black;">Course Fees:&nbsp;</span></span></e
 m></span>&nbsp;</p><p><span style="font-size: 12pt;"><span style="color: bl
 ack; font-family: 'Tahoma','sans-serif';">$262/person - NY&nbsp;Weatherizat
 ion Sub-grantees</span></span></p><p><span style="font-size: 12pt;"><span s
 tyle="color: black; font-family: 'Tahoma','sans-serif';">$262/person - affi
 liate members</span><span style="color: black; font-family: 'Tahoma','sans-
 serif';"></span></span></p><p><span style="font-size: 12pt;"><span style="c
 olor: black; font-family: 'Tahoma','sans-serif';">$380/person - non-members
 </span><span style="color: black; font-family: 'Tahoma','sans-serif';"></sp
 an><span style="color: black; font-family: 'Tahoma','sans-serif';"></span><
 em><span style="color: black; font-family: 'Tahoma','sans-serif';"><br /></
 span></em></span></p><p>&nbsp;</p><p><span style="color: #0000ff;"><em><str
 ong><span style="font-family: tahoma, arial, helvetica, sans-serif; font-si
 ze: 14pt;"><span style="color: #0000ff;"></span></span></strong></em></span
 ><span style="background-color: initial; color: inherit; font-family: inher
 it; font-size: 1rem;"> </span><em style="background-color: initial; color: 
 inherit; font-family: inherit; font-size: 1rem;"><strong><span style="backg
 round: white; color: #02613f; font-family: 'Georgia','serif';"><span style=
 "font-size: small;">**Special note</span></span></strong></em><span style="
 background: white; color: black; font-family: 'Georgia','serif';"><span sty
 le="font-size: small;"><i><strong>&nbsp;-&nbsp;if you wish to become an Aff
 iliate Member please contact&nbsp;Karen McMahon (315-701-0440 ext. 223,&nbs
 p;</strong></i></span><i><strong><span id="cloakb140e59a1700f70d9f8f4a28c93
 b3f21">This email address is being protected from spambots. You need JavaSc
 ript enabled to view it.</span><script type='text/javascript'>
				document
 .getElementById('cloakb140e59a1700f70d9f8f4a28c93b3f21').innerHTML = '';
		
 		var prefix = 'ma' + 'il' + 'to';
				var path = 'hr' + 'ef' + '=';
				va
 r addyb140e59a1700f70d9f8f4a28c93b3f21 = 'kmcmahon' + '@';
				addyb140e59a
 1700f70d9f8f4a28c93b3f21 = addyb140e59a1700f70d9f8f4a28c93b3f21 + 'nyswda' 
 + '.' + 'org';
				var addy_textb140e59a1700f70d9f8f4a28c93b3f21 = '<span s
 tyle="color: #0000ff; font-size: small;">kmcmahon' + '@' + 'nyswda' + '.' +
  'org</span>';document.getElementById('cloakb140e59a1700f70d9f8f4a28c93b3f2
 1').innerHTML += '<a ' + path + '\'' + prefix + ':' + addyb140e59a1700f70d9
 f8f4a28c93b3f21 + '\'>'+addy_textb140e59a1700f70d9f8f4a28c93b3f21+'<\/a>';

 		</script><span style="font-size: small;">)&nbsp;</span></strong></i></spa
 n><i style="background-color: initial; color: inherit; font-family: inherit
 ; font-size: 1rem;"></i><span style="font-size: small;"><strong><span style
 ="background: white; color: #02613f; font-family: 'Georgia','serif';">BEFOR
 E YOU REGISTER&nbsp;</span></strong><em><b><span style="background: white; 
 color: black; font-family: 'Georgia','serif';">for the course</span></b></e
 m><strong><span style="background: white; color: black; font-family: 'Georg
 ia','serif';">.</span></strong></span><span style="background-color: initia
 l; color: inherit; font-family: inherit; font-size: 1rem;"></span></p><p>&n
 bsp;</p><p>&nbsp;</p><p><em><span style="font-family: Tahoma, sans-serif; c
 olor: black;"><span style="font-family: tahoma, arial, helvetica, sans-seri
 f; font-size: 14pt;"><span style="font-family: tahoma, arial, helvetica, sa
 ns-serif; font-size: 14pt;"><span style="color: #0000ff;"><strong><a href="
 https://www.nyswda.org/index.php?option=com_civicrm&amp;task=civicrm/event/
 register&amp;reset=1&amp;id=14517" style="color: #0000ff;">Click here to re
 gister</a></strong>&nbsp;</span><em></em><span style="color: #0000ff;"></sp
 an> </span><span style="font-family: tahoma, arial, helvetica, sans-serif; 
 font-size: 14pt;"></span></span><span style="font-family: tahoma,arial,helv
 etica,sans-serif; font-size: 14pt;"></span><span style="font-family: tahoma
 , arial, helvetica, sans-serif; font-size: 14pt;"></span><span style="font-
 family: tahoma, arial, helvetica, sans-serif; font-size: 14pt;"></span><em>
 </em><span style="color: #0000ff;"></span></span></em></p><p><span style="f
 ont-family: 'Arial','sans-serif'; color: black; font-size: 10pt;"></span></
 p><p>&nbsp;</p><p><span style="font-family: 'Arial','sans-serif'; color: bl
 ack; font-size: 10pt;"></span></p><p>&nbsp;</p><p>&nbsp;</p><p>&nbsp;</p><p
 >&nbsp;</p><p>&nbsp;</p>
CONTACT:Robyn Wolk
DTSTAMP:20260423T173125
DTSTART;TZID=America/New_York:20260616T090000
DTEND;TZID=America/New_York:20260616T160000
SEQUENCE:0
TRANSP:OPAQUE
END:VEVENT
END:VCALENDAR