BEGIN:VCALENDAR
VERSION:2.0
PRODID:-//jEvents 2.0 for Joomla//EN
CALSCALE:GREGORIAN
METHOD:PUBLISH
BEGIN:VTIMEZONE
TZID:America/New_York
BEGIN:STANDARD
DTSTART:20190112T090000
RDATE:20190310T030000
TZOFFSETFROM:-0400
TZOFFSETTO:-0500
TZNAME:America/New_York EST
END:STANDARD
BEGIN:STANDARD
DTSTART:20191103T010000
RDATE:20200308T030000
TZOFFSETFROM:-0400
TZOFFSETTO:-0500
TZNAME:America/New_York EST
END:STANDARD
BEGIN:STANDARD
DTSTART:20201101T010000
RDATE:20210314T030000
TZOFFSETFROM:-0400
TZOFFSETTO:-0500
TZNAME:America/New_York EST
END:STANDARD
BEGIN:STANDARD
DTSTART:20211107T010000
RDATE:20220313T030000
TZOFFSETFROM:-0400
TZOFFSETTO:-0500
TZNAME:America/New_York EST
END:STANDARD
BEGIN:STANDARD
DTSTART:20221106T010000
RDATE:20230312T030000
TZOFFSETFROM:-0400
TZOFFSETTO:-0500
TZNAME:America/New_York EST
END:STANDARD
BEGIN:STANDARD
DTSTART:20231105T010000
RDATE:20240310T030000
TZOFFSETFROM:-0400
TZOFFSETTO:-0500
TZNAME:America/New_York EST
END:STANDARD
BEGIN:STANDARD
DTSTART:20241103T010000
RDATE:20250309T030000
TZOFFSETFROM:-0400
TZOFFSETTO:-0500
TZNAME:America/New_York EST
END:STANDARD
BEGIN:STANDARD
DTSTART:20251102T010000
RDATE:20260308T030000
TZOFFSETFROM:-0400
TZOFFSETTO:-0500
TZNAME:America/New_York EST
END:STANDARD
BEGIN:STANDARD
DTSTART:20261101T010000
RDATE:20270314T030000
TZOFFSETFROM:-0400
TZOFFSETTO:-0500
TZNAME:America/New_York EST
END:STANDARD
BEGIN:STANDARD
DTSTART:20271107T010000
RDATE:20280312T030000
TZOFFSETFROM:-0400
TZOFFSETTO:-0500
TZNAME:America/New_York EST
END:STANDARD
BEGIN:STANDARD
DTSTART:20281105T010000
RDATE:20290311T030000
TZOFFSETFROM:-0400
TZOFFSETTO:-0500
TZNAME:America/New_York EST
END:STANDARD
BEGIN:STANDARD
DTSTART:20291104T010000
RDATE:20300310T030000
TZOFFSETFROM:-0400
TZOFFSETTO:-0500
TZNAME:America/New_York EST
END:STANDARD
BEGIN:STANDARD
DTSTART:20301103T010000
RDATE:20310309T030000
TZOFFSETFROM:-0400
TZOFFSETTO:-0500
TZNAME:America/New_York EST
END:STANDARD
BEGIN:DAYLIGHT
DTSTART:20190310T030000
RDATE:20191103T010000
TZOFFSETFROM:-0500
TZOFFSETTO:-0400
TZNAME:America/New_York EDT
END:DAYLIGHT
BEGIN:DAYLIGHT
DTSTART:20200308T030000
RDATE:20201101T010000
TZOFFSETFROM:-0500
TZOFFSETTO:-0400
TZNAME:America/New_York EDT
END:DAYLIGHT
BEGIN:DAYLIGHT
DTSTART:20210314T030000
RDATE:20211107T010000
TZOFFSETFROM:-0500
TZOFFSETTO:-0400
TZNAME:America/New_York EDT
END:DAYLIGHT
BEGIN:DAYLIGHT
DTSTART:20220313T030000
RDATE:20221106T010000
TZOFFSETFROM:-0500
TZOFFSETTO:-0400
TZNAME:America/New_York EDT
END:DAYLIGHT
BEGIN:DAYLIGHT
DTSTART:20230312T030000
RDATE:20231105T010000
TZOFFSETFROM:-0500
TZOFFSETTO:-0400
TZNAME:America/New_York EDT
END:DAYLIGHT
BEGIN:DAYLIGHT
DTSTART:20240310T030000
RDATE:20241103T010000
TZOFFSETFROM:-0500
TZOFFSETTO:-0400
TZNAME:America/New_York EDT
END:DAYLIGHT
BEGIN:DAYLIGHT
DTSTART:20250309T030000
RDATE:20251102T010000
TZOFFSETFROM:-0500
TZOFFSETTO:-0400
TZNAME:America/New_York EDT
END:DAYLIGHT
BEGIN:DAYLIGHT
DTSTART:20260308T030000
RDATE:20261101T010000
TZOFFSETFROM:-0500
TZOFFSETTO:-0400
TZNAME:America/New_York EDT
END:DAYLIGHT
BEGIN:DAYLIGHT
DTSTART:20270314T030000
RDATE:20271107T010000
TZOFFSETFROM:-0500
TZOFFSETTO:-0400
TZNAME:America/New_York EDT
END:DAYLIGHT
BEGIN:DAYLIGHT
DTSTART:20280312T030000
RDATE:20281105T010000
TZOFFSETFROM:-0500
TZOFFSETTO:-0400
TZNAME:America/New_York EDT
END:DAYLIGHT
BEGIN:DAYLIGHT
DTSTART:20290311T030000
RDATE:20291104T010000
TZOFFSETFROM:-0500
TZOFFSETTO:-0400
TZNAME:America/New_York EDT
END:DAYLIGHT
BEGIN:DAYLIGHT
DTSTART:20300310T030000
RDATE:20301103T010000
TZOFFSETFROM:-0500
TZOFFSETTO:-0400
TZNAME:America/New_York EDT
END:DAYLIGHT
END:VTIMEZONE
BEGIN:VEVENT
UID:d613ba70195552f9cbd317fbe33cd7a0
CATEGORIES:At Syracuse
CREATED:20191108T151517
SUMMARY:Boot Camp for Weatherization Installers
LOCATION:NYSWDA Training Center - East Syracuse
DESCRIPTION:Boot Camp\n
 \n
Training Location: NYSWDA Training Center (Building 2) - 58
 69 Fisher Road, East Syracuse, NY 13057\n
 \n
Who Should Attend;\n
Entry le
 vel field staff and weatherization contractors - see detailed below.\n
 \n

 Course Description;\n
This intensive 4-day training based at NYSWDA's Energ
 y Efficiency Training Center (Building 2) in East Syracuse, is a great intr
 oduction to building science principles and hands-on air sealing, dense pac
 k and loose fill cellulose insulation installation. Using our state-of-the-
 art realistic wall, ceiling and attic props, trainees will learn the techni
 ques needed to effectively weatherize our clients' homes.\n
Â\n
During this
  course, the trainees will be introduced to both HCR and BPI standards and 
 regulations on Health &amp; Safety, Lead Safe work practices and safe and p
 roper use of tools and equipment. Trainees will also become proficient on t
 he set up of blower doors and understand basic use of an infrared camera du
 ring air sealing operations.\n
Â\n
All three HCR mandatory trainings are co
 vered in this course: \n

Air Sealing - mandatory for WX directors, energy 
 auditors, post inspectors, crew chiefs and crew personnel
Health &amp; Safe
 ty - mandatory for WX directors, energy auditors, post inspectors, crew chi
 efs and heating technicians
\n - Lead Safe Weatherization - mandatory for a
 ll employees who may come in contact with lead based paint while performing
  their duties\n

Please reference the WAP Policies and Procedures manual fo
 r further details. The above-listed trainings are mandatory for the positio
 ns stated. If a subgrantee hires a new employee into one of these postions,
  or a current employee transfers into one of these positions, it is mandato
 ry that they receive this training within six (6) months of their start dat
 e. These mandatory training sessions must be repeated every three (3) years
  by subgrantee personnel who occupy these positions.\n
  \n
Agenda; \n
Day 
 One\n
Monday - 11:00am - 4:30pm: Residential Health &amp; Safety Fundamenta
 ls\n
\n
Day Two\n
Tuesday - 9:00am - 4:30pm: Introduction to Building Scien
 ce and Air Sealing Techniques, introduction to infrared cameras, introducti
 on to basic residential framing details with an emphasis on common air seal
 ing areas and building codes requirements for clearance to combustibles.\n

  \n
Day Three\n
Wednesday - 9:00am - 4:30pm: Lead Safe Work Practices\n
 \n
 
Day Four\n
Thursday - 9:00am - 4:00pm: All day lab session tool/equipment 
 safety, lead safe jobsite setup, air sealing techniques, dense pack and loo
 se fill cellulose installation techniques. Afternoon lab session: fundament
 als of blower door setup and operation, plus jobsite and lead safe cleanup 
 skills, training skills review, question and answer session, awarding of Ce
 rtificates of Completion.\n
\nDates;\n
Course covers the dates of January 1
 3-16, 2020\n
\nStart Times: Monday 11:00am then Tues.-Thurs. 9:00am\n
End T
 imes: Monday - Thursday 4:30pm\n
 \n
Other Notes:\n
Due to the nature of th
 e training, all attendees will be required to sign a waiver of liability an
 d a photo/video release form at the start of the training.\n\n\n
Prerequisi
 tes: None\n
\nClass Size: 16\n
\nBPI CEU: 16\n
\nInstructors:, Al McMahon, 
 NYSWDA\n\n
\nCourse Fees; \n
$950/person - NY Weatherization Sub-grantees \
 n
$950/person - affiliate members \n
$1,450/person - non-members \n
 \n
Lun
 ches are included for each day.\n
 \n
**Special note - if you wish to becom
 e an Affiliate Member, and save off the non-member rate, please contact Dre
 w Ehrlich (315-701-0440 ext. 225, This email address is being protected fro
 m spambots. You need JavaScript enabled to view it.
				document.getElement
 ById('cloak0f2a653b7c02e9d4e64af2dff034526d').innerHTML = '';
				var prefi
 x = 'ma' + 'il' + 'to';
				var path = 'hr' + 'ef' + '=';
				var addy0f2a6
 53b7c02e9d4e64af2dff034526d = 'dehrlich' + '@';
				addy0f2a653b7c02e9d4e64
 af2dff034526d = addy0f2a653b7c02e9d4e64af2dff034526d + 'nyswda' + '.' + 'or
 g';
				var addy_text0f2a653b7c02e9d4e64af2dff034526d = 'dehrlich' + '@' + 
 'nyswda' + '.' + 'org';document.getElementById('cloak0f2a653b7c02e9d4e64af2
 dff034526d').innerHTML += '<a ' + path + '\'' + prefix + ':' + addy0f2a653b
 7c02e9d4e64af2dff034526d + '\'>'+addy_text0f2a653b7c02e9d4e64af2dff034526d+
 '';
		) BEFORE YOU REGISTER for the course.\n
 \n
NYSWDA will not be respon
 sible for hotel costs, travel to and from the training, breakfast and dinne
 r meals, or incidentals. \n
 \n
 \n
\n\n
CLASS FULL - call or email  This e
 mail address is being protected from spambots. You need JavaScript enabled 
 to view it.
				document.getElementById('cloakcf39299bfd8cf5b905d282b142827
 352').innerHTML = '';
				var prefix = 'ma' + 'il' + 'to';
				var path = '
 hr' + 'ef' + '=';
				var addycf39299bfd8cf5b905d282b142827352 = 'rvisser' 
 + '@';
				addycf39299bfd8cf5b905d282b142827352 = addycf39299bfd8cf5b905d28
 2b142827352 + 'nyswda' + '.' + 'org';
				var addy_textcf39299bfd8cf5b905d2
 82b142827352 = 'rvisser' + '@' + 'nyswda' + '.' + 'org';document.getElement
 ById('cloakcf39299bfd8cf5b905d282b142827352').innerHTML += '<a ' + path + '
 \'' + prefix + ':' + addycf39299bfd8cf5b905d282b142827352 + '\'>'+addy_text
 cf39299bfd8cf5b905d282b142827352+'';
		 for availability or wait list  \n
 
 \n
X-ALT-DESC;FMTTYPE=text/html:<p><strong><span style="font-family: 'Tahoma','sans-serif'; color: #336699;
  font-size: 13.5pt;">Boot Camp</span></strong></p><p>&nbsp;</p><p><strong><
 span style="font-family: 'Tahoma','sans-serif'; color: #336699; font-size: 
 13.5pt;">Training Location: NYSWDA Training Center (Building 2) - 5869 Fish
 er Road, East Syracuse, NY 13057</span></strong></p><p>&nbsp;</p><p><em><sp
 an style="text-decoration: underline;"><span style="font-family: 'Tahoma','
 sans-serif'; color: black;"><span style="font-size: 12pt;">Who Should Atten
 d;</span></span></span></em></p><p><span style="font-family: 'Tahoma','sans
 -serif'; color: black;"><span style="font-size: 12pt;"><span style="color: 
 black; font-family: 'Tahoma','sans-serif';">Entry level field staff and wea
 therization contractors - see detailed below.</span></span></span></p><p><s
 pan style="font-family: Tahoma, sans-serif; color: #ffffff;"><span style="f
 ont-size: 12pt;"></span></span>&nbsp;</p><p><em><span style="text-decoratio
 n: underline;"><span style="font-family: 'Tahoma','sans-serif'; color: blac
 k;"><span style="font-size: 12pt;">Course</span></span></span></em><span st
 yle="text-decoration: underline;"><span style="font-family: 'Tahoma','sans-
 serif'; color: black;"><span style="font-size: 12pt;"> Description</span></
 span></span><span style="font-family: 'Tahoma','sans-serif'; color: black;"
 ><span style="font-size: 12pt;">;</span></span></p><p><span style="font-fam
 ily: 'Tahoma', 'sans-serif'; color: black; font-size: 12pt;">This intensive
  4-day training based at NYSWDA's Energy Efficiency Training Center (Buildi
 ng 2) in East Syracuse, is a great introduction to building science princip
 les and hands-on air sealing, dense pack and loose fill cellulose insulatio
 n installation. Using our state-of-the-art realistic wall, ceiling and atti
 c props, trainees will learn the techniques needed to effectively weatheriz
 e our clients' homes.</span></p><p><span style="font-family: Tahoma, sans-s
 erif; color: #ffffff; font-size: 12pt;">Â</span></p><p><span style="font-fa
 mily: 'Tahoma', 'sans-serif'; color: black; font-size: 12pt;">During this c
 ourse, the trainees will be introduced to both HCR and BPI standards and re
 gulations on Health &amp; Safety, Lead Safe work practices and safe and pro
 per use of tools and equipment. Trainees will also become proficient on the
  set up of blower doors and understand basic use of an infrared camera duri
 ng air sealing operations.</span></p><p><span style="font-family: Tahoma, s
 ans-serif; color: #ffffff; font-size: 12pt;">Â</span></p><p><span style="fo
 nt-family: 'Tahoma', 'sans-serif'; color: black; font-size: 12pt;">All thre
 e HCR mandatory trainings are covered in this course: </span></p><ul><li st
 yle="color: black;"><span style="font-family: 'Tahoma', 'sans-serif'; font-
 size: 12pt;">Air Sealing - mandatory for WX directors, energy auditors, pos
 t inspectors, crew chiefs and crew personnel</span></li><li style="color: b
 lack;"><span style="font-family: 'Tahoma', 'sans-serif'; font-size: 12pt;">
 Health &amp; Safety - mandatory for WX directors, energy auditors, post ins
 pectors, crew chiefs and heating technicians</span></li><li><span style="fo
 nt-family: 'Tahoma', 'sans-serif'; color: black; font-size: 12pt;">Lead Saf
 e Weatherization - mandatory for all employees who may come in contact with
  lead based paint while performing their duties<br /></span></li></ul><p><s
 pan style="font-family: 'Tahoma', 'sans-serif'; color: black; font-size: 12
 pt;">Please reference the WAP Policies and Procedures manual for further de
 tails. The above-listed trainings are mandatory for the positions stated. I
 f a subgrantee hires a new employee into one of these postions, or a curren
 t employee transfers into one of these positions, it is mandatory that they
  receive this training within six (6) months of their start date. These man
 datory training sessions must be repeated every three (3) years by subgrant
 ee personnel who occupy these positions.</span></p><p>&nbsp;&nbsp;</p><p><s
 pan style="font-size: 12pt;"><em><span style="text-decoration: underline;">
 <span style="font-family: 'Tahoma','sans-serif'; color: black;">Agenda;</sp
 an></span></em></span>&nbsp;</p><p><span style="font-size: 12pt;"><span sty
 le="text-decoration: underline;"><span style="font-family: 'Tahoma','sans-s
 erif'; color: black;">Day One</span></span></span></p><p><span style="font-
 size: 12pt;"><span style="font-family: 'Tahoma','sans-serif'; color: black;
 ">Monday - 11:00am - 4:30pm: Residential Health &amp; Safety Fundamentals</
 span></span></p><p><span style="font-size: 12pt; color: #ffffff;"><em><span
  style="text-decoration: underline;"><span style="font-family: Tahoma, sans
 -serif;"></span></span></em></span></p><p><span style="font-size: 12pt;"><s
 pan style="text-decoration: underline;"><span style="font-family: 'Tahoma',
 'sans-serif'; color: black;">Day Two</span></span></span></p><p><span style
 ="font-size: 12pt;"><span style="font-family: 'Tahoma','sans-serif'; color:
  black;">Tuesday - 9:00am - 4:30pm: Introduction to Building Science and Ai
 r Sealing Techniques, introduction to infrared cameras, introduction to bas
 ic residential framing details with an emphasis on common air sealing areas
  and building codes requirements for clearance to combustibles.</span></spa
 n></p><p><span style="font-size: 12pt; color: #ffffff;"><span style="font-f
 amily: Tahoma, sans-serif;"></span></span>&nbsp;</p><p><span style="text-de
 coration: underline;"><span style="font-size: 12pt;"><span style="color: bl
 ack; font-family: 'Tahoma','sans-serif'; text-decoration: underline;">Day T
 hree</span></span></span></p><p><span style="font-size: 12pt;"><span style=
 "font-family: 'Tahoma','sans-serif'; color: black;">Wednesday - 9:00am - 4:
 30pm: Lead Safe Work Practices</span></span></p><p><span style="font-size: 
 12pt; color: #ffffff;"><span style="font-family: Tahoma, sans-serif;"></spa
 n></span>&nbsp;</p><p><span style="text-decoration: underline;"><span style
 ="font-size: 12pt;"><span style="color: black; font-family: 'Tahoma','sans-
 serif'; text-decoration: underline;">Day Four</span></span></span></p><p><s
 pan style="font-size: 12pt;"><span style="font-family: 'Tahoma','sans-serif
 '; color: black;">Thursday - 9:00am - 4:00pm: All day lab session tool/equi
 pment safety, lead safe jobsite setup, air sealing techniques, dense pack a
 nd loose fill cellulose installation techniques. Afternoon lab session: fun
 damentals of blower door setup and operation, plus jobsite and lead safe cl
 eanup skills, training skills review, question and answer session, awarding
  of Certificates of Completion.</span></span></p><p><span style="font-size:
  12pt;"><em><span style="text-decoration: underline;"><span style="font-fam
 ily: 'Tahoma','sans-serif'; color: black;"><br /></span></span></em></span>
 <span style="font-size: 12pt;"><em><span style="text-decoration: underline;
 "><span style="font-family: 'Tahoma','sans-serif'; color: black;">Dates;</s
 pan></span></em></span></p><p><span style="font-family: 'Arial', 'sans-seri
 f'; color: black; font-size: 12pt;">Course covers the dates of January&nbsp
 ;13-16, 2020</span></p><p><span style="font-family: 'Arial', 'sans-serif'; 
 color: black; font-size: 12pt;"><br />Start Times: Monday 11:00am then Tues
 .-Thurs. 9:00am</span></p><p><span style="font-family: 'Arial', 'sans-serif
 '; color: black; font-size: 12pt;">End Times: Monday - Thursday 4:30pm</spa
 n></p><p><span style="font-family: Arial, sans-serif; color: #ffffff; font-
 size: 12pt;"></span>&nbsp;</p><p><span style="font-size: 12pt;"><em><span s
 tyle="text-decoration: underline;"><span style="font-family: 'Tahoma','sans
 -serif'; color: black;">Other Notes:</span></span></em><span style="font-fa
 mily: 'Tahoma','sans-serif'; color: black;"></span></span></p><p><span styl
 e="font-size: 12pt;"><span style="font-family: 'Tahoma','sans-serif'; color
 : black;">Due to the nature of the training, all attendees will be required
  to sign a waiver of liability and a photo/video release form at the start 
 of the training.</span></span><span style="font-family: tahoma,arial,helvet
 ica,sans-serif; font-size: 12pt;"><strong><span style="color: blue;"><br />
 <br /></span></strong></span></p><p><span style="font-size: 12pt;"><em><spa
 n style="text-decoration: underline;"><span style="font-family: 'Tahoma','s
 ans-serif'; color: black;">Prerequisites:</span></span></em><em><span style
 ="font-family: 'Tahoma','sans-serif'; color: black;"> </span></em><span sty
 le="font-family: 'Tahoma','sans-serif'; color: black;">None</span></span></
 p><p><span style="font-size: 12pt;"><em><span style="text-decoration: under
 line;"><span style="font-family: 'Tahoma','sans-serif'; color: black;"><br 
 />Class Size:</span></span></em> <span style="font-family: 'Tahoma','sans-s
 erif'; color: black;">16</span></span></p><p><span style="font-size: 12pt;"
 ><em><span style="text-decoration: underline;"><span style="font-family: 'T
 ahoma','sans-serif'; color: black;"><br />BPI CEU</span></span></em><span s
 tyle="text-decoration: underline;"><span style="font-family: 'Tahoma','sans
 -serif'; color: black;">:</span></span><span style="font-family: 'Tahoma','
 sans-serif'; color: black;"> 16</span></span></p><p><span style="font-size:
  12pt;"><em><span style="text-decoration: underline;"><span style="font-fam
 ily: 'Tahoma','sans-serif'; color: black;"><br /></span></span></em><em><sp
 an style="text-decoration: underline;"><span style="font-family: 'Tahoma', 
 'sans-serif'; color: black; text-decoration: underline;">Instructors:</span
 ></span></em><span style="font-family: 'Tahoma','sans-serif'; color: black;
 ">, Al McMahon, NYSWDA<br /></span></span></p><p><span style="font-size: 12
 pt;"><em><span style="text-decoration: underline;"><span style="font-family
 : 'Tahoma','sans-serif'; color: black;"><br />Course</span></span></em><spa
 n style="text-decoration: underline;"><span style="font-family: 'Tahoma','s
 ans-serif'; color: black;"> Fees;</span></span><span style="font-family: 'T
 ahoma','sans-serif'; color: black;"> </span></span></p><p><span style="font
 -family: 'Tahoma', 'sans-serif'; color: black; font-size: 12pt;">$950/perso
 n - NY Weatherization Sub-grantees</span><span style="font-family: 'Tahoma'
 , 'sans-serif'; color: black; font-size: 12pt;"><span style="color: #ff6600
 ;"><em> </em></span></span></p><p><span style="font-family: 'Tahoma', 'sans
 -serif'; color: black; font-size: 12pt;">$950/person - affiliate members </
 span></p><p><span style="font-family: 'Tahoma', 'sans-serif'; color: black;
  font-size: 12pt;">$1,450/person - non-members </span></p><p>&nbsp;</p><p><
 span style="font-family: Tahoma; font-size: 12pt;">Lunches are included for
  each day.</span></p><p>&nbsp;</p><p style="margin-top: 0in; margin-right: 
 0in; margin-bottom: 0pt;"><strong><i><span style="background: white; color:
  #02613f; font-family: 'Georgia','serif';"><span style="font-size: small;">
 **Special note</span></span></i></strong><strong><i><span style="background
 : white; color: black; font-family: 'Georgia','serif';"><span style="font-s
 ize: small;">&nbsp;-&nbsp;if you wish to become an Affiliate Member, and&nb
 sp;save off the non-member rate, please contact&nbsp;Drew Ehrlich&nbsp;(315
 -701-0440 ext. 225,&nbsp;</span><span id="cloak0f2a653b7c02e9d4e64af2dff034
 526d">This email address is being protected from spambots. You need JavaScr
 ipt enabled to view it.</span><script type='text/javascript'>
				document.
 getElementById('cloak0f2a653b7c02e9d4e64af2dff034526d').innerHTML = '';
			
 	var prefix = 'ma' + 'il' + 'to';
				var path = 'hr' + 'ef' + '=';
				var
  addy0f2a653b7c02e9d4e64af2dff034526d = 'dehrlich' + '@';
				addy0f2a653b7
 c02e9d4e64af2dff034526d = addy0f2a653b7c02e9d4e64af2dff034526d + 'nyswda' +
  '.' + 'org';
				var addy_text0f2a653b7c02e9d4e64af2dff034526d = '<span st
 yle="color: #0000ff; font-size: small;">dehrlich' + '@' + 'nyswda' + '.' + 
 'org</span>';document.getElementById('cloak0f2a653b7c02e9d4e64af2dff034526d
 ').innerHTML += '<a ' + path + '\'' + prefix + ':' + addy0f2a653b7c02e9d4e6
 4af2dff034526d + '\'>'+addy_text0f2a653b7c02e9d4e64af2dff034526d+'<\/a>';
	
 	</script><span style="font-size: small;">)&nbsp;</span></span></i></strong
 ><span style="font-size: small;"><strong><span style="background: white; co
 lor: #02613f; font-family: 'Georgia','serif';">BEFORE YOU REGISTER&nbsp;</s
 pan></strong><em><b><span style="background: white; color: black; font-fami
 ly: 'Georgia','serif';">for the course</span></b></em><strong><span style="
 background: white; color: black; font-family: 'Georgia','serif';">.</span><
 /strong></span></p><p><span style="color: #ff6600; font-family: tahoma,aria
 l,helvetica,sans-serif; font-size: 12pt;"><span style="color: #ff6600; font
 -family: tahoma,arial,helvetica,sans-serif; font-size: 12pt;"><span style="
 font-family: Times New Roman; font-size: small;"></span></span></span>&nbsp
 ;</p><p><span style="color: #ffffff;"></span><span style="color: black; fon
 t-family: 'Tahoma', 'sans-serif'; font-size: 12pt;">NYSWDA will not be resp
 onsible for hotel costs, travel to and from the training, breakfast and din
 ner meals, or incidentals. </span></p><p>&nbsp;</p><p><span style="color: #
 0000ff;"><em><strong><span style="font-family: tahoma,arial,helvetica,sans-
 serif; font-size: 14pt;"> </span></strong></em></span></p><p><span style="c
 olor: #336699;"><span style="font-family: Tahoma;"><span style="font-size: 
 medium;"><span style="color: #000000;"><span style="font-size: small;"><spa
 n style="font-family: Tahoma;"><span style="font-family: Tahoma;"><span sty
 le="color: #000000;"><span style="font-family: Tahoma;"><span style="font-f
 amily: Arial, Helvetica;"><span style="color: #000000;"><span style="font-f
 amily: Tahoma;"><span style="font-family: Tahoma;"><span style="font-family
 : Tahoma;"><span style="font-family: Tahoma;"><span style="font-family: Tah
 oma;"><span style="font-family: Tahoma;"><span style="font-family: Tahoma;"
 ><span style="font-family: Tahoma;"><span style="font-family: Tahoma;"><spa
 n style="font-family: Tahoma;"><span style="font-family: Tahoma;"><span sty
 le="font-family: Tahoma;"><span style="font-family: Tahoma;"><span style="f
 ont-family: Arial, Helvetica;"><span style="font-size: x-small;"><span styl
 e="color: #000000;"><span style="font-family: Calibri;"><span style="font-s
 ize: small;"><span style="font-family: Times;"><span style="color: #000000;
 "><span style="font-family: Tahoma;"><span style="font-family: Times;"><spa
 n style="font-family: Tahoma;"><span style="font-family: Tahoma;"><span sty
 le="color: #000000;"><span style="font-size: 12pt;"><em></em></span><span s
 tyle="font-size: x-small;"><span style="color: #000000;"><span style="font-
 family: Arial, Helvetica;"><br /></span></span></span></span></span></span>
 </span></span></span></span></span></span></span></span></span></span></spa
 n></span></span></span></span></span></span></span></span></span></span></s
 pan></span></span></span></span></span></span></span></span></span></span><
 /span></p><p><span style="color: #ffffff; font-family: Tahoma, sans-serif;"
 ><em><em><strong><em><strong><em><strong><span style="color: #ffffff; font-
 family: tahoma,arial,helvetica,sans-serif; font-size: 14pt;"><span style="c
 olor: #ff0000;">CLASS FULL - call or email</span>&nbsp; <span id="cloakcf39
 299bfd8cf5b905d282b142827352">This email address is being protected from sp
 ambots. You need JavaScript enabled to view it.</span><script type='text/ja
 vascript'>
				document.getElementById('cloakcf39299bfd8cf5b905d282b1428273
 52').innerHTML = '';
				var prefix = 'ma' + 'il' + 'to';
				var path = 'h
 r' + 'ef' + '=';
				var addycf39299bfd8cf5b905d282b142827352 = 'rvisser' +
  '@';
				addycf39299bfd8cf5b905d282b142827352 = addycf39299bfd8cf5b905d282
 b142827352 + 'nyswda' + '.' + 'org';
				var addy_textcf39299bfd8cf5b905d28
 2b142827352 = '<span style="color: #0066cc;">rvisser' + '@' + 'nyswda' + '.
 ' + 'org</span>';document.getElementById('cloakcf39299bfd8cf5b905d282b14282
 7352').innerHTML += '<a ' + path + '\'' + prefix + ':' + addycf39299bfd8cf5
 b905d282b142827352 + '\'>'+addy_textcf39299bfd8cf5b905d282b142827352+'<\/a>
 ';
		</script> <span style="color: #ff0000;">for availability or wait list<
 /span></span></strong></em><span style="color: #ffffff;">&nbsp;</span></str
 ong></em></strong></em></em><span style="font-family: Arial, Helvetica;"><s
 pan style="font-family: Tahoma;"><span style="font-family: Tahoma;"><span s
 tyle="font-family: Tahoma;"><span style="font-family: Arial, Helvetica;"><s
 pan style="font-family: Tahoma;"><em><span style="font-family: Tahoma;"><sp
 an style="font-size: 14pt;"><em><em></em></em></span></span></em></span></s
 pan></span></span></span></span><em></em><em></em> </span></p><p>&nbsp;</p>
CONTACT:This email address is being protected from spambots. You need JavaScript enabled to view it.
				document.getElementById('cloak4b96b1d7b8f3e974504e9ef2c11b8fcc').innerHTML = '';
				var prefix = '&#109;a' + 'i&#108;' + '&#116;o';
				var path = 'hr' + 'ef' + '=';
				var addy4b96b1d7b8f3e974504e9ef2c11b8fcc = 'rv&#105;ss&#101;r' + '&#64;';
				addy4b96b1d7b8f3e974504e9ef2c11b8fcc = addy4b96b1d7b8f3e974504e9ef2c11b8fcc + 'nyswd&#97;' + '&#46;' + '&#111;rg';
				var addy_text4b96b1d7b8f3e974504e9ef2c11b8fcc = 'rv&#105;ss&#101;r' + '&#64;' + 'nyswd&#97;' + '&#46;' + '&#111;rg';document.getElementById('cloak4b96b1d7b8f3e974504e9ef2c11b8fcc').innerHTML += '<a ' + path + '\'' + prefix + ':' + addy4b96b1d7b8f3e974504e9ef2c11b8fcc + '\'>'+addy_text4b96b1d7b8f3e974504e9ef2c11b8fcc+'';
		
DTSTAMP:20260425T130949
DTSTART;TZID=America/New_York:20200113T090000
DTEND;TZID=America/New_York:20200116T170000
SEQUENCE:0
TRANSP:OPAQUE
END:VEVENT
END:VCALENDAR