BEGIN:VCALENDAR
VERSION:2.0
PRODID:-//jEvents 2.0 for Joomla//EN
CALSCALE:GREGORIAN
METHOD:PUBLISH
BEGIN:VTIMEZONE
TZID:America/New_York
BEGIN:STANDARD
DTSTART:20190302T090000
RDATE:20190310T030000
TZOFFSETFROM:-0400
TZOFFSETTO:-0500
TZNAME:America/New_York EST
END:STANDARD
BEGIN:STANDARD
DTSTART:20191103T010000
RDATE:20200308T030000
TZOFFSETFROM:-0400
TZOFFSETTO:-0500
TZNAME:America/New_York EST
END:STANDARD
BEGIN:STANDARD
DTSTART:20201101T010000
RDATE:20210314T030000
TZOFFSETFROM:-0400
TZOFFSETTO:-0500
TZNAME:America/New_York EST
END:STANDARD
BEGIN:STANDARD
DTSTART:20211107T010000
RDATE:20220313T030000
TZOFFSETFROM:-0400
TZOFFSETTO:-0500
TZNAME:America/New_York EST
END:STANDARD
BEGIN:STANDARD
DTSTART:20221106T010000
RDATE:20230312T030000
TZOFFSETFROM:-0400
TZOFFSETTO:-0500
TZNAME:America/New_York EST
END:STANDARD
BEGIN:STANDARD
DTSTART:20231105T010000
RDATE:20240310T030000
TZOFFSETFROM:-0400
TZOFFSETTO:-0500
TZNAME:America/New_York EST
END:STANDARD
BEGIN:STANDARD
DTSTART:20241103T010000
RDATE:20250309T030000
TZOFFSETFROM:-0400
TZOFFSETTO:-0500
TZNAME:America/New_York EST
END:STANDARD
BEGIN:STANDARD
DTSTART:20251102T010000
RDATE:20260308T030000
TZOFFSETFROM:-0400
TZOFFSETTO:-0500
TZNAME:America/New_York EST
END:STANDARD
BEGIN:STANDARD
DTSTART:20261101T010000
RDATE:20270314T030000
TZOFFSETFROM:-0400
TZOFFSETTO:-0500
TZNAME:America/New_York EST
END:STANDARD
BEGIN:STANDARD
DTSTART:20271107T010000
RDATE:20280312T030000
TZOFFSETFROM:-0400
TZOFFSETTO:-0500
TZNAME:America/New_York EST
END:STANDARD
BEGIN:STANDARD
DTSTART:20281105T010000
RDATE:20290311T030000
TZOFFSETFROM:-0400
TZOFFSETTO:-0500
TZNAME:America/New_York EST
END:STANDARD
BEGIN:STANDARD
DTSTART:20291104T010000
RDATE:20300310T030000
TZOFFSETFROM:-0400
TZOFFSETTO:-0500
TZNAME:America/New_York EST
END:STANDARD
BEGIN:STANDARD
DTSTART:20301103T010000
RDATE:20310309T030000
TZOFFSETFROM:-0400
TZOFFSETTO:-0500
TZNAME:America/New_York EST
END:STANDARD
BEGIN:DAYLIGHT
DTSTART:20190310T030000
RDATE:20191103T010000
TZOFFSETFROM:-0500
TZOFFSETTO:-0400
TZNAME:America/New_York EDT
END:DAYLIGHT
BEGIN:DAYLIGHT
DTSTART:20200308T030000
RDATE:20201101T010000
TZOFFSETFROM:-0500
TZOFFSETTO:-0400
TZNAME:America/New_York EDT
END:DAYLIGHT
BEGIN:DAYLIGHT
DTSTART:20210314T030000
RDATE:20211107T010000
TZOFFSETFROM:-0500
TZOFFSETTO:-0400
TZNAME:America/New_York EDT
END:DAYLIGHT
BEGIN:DAYLIGHT
DTSTART:20220313T030000
RDATE:20221106T010000
TZOFFSETFROM:-0500
TZOFFSETTO:-0400
TZNAME:America/New_York EDT
END:DAYLIGHT
BEGIN:DAYLIGHT
DTSTART:20230312T030000
RDATE:20231105T010000
TZOFFSETFROM:-0500
TZOFFSETTO:-0400
TZNAME:America/New_York EDT
END:DAYLIGHT
BEGIN:DAYLIGHT
DTSTART:20240310T030000
RDATE:20241103T010000
TZOFFSETFROM:-0500
TZOFFSETTO:-0400
TZNAME:America/New_York EDT
END:DAYLIGHT
BEGIN:DAYLIGHT
DTSTART:20250309T030000
RDATE:20251102T010000
TZOFFSETFROM:-0500
TZOFFSETTO:-0400
TZNAME:America/New_York EDT
END:DAYLIGHT
BEGIN:DAYLIGHT
DTSTART:20260308T030000
RDATE:20261101T010000
TZOFFSETFROM:-0500
TZOFFSETTO:-0400
TZNAME:America/New_York EDT
END:DAYLIGHT
BEGIN:DAYLIGHT
DTSTART:20270314T030000
RDATE:20271107T010000
TZOFFSETFROM:-0500
TZOFFSETTO:-0400
TZNAME:America/New_York EDT
END:DAYLIGHT
BEGIN:DAYLIGHT
DTSTART:20280312T030000
RDATE:20281105T010000
TZOFFSETFROM:-0500
TZOFFSETTO:-0400
TZNAME:America/New_York EDT
END:DAYLIGHT
BEGIN:DAYLIGHT
DTSTART:20290311T030000
RDATE:20291104T010000
TZOFFSETFROM:-0500
TZOFFSETTO:-0400
TZNAME:America/New_York EDT
END:DAYLIGHT
BEGIN:DAYLIGHT
DTSTART:20300310T030000
RDATE:20301103T010000
TZOFFSETFROM:-0500
TZOFFSETTO:-0400
TZNAME:America/New_York EDT
END:DAYLIGHT
END:VTIMEZONE
BEGIN:VEVENT
UID:44fb47382eb8a885318b1a2080088587
CATEGORIES:At Syracuse
CREATED:20200207T124949
SUMMARY:Boot Camp for Weatherization Installers
LOCATION:NYSWDA Training Center - East Syracuse
DESCRIPTION:Boot Camp\n
 \n
Training Location: NYSWDA Training Center (Building 2) - 58
 69 Fisher Road, East Syracuse, NY 13057\n
 \n
Who Should Attend;\n
Entry le
 vel field staff and weatherization contractors - see detailed below.\n
 \n

 Course Description;\n
This intensive 4-day training based at NYSWDA's Energ
 y Efficiency Training Center (Building 2) in East Syracuse, is a great intr
 oduction to building science principles and hands-on air sealing, dense pac
 k and loose fill cellulose insulation installation. Using our state-of-the-
 art realistic wall, ceiling and attic props, trainees will learn the techni
 ques needed to effectively weatherize our clients' homes.\n
Â\n
During this
  course, the trainees will be introduced to both HCR and BPI standards and 
 regulations on Health &amp; Safety, Lead Safe work practices and safe and p
 roper use of tools and equipment. Trainees will also become proficient on t
 he set up of blower doors and understand basic use of an infrared camera du
 ring air sealing operations.\n
Â\n
All three HCR mandatory trainings are co
 vered in this course: \n

Air Sealing - mandatory for WX directors, energy 
 auditors, post inspectors, crew chiefs and crew personnel
Health &amp; Safe
 ty - mandatory for WX directors, energy auditors, post inspectors, crew chi
 efs and heating technicians
\n - Lead Safe Weatherization - mandatory for a
 ll employees who may come in contact with lead based paint while performing
  their duties\n

Please reference the WAP Policies and Procedures manual fo
 r further details. The above-listed trainings are mandatory for the positio
 ns stated. If a subgrantee hires a new employee into one of these postions,
  or a current employee transfers into one of these positions, it is mandato
 ry that they receive this training within six (6) months of their start dat
 e. These mandatory training sessions must be repeated every three (3) years
  by subgrantee personnel who occupy these positions.\n
  \n
Agenda; \n
Day 
 One\n
Monday - 11:00am - 4:30pm: Residential Health &amp; Safety Fundamenta
 ls\n
\n
Day Two\n
Tuesday - 9:00am - 4:30pm: Introduction to Building Scien
 ce and Air Sealing Techniques, introduction to infrared cameras, introducti
 on to basic residential framing details with an emphasis on common air seal
 ing areas and building codes requirements for clearance to combustibles.\n

  \n
Day Three\n
Wednesday - 9:00am - 4:30pm: Lead Safe Work Practices\n
 \n
 
Day Four\n
Thursday - 9:00am - 4:00pm: All day lab session tool/equipment 
 safety, lead safe jobsite setup, air sealing techniques, dense pack and loo
 se fill cellulose installation techniques. Afternoon lab session: fundament
 als of blower door setup and operation, plus jobsite and lead safe cleanup 
 skills, training skills review, question and answer session, awarding of Ce
 rtificates of Completion.\n
\nDates;\n
Course covers the dates of March 2-5
 , 2020\n
\nStart Times: Monday 11:00am then Tues.-Thurs. 9:00am\n
End Times
 : Monday - Thursday 4:30pm\n
 \n
Other Notes:\n
Due to the nature of the tr
 aining, all attendees will be required to sign a waiver of liability and a 
 photo/video release form at the start of the training.\n\n\n
Prerequisites:
  None\n
\nClass Size: 16\n
\nBPI CEU: 16\n
\nInstructors:, Joe Ilacqua, NYS
 WDA\n\n
\nCourse Fees; \n
$950/person - NY Weatherization Sub-grantees \n
$
 950/person - affiliate members \n
$1,450/person - non-members \n
 \n
Lunche
 s are included for each day.\n
 \n
**Special note - if you wish to become a
 n Affiliate Member, and save off the non-member rate, please contact Drew E
 hrlich (315-701-0440 ext. 225, This email address is being protected from s
 pambots. You need JavaScript enabled to view it.
				document.getElementByI
 d('cloak21cd9880ef6cfd8bb51793606a42908b').innerHTML = '';
				var prefix =
  'ma' + 'il' + 'to';
				var path = 'hr' + 'ef' + '=';
				var addy21cd9880
 ef6cfd8bb51793606a42908b = 'dehrlich' + '@';
				addy21cd9880ef6cfd8bb51793
 606a42908b = addy21cd9880ef6cfd8bb51793606a42908b + 'nyswda' + '.' + 'org';
 
				var addy_text21cd9880ef6cfd8bb51793606a42908b = 'dehrlich' + '@' + 'ny
 swda' + '.' + 'org';document.getElementById('cloak21cd9880ef6cfd8bb51793606
 a42908b').innerHTML += '<a ' + path + '\'' + prefix + ':' + addy21cd9880ef6
 cfd8bb51793606a42908b + '\'>'+addy_text21cd9880ef6cfd8bb51793606a42908b+'';
 
		) BEFORE YOU REGISTER for the course.\n
 \n
NYSWDA will not be responsib
 le for hotel costs, travel to and from the training, breakfast and dinner m
 eals, or incidentals.\n
 \n
Through the support of NYS HCR funding, we are 
 able to provide quality training at discounted rates to NYSWDA members.\n
 
 \n
Click here to register (index.php?option=com_civicrm&amp;task=civicrm/ev
 ent/register&amp;reset=1&amp;id=11318)\n
 \n
 \n
X-ALT-DESC;FMTTYPE=text/html:<p><strong><span style="font-family: 'Tahoma','sans-serif'; color: #336699;
  font-size: 13.5pt;">Boot Camp</span></strong></p><p>&nbsp;</p><p><strong><
 span style="font-family: 'Tahoma','sans-serif'; color: #336699; font-size: 
 13.5pt;">Training Location: NYSWDA Training Center (Building 2) - 5869 Fish
 er Road, East Syracuse, NY 13057</span></strong></p><p>&nbsp;</p><p><em><sp
 an style="text-decoration: underline;"><span style="font-family: 'Tahoma','
 sans-serif'; color: black;"><span style="font-size: 12pt;">Who Should Atten
 d;</span></span></span></em></p><p><span style="font-family: 'Tahoma','sans
 -serif'; color: black;"><span style="font-size: 12pt;"><span style="color: 
 black; font-family: 'Tahoma','sans-serif';">Entry level field staff and wea
 therization contractors - see detailed below.</span></span></span></p><p><s
 pan style="font-family: Tahoma, sans-serif; color: #ffffff;"><span style="f
 ont-size: 12pt;"></span></span>&nbsp;</p><p><em><span style="text-decoratio
 n: underline;"><span style="font-family: 'Tahoma','sans-serif'; color: blac
 k;"><span style="font-size: 12pt;">Course</span></span></span></em><span st
 yle="text-decoration: underline;"><span style="font-family: 'Tahoma','sans-
 serif'; color: black;"><span style="font-size: 12pt;"> Description</span></
 span></span><span style="font-family: 'Tahoma','sans-serif'; color: black;"
 ><span style="font-size: 12pt;">;</span></span></p><p><span style="font-fam
 ily: 'Tahoma', 'sans-serif'; color: black; font-size: 12pt;">This intensive
  4-day training based at NYSWDA's Energy Efficiency Training Center (Buildi
 ng 2) in East Syracuse, is a great introduction to building science princip
 les and hands-on air sealing, dense pack and loose fill cellulose insulatio
 n installation. Using our state-of-the-art realistic wall, ceiling and atti
 c props, trainees will learn the techniques needed to effectively weatheriz
 e our clients' homes.</span></p><p><span style="font-family: Tahoma, sans-s
 erif; color: #ffffff; font-size: 12pt;">Â</span></p><p><span style="font-fa
 mily: 'Tahoma', 'sans-serif'; color: black; font-size: 12pt;">During this c
 ourse, the trainees will be introduced to both HCR and BPI standards and re
 gulations on Health &amp; Safety, Lead Safe work practices and safe and pro
 per use of tools and equipment. Trainees will also become proficient on the
  set up of blower doors and understand basic use of an infrared camera duri
 ng air sealing operations.</span></p><p><span style="font-family: Tahoma, s
 ans-serif; color: #ffffff; font-size: 12pt;">Â</span></p><p><span style="fo
 nt-family: 'Tahoma', 'sans-serif'; color: black; font-size: 12pt;">All thre
 e HCR mandatory trainings are covered in this course: </span></p><ul><li st
 yle="color: black;"><span style="font-family: 'Tahoma', 'sans-serif'; font-
 size: 12pt;">Air Sealing - mandatory for WX directors, energy auditors, pos
 t inspectors, crew chiefs and crew personnel</span></li><li style="color: b
 lack;"><span style="font-family: 'Tahoma', 'sans-serif'; font-size: 12pt;">
 Health &amp; Safety - mandatory for WX directors, energy auditors, post ins
 pectors, crew chiefs and heating technicians</span></li><li><span style="fo
 nt-family: 'Tahoma', 'sans-serif'; color: black; font-size: 12pt;">Lead Saf
 e Weatherization - mandatory for all employees who may come in contact with
  lead based paint while performing their duties<br /></span></li></ul><p><s
 pan style="font-family: 'Tahoma', 'sans-serif'; color: black; font-size: 12
 pt;">Please reference the WAP Policies and Procedures manual for further de
 tails. The above-listed trainings are mandatory for the positions stated. I
 f a subgrantee hires a new employee into one of these postions, or a curren
 t employee transfers into one of these positions, it is mandatory that they
  receive this training within six (6) months of their start date. These man
 datory training sessions must be repeated every three (3) years by subgrant
 ee personnel who occupy these positions.</span></p><p>&nbsp;&nbsp;</p><p><s
 pan style="font-size: 12pt;"><em><span style="text-decoration: underline;">
 <span style="font-family: 'Tahoma','sans-serif'; color: black;">Agenda;</sp
 an></span></em></span>&nbsp;</p><p><span style="font-size: 12pt;"><span sty
 le="text-decoration: underline;"><span style="font-family: 'Tahoma','sans-s
 erif'; color: black;">Day One</span></span></span></p><p><span style="font-
 size: 12pt;"><span style="font-family: 'Tahoma','sans-serif'; color: black;
 ">Monday - 11:00am - 4:30pm: Residential Health &amp; Safety Fundamentals</
 span></span></p><p><span style="font-size: 12pt; color: #ffffff;"><em><span
  style="text-decoration: underline;"><span style="font-family: Tahoma, sans
 -serif;"></span></span></em></span></p><p><span style="font-size: 12pt;"><s
 pan style="text-decoration: underline;"><span style="font-family: 'Tahoma',
 'sans-serif'; color: black;">Day Two</span></span></span></p><p><span style
 ="font-size: 12pt;"><span style="font-family: 'Tahoma','sans-serif'; color:
  black;">Tuesday - 9:00am - 4:30pm: Introduction to Building Science and Ai
 r Sealing Techniques, introduction to infrared cameras, introduction to bas
 ic residential framing details with an emphasis on common air sealing areas
  and building codes requirements for clearance to combustibles.</span></spa
 n></p><p><span style="font-size: 12pt; color: #ffffff;"><span style="font-f
 amily: Tahoma, sans-serif;"></span></span>&nbsp;</p><p><span style="text-de
 coration: underline;"><span style="font-size: 12pt;"><span style="color: bl
 ack; font-family: 'Tahoma','sans-serif'; text-decoration: underline;">Day T
 hree</span></span></span></p><p><span style="font-size: 12pt;"><span style=
 "font-family: 'Tahoma','sans-serif'; color: black;">Wednesday - 9:00am - 4:
 30pm: Lead Safe Work Practices</span></span></p><p><span style="font-size: 
 12pt; color: #ffffff;"><span style="font-family: Tahoma, sans-serif;"></spa
 n></span>&nbsp;</p><p><span style="text-decoration: underline;"><span style
 ="font-size: 12pt;"><span style="color: black; font-family: 'Tahoma','sans-
 serif'; text-decoration: underline;">Day Four</span></span></span></p><p><s
 pan style="font-size: 12pt;"><span style="font-family: 'Tahoma','sans-serif
 '; color: black;">Thursday - 9:00am - 4:00pm: All day lab session tool/equi
 pment safety, lead safe jobsite setup, air sealing techniques, dense pack a
 nd loose fill cellulose installation techniques. Afternoon lab session: fun
 damentals of blower door setup and operation, plus jobsite and lead safe cl
 eanup skills, training skills review, question and answer session, awarding
  of Certificates of Completion.</span></span></p><p><span style="font-size:
  12pt;"><em><span style="text-decoration: underline;"><span style="font-fam
 ily: 'Tahoma','sans-serif'; color: black;"><br /></span></span></em></span>
 <span style="font-size: 12pt;"><em><span style="text-decoration: underline;
 "><span style="font-family: 'Tahoma','sans-serif'; color: black;">Dates;</s
 pan></span></em></span></p><p><span style="font-family: 'Arial', 'sans-seri
 f'; color: black; font-size: 12pt;">Course covers the dates of March 2-5, 2
 020</span></p><p><span style="font-family: 'Arial', 'sans-serif'; color: bl
 ack; font-size: 12pt;"><br />Start Times: Monday 11:00am then Tues.-Thurs. 
 9:00am</span></p><p><span style="font-family: 'Arial', 'sans-serif'; color:
  black; font-size: 12pt;">End Times: Monday - Thursday 4:30pm</span></p><p>
 <span style="font-family: Arial, sans-serif; color: #ffffff; font-size: 12p
 t;"></span>&nbsp;</p><p><span style="font-size: 12pt;"><em><span style="tex
 t-decoration: underline;"><span style="font-family: 'Tahoma','sans-serif'; 
 color: black;">Other Notes:</span></span></em><span style="font-family: 'Ta
 homa','sans-serif'; color: black;"></span></span></p><p><span style="font-s
 ize: 12pt;"><span style="font-family: 'Tahoma','sans-serif'; color: black;"
 >Due to the nature of the training, all attendees will be required to sign 
 a waiver of liability and a photo/video release form at the start of the tr
 aining.</span></span><span style="font-family: tahoma,arial,helvetica,sans-
 serif; font-size: 12pt;"><strong><span style="color: blue;"><br /><br /></s
 pan></strong></span></p><p><span style="font-size: 12pt;"><em><span style="
 text-decoration: underline;"><span style="font-family: 'Tahoma','sans-serif
 '; color: black;">Prerequisites:</span></span></em><em><span style="font-fa
 mily: 'Tahoma','sans-serif'; color: black;"> </span></em><span style="font-
 family: 'Tahoma','sans-serif'; color: black;">None</span></span></p><p><spa
 n style="font-size: 12pt;"><em><span style="text-decoration: underline;"><s
 pan style="font-family: 'Tahoma','sans-serif'; color: black;"><br />Class S
 ize:</span></span></em> <span style="font-family: 'Tahoma','sans-serif'; co
 lor: black;">16</span></span></p><p><span style="font-size: 12pt;"><em><spa
 n style="text-decoration: underline;"><span style="font-family: 'Tahoma','s
 ans-serif'; color: black;"><br />BPI CEU</span></span></em><span style="tex
 t-decoration: underline;"><span style="font-family: 'Tahoma','sans-serif'; 
 color: black;">:</span></span><span style="font-family: 'Tahoma','sans-seri
 f'; color: black;"> 16</span></span></p><p><span style="font-size: 12pt;"><
 em><span style="text-decoration: underline;"><span style="font-family: 'Tah
 oma','sans-serif'; color: black;"><br /></span></span></em><em><span style=
 "text-decoration: underline;"><span style="font-family: 'Tahoma', 'sans-ser
 if'; color: black; text-decoration: underline;">Instructors:</span></span><
 /em><span style="font-family: 'Tahoma','sans-serif'; color: black;">, Joe I
 lacqua, NYSWDA<br /></span></span></p><p><span style="font-size: 12pt;"><em
 ><span style="text-decoration: underline;"><span style="font-family: 'Tahom
 a','sans-serif'; color: black;"><br />Course</span></span></em><span style=
 "text-decoration: underline;"><span style="font-family: 'Tahoma','sans-seri
 f'; color: black;"> Fees;</span></span><span style="font-family: 'Tahoma','
 sans-serif'; color: black;"> </span></span></p><p><span style="font-family:
  'Tahoma', 'sans-serif'; color: black; font-size: 12pt;">$950/person - NY W
 eatherization Sub-grantees</span><span style="font-family: 'Tahoma', 'sans-
 serif'; color: black; font-size: 12pt;"><span style="color: #ff6600;"><em> 
 </em></span></span></p><p><span style="font-family: 'Tahoma', 'sans-serif';
  color: black; font-size: 12pt;">$950/person - affiliate members </span></p
 ><p><span style="font-family: 'Tahoma', 'sans-serif'; color: black; font-si
 ze: 12pt;">$1,450/person - non-members </span></p><p>&nbsp;</p><p><span sty
 le="font-family: Tahoma; font-size: 12pt;">Lunches are included for each da
 y.</span></p><p>&nbsp;</p><p style="margin-top: 0in; margin-right: 0in; mar
 gin-bottom: 0pt;"><strong><i><span style="background: white; color: #02613f
 ; font-family: 'Georgia','serif';"><span style="font-size: small;">**Specia
 l note</span></span></i></strong><strong><i><span style="background: white;
  color: black; font-family: 'Georgia','serif';"><span style="font-size: sma
 ll;">&nbsp;-&nbsp;if you wish to become an Affiliate Member, and&nbsp;save 
 off the non-member rate, please contact&nbsp;Drew Ehrlich&nbsp;(315-701-044
 0 ext. 225,&nbsp;</span><span id="cloak21cd9880ef6cfd8bb51793606a42908b">Th
 is email address is being protected from spambots. You need JavaScript enab
 led to view it.</span><script type='text/javascript'>
				document.getEleme
 ntById('cloak21cd9880ef6cfd8bb51793606a42908b').innerHTML = '';
				var pre
 fix = 'ma' + 'il' + 'to';
				var path = 'hr' + 'ef' + '=';
				var addy21c
 d9880ef6cfd8bb51793606a42908b = 'dehrlich' + '@';
				addy21cd9880ef6cfd8bb
 51793606a42908b = addy21cd9880ef6cfd8bb51793606a42908b + 'nyswda' + '.' + '
 org';
				var addy_text21cd9880ef6cfd8bb51793606a42908b = '<span style="col
 or: #0000ff; font-size: small;">dehrlich' + '@' + 'nyswda' + '.' + 'org</sp
 an>';document.getElementById('cloak21cd9880ef6cfd8bb51793606a42908b').inner
 HTML += '<a ' + path + '\'' + prefix + ':' + addy21cd9880ef6cfd8bb51793606a
 42908b + '\'>'+addy_text21cd9880ef6cfd8bb51793606a42908b+'<\/a>';
		</scrip
 t><span style="font-size: small;">)&nbsp;</span></span></i></strong><span s
 tyle="font-size: small;"><strong><span style="background: white; color: #02
 613f; font-family: 'Georgia','serif';">BEFORE YOU REGISTER&nbsp;</span></st
 rong><em><b><span style="background: white; color: black; font-family: 'Geo
 rgia','serif';">for the course</span></b></em><strong><span style="backgrou
 nd: white; color: black; font-family: 'Georgia','serif';">.</span></strong>
 </span></p><p><span style="color: #ff6600; font-family: tahoma,arial,helvet
 ica,sans-serif; font-size: 12pt;"><span style="color: #ff6600; font-family:
  tahoma,arial,helvetica,sans-serif; font-size: 12pt;"><span style="font-fam
 ily: Times New Roman; font-size: small;"></span></span></span>&nbsp;</p><p>
 <span style="color: #ffffff;"></span><span style="color: black; font-family
 : 'Tahoma', 'sans-serif'; font-size: 12pt;">NYSWDA will not be responsible 
 for hotel costs, travel to and from the training, breakfast and dinner meal
 s, or incidentals.</span></p><p>&nbsp;</p><p><strong><em><span style="font-
 size: 10pt; font-family: Georgia, serif; color: #10704d; background: white;
 ">Through the support of NYS HCR funding, we are able to provide </span></e
 m></strong><em><strong><span style="font-size: 10pt; font-family: Georgia, 
 serif; color: #02613f; background: white;">quality training at&nbsp;discoun
 ted rates to NYSWDA members.</span></strong></em></p><p>&nbsp;</p><p><em><s
 trong><span style="font-family: tahoma, arial, helvetica, sans-serif; font-
 size: 14pt; color: #0000ff;"><a style="color: #0000ff;" href="https://www.n
 yswda.org/index.php?option=com_civicrm&amp;task=civicrm/event/register&amp;
 reset=1&amp;id=11318">Click here to register</a></span></strong></em></p><p
 ><span style="color: #ffffff; font-family: Tahoma, sans-serif;"><em><em><st
 rong><em><strong><em><strong><span style="color: #ffffff; font-family: taho
 ma,arial,helvetica,sans-serif; font-size: 14pt;"><span style="color: #ff000
 0;">&nbsp;</span></span></strong></em></strong></em></strong></em></em></sp
 an></p><p>&nbsp;</p>
CONTACT:This email address is being protected from spambots. You need JavaScript enabled to view it.
				document.getElementById('cloak137ead4535585fc29cc9ac360bc644d9').innerHTML = '';
				var prefix = '&#109;a' + 'i&#108;' + '&#116;o';
				var path = 'hr' + 'ef' + '=';
				var addy137ead4535585fc29cc9ac360bc644d9 = 'rv&#105;ss&#101;r' + '&#64;';
				addy137ead4535585fc29cc9ac360bc644d9 = addy137ead4535585fc29cc9ac360bc644d9 + 'nyswd&#97;' + '&#46;' + '&#111;rg';
				var addy_text137ead4535585fc29cc9ac360bc644d9 = 'rv&#105;ss&#101;r' + '&#64;' + 'nyswd&#97;' + '&#46;' + '&#111;rg';document.getElementById('cloak137ead4535585fc29cc9ac360bc644d9').innerHTML += '<a ' + path + '\'' + prefix + ':' + addy137ead4535585fc29cc9ac360bc644d9 + '\'>'+addy_text137ead4535585fc29cc9ac360bc644d9+'';
		
DTSTAMP:20260425T113703
DTSTART;TZID=America/New_York:20200302T090000
DTEND;TZID=America/New_York:20200305T170000
SEQUENCE:0
TRANSP:OPAQUE
END:VEVENT
END:VCALENDAR