BEGIN:VCALENDAR
VERSION:2.0
PRODID:-//jEvents 2.0 for Joomla//EN
CALSCALE:GREGORIAN
METHOD:PUBLISH
BEGIN:VTIMEZONE
TZID:America/New_York
BEGIN:STANDARD
DTSTART:20190303T090000
RDATE:20190310T030000
TZOFFSETFROM:-0400
TZOFFSETTO:-0500
TZNAME:America/New_York EST
END:STANDARD
BEGIN:STANDARD
DTSTART:20191103T010000
RDATE:20200308T030000
TZOFFSETFROM:-0400
TZOFFSETTO:-0500
TZNAME:America/New_York EST
END:STANDARD
BEGIN:STANDARD
DTSTART:20201101T010000
RDATE:20210314T030000
TZOFFSETFROM:-0400
TZOFFSETTO:-0500
TZNAME:America/New_York EST
END:STANDARD
BEGIN:STANDARD
DTSTART:20211107T010000
RDATE:20220313T030000
TZOFFSETFROM:-0400
TZOFFSETTO:-0500
TZNAME:America/New_York EST
END:STANDARD
BEGIN:STANDARD
DTSTART:20221106T010000
RDATE:20230312T030000
TZOFFSETFROM:-0400
TZOFFSETTO:-0500
TZNAME:America/New_York EST
END:STANDARD
BEGIN:STANDARD
DTSTART:20231105T010000
RDATE:20240310T030000
TZOFFSETFROM:-0400
TZOFFSETTO:-0500
TZNAME:America/New_York EST
END:STANDARD
BEGIN:STANDARD
DTSTART:20241103T010000
RDATE:20250309T030000
TZOFFSETFROM:-0400
TZOFFSETTO:-0500
TZNAME:America/New_York EST
END:STANDARD
BEGIN:STANDARD
DTSTART:20251102T010000
RDATE:20260308T030000
TZOFFSETFROM:-0400
TZOFFSETTO:-0500
TZNAME:America/New_York EST
END:STANDARD
BEGIN:STANDARD
DTSTART:20261101T010000
RDATE:20270314T030000
TZOFFSETFROM:-0400
TZOFFSETTO:-0500
TZNAME:America/New_York EST
END:STANDARD
BEGIN:STANDARD
DTSTART:20271107T010000
RDATE:20280312T030000
TZOFFSETFROM:-0400
TZOFFSETTO:-0500
TZNAME:America/New_York EST
END:STANDARD
BEGIN:STANDARD
DTSTART:20281105T010000
RDATE:20290311T030000
TZOFFSETFROM:-0400
TZOFFSETTO:-0500
TZNAME:America/New_York EST
END:STANDARD
BEGIN:STANDARD
DTSTART:20291104T010000
RDATE:20300310T030000
TZOFFSETFROM:-0400
TZOFFSETTO:-0500
TZNAME:America/New_York EST
END:STANDARD
BEGIN:STANDARD
DTSTART:20301103T010000
RDATE:20310309T030000
TZOFFSETFROM:-0400
TZOFFSETTO:-0500
TZNAME:America/New_York EST
END:STANDARD
BEGIN:DAYLIGHT
DTSTART:20190310T030000
RDATE:20191103T010000
TZOFFSETFROM:-0500
TZOFFSETTO:-0400
TZNAME:America/New_York EDT
END:DAYLIGHT
BEGIN:DAYLIGHT
DTSTART:20200308T030000
RDATE:20201101T010000
TZOFFSETFROM:-0500
TZOFFSETTO:-0400
TZNAME:America/New_York EDT
END:DAYLIGHT
BEGIN:DAYLIGHT
DTSTART:20210314T030000
RDATE:20211107T010000
TZOFFSETFROM:-0500
TZOFFSETTO:-0400
TZNAME:America/New_York EDT
END:DAYLIGHT
BEGIN:DAYLIGHT
DTSTART:20220313T030000
RDATE:20221106T010000
TZOFFSETFROM:-0500
TZOFFSETTO:-0400
TZNAME:America/New_York EDT
END:DAYLIGHT
BEGIN:DAYLIGHT
DTSTART:20230312T030000
RDATE:20231105T010000
TZOFFSETFROM:-0500
TZOFFSETTO:-0400
TZNAME:America/New_York EDT
END:DAYLIGHT
BEGIN:DAYLIGHT
DTSTART:20240310T030000
RDATE:20241103T010000
TZOFFSETFROM:-0500
TZOFFSETTO:-0400
TZNAME:America/New_York EDT
END:DAYLIGHT
BEGIN:DAYLIGHT
DTSTART:20250309T030000
RDATE:20251102T010000
TZOFFSETFROM:-0500
TZOFFSETTO:-0400
TZNAME:America/New_York EDT
END:DAYLIGHT
BEGIN:DAYLIGHT
DTSTART:20260308T030000
RDATE:20261101T010000
TZOFFSETFROM:-0500
TZOFFSETTO:-0400
TZNAME:America/New_York EDT
END:DAYLIGHT
BEGIN:DAYLIGHT
DTSTART:20270314T030000
RDATE:20271107T010000
TZOFFSETFROM:-0500
TZOFFSETTO:-0400
TZNAME:America/New_York EDT
END:DAYLIGHT
BEGIN:DAYLIGHT
DTSTART:20280312T030000
RDATE:20281105T010000
TZOFFSETFROM:-0500
TZOFFSETTO:-0400
TZNAME:America/New_York EDT
END:DAYLIGHT
BEGIN:DAYLIGHT
DTSTART:20290311T030000
RDATE:20291104T010000
TZOFFSETFROM:-0500
TZOFFSETTO:-0400
TZNAME:America/New_York EDT
END:DAYLIGHT
BEGIN:DAYLIGHT
DTSTART:20300310T030000
RDATE:20301103T010000
TZOFFSETFROM:-0500
TZOFFSETTO:-0400
TZNAME:America/New_York EDT
END:DAYLIGHT
END:VTIMEZONE
BEGIN:VEVENT
UID:10c60c42ad494dde4caf804029630d54
CATEGORIES:At HVCC
CREATED:20200207T130935
SUMMARY:OSHA 10 Hour Construction Safety Certification
LOCATION:HVCC Training Center - Troy
DESCRIPTION: \n
 OSHA 10 Hour Construction Safety Certification\n
 \n
Training Location
 : Hudson Valley Community College's Training Center – 68 Morrison Avenue, T
 roy, NY 12180\n\nThis training is for;\nAll Weatherization field staff and 
 general construction trade contractors.\n
 \n
\nCourse Description;\nWorkin
 g in a safe manner on the job is as much an employee responsibility as it i
 s for management to provide a safe work environment.  This two-day course i
 s an OSHA-authorized educational outreach program and will result in the is
 sue of an OSHA 10-Hour Construction Safety Certificate upon successful comp
 letion of both days.  NYSWDA has examined the OSHA requirements and created
  a program focusing on the Weatherization jobsite and general construction 
 safety.\n
 \n
Dates;\nMarch 3-4, 2020 - DAY ONE 9:00am - 4:30pm  and DAY TW
 O 9:00am - 1:00pm\n
 \n
 \n
Class Size; 20\n
\n\nBPI CEU; 5\n
 \n
\nInstruc
 tors; Matt Redmond - NYSWDA\n
\n\nCourse Fees; \n$131/person (WAP sub-grant
 ees)  \n
$131/person (affiliate members)   \n
$190/person (non-members) \n

  \n
Course fees do not include lunch\n
  \n
**Special note - if you wish to
  become an Affiliate Member, and save off the non-member rate, please conta
 ct Drew Ehrlich (518-690-0494, This email address is being protected from s
 pambots. You need JavaScript enabled to view it.
				document.getElementByI
 d('cloake0309395763e40a1ba1ee0817ee7f138').innerHTML = '';
				var prefix =
  'ma' + 'il' + 'to';
				var path = 'hr' + 'ef' + '=';
				var addye0309395
 763e40a1ba1ee0817ee7f138 = 'dehrlich' + '@';
				addye0309395763e40a1ba1ee0
 817ee7f138 = addye0309395763e40a1ba1ee0817ee7f138 + 'nyswda' + '.' + 'org';
 
				var addy_texte0309395763e40a1ba1ee0817ee7f138 = 'dehrlich' + '@' + 'ny
 swda' + '.' + 'org';document.getElementById('cloake0309395763e40a1ba1ee0817
 ee7f138').innerHTML += '<a ' + path + '\'' + prefix + ':' + addye0309395763
 e40a1ba1ee0817ee7f138 + '\' target="_blank">'+addy_texte0309395763e40a1ba1e
 e0817ee7f138+'';
		) BEFORE YOU REGISTER for the course.\n
 \n
Through the 
 support of NYS HCR funding, we are able to provide quality training at disc
 ounted rates to NYSWDA members.\n
 \n
 (index.php?option=com_civicrm&amp;ta
 sk=civicrm/event/register&amp;reset=1&amp;id=11319)<a style="color: #0000ff
 ;" href="index.php?option=com_civicrm&amp;task=civicrm/event/register&amp;r
 eset=1&amp;id=11319">Click here to register</a>\n\n
 \n
 \n
 \n
X-ALT-DESC;FMTTYPE=text/html:<p><span style="color: #336699; font-size: 12pt;"><span><span>&nbsp;</span>
 </span></span></p><p><span style="color: #336699; font-size: 12pt;"><span><
 span><strong><span style="color: #336699; font-size: 13.5pt;">&nbsp;<span s
 tyle="font-family: tahoma,arial,helvetica,sans-serif; font-size: 14pt;">OSH
 A 10 Hour Construction Safety Certification</span></span></strong></span></
 span></span></p><p>&nbsp;</p><p><span style="color: #336699; font-size: 12p
 t;"><span><span><span style="color: #000000;"><span><strong><span style="co
 lor: #336699;"><strong style="color: #336699; font-family: 'Times New Roman
 '; font-size: medium;"><span style="font-family: Tahoma;"><span style="font
 -size: medium;"><strong><span style="color: #336699; font-size: 13.5pt;">Tr
 aining Location: <span style="color: #336699; font-size: 13.5pt;">Hudson Va
 lley&nbsp;Community College's Training Center – 68 Morrison Avenue, Troy, N
 Y 12180</span></span></strong></span></span></strong></span></strong></span
 ></span></span></span></span><span style="color: #336699; font-size: 12pt;"
 ><span style="font-family: Tahoma;"><span><span style="color: #000000;"><em
 ><span><br /><br /><span style="text-decoration: underline;"><span style="f
 ont-family: Tahoma;">This training is for;</span></span><span style="font-f
 amily: Tahoma;"><span style="font-family: Tahoma;"><br /></span></span></sp
 an></em><span><span style="font-family: Tahoma;"><span style="font-family: 
 Tahoma;"><span style="font-family: Tahoma;">All Weatherization field staff 
 and general construction trade contractors.</span></span></span></span></sp
 an></span></span></span></p><p><span style="color: #336699; font-size: 12pt
 ;"><span style="font-family: Tahoma;"><span><span style="color: #000000;"><
 span><span style="font-family: Tahoma;"><span style="font-family: Tahoma;">
 <span style="font-family: Tahoma;"><span style="font-family: Tahoma;"></spa
 n></span></span></span></span></span></span></span></span>&nbsp;</p><p><spa
 n style="color: #336699; font-size: 12pt;"><span style="font-family: Tahoma
 ;"><span><span style="color: #000000;"><span><span style="font-family: Taho
 ma;"><span style="font-family: Tahoma;"><span style="font-family: Tahoma;">
 <span style="font-family: Tahoma;"><br /><span style="text-decoration: unde
 rline;"><em><span style="font-family: Tahoma;">Course Description;</span></
 em></span><em><span style="font-family: Tahoma;"><span style="font-family: 
 Tahoma;"><br /></span></span></em><span style="font-family: Tahoma;"><span 
 style="font-family: Tahoma;"><span style="font-family: Tahoma;">Working in 
 a safe manner on the job is as much an employee responsibility as it is for
  management to provide a safe work environment.&nbsp; This two-day course i
 s an OSHA-authorized educational outreach program and will result in the is
 sue of an OSHA 10-Hour Construction Safety Certificate upon successful comp
 letion of both days.&nbsp;&nbsp;NYSWDA has examined the OSHA requirements a
 nd created a program focusing on the Weatherization jobsite and general con
 struction safety.</span></span></span></span></span></span></span></span></
 span></span></span></span></p><p><span style="color: #336699; font-size: 12
 pt;"><span style="font-family: Tahoma;"><span><span style="color: #000000;"
 ><span><span style="font-family: Tahoma;"><span style="font-family: Tahoma;
 "><span style="font-family: Tahoma;"><span style="font-family: Tahoma;"><sp
 an style="font-family: Tahoma;"><span style="font-family: Tahoma;"><span st
 yle="font-family: Tahoma;"><span style="text-decoration: underline;"><em></
 em></span></span></span></span></span></span></span></span></span></span></
 span></span></span>&nbsp;</p><p><span style="color: #336699; font-size: 12p
 t;"><span style="font-family: Tahoma;"><span><span style="color: #000000;">
 <span><span style="font-family: Tahoma;"><span style="font-family: Tahoma;"
 ><span style="font-family: Tahoma;"><span style="font-family: Tahoma;"><spa
 n style="font-family: Tahoma;"><span style="font-family: Tahoma;"><span sty
 le="font-family: Tahoma;"><span style="text-decoration: underline;"><em>Dat
 es;<br /></em></span><em><span style="font-family: Tahoma;"></span></em><sp
 an style="font-family: Tahoma;">March 3-4, 2020 - DAY ONE 9:00am - 4:30pm&n
 bsp; and DAY TWO 9:00am - 1:00pm</span></span></span></span></span></span><
 /span></span></span></span></span></span></span></p><p>&nbsp;</p><p>&nbsp;<
 /p><p><span style="color: #336699; font-size: 12pt;"><span style="font-fami
 ly: Tahoma;"><span><span style="color: #000000;"><span><span style="font-fa
 mily: Tahoma;"><span style="font-family: Tahoma;"><span style="font-family:
  Tahoma;"><span style="font-family: Tahoma;"><span style="font-family: Taho
 ma;"><span style="font-family: Tahoma;"><span style="font-family: Tahoma;">
 <span style="font-family: Tahoma;"><span style="font-family: Tahoma;"><span
  style="font-family: Tahoma;"><span style="text-decoration: underline;"><em
 >Class Size;</em></span> 20</span></span></span></span></span></span></span
 ></span></span></span></span></span></span></span></span></p><p><span style
 ="color: #336699; font-size: 12pt;"><span style="font-family: Tahoma;"><spa
 n><span style="color: #000000;"><span><span style="font-family: Tahoma;"><s
 pan style="font-family: Tahoma;"><span style="font-family: Tahoma;"><span s
 tyle="font-family: Tahoma;"><span style="font-family: Tahoma;"><span style=
 "font-family: Tahoma;"><span style="font-family: Tahoma;"><span style="font
 -family: Tahoma;"><span style="font-family: Tahoma;"><span style="font-fami
 ly: Tahoma;"><br /><br /><span style="text-decoration: underline;"><em>BPI 
 CEU;</em></span> 5</span></span></span></span></span></span></span></span><
 /span></span></span></span></span></span></span></p><p><span style="color: 
 #336699; font-size: 12pt;"><span style="font-family: Tahoma;"><span><span s
 tyle="color: #000000;"><span><span style="font-family: Tahoma;"><span style
 ="font-family: Tahoma;"><span style="font-family: Tahoma;"><span style="fon
 t-family: Tahoma;"><span style="font-family: Tahoma;"><span style="font-fam
 ily: Tahoma;"><span style="font-family: Tahoma;"><span style="font-family: 
 Tahoma;"><span style="font-family: Tahoma;"><span style="font-family: Tahom
 a;"></span></span></span></span></span></span></span></span></span></span><
 /span></span></span></span></span>&nbsp;</p><p><span style="color: #336699;
  font-size: 12pt;"><span style="font-family: Tahoma;"><span><span style="co
 lor: #000000;"><span><span style="font-family: Tahoma;"><span style="font-f
 amily: Tahoma;"><span style="font-family: Tahoma;"><span style="font-family
 : Tahoma;"><span style="font-family: Tahoma;"><span style="font-family: Tah
 oma;"><span style="font-family: Tahoma;"><span style="font-family: Tahoma;"
 ><span style="font-family: Tahoma;"><span style="font-family: Tahoma;"><br 
 /><span style="text-decoration: underline;"><em><span style="font-family: T
 ahoma;">Instructors;</span></em></span><span style="font-family: Tahoma;">&
 nbsp;Matt Redmond&nbsp;- NYSWDA</span></span></span></span></span></span></
 span></span></span></span></span></span></span></span></span></span></p><p>
 <span style="color: #336699; font-size: 12pt;"><span style="font-family: Ta
 homa;"><span><span style="color: #000000;"><span><span style="font-family: 
 Tahoma;"><span style="font-family: Tahoma;"><span style="font-family: Tahom
 a;"><span style="font-family: Tahoma;"><span style="font-family: Tahoma;"><
 span style="font-family: Tahoma;"><span style="font-family: Tahoma;"><span 
 style="font-family: Tahoma;"><span style="font-family: Tahoma;"><span style
 ="font-family: Tahoma;"><span style="font-family: Tahoma;"><br /><br /><spa
 n style="text-decoration: underline;"><em>Course Fees; <br /></em></span><s
 pan style="font-family: Tahoma;"><span style="font-size: 12pt;"><span style
 ="font-family: Tahoma;">$131/person (WAP sub-grantees)&nbsp;</span><span st
 yle="color: #eb501b;"> </span></span></span></span></span></span></span></s
 pan></span></span></span></span></span></span></span></span></span></span><
 /span></p><p><span style="color: #336699;"><span style="font-family: Tahoma
 ;"><span style="font-size: medium;"><span style="color: #000000;"><span sty
 le="font-family: Arial, Helvetica;"><span style="font-size: x-small;"><span
  style="font-family: Tahoma;"><span style="font-size: small;"><span style="
 font-family: Tahoma;"><span style="font-family: Tahoma;"><span style="font-
 family: Tahoma;"><span style="font-family: Arial, Helvetica;"><span style="
 font-size: x-small;"><span style="font-family: Tahoma;"><span style="font-s
 ize: small;"><span style="font-family: Tahoma;"><span style="font-family: T
 ahoma;"><span style="font-family: Arial, Helvetica;"><span style="font-size
 : x-small;"><span style="font-family: Tahoma;"><span style="font-size: smal
 l;"><span style="font-family: Arial, Helvetica;"><span style="font-size: x-
 small;"><span style="font-family: Tahoma;"><span style="font-size: small;">
 <span style="font-family: Arial, Helvetica;"><span style="font-size: x-smal
 l;"><span style="font-family: Tahoma;"><span style="font-size: small;"><spa
 n style="font-family: Arial, Helvetica;"><span style="font-size: x-small;">
 <span style="color: #000000;"><span style="font-family: Tahoma;"><span styl
 e="font-size: small;"><span style="color: #000000;"><span style="font-famil
 y: Tahoma;"><span style="font-family: Tahoma;"><span style="color: #336699;
 "><span style="font-family: Tahoma;"><span style="font-size: medium;"><span
  style="color: #000000;"><span style="font-family: Arial, Helvetica;"><span
  style="font-size: x-small;"><span style="font-size: small;"><span style="f
 ont-family: Tahoma;"><span style="font-family: Tahoma;"><span style="font-f
 amily: Tahoma;"><span style="font-family: Arial, Helvetica;"><span style="f
 ont-size: x-small;"><span style="font-family: Tahoma;"><span style="font-si
 ze: small;"><span style="font-family: Tahoma;"><span style="font-family: Ta
 homa;"><span style="font-family: Arial, Helvetica;"><span style="font-size:
  x-small;"><span style="font-family: Tahoma;"><span style="font-size: small
 ;"><span style="font-family: Arial, Helvetica;"><span style="font-size: x-s
 mall;"><span style="font-family: Tahoma;"><span style="font-size: small;"><
 span style="font-family: Arial, Helvetica;"><span style="font-size: x-small
 ;"><span style="font-family: Tahoma;"><span style="font-size: small;"><span
  style="font-family: Arial, Helvetica;"><span style="font-size: x-small;"><
 span style="color: #000000;"><span style="font-family: Tahoma;"><span style
 ="font-size: small;"><span style="color: #000000;"><span style="font-family
 : Tahoma;"><span style="font-family: Tahoma;"><span style="font-size: 12pt;
 ">$131/person (affiliate members) &nbsp;<em><span style="color: #eb501b;"> 
 </span></em></span></span></span></span></span></span></span></span></span>
 </span></span></span></span></span></span></span></span></span></span></spa
 n></span></span></span></span></span></span></span></span></span></span></s
 pan></span></span></span></span></span></span></span></span></span></span><
 /span></span></span></span></span></span></span></span></span></span></span
 ></span></span></span></span></span></span></span></span></span></span></sp
 an></span></span></span></span></span></span></span></span></span></span></
 span></p><p><span style="color: #336699;"><span style="font-family: Tahoma;
 "><span style="font-size: medium;"><span style="color: #000000;"><span styl
 e="font-family: Arial, Helvetica;"><span style="font-size: x-small;"><span 
 style="font-family: Tahoma;"><span style="font-size: small;"><span style="f
 ont-family: Tahoma;"><span style="font-family: Tahoma;"><span style="font-f
 amily: Tahoma;"><span style="font-family: Arial, Helvetica;"><span style="f
 ont-size: x-small;"><span style="font-family: Tahoma;"><span style="font-si
 ze: small;"><span style="font-family: Tahoma;"><span style="font-family: Ta
 homa;"><span style="font-family: Arial, Helvetica;"><span style="font-size:
  x-small;"><span style="font-family: Tahoma;"><span style="font-size: small
 ;"><span style="font-family: Arial, Helvetica;"><span style="font-size: x-s
 mall;"><span style="font-family: Tahoma;"><span style="font-size: small;"><
 span style="font-family: Arial, Helvetica;"><span style="font-size: x-small
 ;"><span style="font-family: Tahoma;"><span style="font-size: small;"><span
  style="font-family: Arial, Helvetica;"><span style="font-size: x-small;"><
 span style="color: #000000;"><span style="font-family: Tahoma;"><span style
 ="font-size: small;"><span style="color: #000000;"><span style="font-family
 : Tahoma;"><span style="font-family: Tahoma;"><span style="color: #336699;"
 ><span style="font-family: Tahoma;"><span style="font-size: medium;"><span 
 style="color: #000000;"><span style="font-family: Arial, Helvetica;"><span 
 style="font-size: x-small;"><span style="font-size: small;"><span style="fo
 nt-family: Tahoma;"><span style="font-family: Tahoma;"><span style="font-fa
 mily: Tahoma;"><span style="font-family: Arial, Helvetica;"><span style="fo
 nt-size: x-small;"><span style="font-family: Tahoma;"><span style="font-siz
 e: small;"><span style="font-family: Tahoma;"><span style="font-family: Tah
 oma;"><span style="font-family: Arial, Helvetica;"><span style="font-size: 
 x-small;"><span style="font-family: Tahoma;"><span style="font-size: small;
 "><span style="font-family: Arial, Helvetica;"><span style="font-size: x-sm
 all;"><span style="font-family: Tahoma;"><span style="font-size: small;"><s
 pan style="font-family: Arial, Helvetica;"><span style="font-size: x-small;
 "><span style="font-family: Tahoma;"><span style="font-size: small;"><span 
 style="font-family: Arial, Helvetica;"><span style="font-size: x-small;"><s
 pan style="color: #000000;"><span style="font-family: Tahoma;"><span style=
 "font-size: small;"><span style="color: #000000;"><span style="font-family:
  Tahoma;"><span style="font-family: Tahoma;"><span style="font-size: 12pt;"
 >$190/person (non-members)&nbsp;</span></span></span></span></span></span><
 /span></span></span></span></span></span></span></span></span></span></span
 ></span></span></span></span></span></span></span></span></span></span></sp
 an></span></span></span></span></span></span></span></span></span></span></
 span></span></span></span></span></span></span></span></span></span></span>
 </span></span></span></span></span></span></span></span></span></span></spa
 n></span></span></span></span></span></span></span></span></span></span></s
 pan></span></span></span></p><p>&nbsp;</p><p><span style="color: #000000;">
 <span style="font-family: Tahoma;"><span style="font-size: medium;"><span s
 tyle="font-size: small;"><span style="font-size: 12pt;"><span style="font-f
 amily: Tahoma;"><span style="font-family: Tahoma;"><span style="font-family
 : Tahoma;"><span style="font-family: Arial, Helvetica;"><span style="font-f
 amily: Times;"><span style="font-family: Tahoma;"><span style="font-family:
  Tahoma;"><span style="font-family: Tahoma;"><span style="font-family: Taho
 ma;"><span style="font-family: Tahoma;"><span style="font-family: Tahoma;">
 <span style="font-family: Tahoma;"><span style="font-family: Tahoma;"><span
  style="font-family: Tahoma;"><span style="font-family: Tahoma;"><span styl
 e="font-family: Tahoma;"><span style="font-family: Tahoma;"><span style="fo
 nt-family: Tahoma;"><span style="font-family: Times;"><span style="font-fam
 ily: Tahoma;"><span style="font-family: Tahoma;"><span style="font-family: 
 Tahoma;"><span style="font-family: tahoma, arial, helvetica, sans-serif; fo
 nt-size: 12pt;"><span style="font-family: tahoma, arial, helvetica, sans-se
 rif; font-size: 12pt;"><strong><em>Course fees do not include lunch</em></s
 trong></span></span></span></span></span></span></span></span></span></span
 ></span></span></span></span></span></span></span></span></span></span></sp
 an></span></span></span></span></span></span></span></span></p><p><span sty
 le="color: #336699; font-size: 12pt;"><span style="font-family: Tahoma;"><s
 pan><span style="color: #000000;"><span><span style="font-family: Tahoma;">
 <span style="font-family: Tahoma;"><span style="font-family: Tahoma;"><span
  style="font-family: Tahoma;"><span style="font-family: Tahoma;"><span styl
 e="font-family: Tahoma;"><span style="font-family: Tahoma;"><span style="fo
 nt-family: Tahoma;"><span style="font-family: Tahoma;"><span style="font-fa
 mily: Tahoma;"><span style="font-family: Tahoma;"><em><span style="font-fam
 ily: Tahoma;">&nbsp;&nbsp;</span></em></span></span></span></span></span></
 span></span></span></span></span></span></span></span></span></span></span>
 </p><p><em><strong><span style="font-family: tahoma,arial,helvetica,sans-se
 rif; font-size: 12pt;"><span style="color: #336699;"><span style="font-fami
 ly: Tahoma;"><span style="font-size: medium;"><span style="color: #000000;"
 ><span style="font-size: small;"><span style="font-size: 12pt;"><span style
 ="font-family: Tahoma;"><span style="font-family: Tahoma;"><span style="col
 or: #000000;"><span style="font-family: Tahoma;"><span style="font-family: 
 Arial, Helvetica;"><span style="color: #000000;"><span style="font-family: 
 Times;"><span style="font-family: Tahoma;"><span style="color: #000000;"><s
 pan style="color: #000000;"><span style="font-family: Tahoma;"><span style=
 "font-family: Tahoma;"><span style="font-family: Tahoma;"><span style="font
 -family: Tahoma;"><span style="font-family: Tahoma;"><span style="font-fami
 ly: Tahoma;"><span style="font-family: Tahoma;"><span style="font-family: T
 ahoma;"><span style="font-family: Tahoma;"><span style="font-family: Tahoma
 ;"><span style="font-family: Tahoma;"><span style="font-family: Tahoma;"><s
 pan style="font-family: Times;"><span style="font-family: Tahoma;"><span st
 yle="font-family: Tahoma;"><span style="font-family: Tahoma;"><span style="
 color: #ff6600; font-family: tahoma,arial,helvetica,sans-serif; font-size: 
 12pt;"><span style="background: white; color: #02613f; font-family: 'Georgi
 a','serif';"><span style="font-size: small;"><strong><em><span style="color
 : #02613f;">**Special note</span></em></strong></span></span><span style="b
 ackground: white; color: black; font-family: 'Georgia','serif';"><span styl
 e="font-size: small;"><i><strong>&nbsp;-&nbsp;if you wish to become an Affi
 liate Member, and&nbsp;save off the non-member rate, please contact Drew Eh
 rlich (518-690-0494,&nbsp;</strong></i></span><i><strong><span id="cloake03
 09395763e40a1ba1ee0817ee7f138">This email address is being protected from s
 pambots. You need JavaScript enabled to view it.</span><script type='text/j
 avascript'>
				document.getElementById('cloake0309395763e40a1ba1ee0817ee7f
 138').innerHTML = '';
				var prefix = 'ma' + 'il' + 'to';
				var path = '
 hr' + 'ef' + '=';
				var addye0309395763e40a1ba1ee0817ee7f138 = 'dehrlich'
  + '@';
				addye0309395763e40a1ba1ee0817ee7f138 = addye0309395763e40a1ba1e
 e0817ee7f138 + 'nyswda' + '.' + 'org';
				var addy_texte0309395763e40a1ba1
 ee0817ee7f138 = '<span style="color: #0000ff; font-size: small;">dehrlich' 
 + '@' + 'nyswda' + '.' + 'org</span>';document.getElementById('cloake030939
 5763e40a1ba1ee0817ee7f138').innerHTML += '<a ' + path + '\'' + prefix + ':'
  + addye0309395763e40a1ba1ee0817ee7f138 + '\' target="_blank">'+addy_texte0
 309395763e40a1ba1ee0817ee7f138+'<\/a>';
		</script><span style="font-size: 
 small;">)&nbsp;</span></strong></i></span><i></i><span style="font-size: sm
 all;"><strong><span style="background: white; color: #02613f; font-family: 
 'Georgia','serif';">BEFORE YOU REGISTER&nbsp;</span></strong><em><b><span s
 tyle="background: white; color: black; font-family: 'Georgia','serif';">for
  the course</span></b></em><strong><span style="background: white; color: b
 lack; font-family: 'Georgia','serif';">.</span></strong></span></span></spa
 n></span></span></span></span></span></span></span></span></span></span></s
 pan></span></span></span></span></span></span></span></span></span></span><
 /span></span></span></span></span></span></span></span></span></span></span
 ></strong></em></p><p>&nbsp;</p><p><strong><em><span style="font-size: 10pt
 ; font-family: Georgia, serif; color: #10704d; background: white;">Through 
 the support of NYS HCR funding, we are able to provide </span></em></strong
 ><em><strong><span style="font-size: 10pt; font-family: Georgia, serif; col
 or: #02613f; background: white;">quality training at&nbsp;discounted rates 
 to NYSWDA members.</span></strong></em></p><p>&nbsp;</p><p><a href="https:/
 /www.nyswda.org/index.php?option=com_civicrm&amp;task=civicrm/event/registe
 r&amp;reset=1&amp;id=11319"><span style="color: #0000ff;"><em><span style="
 font-family: tahoma, arial, helvetica, sans-serif; font-size: 14pt;"></span
 ></em></span></a><span style="font-size: 14pt; font-family: tahoma, arial, 
 helvetica, sans-serif;"><em><strong><a style="color: #0000ff;" href="https:
 //www.nyswda.org/index.php?option=com_civicrm&amp;task=civicrm/event/regist
 er&amp;reset=1&amp;id=11319">Click here to register</a></strong></em></span
 ><br /><em><span style="font-family: tahoma, arial, helvetica, sans-serif;"
 ></span></em></p><p>&nbsp;</p><p>&nbsp;</p><p>&nbsp;</p>
CONTACT:This email address is being protected from spambots. You need JavaScript enabled to view it.
				document.getElementById('cloak9a8b9ae3fa529d6ea368127cc65d2701').innerHTML = '';
				var prefix = '&#109;a' + 'i&#108;' + '&#116;o';
				var path = 'hr' + 'ef' + '=';
				var addy9a8b9ae3fa529d6ea368127cc65d2701 = 'rv&#105;ss&#101;r' + '&#64;';
				addy9a8b9ae3fa529d6ea368127cc65d2701 = addy9a8b9ae3fa529d6ea368127cc65d2701 + 'nyswd&#97;' + '&#46;' + '&#111;rg';
				var addy_text9a8b9ae3fa529d6ea368127cc65d2701 = 'rv&#105;ss&#101;r' + '&#64;' + 'nyswd&#97;' + '&#46;' + '&#111;rg';document.getElementById('cloak9a8b9ae3fa529d6ea368127cc65d2701').innerHTML += '<a ' + path + '\'' + prefix + ':' + addy9a8b9ae3fa529d6ea368127cc65d2701 + '\'>'+addy_text9a8b9ae3fa529d6ea368127cc65d2701+'';
		
DTSTAMP:20260425T113701
DTSTART;TZID=America/New_York:20200303T090000
DTEND;TZID=America/New_York:20200304T160000
SEQUENCE:0
TRANSP:OPAQUE
END:VEVENT
END:VCALENDAR