BEGIN:VCALENDAR
VERSION:2.0
PRODID:-//jEvents 2.0 for Joomla//EN
CALSCALE:GREGORIAN
METHOD:PUBLISH
BEGIN:VTIMEZONE
TZID:America/New_York
BEGIN:STANDARD
DTSTART:20191103T010000
RDATE:20200308T030000
TZOFFSETFROM:-0400
TZOFFSETTO:-0500
TZNAME:America/New_York EST
END:STANDARD
BEGIN:STANDARD
DTSTART:20201101T010000
RDATE:20210314T030000
TZOFFSETFROM:-0400
TZOFFSETTO:-0500
TZNAME:America/New_York EST
END:STANDARD
BEGIN:STANDARD
DTSTART:20211107T010000
RDATE:20220313T030000
TZOFFSETFROM:-0400
TZOFFSETTO:-0500
TZNAME:America/New_York EST
END:STANDARD
BEGIN:STANDARD
DTSTART:20221106T010000
RDATE:20230312T030000
TZOFFSETFROM:-0400
TZOFFSETTO:-0500
TZNAME:America/New_York EST
END:STANDARD
BEGIN:STANDARD
DTSTART:20231105T010000
RDATE:20240310T030000
TZOFFSETFROM:-0400
TZOFFSETTO:-0500
TZNAME:America/New_York EST
END:STANDARD
BEGIN:STANDARD
DTSTART:20241103T010000
RDATE:20250309T030000
TZOFFSETFROM:-0400
TZOFFSETTO:-0500
TZNAME:America/New_York EST
END:STANDARD
BEGIN:STANDARD
DTSTART:20251102T010000
RDATE:20260308T030000
TZOFFSETFROM:-0400
TZOFFSETTO:-0500
TZNAME:America/New_York EST
END:STANDARD
BEGIN:STANDARD
DTSTART:20261101T010000
RDATE:20270314T030000
TZOFFSETFROM:-0400
TZOFFSETTO:-0500
TZNAME:America/New_York EST
END:STANDARD
BEGIN:STANDARD
DTSTART:20271107T010000
RDATE:20280312T030000
TZOFFSETFROM:-0400
TZOFFSETTO:-0500
TZNAME:America/New_York EST
END:STANDARD
BEGIN:STANDARD
DTSTART:20281105T010000
RDATE:20290311T030000
TZOFFSETFROM:-0400
TZOFFSETTO:-0500
TZNAME:America/New_York EST
END:STANDARD
BEGIN:STANDARD
DTSTART:20291104T010000
RDATE:20300310T030000
TZOFFSETFROM:-0400
TZOFFSETTO:-0500
TZNAME:America/New_York EST
END:STANDARD
BEGIN:STANDARD
DTSTART:20301103T010000
RDATE:20310309T030000
TZOFFSETFROM:-0400
TZOFFSETTO:-0500
TZNAME:America/New_York EST
END:STANDARD
BEGIN:DAYLIGHT
DTSTART:20190310T090000
RDATE:20191103T010000
TZOFFSETFROM:-0500
TZOFFSETTO:-0400
TZNAME:America/New_York EDT
END:DAYLIGHT
BEGIN:DAYLIGHT
DTSTART:20200308T030000
RDATE:20201101T010000
TZOFFSETFROM:-0500
TZOFFSETTO:-0400
TZNAME:America/New_York EDT
END:DAYLIGHT
BEGIN:DAYLIGHT
DTSTART:20210314T030000
RDATE:20211107T010000
TZOFFSETFROM:-0500
TZOFFSETTO:-0400
TZNAME:America/New_York EDT
END:DAYLIGHT
BEGIN:DAYLIGHT
DTSTART:20220313T030000
RDATE:20221106T010000
TZOFFSETFROM:-0500
TZOFFSETTO:-0400
TZNAME:America/New_York EDT
END:DAYLIGHT
BEGIN:DAYLIGHT
DTSTART:20230312T030000
RDATE:20231105T010000
TZOFFSETFROM:-0500
TZOFFSETTO:-0400
TZNAME:America/New_York EDT
END:DAYLIGHT
BEGIN:DAYLIGHT
DTSTART:20240310T030000
RDATE:20241103T010000
TZOFFSETFROM:-0500
TZOFFSETTO:-0400
TZNAME:America/New_York EDT
END:DAYLIGHT
BEGIN:DAYLIGHT
DTSTART:20250309T030000
RDATE:20251102T010000
TZOFFSETFROM:-0500
TZOFFSETTO:-0400
TZNAME:America/New_York EDT
END:DAYLIGHT
BEGIN:DAYLIGHT
DTSTART:20260308T030000
RDATE:20261101T010000
TZOFFSETFROM:-0500
TZOFFSETTO:-0400
TZNAME:America/New_York EDT
END:DAYLIGHT
BEGIN:DAYLIGHT
DTSTART:20270314T030000
RDATE:20271107T010000
TZOFFSETFROM:-0500
TZOFFSETTO:-0400
TZNAME:America/New_York EDT
END:DAYLIGHT
BEGIN:DAYLIGHT
DTSTART:20280312T030000
RDATE:20281105T010000
TZOFFSETFROM:-0500
TZOFFSETTO:-0400
TZNAME:America/New_York EDT
END:DAYLIGHT
BEGIN:DAYLIGHT
DTSTART:20290311T030000
RDATE:20291104T010000
TZOFFSETFROM:-0500
TZOFFSETTO:-0400
TZNAME:America/New_York EDT
END:DAYLIGHT
BEGIN:DAYLIGHT
DTSTART:20300310T030000
RDATE:20301103T010000
TZOFFSETFROM:-0500
TZOFFSETTO:-0400
TZNAME:America/New_York EDT
END:DAYLIGHT
END:VTIMEZONE
BEGIN:VEVENT
UID:ff57ee33cb693859f7c317fda9d0614a
CATEGORIES:Regional
CREATED:20200213T195539
SUMMARY:EPA RRP Lead Renovator Certification
LOCATION:EOP of Chemung &amp; Schuyler Counties - Elmira
DESCRIPTION:EPA RRP Lead Renovator (Initial) \n
 \n
Location:  Economic Opportunity Pro
 gram Inc of Chemung &amp; Schuyler Counties - 650 Baldwin Street, Elmira, N
 Y  14901\n
 \n
\nThis training is for:\nClass open to all attendees, includ
 ing construction and weatherization contractors.\n\n\nCourse Description:\n
 The US Environmental Protection Agency (EPA) published the Lead; Renovation
 , Repair and Painting Program that requires each contractor working on pre-
 1978 residences to have an EPA Certified Renovator on-site while jobs are s
 et up and cleaned up. The certified person will be responsible for document
 ing that all work was done in a lead safe manner. \n\nThis is a 1-day cours
 e with approximately 6 hours classroom and 2 hours hands-on lab work, follo
 wed by a multiple choice written test. Upon course completion, attendees wi
 ll receive a Lead Renovator card from the training provider (NYSWDA). This 
 certification requires a five year renewal.\n\n\nPrerequisites: \nfor WAP o
 nly- must have completed the One-Day Lead Safe Weatherization training\n\n\
 nClass Size: \n8 - EPA requires an 8 to 1 student-to-trainer ratio and a st
 rict maximum limit of 8 \n\n\nBPI CEU: 4\n\n\nInstructor: \nAl McMahon, EPA
  qualified RRP Lead Renovator Instructor\n\n\nCourse Fees: \n$172/person - 
 NY Weatherization Sub-grantees\n
$172/person - affiliate members\n
$250/per
 son - non-members \n
 \n
Course fees include DO NOT lunch \n
 \n
**Special 
 note - if you wish to become an Affiliate Member, and save off the non-memb
 er rate, please contact Drew Ehrlich (315-701-0440 ext. 225, This email add
 ress is being protected from spambots. You need JavaScript enabled to view 
 it.
				document.getElementById('cloak8aff77b4f326796e7dae7770a9e8a781').in
 nerHTML = '';
				var prefix = 'ma' + 'il' + 'to';
				var path = 'hr' + 'e
 f' + '=';
				var addy8aff77b4f326796e7dae7770a9e8a781 = 'dehrlich' + '@';

 				addy8aff77b4f326796e7dae7770a9e8a781 = addy8aff77b4f326796e7dae7770a9e8
 a781 + 'nyswda' + '.' + 'org';
				var addy_text8aff77b4f326796e7dae7770a9e
 8a781 = 'dehrlich' + '@' + 'nyswda' + '.' + 'org';document.getElementById('
 cloak8aff77b4f326796e7dae7770a9e8a781').innerHTML += '<a ' + path + '\'' + 
 prefix + ':' + addy8aff77b4f326796e7dae7770a9e8a781 + '\'>'+addy_text8aff77
 b4f326796e7dae7770a9e8a781+'';
		) BEFORE YOU REGISTER for the course.\n
 \
 n
Through the support of NYS HCR funding, we are able to provide quality tr
 aining at discounted rates to NYSWDA members.\n
 \n
Click here to register 
 (index.php?option=com_civicrm&amp;task=civicrm/event/register&amp;reset=1&a
 mp;id=11323)\n
 \n
X-ALT-DESC;FMTTYPE=text/html:<p><span style="color: #336699;"><span style="font-family: Tahoma;"><span s
 tyle="font-size: medium;"><span style="color: #000000;"><span style="font-f
 amily: Arial, Helvetica;"><span style="font-size: x-small;"><span style="fo
 nt-family: Tahoma;"><span style="font-size: small;"><span style="font-famil
 y: Tahoma;"><span style="font-family: Tahoma;"><span style="font-family: Ta
 homa;"><span style="font-family: Arial, Helvetica;"><span style="font-size:
  x-small;"><span style="font-family: Tahoma;"><span style="font-size: small
 ;"><span style="font-family: Tahoma;"><span style="font-family: Tahoma;"><s
 pan style="font-family: Arial, Helvetica;"><span style="font-size: x-small;
 "><span style="font-family: Tahoma;"><span style="font-size: small;"><span 
 style="font-family: Arial, Helvetica;"><span style="font-size: x-small;"><s
 pan style="font-family: Tahoma;"><span style="font-size: small;"><span styl
 e="font-family: Arial, Helvetica;"><span style="font-size: x-small;"><span 
 style="font-family: Tahoma;"><span style="font-size: small;"><span style="f
 ont-family: Arial, Helvetica;"><span style="font-size: x-small;"><span styl
 e="color: #000000;"><span style="font-family: Tahoma;"><span style="font-si
 ze: small;"><span style="color: #000000;"><span style="font-family: Tahoma;
 "><span style="font-family: Tahoma;"><span><span style="color: #336699;"><s
 pan style="font-family: Tahoma;"><span style="font-size: medium;"></span></
 span></span><span style="color: #336699; font-family: tahoma,arial,helvetic
 a,sans-serif; font-size: 14pt;"><span><span><span style="color: #000000;"><
 span><span><span><strong><span style="color: #336699;">EPA RRP Lead Renovat
 or (Initial) </span></strong></span></span></span></span></span></span></sp
 an></span></span></span></span></span></span></span></span></span></span></
 span></span></span></span></span></span></span></span></span></span></span>
 </span></span></span></span></span></span></span></span></span></span></spa
 n></span></span></span></span></span></span></p><p>&nbsp;</p><p><span style
 ="color: #336699;"><span style="font-family: Tahoma;"><span style="font-siz
 e: medium;"><span style="color: #000000;"><span style="font-family: Arial, 
 Helvetica;"><span style="font-size: x-small;"><span style="font-family: Tah
 oma;"><span style="font-size: small;"><span style="font-family: Tahoma;"><s
 pan style="font-family: Tahoma;"><span style="font-family: Tahoma;"><span s
 tyle="font-family: Arial, Helvetica;"><span style="font-size: x-small;"><sp
 an style="font-family: Tahoma;"><span style="font-size: small;"><span style
 ="font-family: Tahoma;"><span style="font-family: Tahoma;"><span style="fon
 t-family: Arial, Helvetica;"><span style="font-size: x-small;"><span style=
 "font-family: Tahoma;"><span style="font-size: small;"><span style="font-fa
 mily: Arial, Helvetica;"><span style="font-size: x-small;"><span style="fon
 t-family: Tahoma;"><span style="font-size: small;"><span style="font-family
 : Arial, Helvetica;"><span style="font-size: x-small;"><span style="font-fa
 mily: Tahoma;"><span style="font-size: small;"><span style="font-family: Ar
 ial, Helvetica;"><span style="font-size: x-small;"><span style="color: #000
 000;"><span style="font-family: Tahoma;"><span style="font-size: small;"><s
 pan style="color: #000000;"><span style="font-family: Tahoma;"><span style=
 "font-family: Tahoma;"><span><span style="color: #336699; font-family: taho
 ma,arial,helvetica,sans-serif; font-size: 14pt;"><span><span><span style="c
 olor: #000000;"><span><span><span><strong><span style="color: #336699;">Loc
 ation:&nbsp; <span style="color: #336699;"><span style="color: #336699;">Ec
 onomic Opportunity Program Inc of Chemung &amp; Schuyler Counties<span styl
 e="color: #336699;">&nbsp;-&nbsp;650 Baldwin Street, Elmira, NY&nbsp; 14901
 </span></span></span></span></strong></span></span></span></span></span></s
 pan></span></span></span></span></span></span></span></span></span></span><
 /span></span></span></span></span></span></span></span></span></span></span
 ></span></span></span></span></span></span></span></span></span></span></sp
 an></span></span></span></span></span></span></span></p><p><span style="col
 or: #336699;"><span style="font-family: Tahoma;"><span style="font-size: me
 dium;"><span style="color: #000000;"><span style="font-family: Arial, Helve
 tica;"><span style="font-size: x-small;"><span style="font-family: Tahoma;"
 ><span style="font-size: small;"><span style="font-family: Tahoma;"><span s
 tyle="font-family: Tahoma;"><span style="font-family: Tahoma;"><span style=
 "font-family: Arial, Helvetica;"><span style="font-size: x-small;"><span st
 yle="font-family: Tahoma;"><span style="font-size: small;"><span style="fon
 t-family: Tahoma;"><span style="font-family: Tahoma;"><span style="font-fam
 ily: Arial, Helvetica;"><span style="font-size: x-small;"><span style="font
 -family: Tahoma;"><span style="font-size: small;"><span style="font-family:
  Arial, Helvetica;"><span style="font-size: x-small;"><span style="font-fam
 ily: Tahoma;"><span style="font-size: small;"><span style="font-family: Ari
 al, Helvetica;"><span style="font-size: x-small;"><span style="font-family:
  Tahoma;"><span style="font-size: small;"><span style="font-family: Arial, 
 Helvetica;"><span style="font-size: x-small;"><span style="color: #000000;"
 ><span style="font-family: Tahoma;"><span style="font-size: small;"><span s
 tyle="color: #000000;"><span style="font-family: Tahoma;"><span style="font
 -family: Tahoma;"><span><span style="color: #336699;"><span style="font-fam
 ily: Tahoma;"><span style="font-size: medium;"><span style="color: #000000;
 "><span style="font-family: Arial, Helvetica;"><span style="font-size: x-sm
 all;"><span><span style="font-size: small;"></span></span></span></span></s
 pan></span></span></span></span></span></span></span></span></span></span><
 /span></span></span></span></span></span></span></span></span></span></span
 ></span></span></span></span></span></span></span></span></span></span></sp
 an></span></span></span></span></span></span></span></span></span>&nbsp;</p
 ><p><span style="color: #336699;"><span style="font-family: Tahoma;"><span 
 style="font-size: medium;"><span style="color: #000000;"><span style="font-
 family: Arial, Helvetica;"><span style="font-size: x-small;"><span style="f
 ont-family: Tahoma;"><span style="font-size: small;"><span style="font-fami
 ly: Tahoma;"><span style="font-family: Tahoma;"><span style="font-family: T
 ahoma;"><span style="font-family: Arial, Helvetica;"><span style="font-size
 : x-small;"><span style="font-family: Tahoma;"><span style="font-size: smal
 l;"><span style="font-family: Tahoma;"><span style="font-family: Tahoma;"><
 span style="font-family: Arial, Helvetica;"><span style="font-size: x-small
 ;"><span style="font-family: Tahoma;"><span style="font-size: small;"><span
  style="font-family: Arial, Helvetica;"><span style="font-size: x-small;"><
 span style="font-family: Tahoma;"><span style="font-size: small;"><span sty
 le="font-family: Arial, Helvetica;"><span style="font-size: x-small;"><span
  style="font-family: Tahoma;"><span style="font-size: small;"><span style="
 font-family: Arial, Helvetica;"><span style="font-size: x-small;"><span sty
 le="color: #000000;"><span style="font-family: Tahoma;"><span style="font-s
 ize: small;"><span style="color: #000000;"><span style="font-family: Tahoma
 ;"><span style="font-family: Tahoma;"><span><span style="color: #336699;"><
 span style="font-family: Tahoma;"><span style="font-size: medium;"><span st
 yle="color: #000000;"><span style="font-family: Arial, Helvetica;"><span st
 yle="font-size: x-small;"><span><span style="font-size: small;"><br /><span
  style="font-size: 12pt;"><span style="text-decoration: underline;"><span s
 tyle="font-family: Tahoma;"><em>This training is for:</em></span></span><sp
 an style="font-family: Tahoma;"><span style="font-family: Tahoma;"><br /></
 span></span></span></span><span style="font-size: small;"><span style="font
 -family: Tahoma;"><span style="font-family: Tahoma;"><span style="font-fami
 ly: Tahoma;"><span style="font-size: 12pt;">Class open to all attendees, in
 cluding construction and weatherization contractors.</span><span style="fon
 t-family: Arial, Helvetica;"><span style="font-size: x-small;"><br /><span 
 style="font-family: Tahoma;"><span style="font-size: small;"><br /><span st
 yle="font-size: 12pt;"><br /><em><span style="text-decoration: underline;">
 Course Description</span>:<br /></em></span><span style="font-family: Tahom
 a;"><span style="font-family: Tahoma;"><span style="font-size: 12pt;">The U
 S Environmental Protection Agency (EPA) published the Lead; Renovation, Rep
 air and Painting Program that requires each contractor working on pre-1978 
 residences to have an EPA Certified Renovator on-site while jobs are set up
  and cleaned up. The certified person will be responsible for documenting t
 hat all work was done in a lead safe manner. <br /><br />This is a <span st
 yle="text-decoration: underline;">1-day</span> course with approximately 6 
 hours classroom and 2 hours hands-on lab work, followed by a multiple choic
 e written test. Upon course completion, attendees will receive a Lead Renov
 ator card from the training provider (NYSWDA). This certification requires 
 a five year renewal.</span><span style="font-family: Arial, Helvetica;"><sp
 an style="font-size: x-small;"><br /><span style="font-family: Tahoma;"><sp
 an style="font-size: small;"><br /><span style="font-family: Arial, Helveti
 ca;"><span style="font-size: x-small;"><br /><span style="font-family: Taho
 ma;"><span style="font-size: small;"><span style="font-family: Arial, Helve
 tica;"><span style="font-size: x-small;"><span style="font-family: Tahoma;"
 ><span style="font-size: small;"><span style="font-family: Arial, Helvetica
 ;"><span style="font-size: x-small;"><span style="color: #000000;"><span st
 yle="font-size: 12pt;"><span style="font-family: Tahoma;"><span><span style
 ="color: #000000;"><em><span style="text-decoration: underline;">Prerequisi
 tes</span>:</em></span></span></span><span><span style="color: #000000;"><e
 m> </em></span></span></span><span style="font-family: Tahoma;"><span style
 ="font-size: small;"><span style="color: #000000;"><br /><span style="font-
 size: 12pt;">for WAP only- must have completed the One-Day Lead Safe Weathe
 rization training</span><span style="font-family: Tahoma;"><br /><br /><br 
 /><span style="font-size: 12pt;"><em><span style="text-decoration: underlin
 e;">Class Size</span>:&nbsp;<br /></em>8 - EPA requires an&nbsp;8 to 1 stud
 ent-to-trainer ratio and a strict maximum limit of&nbsp;8 <br /><em><br /><
 br /><span style="text-decoration: underline;">BPI CEU:</span> </em>4<em><b
 r /><br /><br /><span style="text-decoration: underline;"><span style="font
 -family: Tahoma;">Instructor:</span> </span></em></span><span style="font-f
 amily: Tahoma;"><br /><span style="font-size: 12pt;">Al McMahon, EPA qualif
 ied RRP Lead Renovator Instructor<br /><em><br /><br /><span style="text-de
 coration: underline;">Course Fees:</span> <br /></em></span><span><span sty
 le="font-size: 12pt;">$172/person - NY Weatherization Sub-grantees</span></
 span></span></span></span></span></span></span></span></span></span></span>
 </span></span></span></span></span></span></span></span></span></span></spa
 n></span></span></span></span></span></span></span></span></span></span></s
 pan></span></span></span></span></span></span></span></span></span></span><
 /span></span></span></span></span></span></span></span></span></span></span
 ></span></span></span></span></span></span></span></span></span></span></sp
 an></span></span></span></span></span></span></span></span></span></span></
 span></p><p><span style="color: #336699;"><span style="font-family: Tahoma;
 "><span style="font-size: medium;"><span style="color: #000000;"><span styl
 e="font-family: Arial, Helvetica;"><span style="font-size: x-small;"><span 
 style="font-family: Tahoma;"><span style="font-size: small;"><span style="f
 ont-family: Tahoma;"><span style="font-family: Tahoma;"><span style="font-f
 amily: Tahoma;"><span style="font-family: Arial, Helvetica;"><span style="f
 ont-size: x-small;"><span style="font-family: Tahoma;"><span style="font-si
 ze: small;"><span style="font-family: Tahoma;"><span style="font-family: Ta
 homa;"><span style="font-family: Arial, Helvetica;"><span style="font-size:
  x-small;"><span style="font-family: Tahoma;"><span style="font-size: small
 ;"><span style="font-family: Arial, Helvetica;"><span style="font-size: x-s
 mall;"><span style="font-family: Tahoma;"><span style="font-size: small;"><
 span style="font-family: Arial, Helvetica;"><span style="font-size: x-small
 ;"><span style="font-family: Tahoma;"><span style="font-size: small;"><span
  style="font-family: Arial, Helvetica;"><span style="font-size: x-small;"><
 span style="color: #000000;"><span style="font-family: Tahoma;"><span style
 ="font-size: small;"><span style="color: #000000;"><span style="font-family
 : Tahoma;"><span style="font-family: Tahoma;"><span><span style="color: #33
 6699;"><span style="font-family: Tahoma;"><span style="font-size: medium;">
 <span style="color: #000000;"><span style="font-family: Arial, Helvetica;">
 <span style="font-size: x-small;"><span><span style="font-size: small;"><sp
 an style="font-family: Tahoma;"><span style="font-family: Tahoma;"><span st
 yle="font-family: Tahoma;"><span style="font-family: Arial, Helvetica;"><sp
 an style="font-size: x-small;"><span style="font-family: Tahoma;"><span sty
 le="font-size: small;"><span style="font-family: Tahoma;"><span style="font
 -family: Tahoma;"><span style="font-family: Arial, Helvetica;"><span style=
 "font-size: x-small;"><span style="font-family: Tahoma;"><span style="font-
 size: small;"><span style="font-family: Arial, Helvetica;"><span style="fon
 t-size: x-small;"><span style="font-family: Tahoma;"><span style="font-size
 : small;"><span style="font-family: Arial, Helvetica;"><span style="font-si
 ze: x-small;"><span style="font-family: Tahoma;"><span style="font-size: sm
 all;"><span style="font-family: Arial, Helvetica;"><span style="font-size: 
 x-small;"><span style="color: #000000;"><span style="font-family: Tahoma;">
 <span style="font-size: small;"><span style="color: #000000;"><span style="
 font-family: Tahoma;"><span style="font-family: Tahoma;"><span><span style=
 "font-size: 12pt;">$172/person - affiliate members</span></span></span></sp
 an></span></span></span></span></span></span></span></span></span></span></
 span></span></span></span></span></span></span></span></span></span></span>
 </span></span></span></span></span></span></span></span></span></span></spa
 n></span></span></span></span></span></span></span></span></span></span></s
 pan></span></span></span></span></span></span></span></span></span></span><
 /span></span></span></span></span></span></span></span></span></span></span
 ></span></span></span></span></span></span></span></span></span></p><p><spa
 n style="color: #336699;"><span style="font-family: Tahoma;"><span style="f
 ont-size: medium;"><span style="color: #000000;"><span style="font-family: 
 Arial, Helvetica;"><span style="font-size: x-small;"><span style="font-fami
 ly: Tahoma;"><span style="font-size: small;"><span style="font-family: Taho
 ma;"><span style="font-family: Tahoma;"><span style="font-family: Tahoma;">
 <span style="font-family: Arial, Helvetica;"><span style="font-size: x-smal
 l;"><span style="font-family: Tahoma;"><span style="font-size: small;"><spa
 n style="font-family: Tahoma;"><span style="font-family: Tahoma;"><span sty
 le="font-family: Arial, Helvetica;"><span style="font-size: x-small;"><span
  style="font-family: Tahoma;"><span style="font-size: small;"><span style="
 font-family: Arial, Helvetica;"><span style="font-size: x-small;"><span sty
 le="font-family: Tahoma;"><span style="font-size: small;"><span style="font
 -family: Arial, Helvetica;"><span style="font-size: x-small;"><span style="
 font-family: Tahoma;"><span style="font-size: small;"><span style="font-fam
 ily: Arial, Helvetica;"><span style="font-size: x-small;"><span style="colo
 r: #000000;"><span style="font-family: Tahoma;"><span style="font-size: sma
 ll;"><span style="color: #000000;"><span style="font-family: Tahoma;"><span
  style="font-family: Tahoma;"><span><span style="color: #336699;"><span sty
 le="font-family: Tahoma;"><span style="font-size: medium;"><span style="col
 or: #000000;"><span style="font-family: Arial, Helvetica;"><span style="fon
 t-size: x-small;"><span><span style="font-size: small;"><span style="font-f
 amily: Tahoma;"><span style="font-family: Tahoma;"><span style="font-family
 : Tahoma;"><span style="font-family: Arial, Helvetica;"><span style="font-s
 ize: x-small;"><span style="font-family: Tahoma;"><span style="font-size: s
 mall;"><span style="font-family: Tahoma;"><span style="font-family: Tahoma;
 "><span style="font-family: Arial, Helvetica;"><span style="font-size: x-sm
 all;"><span style="font-family: Tahoma;"><span style="font-size: small;"><s
 pan style="font-family: Arial, Helvetica;"><span style="font-size: x-small;
 "><span style="font-family: Tahoma;"><span style="font-size: small;"><span 
 style="font-family: Arial, Helvetica;"><span style="font-size: x-small;"><s
 pan style="font-family: Tahoma;"><span style="font-size: small;"><span styl
 e="font-family: Arial, Helvetica;"><span style="font-size: x-small;"><span 
 style="color: #000000;"><span style="font-family: Tahoma;"><span style="fon
 t-size: small;"><span style="color: #000000;"><span style="font-family: Tah
 oma;"><span style="font-family: Tahoma;"><span><span style="font-size: 12pt
 ;">$250/person - non-members&nbsp;</span></span></span></span></span></span
 ></span></span></span></span></span></span></span></span></span></span></sp
 an></span></span></span></span></span></span></span></span></span></span></
 span></span></span></span></span></span></span></span></span></span></span>
 </span></span></span></span></span></span></span></span></span></span></spa
 n></span></span></span></span></span></span></span></span></span></span></s
 pan></span></span></span></span></span></span></span></span></span></span><
 /span></span></span></span></span></span></span></p><p>&nbsp;</p><p><span s
 tyle="color: #0000ff;"><strong><span style="font-family: tahoma,arial,helve
 tica,sans-serif; font-size: 14pt;"><em><span style="color: #0000ff;"><em><s
 pan style="font-family: tahoma,arial,helvetica,sans-serif; font-size: 14pt;
 "><span style="font-family: tahoma,arial,helvetica,sans-serif; font-size: 1
 2pt;"><strong><em>Course fees include DO NOT lunch</em></strong></span>&nbs
 p;</span></em></span></em></span></strong></span></p><p>&nbsp;</p><p><em><s
 trong><span style="background: white; color: #02613f; font-family: 'Georgia
 ','serif';"><span style="font-size: small;">**Special note</span></span></s
 trong></em><span style="background: white; color: black; font-family: 'Geor
 gia','serif';"><span style="font-size: small;"><i><strong>&nbsp;-&nbsp;if y
 ou wish to become an Affiliate Member, and&nbsp;save off the non-member rat
 e, please contact&nbsp;Drew Ehrlich&nbsp;(315-701-0440 ext. 225,&nbsp;</str
 ong></i></span><i><strong><span id="cloak8aff77b4f326796e7dae7770a9e8a781">
 This email address is being protected from spambots. You need JavaScript en
 abled to view it.</span><script type='text/javascript'>
				document.getEle
 mentById('cloak8aff77b4f326796e7dae7770a9e8a781').innerHTML = '';
				var p
 refix = 'ma' + 'il' + 'to';
				var path = 'hr' + 'ef' + '=';
				var addy8
 aff77b4f326796e7dae7770a9e8a781 = 'dehrlich' + '@';
				addy8aff77b4f326796
 e7dae7770a9e8a781 = addy8aff77b4f326796e7dae7770a9e8a781 + 'nyswda' + '.' +
  'org';
				var addy_text8aff77b4f326796e7dae7770a9e8a781 = '<span style="c
 olor: #0000ff; font-size: small;">dehrlich' + '@' + 'nyswda' + '.' + 'org</
 span>';document.getElementById('cloak8aff77b4f326796e7dae7770a9e8a781').inn
 erHTML += '<a ' + path + '\'' + prefix + ':' + addy8aff77b4f326796e7dae7770
 a9e8a781 + '\'>'+addy_text8aff77b4f326796e7dae7770a9e8a781+'<\/a>';
		</scr
 ipt><span style="font-size: small;">)&nbsp;</span></strong></i></span><i></
 i><span style="font-size: small;"><strong><span style="background: white; c
 olor: #02613f; font-family: 'Georgia','serif';">BEFORE YOU REGISTER&nbsp;</
 span></strong><em><b><span style="background: white; color: black; font-fam
 ily: 'Georgia','serif';">for the course</span></b></em><strong><span style=
 "background: white; color: black; font-family: 'Georgia','serif';">.</span>
 </strong></span></p><p>&nbsp;</p><p><strong><em><span style="font-size: 10p
 t; font-family: Georgia, serif; color: #10704d; background: white;">Through
  the support of NYS HCR funding, we are able to provide </span></em></stron
 g><em><strong><span style="font-size: 10pt; font-family: Georgia, serif; co
 lor: #02613f; background: white;">quality training at&nbsp;discounted rates
  to NYSWDA members.</span></strong></em></p><p>&nbsp;</p><p><span style="co
 lor: #0000ff;"><em><strong><span style="font-family: tahoma,arial,helvetica
 ,sans-serif; font-size: 14pt;"><a style="color: #0000ff;" href="https://www
 .nyswda.org/index.php?option=com_civicrm&amp;task=civicrm/event/register&am
 p;reset=1&amp;id=11323">Click here to register</a></span></strong></em></sp
 an></p><p>&nbsp;</p>
CONTACT:Robyn Visser
DTSTAMP:20260425T113614
DTSTART;TZID=America/New_York:20200310T090000
DTEND;TZID=America/New_York:20200310T170000
SEQUENCE:0
TRANSP:OPAQUE
END:VEVENT
END:VCALENDAR