BEGIN:VCALENDAR
VERSION:2.0
PRODID:-//jEvents 2.0 for Joomla//EN
CALSCALE:GREGORIAN
METHOD:PUBLISH
BEGIN:VTIMEZONE
TZID:America/New_York
BEGIN:STANDARD
DTSTART:20191103T010000
RDATE:20200308T030000
TZOFFSETFROM:-0400
TZOFFSETTO:-0500
TZNAME:America/New_York EST
END:STANDARD
BEGIN:STANDARD
DTSTART:20201101T010000
RDATE:20210314T030000
TZOFFSETFROM:-0400
TZOFFSETTO:-0500
TZNAME:America/New_York EST
END:STANDARD
BEGIN:STANDARD
DTSTART:20211107T010000
RDATE:20220313T030000
TZOFFSETFROM:-0400
TZOFFSETTO:-0500
TZNAME:America/New_York EST
END:STANDARD
BEGIN:STANDARD
DTSTART:20221106T010000
RDATE:20230312T030000
TZOFFSETFROM:-0400
TZOFFSETTO:-0500
TZNAME:America/New_York EST
END:STANDARD
BEGIN:STANDARD
DTSTART:20231105T010000
RDATE:20240310T030000
TZOFFSETFROM:-0400
TZOFFSETTO:-0500
TZNAME:America/New_York EST
END:STANDARD
BEGIN:STANDARD
DTSTART:20241103T010000
RDATE:20250309T030000
TZOFFSETFROM:-0400
TZOFFSETTO:-0500
TZNAME:America/New_York EST
END:STANDARD
BEGIN:STANDARD
DTSTART:20251102T010000
RDATE:20260308T030000
TZOFFSETFROM:-0400
TZOFFSETTO:-0500
TZNAME:America/New_York EST
END:STANDARD
BEGIN:STANDARD
DTSTART:20261101T010000
RDATE:20270314T030000
TZOFFSETFROM:-0400
TZOFFSETTO:-0500
TZNAME:America/New_York EST
END:STANDARD
BEGIN:STANDARD
DTSTART:20271107T010000
RDATE:20280312T030000
TZOFFSETFROM:-0400
TZOFFSETTO:-0500
TZNAME:America/New_York EST
END:STANDARD
BEGIN:STANDARD
DTSTART:20281105T010000
RDATE:20290311T030000
TZOFFSETFROM:-0400
TZOFFSETTO:-0500
TZNAME:America/New_York EST
END:STANDARD
BEGIN:STANDARD
DTSTART:20291104T010000
RDATE:20300310T030000
TZOFFSETFROM:-0400
TZOFFSETTO:-0500
TZNAME:America/New_York EST
END:STANDARD
BEGIN:STANDARD
DTSTART:20301103T010000
RDATE:20310309T030000
TZOFFSETFROM:-0400
TZOFFSETTO:-0500
TZNAME:America/New_York EST
END:STANDARD
BEGIN:DAYLIGHT
DTSTART:20190415T090000
RDATE:20191103T010000
TZOFFSETFROM:-0500
TZOFFSETTO:-0400
TZNAME:America/New_York EDT
END:DAYLIGHT
BEGIN:DAYLIGHT
DTSTART:20200308T030000
RDATE:20201101T010000
TZOFFSETFROM:-0500
TZOFFSETTO:-0400
TZNAME:America/New_York EDT
END:DAYLIGHT
BEGIN:DAYLIGHT
DTSTART:20210314T030000
RDATE:20211107T010000
TZOFFSETFROM:-0500
TZOFFSETTO:-0400
TZNAME:America/New_York EDT
END:DAYLIGHT
BEGIN:DAYLIGHT
DTSTART:20220313T030000
RDATE:20221106T010000
TZOFFSETFROM:-0500
TZOFFSETTO:-0400
TZNAME:America/New_York EDT
END:DAYLIGHT
BEGIN:DAYLIGHT
DTSTART:20230312T030000
RDATE:20231105T010000
TZOFFSETFROM:-0500
TZOFFSETTO:-0400
TZNAME:America/New_York EDT
END:DAYLIGHT
BEGIN:DAYLIGHT
DTSTART:20240310T030000
RDATE:20241103T010000
TZOFFSETFROM:-0500
TZOFFSETTO:-0400
TZNAME:America/New_York EDT
END:DAYLIGHT
BEGIN:DAYLIGHT
DTSTART:20250309T030000
RDATE:20251102T010000
TZOFFSETFROM:-0500
TZOFFSETTO:-0400
TZNAME:America/New_York EDT
END:DAYLIGHT
BEGIN:DAYLIGHT
DTSTART:20260308T030000
RDATE:20261101T010000
TZOFFSETFROM:-0500
TZOFFSETTO:-0400
TZNAME:America/New_York EDT
END:DAYLIGHT
BEGIN:DAYLIGHT
DTSTART:20270314T030000
RDATE:20271107T010000
TZOFFSETFROM:-0500
TZOFFSETTO:-0400
TZNAME:America/New_York EDT
END:DAYLIGHT
BEGIN:DAYLIGHT
DTSTART:20280312T030000
RDATE:20281105T010000
TZOFFSETFROM:-0500
TZOFFSETTO:-0400
TZNAME:America/New_York EDT
END:DAYLIGHT
BEGIN:DAYLIGHT
DTSTART:20290311T030000
RDATE:20291104T010000
TZOFFSETFROM:-0500
TZOFFSETTO:-0400
TZNAME:America/New_York EDT
END:DAYLIGHT
BEGIN:DAYLIGHT
DTSTART:20300310T030000
RDATE:20301103T010000
TZOFFSETFROM:-0500
TZOFFSETTO:-0400
TZNAME:America/New_York EDT
END:DAYLIGHT
END:VTIMEZONE
BEGIN:VEVENT
UID:500d98af0343353c0f6e61d66dfab815
CATEGORIES:WEB
CREATED:20200406T173209
SUMMARY:Weatherization Health & Safety - Online
LOCATION:NYSWDA - East Syracuse
DESCRIPTION:\n Weatherization Health &amp; Safety - Online \n
 \n
GoToWebinar Event\n
\
 n
 \n
Course Description: \n
This online course covers two, 3-hour sessions
 .  Successful course completion means the candidate must attend BOTH sessio
 ns in order to be awarded CEU’s and a certificate of completion.  YOU DO NO
 T NEED TO REGISTER TWICE.  You will be sent a webinar invite for both sessi
 ons.  Each session is from 9:00am until noon.\n\nIdentifying health and saf
 ety issues in client homes is a fundamental task in the Weatherization prog
 ram. This course will prepare the weatherization professional to perform th
 e H&amp;S inspection as well as required tests. Areas to be covered include
 : CO in ambient and flue gases, CAZ depressurization, worst case backdrafti
 ng, moisture/mold, asbestos, lead, clearances to combustibles, overloaded e
 lectrical circuits, unvented space heating. \n\nThis is an HCR mandated tra
 ining for Weatherization Directors, Auditors, Crew Supervisors and Crews. I
 f you are a new Director or have new staff, you are strongly advised to att
 end.  This training requires attendance every three (3) years. \n
 \n
\n
Cl
 ass Size: 25 \n
 \n
BPI CEU: 3 \n
\n
 \n
Instructor:  Al McMahon - NYSWDA \
 n
\n
 \n
Course Fees:  \n
$262/person - NY Weatherization Sub-grantees\n
$2
 62/person - affiliate members\n
$380/person - non-members\n\n
 \n
 **Specia
 l note - if you wish to become an Affiliate Member please contact Drew Ehrl
 ich (315-701-0440 ext. 225, This email address is being protected from spam
 bots. You need JavaScript enabled to view it.
				document.getElementById('
 cloakeb4597823c63be4a7f4f3aa3e4bb641a').innerHTML = '';
				var prefix = 'm
 a' + 'il' + 'to';
				var path = 'hr' + 'ef' + '=';
				var addyeb4597823c6
 3be4a7f4f3aa3e4bb641a = 'dehrlich' + '@';
				addyeb4597823c63be4a7f4f3aa3e
 4bb641a = addyeb4597823c63be4a7f4f3aa3e4bb641a + 'nyswda' + '.' + 'org';
		
 		var addy_texteb4597823c63be4a7f4f3aa3e4bb641a = 'dehrlich' + '@' + 'nyswd
 a' + '.' + 'org';document.getElementById('cloakeb4597823c63be4a7f4f3aa3e4bb
 641a').innerHTML += '<a ' + path + '\'' + prefix + ':' + addyeb4597823c63be
 4a7f4f3aa3e4bb641a + '\'>'+addy_texteb4597823c63be4a7f4f3aa3e4bb641a+'';
		
 ) BEFORE YOU REGISTER for the course.\n
 \n
Through the support of NYS HCR 
 funding, we are able to provide quality training at discounted rates to NYS
 WDA members.\n
 \n
CLASS FULL - call or email  This email address is being 
 protected from spambots. You need JavaScript enabled to view it.
				docume
 nt.getElementById('cloakd2dc70ad00c89459008ce51d242224ed').innerHTML = '';

 				var prefix = 'ma' + 'il' + 'to';
				var path = 'hr' + 'ef' + '=';
				
 var addyd2dc70ad00c89459008ce51d242224ed = 'rvisser' + '@';
				addyd2dc70a
 d00c89459008ce51d242224ed = addyd2dc70ad00c89459008ce51d242224ed + 'nyswda'
  + '.' + 'org';
				var addy_textd2dc70ad00c89459008ce51d242224ed = 'rvisse
 r' + '@' + 'nyswda' + '.' + 'org';document.getElementById('cloakd2dc70ad00c
 89459008ce51d242224ed').innerHTML += '<a ' + path + '\'' + prefix + ':' + a
 ddyd2dc70ad00c89459008ce51d242224ed + '\'>'+addy_textd2dc70ad00c89459008ce5
 1d242224ed+'';
		 for availability or wait list  \n\n
\n
 \n
\n
 \n
 \n
 \n
 
 \n
 \n
X-ALT-DESC;FMTTYPE=text/html:<p><br />&nbsp;<span style="color: #336699; font-family: tahoma,arial,helve
 tica,sans-serif; font-size: 14pt;"><span style="color: #000000;"><strong><s
 pan style="color: #336699;">Weatherization Health &amp; Safety - Online&nbs
 p;</span></strong></span></span></p><p>&nbsp;</p><p><span style="color: #33
 6699; font-family: tahoma,arial,helvetica,sans-serif; font-size: 14pt;"><sp
 an style="color: #000000;"><strong><span style="color: #336699;">GoToWebina
 r Event</span></strong></span></span></p><p><strong><span style="font-famil
 y: 'Tahoma','sans-serif'; color: #336699; font-size: 13.5pt;"></span></stro
 ng></p><p>&nbsp;</p><p><span style="font-size: 12pt;"><em><span style="text
 -decoration: underline;"><span style="font-family: 'Tahoma','sans-serif'; c
 olor: black;">Course Description:</span></span></em></span>&nbsp;</p><p><sp
 an style="font-family: Tahoma, sans-serif; color: black; font-size: 12pt;">
 This online course covers two, 3-hour sessions.&nbsp; Successful course com
 pletion means the candidate must attend BOTH sessions in order to be awarde
 d CEU’s and a certificate of completion.&nbsp; YOU DO NOT NEED TO REGISTER 
 TWICE.&nbsp; You will be sent a webinar invite for both sessions.&nbsp; Eac
 h session is from 9:00am until noon.<br /><br /></span><span style="font-fa
 mily: Tahoma, sans-serif; color: black; font-size: 12pt;">Identifying healt
 h and safety issues in client homes is a fundamental task in the Weatheriza
 tion program. This course will prepare the weatherization professional to p
 erform the H&amp;S inspection as well as required tests. Areas to be covere
 d include: CO in ambient and flue gases, CAZ depressurization, worst case b
 ackdrafting, moisture/mold, asbestos, lead, clearances to combustibles, ove
 rloaded electrical circuits, unvented space heating.&nbsp;<br /><br /></spa
 n><span style="font-family: Tahoma, sans-serif; color: black; font-size: 12
 pt;">This is an HCR mandated training for Weatherization Directors, Auditor
 s, Crew Supervisors and Crews. If you are a new Director or have new staff,
  you are strongly advised to attend.&nbsp; This training requires attendanc
 e every three (3) years.</span>&nbsp;</p><p>&nbsp;</p><p><span style="font-
 family: 'Tahoma', 'sans-serif'; color: black; font-size: 12pt;"></span></p>
 <p><span style="font-size: 12pt;"><em><span style="text-decoration: underli
 ne;"><span style="font-family: 'Tahoma','sans-serif'; color: black;">Class 
 Size</span></span></em><span style="font-family: 'Tahoma','sans-serif'; col
 or: black;">: 25</span></span>&nbsp;<span style="font-family: 'Tahoma', 'sa
 ns-serif'; color: black; font-size: 12pt;"></span></p><p>&nbsp;</p><p><span
  style="font-size: 12pt;"><em><span style="text-decoration: underline;"><sp
 an style="font-family: 'Tahoma','sans-serif'; color: black;">BPI CEU</span>
 </span></em><span style="text-decoration: underline;"><span style="font-fam
 ily: 'Tahoma','sans-serif'; color: black;">:</span></span><span style="font
 -family: 'Tahoma','sans-serif'; color: black;"> 3</span></span>&nbsp;</p><p
 ><span style="font-family: 'Tahoma', 'sans-serif'; color: black; font-size:
  12pt;"></span></p><p>&nbsp;</p><p><span style="font-size: 12pt;"><span sty
 le="text-decoration: underline;"><span style="font-family: 'Tahoma','sans-s
 erif'; color: black;"><em>Instructor</em>:</span></span><span style="font-f
 amily: 'Tahoma','sans-serif'; color: black;">&nbsp;&nbsp;</span><span style
 ="font-family: 'Tahoma','sans-serif'; color: black;">Al McMahon - NYSWDA</s
 pan></span>&nbsp;</p><p><span style="font-family: 'Tahoma', 'sans-serif'; c
 olor: black; font-size: 12pt;"></span></p><p>&nbsp;</p><p><span style="font
 -size: 12pt;"><em><span style="text-decoration: underline;"><span style="fo
 nt-family: 'Tahoma','sans-serif'; color: black;">Course Fees:&nbsp;</span><
 /span></em></span>&nbsp;</p><p><span style="font-size: 12pt;"><span style="
 color: black; font-family: 'Tahoma','sans-serif';">$262/person - NY&nbsp;We
 atherization Sub-grantees</span></span></p><p><span style="font-size: 12pt;
 "><span style="color: black; font-family: 'Tahoma','sans-serif';">$262/pers
 on - affiliate members</span><span style="color: black; font-family: 'Tahom
 a','sans-serif';"></span></span></p><p><span style="font-size: 12pt;"><span
  style="color: black; font-family: 'Tahoma','sans-serif';">$380/person - no
 n-members</span><span style="color: black; font-family: 'Tahoma','sans-seri
 f';"></span><span style="color: black; font-family: 'Tahoma','sans-serif';"
 ></span><em><span style="color: black; font-family: 'Tahoma','sans-serif';"
 ><br /></span></em></span></p><p>&nbsp;</p><p><span style="color: #0000ff;"
 ><em><strong><span style="font-family: tahoma, arial, helvetica, sans-serif
 ; font-size: 14pt;"><span style="color: #0000ff;"></span></span></strong></
 em></span><span style="background-color: initial; color: inherit; font-fami
 ly: inherit; font-size: 1rem;"> </span><em style="background-color: initial
 ; color: inherit; font-family: inherit; font-size: 1rem;"><strong><span sty
 le="background: white; color: #02613f; font-family: 'Georgia','serif';"><sp
 an style="font-size: small;">**Special note</span></span></strong></em><spa
 n style="background: white; color: black; font-family: 'Georgia','serif';">
 <span style="font-size: small;"><i><strong>&nbsp;-&nbsp;if you wish to beco
 me an Affiliate Member please contact&nbsp;Drew Ehrlich&nbsp;(315-701-0440 
 ext. 225,&nbsp;</strong></i></span><i><strong><span id="cloakeb4597823c63be
 4a7f4f3aa3e4bb641a">This email address is being protected from spambots. Yo
 u need JavaScript enabled to view it.</span><script type='text/javascript'>
 
				document.getElementById('cloakeb4597823c63be4a7f4f3aa3e4bb641a').inner
 HTML = '';
				var prefix = 'ma' + 'il' + 'to';
				var path = 'hr' + 'ef' 
 + '=';
				var addyeb4597823c63be4a7f4f3aa3e4bb641a = 'dehrlich' + '@';
			
 	addyeb4597823c63be4a7f4f3aa3e4bb641a = addyeb4597823c63be4a7f4f3aa3e4bb641
 a + 'nyswda' + '.' + 'org';
				var addy_texteb4597823c63be4a7f4f3aa3e4bb64
 1a = '<span style="color: #0000ff; font-size: small;">dehrlich' + '@' + 'ny
 swda' + '.' + 'org</span>';document.getElementById('cloakeb4597823c63be4a7f
 4f3aa3e4bb641a').innerHTML += '<a ' + path + '\'' + prefix + ':' + addyeb45
 97823c63be4a7f4f3aa3e4bb641a + '\'>'+addy_texteb4597823c63be4a7f4f3aa3e4bb6
 41a+'<\/a>';
		</script><span style="font-size: small;">)&nbsp;</span></str
 ong></i></span><i style="background-color: initial; color: inherit; font-fa
 mily: inherit; font-size: 1rem;"></i><span style="font-size: small;"><stron
 g><span style="background: white; color: #02613f; font-family: 'Georgia','s
 erif';">BEFORE YOU REGISTER&nbsp;</span></strong><em><b><span style="backgr
 ound: white; color: black; font-family: 'Georgia','serif';">for the course<
 /span></b></em><strong><span style="background: white; color: black; font-f
 amily: 'Georgia','serif';">.</span></strong></span><span style="background-
 color: initial; color: inherit; font-family: inherit; font-size: 1rem;"></s
 pan></p><p>&nbsp;</p><p><strong><em><span style="font-size: 10pt; font-fami
 ly: Georgia, serif; color: #10704d; background: white;">Through the support
  of NYS HCR funding, we are able to provide </span></em></strong><em><stron
 g><span style="font-size: 10pt; font-family: Georgia, serif; color: #02613f
 ; background: white;">quality training at&nbsp;discounted rates to NYSWDA m
 embers.</span></strong></em></p><p>&nbsp;</p><p><span style="font-size: 12p
 t;"><em style="background-color: initial; color: inherit; font-family: inhe
 rit; font-size: 1rem;"><strong><span style="font-family: Arial, Helvetica;"
 ><strong><em><strong><span style="color: #ffffff; font-family: tahoma,arial
 ,helvetica,sans-serif; font-size: 14pt;"><span style="color: #ff0000;">CLAS
 S FULL - call or email</span>&nbsp; <span id="cloakd2dc70ad00c89459008ce51d
 242224ed">This email address is being protected from spambots. You need Jav
 aScript enabled to view it.</span><script type='text/javascript'>
				docum
 ent.getElementById('cloakd2dc70ad00c89459008ce51d242224ed').innerHTML = '';
 
				var prefix = 'ma' + 'il' + 'to';
				var path = 'hr' + 'ef' + '=';
			
 	var addyd2dc70ad00c89459008ce51d242224ed = 'rvisser' + '@';
				addyd2dc70
 ad00c89459008ce51d242224ed = addyd2dc70ad00c89459008ce51d242224ed + 'nyswda
 ' + '.' + 'org';
				var addy_textd2dc70ad00c89459008ce51d242224ed = '<span
  style="color: #0066cc;">rvisser' + '@' + 'nyswda' + '.' + 'org</span>';doc
 ument.getElementById('cloakd2dc70ad00c89459008ce51d242224ed').innerHTML += 
 '<a ' + path + '\'' + prefix + ':' + addyd2dc70ad00c89459008ce51d242224ed +
  '\'>'+addy_textd2dc70ad00c89459008ce51d242224ed+'<\/a>';
		</script> <span
  style="color: #ff0000;">for availability or wait list</span></span></stron
 g></em><span style="color: #ffffff;">&nbsp;</span></strong><em></em><em></e
 m><em></em><span style="color: #ffffff; font-family: Tahoma, sans-serif;"><
 /span>&nbsp;</span><span style="font-family: Tahoma;"></span><span style="f
 ont-family: Arial, Helvetica;"></span><span style="font-family: Tahoma;"></
 span><span style="font-family: Tahoma;"></span><span style="font-family: Ta
 homa;"></span><span style="font-family: Arial, Helvetica;"></span><span sty
 le="font-family: Tahoma;"></span><span style="font-family: Tahoma;"></span>
 <span style="font-family: Tahoma;"></span><span style="font-family: Arial, 
 Helvetica;"></span><span style="font-family: Tahoma;"></span><span style="f
 ont-family: Tahoma;"></span><span style="font-family: Tahoma;"></span><span
  style="font-family: Tahoma;"></span><span style="font-family: Arial, Helve
 tica;"></span><span style="font-family: Tahoma;"></span><span style="font-f
 amily: Arial, Helvetica;"></span><span style="font-family: Tahoma;"></span>
 <span style="font-family: Arial, Helvetica;"></span><span style="font-famil
 y: Tahoma;"></span><span style="font-family: Arial, Helvetica;"></span><spa
 n style="font-family: Tahoma;"></span><span style="font-family: Tahoma;"></
 span><span style="font-family: Tahoma;"></span><span style="font-family: Ar
 ial, Helvetica;"></span><span style="font-family: Tahoma;"></span><span sty
 le="font-family: Tahoma;"></span><span style="font-family: Tahoma;"></span>
 <span style="font-family: Tahoma;"></span><span style="font-family: Arial, 
 Helvetica;"></span><span style="font-family: Tahoma;"></span><em></em><span
  style="font-size: 14pt;"></span></strong></em><em style="background-color:
  initial; color: inherit; font-family: inherit; font-size: 1rem;"><strong><
 span style="font-family: Tahoma;"></span><span style="font-family: Arial, H
 elvetica;"></span><span style="font-family: Tahoma;"></span><span style="fo
 nt-family: Tahoma;"></span><span style="font-family: Tahoma;"></span><span 
 style="font-family: Arial, Helvetica;"></span><span style="font-family: Tah
 oma;"></span><span style="font-family: Tahoma;"></span><span style="font-fa
 mily: Tahoma;"></span><span style="font-family: Tahoma;"></span><span style
 ="font-family: Arial, Helvetica;"></span><span style="font-family: Tahoma;"
 ></span><span style="font-family: Arial, Helvetica;"></span><span style="fo
 nt-family: Tahoma;"></span><span style="font-family: Arial, Helvetica;"></s
 pan><span style="font-family: Tahoma;"></span><span style="font-family: Ari
 al, Helvetica;"></span><span style="font-family: Tahoma;"></span><span styl
 e="font-family: Tahoma;"></span><span style="font-family: Tahoma;"></span><
 span style="font-family: Arial, Helvetica;"></span><span style="font-family
 : Tahoma;"></span><span style="font-family: Tahoma;"></span><span style="fo
 nt-family: Tahoma;"></span><span style="font-family: Tahoma;"></span><span 
 style="font-family: Arial, Helvetica;"></span><span style="font-family: Tah
 oma;"></span><em></em><span style="font-size: 14pt;"></span></strong></em><
 em><span style="font-family: 'Tahoma','sans-serif'; color: black;"><br /></
 span></em></span></p><p><span style="font-family: 'Arial','sans-serif'; col
 or: black; font-size: 10pt;"></span></p><p>&nbsp;</p><p><span style="font-f
 amily: 'Arial','sans-serif'; color: black; font-size: 10pt;"></span></p><p>
 &nbsp;</p><p>&nbsp;</p><p>&nbsp;</p><p>&nbsp;</p><p>&nbsp;</p>
CONTACT:This email address is being protected from spambots. You need JavaScript enabled to view it.
				document.getElementById('cloake23a8b1b392752b568c00a022c025a2d').innerHTML = '';
				var prefix = '&#109;a' + 'i&#108;' + '&#116;o';
				var path = 'hr' + 'ef' + '=';
				var addye23a8b1b392752b568c00a022c025a2d = 'rv&#105;ss&#101;r' + '&#64;';
				addye23a8b1b392752b568c00a022c025a2d = addye23a8b1b392752b568c00a022c025a2d + 'nyswd&#97;' + '&#46;' + '&#111;rg';
				var addy_texte23a8b1b392752b568c00a022c025a2d = 'rv&#105;ss&#101;r' + '&#64;' + 'nyswd&#97;' + '&#46;' + '&#111;rg';document.getElementById('cloake23a8b1b392752b568c00a022c025a2d').innerHTML += '<a ' + path + '\'' + prefix + ':' + addye23a8b1b392752b568c00a022c025a2d + '\'>'+addy_texte23a8b1b392752b568c00a022c025a2d+'';
		
DTSTAMP:20260425T130924
DTSTART;TZID=America/New_York:20200415T090000
DTEND;TZID=America/New_York:20200416T120000
SEQUENCE:0
TRANSP:OPAQUE
END:VEVENT
END:VCALENDAR