BEGIN:VCALENDAR
VERSION:2.0
PRODID:-//jEvents 2.0 for Joomla//EN
CALSCALE:GREGORIAN
METHOD:PUBLISH
BEGIN:VTIMEZONE
TZID:America/New_York
BEGIN:STANDARD
DTSTART:20191103T010000
RDATE:20200308T030000
TZOFFSETFROM:-0400
TZOFFSETTO:-0500
TZNAME:America/New_York EST
END:STANDARD
BEGIN:STANDARD
DTSTART:20201101T010000
RDATE:20210314T030000
TZOFFSETFROM:-0400
TZOFFSETTO:-0500
TZNAME:America/New_York EST
END:STANDARD
BEGIN:STANDARD
DTSTART:20211107T010000
RDATE:20220313T030000
TZOFFSETFROM:-0400
TZOFFSETTO:-0500
TZNAME:America/New_York EST
END:STANDARD
BEGIN:STANDARD
DTSTART:20221106T010000
RDATE:20230312T030000
TZOFFSETFROM:-0400
TZOFFSETTO:-0500
TZNAME:America/New_York EST
END:STANDARD
BEGIN:STANDARD
DTSTART:20231105T010000
RDATE:20240310T030000
TZOFFSETFROM:-0400
TZOFFSETTO:-0500
TZNAME:America/New_York EST
END:STANDARD
BEGIN:STANDARD
DTSTART:20241103T010000
RDATE:20250309T030000
TZOFFSETFROM:-0400
TZOFFSETTO:-0500
TZNAME:America/New_York EST
END:STANDARD
BEGIN:STANDARD
DTSTART:20251102T010000
RDATE:20260308T030000
TZOFFSETFROM:-0400
TZOFFSETTO:-0500
TZNAME:America/New_York EST
END:STANDARD
BEGIN:STANDARD
DTSTART:20261101T010000
RDATE:20270314T030000
TZOFFSETFROM:-0400
TZOFFSETTO:-0500
TZNAME:America/New_York EST
END:STANDARD
BEGIN:STANDARD
DTSTART:20271107T010000
RDATE:20280312T030000
TZOFFSETFROM:-0400
TZOFFSETTO:-0500
TZNAME:America/New_York EST
END:STANDARD
BEGIN:STANDARD
DTSTART:20281105T010000
RDATE:20290311T030000
TZOFFSETFROM:-0400
TZOFFSETTO:-0500
TZNAME:America/New_York EST
END:STANDARD
BEGIN:STANDARD
DTSTART:20291104T010000
RDATE:20300310T030000
TZOFFSETFROM:-0400
TZOFFSETTO:-0500
TZNAME:America/New_York EST
END:STANDARD
BEGIN:STANDARD
DTSTART:20301103T010000
RDATE:20310309T030000
TZOFFSETFROM:-0400
TZOFFSETTO:-0500
TZNAME:America/New_York EST
END:STANDARD
BEGIN:DAYLIGHT
DTSTART:20190422T090000
RDATE:20191103T010000
TZOFFSETFROM:-0500
TZOFFSETTO:-0400
TZNAME:America/New_York EDT
END:DAYLIGHT
BEGIN:DAYLIGHT
DTSTART:20200308T030000
RDATE:20201101T010000
TZOFFSETFROM:-0500
TZOFFSETTO:-0400
TZNAME:America/New_York EDT
END:DAYLIGHT
BEGIN:DAYLIGHT
DTSTART:20210314T030000
RDATE:20211107T010000
TZOFFSETFROM:-0500
TZOFFSETTO:-0400
TZNAME:America/New_York EDT
END:DAYLIGHT
BEGIN:DAYLIGHT
DTSTART:20220313T030000
RDATE:20221106T010000
TZOFFSETFROM:-0500
TZOFFSETTO:-0400
TZNAME:America/New_York EDT
END:DAYLIGHT
BEGIN:DAYLIGHT
DTSTART:20230312T030000
RDATE:20231105T010000
TZOFFSETFROM:-0500
TZOFFSETTO:-0400
TZNAME:America/New_York EDT
END:DAYLIGHT
BEGIN:DAYLIGHT
DTSTART:20240310T030000
RDATE:20241103T010000
TZOFFSETFROM:-0500
TZOFFSETTO:-0400
TZNAME:America/New_York EDT
END:DAYLIGHT
BEGIN:DAYLIGHT
DTSTART:20250309T030000
RDATE:20251102T010000
TZOFFSETFROM:-0500
TZOFFSETTO:-0400
TZNAME:America/New_York EDT
END:DAYLIGHT
BEGIN:DAYLIGHT
DTSTART:20260308T030000
RDATE:20261101T010000
TZOFFSETFROM:-0500
TZOFFSETTO:-0400
TZNAME:America/New_York EDT
END:DAYLIGHT
BEGIN:DAYLIGHT
DTSTART:20270314T030000
RDATE:20271107T010000
TZOFFSETFROM:-0500
TZOFFSETTO:-0400
TZNAME:America/New_York EDT
END:DAYLIGHT
BEGIN:DAYLIGHT
DTSTART:20280312T030000
RDATE:20281105T010000
TZOFFSETFROM:-0500
TZOFFSETTO:-0400
TZNAME:America/New_York EDT
END:DAYLIGHT
BEGIN:DAYLIGHT
DTSTART:20290311T030000
RDATE:20291104T010000
TZOFFSETFROM:-0500
TZOFFSETTO:-0400
TZNAME:America/New_York EDT
END:DAYLIGHT
BEGIN:DAYLIGHT
DTSTART:20300310T030000
RDATE:20301103T010000
TZOFFSETFROM:-0500
TZOFFSETTO:-0400
TZNAME:America/New_York EDT
END:DAYLIGHT
END:VTIMEZONE
BEGIN:VEVENT
UID:d4716802fa1360d8b45c1e2978fac600
CATEGORIES:WEB
CREATED:20200409T110328
SUMMARY:Air Sealing Techniques - Online
LOCATION:NYSWDA - East Syracuse
DESCRIPTION:\n Air Sealing Techniques - Online \n
 \n
GoToWebinar Event\n
\n
 \n
Course
  Description: \n
This online course covers two, 3-hour sessions.  Successfu
 l course completion means the candidate must attend BOTH sessions in order 
 to be awarded CEU’s and a certificate of completion.  YOU DO NOT NEED TO RE
 GISTER TWICE.  You will be sent a webinar invite for both sessions.  Each s
 ession is from 9:00am until noon. \n\nThis training will review procedures 
 meant to optimize a crew's work production so they better meet their air se
 aling goals.  Using powerpoint and video, the audience will learn about bas
 ic physics that effect air flow, techniques used in air sealing, use of blo
 wer doors to diagnose problems, prioritizing workscopes, and the use of pro
 per air sealing materials.\n\nThis is an HCR mandated training for Weatheri
 zation Directors, Auditors, Crew Supervisors and Crews. If you are a new Di
 rector or have new staff, you are strongly advised to attend.  This trainin
 g requires attendance every three (3) years. \n
 \n
\n
Class Size: 25 \n
 \
 n
BPI CEU: 3 \n
\n
 \n
Instructor:  Joe Ilacqua - NYSWDA \n
\n
 \n
Course F
 ees:  \n
$262/person - NY Weatherization Sub-grantees\n
$262/person - affil
 iate members\n
$380/person - non-members\n\n
 \n
 **Special note - if you w
 ish to become an Affiliate Member please contact Drew Ehrlich (315-701-0440
  ext. 225, This email address is being protected from spambots. You need Ja
 vaScript enabled to view it.
				document.getElementById('cloak51f61eaf5fa4
 555da1eb7fd242137b96').innerHTML = '';
				var prefix = 'ma' + 'il' + 'to';
 
				var path = 'hr' + 'ef' + '=';
				var addy51f61eaf5fa4555da1eb7fd24213
 7b96 = 'dehrlich' + '@';
				addy51f61eaf5fa4555da1eb7fd242137b96 = addy51f
 61eaf5fa4555da1eb7fd242137b96 + 'nyswda' + '.' + 'org';
				var addy_text51
 f61eaf5fa4555da1eb7fd242137b96 = 'dehrlich' + '@' + 'nyswda' + '.' + 'org';
 document.getElementById('cloak51f61eaf5fa4555da1eb7fd242137b96').innerHTML 
 += '<a ' + path + '\'' + prefix + ':' + addy51f61eaf5fa4555da1eb7fd242137b9
 6 + '\'>'+addy_text51f61eaf5fa4555da1eb7fd242137b96+'';
		) BEFORE YOU REGI
 STER for the course.\n
 \n
Through the support of NYS HCR funding, we are a
 ble to provide quality training at discounted rates to NYSWDA members.\n
 \
 n
CLASS FULL - call or email  This email address is being protected from sp
 ambots. You need JavaScript enabled to view it.
				document.getElementById
 ('cloak17a98cc87487d73a1b3d682fa64778f9').innerHTML = '';
				var prefix = 
 'ma' + 'il' + 'to';
				var path = 'hr' + 'ef' + '=';
				var addy17a98cc87
 487d73a1b3d682fa64778f9 = 'rvisser' + '@';
				addy17a98cc87487d73a1b3d682f
 a64778f9 = addy17a98cc87487d73a1b3d682fa64778f9 + 'nyswda' + '.' + 'org';
	
 			var addy_text17a98cc87487d73a1b3d682fa64778f9 = 'rvisser' + '@' + 'nyswd
 a' + '.' + 'org';document.getElementById('cloak17a98cc87487d73a1b3d682fa647
 78f9').innerHTML += '<a ' + path + '\'' + prefix + ':' + addy17a98cc87487d7
 3a1b3d682fa64778f9 + '\'>'+addy_text17a98cc87487d73a1b3d682fa64778f9+'';
		
  for availability or wait list  \n\n
\n
 \n
\n
 \n
 \n
 \n
 \n
 \n
X-ALT-DESC;FMTTYPE=text/html:<p><br />&nbsp;<span style="color: #336699; font-family: tahoma,arial,helve
 tica,sans-serif; font-size: 14pt;"><span style="color: #000000;"><strong><s
 pan style="color: #336699;">Air Sealing Techniques - Online&nbsp;</span></s
 trong></span></span></p><p>&nbsp;</p><p><span style="color: #336699; font-f
 amily: tahoma,arial,helvetica,sans-serif; font-size: 14pt;"><span style="co
 lor: #000000;"><strong><span style="color: #336699;">GoToWebinar Event</spa
 n></strong></span></span></p><p><strong><span style="font-family: 'Tahoma',
 'sans-serif'; color: #336699; font-size: 13.5pt;"></span></strong></p><p>&n
 bsp;</p><p><span style="font-size: 12pt;"><em><span style="text-decoration:
  underline;"><span style="font-family: 'Tahoma','sans-serif'; color: black;
 ">Course Description:</span></span></em></span>&nbsp;</p><p><span style="fo
 nt-family: Tahoma, sans-serif; color: black; font-size: 12pt;">This online 
 course covers two, 3-hour sessions.&nbsp; Successful course completion mean
 s the candidate must attend BOTH sessions in order to be awarded CEU’s and 
 a certificate of completion.&nbsp; YOU DO NOT NEED TO REGISTER TWICE.&nbsp;
  You will be sent a webinar invite for both sessions.&nbsp; Each session is
  from 9:00am until noon.&nbsp;<br /><br /></span><span style="font-family: 
 Tahoma, sans-serif; color: black; font-size: 12pt;">This training will revi
 ew procedures meant to optimize a crew's work production so they better mee
 t their air sealing goals.&nbsp; Using powerpoint and video, the audience w
 ill learn about basic physics that effect air flow, techniques used in air 
 sealing, use of blower doors to diagnose problems, prioritizing workscopes,
  and the use of proper air sealing materials.<br /><br /></span><span style
 ="font-family: Tahoma, sans-serif; color: black; font-size: 12pt;">This is 
 an HCR mandated training for Weatherization Directors, Auditors, Crew Super
 visors and Crews. If you are a new Director or have new staff, you are stro
 ngly advised to attend.&nbsp; This training requires attendance every three
  (3) years.</span>&nbsp;</p><p>&nbsp;</p><p><span style="font-family: 'Taho
 ma', 'sans-serif'; color: black; font-size: 12pt;"></span></p><p><span styl
 e="font-size: 12pt;"><em><span style="text-decoration: underline;"><span st
 yle="font-family: 'Tahoma','sans-serif'; color: black;">Class Size</span></
 span></em><span style="font-family: 'Tahoma','sans-serif'; color: black;">:
  25</span></span>&nbsp;<span style="font-family: 'Tahoma', 'sans-serif'; co
 lor: black; font-size: 12pt;"></span></p><p>&nbsp;</p><p><span style="font-
 size: 12pt;"><em><span style="text-decoration: underline;"><span style="fon
 t-family: 'Tahoma','sans-serif'; color: black;">BPI CEU</span></span></em><
 span style="text-decoration: underline;"><span style="font-family: 'Tahoma'
 ,'sans-serif'; color: black;">:</span></span><span style="font-family: 'Tah
 oma','sans-serif'; color: black;"> 3</span></span>&nbsp;</p><p><span style=
 "font-family: 'Tahoma', 'sans-serif'; color: black; font-size: 12pt;"></spa
 n></p><p>&nbsp;</p><p><span style="font-size: 12pt;"><span style="text-deco
 ration: underline;"><span style="font-family: 'Tahoma','sans-serif'; color:
  black;"><em>Instructor</em>:</span></span><span style="font-family: 'Tahom
 a','sans-serif'; color: black;">&nbsp; Joe Ilacqua</span><span style="font-
 family: 'Tahoma','sans-serif'; color: black;">&nbsp;- NYSWDA</span></span>&
 nbsp;</p><p><span style="font-family: 'Tahoma', 'sans-serif'; color: black;
  font-size: 12pt;"></span></p><p>&nbsp;</p><p><span style="font-size: 12pt;
 "><em><span style="text-decoration: underline;"><span style="font-family: '
 Tahoma','sans-serif'; color: black;">Course Fees:&nbsp;</span></span></em><
 /span>&nbsp;</p><p><span style="font-size: 12pt;"><span style="color: black
 ; font-family: 'Tahoma','sans-serif';">$262/person - NY&nbsp;Weatherization
  Sub-grantees</span></span></p><p><span style="font-size: 12pt;"><span styl
 e="color: black; font-family: 'Tahoma','sans-serif';">$262/person - affilia
 te members</span><span style="color: black; font-family: 'Tahoma','sans-ser
 if';"></span></span></p><p><span style="font-size: 12pt;"><span style="colo
 r: black; font-family: 'Tahoma','sans-serif';">$380/person - non-members</s
 pan><span style="color: black; font-family: 'Tahoma','sans-serif';"></span>
 <span style="color: black; font-family: 'Tahoma','sans-serif';"></span><em>
 <span style="color: black; font-family: 'Tahoma','sans-serif';"><br /></spa
 n></em></span></p><p>&nbsp;</p><p><span style="color: #0000ff;"><em><strong
 ><span style="font-family: tahoma, arial, helvetica, sans-serif; font-size:
  14pt;"><span style="color: #0000ff;"></span></span></strong></em></span><s
 pan style="background-color: initial; color: inherit; font-family: inherit;
  font-size: 1rem;"> </span><em style="background-color: initial; color: inh
 erit; font-family: inherit; font-size: 1rem;"><strong><span style="backgrou
 nd: white; color: #02613f; font-family: 'Georgia','serif';"><span style="fo
 nt-size: small;">**Special note</span></span></strong></em><span style="bac
 kground: white; color: black; font-family: 'Georgia','serif';"><span style=
 "font-size: small;"><i><strong>&nbsp;-&nbsp;if you wish to become an Affili
 ate Member please contact&nbsp;Drew Ehrlich&nbsp;(315-701-0440 ext. 225,&nb
 sp;</strong></i></span><i><strong><span id="cloak51f61eaf5fa4555da1eb7fd242
 137b96">This email address is being protected from spambots. You need JavaS
 cript enabled to view it.</span><script type='text/javascript'>
				documen
 t.getElementById('cloak51f61eaf5fa4555da1eb7fd242137b96').innerHTML = '';
	
 			var prefix = 'ma' + 'il' + 'to';
				var path = 'hr' + 'ef' + '=';
				v
 ar addy51f61eaf5fa4555da1eb7fd242137b96 = 'dehrlich' + '@';
				addy51f61ea
 f5fa4555da1eb7fd242137b96 = addy51f61eaf5fa4555da1eb7fd242137b96 + 'nyswda'
  + '.' + 'org';
				var addy_text51f61eaf5fa4555da1eb7fd242137b96 = '<span 
 style="color: #0000ff; font-size: small;">dehrlich' + '@' + 'nyswda' + '.' 
 + 'org</span>';document.getElementById('cloak51f61eaf5fa4555da1eb7fd242137b
 96').innerHTML += '<a ' + path + '\'' + prefix + ':' + addy51f61eaf5fa4555d
 a1eb7fd242137b96 + '\'>'+addy_text51f61eaf5fa4555da1eb7fd242137b96+'<\/a>';
 
		</script><span style="font-size: small;">)&nbsp;</span></strong></i></sp
 an><i style="background-color: initial; color: inherit; font-family: inheri
 t; font-size: 1rem;"></i><span style="font-size: small;"><strong><span styl
 e="background: white; color: #02613f; font-family: 'Georgia','serif';">BEFO
 RE YOU REGISTER&nbsp;</span></strong><em><b><span style="background: white;
  color: black; font-family: 'Georgia','serif';">for the course</span></b></
 em><strong><span style="background: white; color: black; font-family: 'Geor
 gia','serif';">.</span></strong></span><span style="background-color: initi
 al; color: inherit; font-family: inherit; font-size: 1rem;"></span></p><p>&
 nbsp;</p><p><strong><em><span style="font-size: 10pt; font-family: Georgia,
  serif; color: #10704d; background: white;">Through the support of NYS HCR 
 funding, we are able to provide </span></em></strong><em><strong><span styl
 e="font-size: 10pt; font-family: Georgia, serif; color: #02613f; background
 : white;">quality training at&nbsp;discounted rates to NYSWDA members.</spa
 n></strong></em></p><p>&nbsp;</p><p><span style="font-size: 12pt;"><em styl
 e="background-color: initial; color: inherit; font-family: inherit; font-si
 ze: 1rem;"><strong><span style="font-family: Arial, Helvetica;"><strong><em
 ><strong><span style="color: #ffffff; font-family: tahoma,arial,helvetica,s
 ans-serif; font-size: 14pt;"><span style="color: #ff0000;">CLASS FULL - cal
 l or email</span>&nbsp; <span id="cloak17a98cc87487d73a1b3d682fa64778f9">Th
 is email address is being protected from spambots. You need JavaScript enab
 led to view it.</span><script type='text/javascript'>
				document.getEleme
 ntById('cloak17a98cc87487d73a1b3d682fa64778f9').innerHTML = '';
				var pre
 fix = 'ma' + 'il' + 'to';
				var path = 'hr' + 'ef' + '=';
				var addy17a
 98cc87487d73a1b3d682fa64778f9 = 'rvisser' + '@';
				addy17a98cc87487d73a1b
 3d682fa64778f9 = addy17a98cc87487d73a1b3d682fa64778f9 + 'nyswda' + '.' + 'o
 rg';
				var addy_text17a98cc87487d73a1b3d682fa64778f9 = '<span style="colo
 r: #0066cc;">rvisser' + '@' + 'nyswda' + '.' + 'org</span>';document.getEle
 mentById('cloak17a98cc87487d73a1b3d682fa64778f9').innerHTML += '<a ' + path
  + '\'' + prefix + ':' + addy17a98cc87487d73a1b3d682fa64778f9 + '\'>'+addy_
 text17a98cc87487d73a1b3d682fa64778f9+'<\/a>';
		</script> <span style="colo
 r: #ff0000;">for availability or wait list</span></span></strong></em><span
  style="color: #ffffff;">&nbsp;</span></strong><em></em><em></em><em></em><
 span style="color: #ffffff; font-family: Tahoma, sans-serif;"></span>&nbsp;
 </span><span style="font-family: Tahoma;"></span><span style="font-family: 
 Arial, Helvetica;"></span><span style="font-family: Tahoma;"></span><span s
 tyle="font-family: Tahoma;"></span><span style="font-family: Tahoma;"></spa
 n><span style="font-family: Arial, Helvetica;"></span><span style="font-fam
 ily: Tahoma;"></span><span style="font-family: Tahoma;"></span><span style=
 "font-family: Tahoma;"></span><span style="font-family: Arial, Helvetica;">
 </span><span style="font-family: Tahoma;"></span><span style="font-family: 
 Tahoma;"></span><span style="font-family: Tahoma;"></span><span style="font
 -family: Tahoma;"></span><span style="font-family: Arial, Helvetica;"></spa
 n><span style="font-family: Tahoma;"></span><span style="font-family: Arial
 , Helvetica;"></span><span style="font-family: Tahoma;"></span><span style=
 "font-family: Arial, Helvetica;"></span><span style="font-family: Tahoma;">
 </span><span style="font-family: Arial, Helvetica;"></span><span style="fon
 t-family: Tahoma;"></span><span style="font-family: Tahoma;"></span><span s
 tyle="font-family: Tahoma;"></span><span style="font-family: Arial, Helveti
 ca;"></span><span style="font-family: Tahoma;"></span><span style="font-fam
 ily: Tahoma;"></span><span style="font-family: Tahoma;"></span><span style=
 "font-family: Tahoma;"></span><span style="font-family: Arial, Helvetica;">
 </span><span style="font-family: Tahoma;"></span><em></em><span style="font
 -size: 14pt;"></span></strong></em><em><span style="font-family: 'Tahoma','
 sans-serif'; color: black;"><br /></span></em></span></p><p><span style="fo
 nt-family: 'Arial','sans-serif'; color: black; font-size: 10pt;"></span></p
 ><p>&nbsp;</p><p><span style="font-family: 'Arial','sans-serif'; color: bla
 ck; font-size: 10pt;"></span></p><p>&nbsp;</p><p>&nbsp;</p><p>&nbsp;</p><p>
 &nbsp;</p><p>&nbsp;</p>
CONTACT:This email address is being protected from spambots. You need JavaScript enabled to view it.
				document.getElementById('cloak8b8b20b37f571794810a9c389bcbf67b').innerHTML = '';
				var prefix = '&#109;a' + 'i&#108;' + '&#116;o';
				var path = 'hr' + 'ef' + '=';
				var addy8b8b20b37f571794810a9c389bcbf67b = 'rv&#105;ss&#101;r' + '&#64;';
				addy8b8b20b37f571794810a9c389bcbf67b = addy8b8b20b37f571794810a9c389bcbf67b + 'nyswd&#97;' + '&#46;' + '&#111;rg';
				var addy_text8b8b20b37f571794810a9c389bcbf67b = 'rv&#105;ss&#101;r' + '&#64;' + 'nyswd&#97;' + '&#46;' + '&#111;rg';document.getElementById('cloak8b8b20b37f571794810a9c389bcbf67b').innerHTML += '<a ' + path + '\'' + prefix + ':' + addy8b8b20b37f571794810a9c389bcbf67b + '\'>'+addy_text8b8b20b37f571794810a9c389bcbf67b+'';
		
DTSTAMP:20260425T113507
DTSTART;TZID=America/New_York:20200422T090000
DTEND;TZID=America/New_York:20200423T120000
SEQUENCE:0
TRANSP:OPAQUE
END:VEVENT
END:VCALENDAR