BEGIN:VCALENDAR
VERSION:2.0
PRODID:-//jEvents 2.0 for Joomla//EN
CALSCALE:GREGORIAN
METHOD:PUBLISH
BEGIN:VTIMEZONE
TZID:America/New_York
BEGIN:STANDARD
DTSTART:20191103T010000
RDATE:20200308T030000
TZOFFSETFROM:-0400
TZOFFSETTO:-0500
TZNAME:America/New_York EST
END:STANDARD
BEGIN:STANDARD
DTSTART:20201101T010000
RDATE:20210314T030000
TZOFFSETFROM:-0400
TZOFFSETTO:-0500
TZNAME:America/New_York EST
END:STANDARD
BEGIN:STANDARD
DTSTART:20211107T010000
RDATE:20220313T030000
TZOFFSETFROM:-0400
TZOFFSETTO:-0500
TZNAME:America/New_York EST
END:STANDARD
BEGIN:STANDARD
DTSTART:20221106T010000
RDATE:20230312T030000
TZOFFSETFROM:-0400
TZOFFSETTO:-0500
TZNAME:America/New_York EST
END:STANDARD
BEGIN:STANDARD
DTSTART:20231105T010000
RDATE:20240310T030000
TZOFFSETFROM:-0400
TZOFFSETTO:-0500
TZNAME:America/New_York EST
END:STANDARD
BEGIN:STANDARD
DTSTART:20241103T010000
RDATE:20250309T030000
TZOFFSETFROM:-0400
TZOFFSETTO:-0500
TZNAME:America/New_York EST
END:STANDARD
BEGIN:STANDARD
DTSTART:20251102T010000
RDATE:20260308T030000
TZOFFSETFROM:-0400
TZOFFSETTO:-0500
TZNAME:America/New_York EST
END:STANDARD
BEGIN:STANDARD
DTSTART:20261101T010000
RDATE:20270314T030000
TZOFFSETFROM:-0400
TZOFFSETTO:-0500
TZNAME:America/New_York EST
END:STANDARD
BEGIN:STANDARD
DTSTART:20271107T010000
RDATE:20280312T030000
TZOFFSETFROM:-0400
TZOFFSETTO:-0500
TZNAME:America/New_York EST
END:STANDARD
BEGIN:STANDARD
DTSTART:20281105T010000
RDATE:20290311T030000
TZOFFSETFROM:-0400
TZOFFSETTO:-0500
TZNAME:America/New_York EST
END:STANDARD
BEGIN:STANDARD
DTSTART:20291104T010000
RDATE:20300310T030000
TZOFFSETFROM:-0400
TZOFFSETTO:-0500
TZNAME:America/New_York EST
END:STANDARD
BEGIN:STANDARD
DTSTART:20301103T010000
RDATE:20310309T030000
TZOFFSETFROM:-0400
TZOFFSETTO:-0500
TZNAME:America/New_York EST
END:STANDARD
BEGIN:DAYLIGHT
DTSTART:20190428T090000
RDATE:20191103T010000
TZOFFSETFROM:-0500
TZOFFSETTO:-0400
TZNAME:America/New_York EDT
END:DAYLIGHT
BEGIN:DAYLIGHT
DTSTART:20200308T030000
RDATE:20201101T010000
TZOFFSETFROM:-0500
TZOFFSETTO:-0400
TZNAME:America/New_York EDT
END:DAYLIGHT
BEGIN:DAYLIGHT
DTSTART:20210314T030000
RDATE:20211107T010000
TZOFFSETFROM:-0500
TZOFFSETTO:-0400
TZNAME:America/New_York EDT
END:DAYLIGHT
BEGIN:DAYLIGHT
DTSTART:20220313T030000
RDATE:20221106T010000
TZOFFSETFROM:-0500
TZOFFSETTO:-0400
TZNAME:America/New_York EDT
END:DAYLIGHT
BEGIN:DAYLIGHT
DTSTART:20230312T030000
RDATE:20231105T010000
TZOFFSETFROM:-0500
TZOFFSETTO:-0400
TZNAME:America/New_York EDT
END:DAYLIGHT
BEGIN:DAYLIGHT
DTSTART:20240310T030000
RDATE:20241103T010000
TZOFFSETFROM:-0500
TZOFFSETTO:-0400
TZNAME:America/New_York EDT
END:DAYLIGHT
BEGIN:DAYLIGHT
DTSTART:20250309T030000
RDATE:20251102T010000
TZOFFSETFROM:-0500
TZOFFSETTO:-0400
TZNAME:America/New_York EDT
END:DAYLIGHT
BEGIN:DAYLIGHT
DTSTART:20260308T030000
RDATE:20261101T010000
TZOFFSETFROM:-0500
TZOFFSETTO:-0400
TZNAME:America/New_York EDT
END:DAYLIGHT
BEGIN:DAYLIGHT
DTSTART:20270314T030000
RDATE:20271107T010000
TZOFFSETFROM:-0500
TZOFFSETTO:-0400
TZNAME:America/New_York EDT
END:DAYLIGHT
BEGIN:DAYLIGHT
DTSTART:20280312T030000
RDATE:20281105T010000
TZOFFSETFROM:-0500
TZOFFSETTO:-0400
TZNAME:America/New_York EDT
END:DAYLIGHT
BEGIN:DAYLIGHT
DTSTART:20290311T030000
RDATE:20291104T010000
TZOFFSETFROM:-0500
TZOFFSETTO:-0400
TZNAME:America/New_York EDT
END:DAYLIGHT
BEGIN:DAYLIGHT
DTSTART:20300310T030000
RDATE:20301103T010000
TZOFFSETFROM:-0500
TZOFFSETTO:-0400
TZNAME:America/New_York EDT
END:DAYLIGHT
END:VTIMEZONE
BEGIN:VEVENT
UID:5e7b173dd48bf4a45cee31a65698fd56
CATEGORIES:WEB
CREATED:20200413T155553
SUMMARY:One Day Lead Safe Weatherization - Online
LOCATION:NYSWDA - East Syracuse
DESCRIPTION:<p><br />&nbsp;<span style="color: #336699; font-family: tahoma,arial,helve
 tica,sans-serif; font-size: 14pt;"><span style="color: #000000;"><strong><s
 pan style="color: #336699;">One Day Lead Safe Weatherization - Online&nbsp;
 </span></strong></span></span></p><p>&nbsp;</p><p><span style="color: #3366
 99; font-family: tahoma,arial,helvetica,sans-serif; font-size: 14pt;"><span
  style="color: #000000;"><strong><span style="color: #336699;">GoToWebinar 
 Event</span></strong></span></span></p><p><strong><span style="font-family:
  'Tahoma','sans-serif'; color: #336699; font-size: 13.5pt;"></span></strong
 ></p><p>&nbsp;</p><p><span style="font-size: 12pt;"><em><span style="text-d
 ecoration: underline;"><span style="font-family: 'Tahoma','sans-serif'; col
 or: black;">Course Description:</span></span></em></span>&nbsp;</p><p><span
  style="font-family: Tahoma, sans-serif; color: black; font-size: 12pt;">Th
 is online course covers two, 3-hour sessions.&nbsp; Successful course compl
 etion means the candidate must attend BOTH sessions in order to be awarded 
 CEU’s and a certificate of completion.&nbsp; YOU DO NOT NEED TO REGISTER TW
 ICE.&nbsp; You will be sent a webinar invite for both sessions.&nbsp; Each 
 session is from 9:00am until noon.<br /><br /></span><span style="font-fami
 ly: tahoma, arial, helvetica, sans-serif; font-size: 12pt;"><span style="co
 lor: #000000;">Whenever we work on houses that were built before 1978 there
  is a good chance that there could be lead based paint on the inside and ou
 tside. Disturbing this paint could harm us and the families we work with. T
 his NYSWDA Lead Safe Weatherization Training satisfies the HCR requirement 
 that all Weatherization staff working in houses built before 1978 receive t
 raining on safe work practices to reduce exposure to lead dust. NYSWDA uses
  the DOE curriculum which also satisfies the DOE and OSHA requirements for 
 employees working around lead paint. This training is also required for you
 r sub-contractors' employees who work on weatherization units.</span><br />
 <br /></span><span style="font-family: Tahoma, sans-serif; color: black; fo
 nt-size: 12pt;">This is an HCR mandated training for Weatherization Directo
 rs, Auditors, Crew Supervisors and Crews. If you are a new Director or have
  new staff, you are strongly advised to attend.&nbsp; This training require
 s attendance every three (3) years.</span>&nbsp;</p><p>&nbsp;</p><p><span s
 tyle="font-family: 'Tahoma', 'sans-serif'; color: black; font-size: 12pt;">
 </span></p><p><span style="font-size: 12pt;"><em><span style="text-decorati
 on: underline;"><span style="font-family: 'Tahoma','sans-serif'; color: bla
 ck;">Class Size</span></span></em><span style="font-family: 'Tahoma','sans-
 serif'; color: black;">: 25</span></span>&nbsp;<span style="font-family: 'T
 ahoma', 'sans-serif'; color: black; font-size: 12pt;"></span></p><p>&nbsp;<
 /p><p><span style="font-size: 12pt;"><em><span style="text-decoration: unde
 rline;"><span style="font-family: 'Tahoma','sans-serif'; color: black;">BPI
  CEU</span></span></em><span style="text-decoration: underline;"><span styl
 e="font-family: 'Tahoma','sans-serif'; color: black;">:</span></span><span 
 style="font-family: 'Tahoma','sans-serif'; color: black;"> 3</span></span>&
 nbsp;</p><p><span style="font-family: 'Tahoma', 'sans-serif'; color: black;
  font-size: 12pt;"></span></p><p>&nbsp;</p><p><span style="font-size: 12pt;
 "><span style="text-decoration: underline;"><span style="font-family: 'Taho
 ma','sans-serif'; color: black;"><em>Instructor</em>:</span></span><span st
 yle="font-family: 'Tahoma','sans-serif'; color: black;">&nbsp;&nbsp;</span>
 <span style="font-family: 'Tahoma','sans-serif'; color: black;">Al McMahon 
 - NYSWDA</span></span>&nbsp;</p><p><span style="font-family: 'Tahoma', 'san
 s-serif'; color: black; font-size: 12pt;"></span></p><p>&nbsp;</p><p><span 
 style="font-size: 12pt;"><em><span style="text-decoration: underline;"><spa
 n style="font-family: 'Tahoma','sans-serif'; color: black;">Course Fees:&nb
 sp;</span></span></em></span>&nbsp;</p><p><span style="font-size: 12pt;"><s
 pan style="color: black; font-family: 'Tahoma','sans-serif';">$262/person -
  NY&nbsp;Weatherization Sub-grantees</span></span></p><p><span style="font-
 size: 12pt;"><span style="color: black; font-family: 'Tahoma','sans-serif';
 ">$262/person - affiliate members</span><span style="color: black; font-fam
 ily: 'Tahoma','sans-serif';"></span></span></p><p><span style="font-size: 1
 2pt;"><span style="color: black; font-family: 'Tahoma','sans-serif';">$380/
 person - non-members</span><span style="color: black; font-family: 'Tahoma'
 ,'sans-serif';"></span><span style="color: black; font-family: 'Tahoma','sa
 ns-serif';"></span><em><span style="color: black; font-family: 'Tahoma','sa
 ns-serif';"><br /></span></em></span></p><p>&nbsp;</p><p><span style="color
 : #0000ff;"><em><strong><span style="font-family: tahoma, arial, helvetica,
  sans-serif; font-size: 14pt;"><span style="color: #0000ff;"></span></span>
 </strong></em></span><span style="background-color: initial; color: inherit
 ; font-family: inherit; font-size: 1rem;"> </span><em style="background-col
 or: initial; color: inherit; font-family: inherit; font-size: 1rem;"><stron
 g><span style="background: white; color: #02613f; font-family: 'Georgia','s
 erif';"><span style="font-size: small;">**Special note</span></span></stron
 g></em><span style="background: white; color: black; font-family: 'Georgia'
 ,'serif';"><span style="font-size: small;"><i><strong>&nbsp;-&nbsp;if you w
 ish to become an Affiliate Member please contact&nbsp;Drew Ehrlich&nbsp;(31
 5-701-0440 ext. 225,&nbsp;</strong></i></span><i><strong><span id="cloak8e3
 88f7c60144bf2ac8d4bd186b680c5">This email address is being protected from s
 pambots. You need JavaScript enabled to view it.</span><script type='text/j
 avascript'>
				document.getElementById('cloak8e388f7c60144bf2ac8d4bd186b68
 0c5').innerHTML = '';
				var prefix = 'ma' + 'il' + 'to';
				var path = '
 hr' + 'ef' + '=';
				var addy8e388f7c60144bf2ac8d4bd186b680c5 = 'dehrlich'
  + '@';
				addy8e388f7c60144bf2ac8d4bd186b680c5 = addy8e388f7c60144bf2ac8d
 4bd186b680c5 + 'nyswda' + '.' + 'org';
				var addy_text8e388f7c60144bf2ac8
 d4bd186b680c5 = '<span style="color: #0000ff; font-size: small;">dehrlich' 
 + '@' + 'nyswda' + '.' + 'org</span>';document.getElementById('cloak8e388f7
 c60144bf2ac8d4bd186b680c5').innerHTML += '<a ' + path + '\'' + prefix + ':'
  + addy8e388f7c60144bf2ac8d4bd186b680c5 + '\'>'+addy_text8e388f7c60144bf2ac
 8d4bd186b680c5+'<\/a>';
		</script><span style="font-size: small;">)&nbsp;<
 /span></strong></i></span><i style="background-color: initial; color: inher
 it; font-family: inherit; font-size: 1rem;"></i><span style="font-size: sma
 ll;"><strong><span style="background: white; color: #02613f; font-family: '
 Georgia','serif';">BEFORE YOU REGISTER&nbsp;</span></strong><em><b><span st
 yle="background: white; color: black; font-family: 'Georgia','serif';">for 
 the course</span></b></em><strong><span style="background: white; color: bl
 ack; font-family: 'Georgia','serif';">.</span></strong></span><span style="
 background-color: initial; color: inherit; font-family: inherit; font-size:
  1rem;"></span></p><p>&nbsp;</p><p><strong><em><span style="font-size: 10pt
 ; font-family: Georgia, serif; color: #10704d; background: white;">Through 
 the support of NYS HCR funding, we are able to provide </span></em></strong
 ><em><strong><span style="font-size: 10pt; font-family: Georgia, serif; col
 or: #02613f; background: white;">quality training at&nbsp;discounted rates 
 to NYSWDA members.</span></strong></em></p><p><span style="font-size: 12pt;
 "><em><span style="font-family: 'Tahoma','sans-serif'; color: black;"><br /
 ><br /></span></em></span></p><p><a href="index.php?option=com_civicrm&amp;
 task=civicrm/event/register&amp;reset=1&amp;id=11343"><span style="color: #
 0000ff;"><em><strong><span style="font-size: 14pt; font-family: tahoma, ari
 al, helvetica, sans-serif;"><span style="color: #0000ff;"><strong><em><stro
 ng><span style="color: #ffffff; font-family: tahoma,arial,helvetica,sans-se
 rif; font-size: 14pt;"><span style="color: #ff0000;">CLASS FULL - call or e
 mail</span>&nbsp; </span></strong></em></strong></span></span></strong></em
 ></span></a><em><strong><strong><em><strong><span id="cloakade46c58d75fb51f
 b8f1a6c83cfc302f">This email address is being protected from spambots. You 
 need JavaScript enabled to view it.</span><script type='text/javascript'>
	
 			document.getElementById('cloakade46c58d75fb51fb8f1a6c83cfc302f').innerHT
 ML = '';
				var prefix = 'ma' + 'il' + 'to';
				var path = 'hr' + 'ef' + 
 '=';
				var addyade46c58d75fb51fb8f1a6c83cfc302f = 'rvisser' + '@';
				ad
 dyade46c58d75fb51fb8f1a6c83cfc302f = addyade46c58d75fb51fb8f1a6c83cfc302f +
  'nyswda' + '.' + 'org';
				var addy_textade46c58d75fb51fb8f1a6c83cfc302f 
 = '<span style="color: #0066cc;">rvisser' + '@' + 'nyswda' + '.' + 'org</sp
 an>';document.getElementById('cloakade46c58d75fb51fb8f1a6c83cfc302f').inner
 HTML += '<a ' + path + '\'' + prefix + ':' + addyade46c58d75fb51fb8f1a6c83c
 fc302f + '\'>'+addy_textade46c58d75fb51fb8f1a6c83cfc302f+'<\/a>';
		</scrip
 t> <span style="color: #ff0000;">for availability or wait list</span></stro
 ng></em><span style="color: #ffffff;">&nbsp;</span></strong><em></em><em></
 em><em></em><span style="color: #ffffff; font-family: Tahoma, sans-serif;">
 </span></strong></em></p><p><span style="font-family: 'Arial','sans-serif';
  color: black; font-size: 10pt;"></span></p><p>&nbsp;</p><p><span style="fo
 nt-family: 'Arial','sans-serif'; color: black; font-size: 10pt;"></span></p
 ><p>&nbsp;</p><p>&nbsp;</p><p>&nbsp;</p><p>&nbsp;</p><p>&nbsp;</p>
X-ALT-DESC;FMTTYPE=text/html:<p><br />&nbsp;<span style="color: #336699; font-family: tahoma,arial,helve
 tica,sans-serif; font-size: 14pt;"><span style="color: #000000;"><strong><s
 pan style="color: #336699;">One Day Lead Safe Weatherization - Online&nbsp;
 </span></strong></span></span></p><p>&nbsp;</p><p><span style="color: #3366
 99; font-family: tahoma,arial,helvetica,sans-serif; font-size: 14pt;"><span
  style="color: #000000;"><strong><span style="color: #336699;">GoToWebinar 
 Event</span></strong></span></span></p><p><strong><span style="font-family:
  'Tahoma','sans-serif'; color: #336699; font-size: 13.5pt;"></span></strong
 ></p><p>&nbsp;</p><p><span style="font-size: 12pt;"><em><span style="text-d
 ecoration: underline;"><span style="font-family: 'Tahoma','sans-serif'; col
 or: black;">Course Description:</span></span></em></span>&nbsp;</p><p><span
  style="font-family: Tahoma, sans-serif; color: black; font-size: 12pt;">Th
 is online course covers two, 3-hour sessions.&nbsp; Successful course compl
 etion means the candidate must attend BOTH sessions in order to be awarded 
 CEU’s and a certificate of completion.&nbsp; YOU DO NOT NEED TO REGISTER TW
 ICE.&nbsp; You will be sent a webinar invite for both sessions.&nbsp; Each 
 session is from 9:00am until noon.<br /><br /></span><span style="font-fami
 ly: tahoma, arial, helvetica, sans-serif; font-size: 12pt;"><span style="co
 lor: #000000;">Whenever we work on houses that were built before 1978 there
  is a good chance that there could be lead based paint on the inside and ou
 tside. Disturbing this paint could harm us and the families we work with. T
 his NYSWDA Lead Safe Weatherization Training satisfies the HCR requirement 
 that all Weatherization staff working in houses built before 1978 receive t
 raining on safe work practices to reduce exposure to lead dust. NYSWDA uses
  the DOE curriculum which also satisfies the DOE and OSHA requirements for 
 employees working around lead paint. This training is also required for you
 r sub-contractors' employees who work on weatherization units.</span><br />
 <br /></span><span style="font-family: Tahoma, sans-serif; color: black; fo
 nt-size: 12pt;">This is an HCR mandated training for Weatherization Directo
 rs, Auditors, Crew Supervisors and Crews. If you are a new Director or have
  new staff, you are strongly advised to attend.&nbsp; This training require
 s attendance every three (3) years.</span>&nbsp;</p><p>&nbsp;</p><p><span s
 tyle="font-family: 'Tahoma', 'sans-serif'; color: black; font-size: 12pt;">
 </span></p><p><span style="font-size: 12pt;"><em><span style="text-decorati
 on: underline;"><span style="font-family: 'Tahoma','sans-serif'; color: bla
 ck;">Class Size</span></span></em><span style="font-family: 'Tahoma','sans-
 serif'; color: black;">: 25</span></span>&nbsp;<span style="font-family: 'T
 ahoma', 'sans-serif'; color: black; font-size: 12pt;"></span></p><p>&nbsp;<
 /p><p><span style="font-size: 12pt;"><em><span style="text-decoration: unde
 rline;"><span style="font-family: 'Tahoma','sans-serif'; color: black;">BPI
  CEU</span></span></em><span style="text-decoration: underline;"><span styl
 e="font-family: 'Tahoma','sans-serif'; color: black;">:</span></span><span 
 style="font-family: 'Tahoma','sans-serif'; color: black;"> 3</span></span>&
 nbsp;</p><p><span style="font-family: 'Tahoma', 'sans-serif'; color: black;
  font-size: 12pt;"></span></p><p>&nbsp;</p><p><span style="font-size: 12pt;
 "><span style="text-decoration: underline;"><span style="font-family: 'Taho
 ma','sans-serif'; color: black;"><em>Instructor</em>:</span></span><span st
 yle="font-family: 'Tahoma','sans-serif'; color: black;">&nbsp;&nbsp;</span>
 <span style="font-family: 'Tahoma','sans-serif'; color: black;">Al McMahon 
 - NYSWDA</span></span>&nbsp;</p><p><span style="font-family: 'Tahoma', 'san
 s-serif'; color: black; font-size: 12pt;"></span></p><p>&nbsp;</p><p><span 
 style="font-size: 12pt;"><em><span style="text-decoration: underline;"><spa
 n style="font-family: 'Tahoma','sans-serif'; color: black;">Course Fees:&nb
 sp;</span></span></em></span>&nbsp;</p><p><span style="font-size: 12pt;"><s
 pan style="color: black; font-family: 'Tahoma','sans-serif';">$262/person -
  NY&nbsp;Weatherization Sub-grantees</span></span></p><p><span style="font-
 size: 12pt;"><span style="color: black; font-family: 'Tahoma','sans-serif';
 ">$262/person - affiliate members</span><span style="color: black; font-fam
 ily: 'Tahoma','sans-serif';"></span></span></p><p><span style="font-size: 1
 2pt;"><span style="color: black; font-family: 'Tahoma','sans-serif';">$380/
 person - non-members</span><span style="color: black; font-family: 'Tahoma'
 ,'sans-serif';"></span><span style="color: black; font-family: 'Tahoma','sa
 ns-serif';"></span><em><span style="color: black; font-family: 'Tahoma','sa
 ns-serif';"><br /></span></em></span></p><p>&nbsp;</p><p><span style="color
 : #0000ff;"><em><strong><span style="font-family: tahoma, arial, helvetica,
  sans-serif; font-size: 14pt;"><span style="color: #0000ff;"></span></span>
 </strong></em></span><span style="background-color: initial; color: inherit
 ; font-family: inherit; font-size: 1rem;"> </span><em style="background-col
 or: initial; color: inherit; font-family: inherit; font-size: 1rem;"><stron
 g><span style="background: white; color: #02613f; font-family: 'Georgia','s
 erif';"><span style="font-size: small;">**Special note</span></span></stron
 g></em><span style="background: white; color: black; font-family: 'Georgia'
 ,'serif';"><span style="font-size: small;"><i><strong>&nbsp;-&nbsp;if you w
 ish to become an Affiliate Member please contact&nbsp;Drew Ehrlich&nbsp;(31
 5-701-0440 ext. 225,&nbsp;</strong></i></span><i><strong><span id="cloak8e3
 88f7c60144bf2ac8d4bd186b680c5">This email address is being protected from s
 pambots. You need JavaScript enabled to view it.</span><script type='text/j
 avascript'>
				document.getElementById('cloak8e388f7c60144bf2ac8d4bd186b68
 0c5').innerHTML = '';
				var prefix = 'ma' + 'il' + 'to';
				var path = '
 hr' + 'ef' + '=';
				var addy8e388f7c60144bf2ac8d4bd186b680c5 = 'dehrlich'
  + '@';
				addy8e388f7c60144bf2ac8d4bd186b680c5 = addy8e388f7c60144bf2ac8d
 4bd186b680c5 + 'nyswda' + '.' + 'org';
				var addy_text8e388f7c60144bf2ac8
 d4bd186b680c5 = '<span style="color: #0000ff; font-size: small;">dehrlich' 
 + '@' + 'nyswda' + '.' + 'org</span>';document.getElementById('cloak8e388f7
 c60144bf2ac8d4bd186b680c5').innerHTML += '<a ' + path + '\'' + prefix + ':'
  + addy8e388f7c60144bf2ac8d4bd186b680c5 + '\'>'+addy_text8e388f7c60144bf2ac
 8d4bd186b680c5+'<\/a>';
		</script><span style="font-size: small;">)&nbsp;<
 /span></strong></i></span><i style="background-color: initial; color: inher
 it; font-family: inherit; font-size: 1rem;"></i><span style="font-size: sma
 ll;"><strong><span style="background: white; color: #02613f; font-family: '
 Georgia','serif';">BEFORE YOU REGISTER&nbsp;</span></strong><em><b><span st
 yle="background: white; color: black; font-family: 'Georgia','serif';">for 
 the course</span></b></em><strong><span style="background: white; color: bl
 ack; font-family: 'Georgia','serif';">.</span></strong></span><span style="
 background-color: initial; color: inherit; font-family: inherit; font-size:
  1rem;"></span></p><p>&nbsp;</p><p><strong><em><span style="font-size: 10pt
 ; font-family: Georgia, serif; color: #10704d; background: white;">Through 
 the support of NYS HCR funding, we are able to provide </span></em></strong
 ><em><strong><span style="font-size: 10pt; font-family: Georgia, serif; col
 or: #02613f; background: white;">quality training at&nbsp;discounted rates 
 to NYSWDA members.</span></strong></em></p><p><span style="font-size: 12pt;
 "><em><span style="font-family: 'Tahoma','sans-serif'; color: black;"><br /
 ><br /></span></em></span></p><p><a href="https://www.nyswda.org/index.php?
 option=com_civicrm&amp;task=civicrm/event/register&amp;reset=1&amp;id=11343
 "><span style="color: #0000ff;"><em><strong><span style="font-size: 14pt; f
 ont-family: tahoma, arial, helvetica, sans-serif;"><span style="color: #000
 0ff;"><strong><em><strong><span style="color: #ffffff; font-family: tahoma,
 arial,helvetica,sans-serif; font-size: 14pt;"><span style="color: #ff0000;"
 >CLASS FULL - call or email</span>&nbsp; </span></strong></em></strong></sp
 an></span></strong></em></span></a><em><strong><strong><em><strong><span id
 ="cloakade46c58d75fb51fb8f1a6c83cfc302f">This email address is being protec
 ted from spambots. You need JavaScript enabled to view it.</span><script ty
 pe='text/javascript'>
				document.getElementById('cloakade46c58d75fb51fb8f
 1a6c83cfc302f').innerHTML = '';
				var prefix = 'ma' + 'il' + 'to';
				va
 r path = 'hr' + 'ef' + '=';
				var addyade46c58d75fb51fb8f1a6c83cfc302f = 
 'rvisser' + '@';
				addyade46c58d75fb51fb8f1a6c83cfc302f = addyade46c58d75
 fb51fb8f1a6c83cfc302f + 'nyswda' + '.' + 'org';
				var addy_textade46c58d7
 5fb51fb8f1a6c83cfc302f = '<span style="color: #0066cc;">rvisser' + '@' + 'n
 yswda' + '.' + 'org</span>';document.getElementById('cloakade46c58d75fb51fb
 8f1a6c83cfc302f').innerHTML += '<a ' + path + '\'' + prefix + ':' + addyade
 46c58d75fb51fb8f1a6c83cfc302f + '\'>'+addy_textade46c58d75fb51fb8f1a6c83cfc
 302f+'<\/a>';
		</script> <span style="color: #ff0000;">for availability or
  wait list</span></strong></em><span style="color: #ffffff;">&nbsp;</span><
 /strong><em></em><em></em><em></em><span style="color: #ffffff; font-family
 : Tahoma, sans-serif;"></span></strong></em></p><p><span style="font-family
 : 'Arial','sans-serif'; color: black; font-size: 10pt;"></span></p><p>&nbsp
 ;</p><p><span style="font-family: 'Arial','sans-serif'; color: black; font-
 size: 10pt;"></span></p><p>&nbsp;</p><p>&nbsp;</p><p>&nbsp;</p><p>&nbsp;</p
 ><p>&nbsp;</p>
CONTACT:This email address is being protected from spambots. You need JavaScript enabled to view it.
				document.getElementById('cloak9274af8d46036edf7f7028066d1001c2').innerHTML = '';
				var prefix = '&#109;a' + 'i&#108;' + '&#116;o';
				var path = 'hr' + 'ef' + '=';
				var addy9274af8d46036edf7f7028066d1001c2 = 'rv&#105;ss&#101;r' + '&#64;';
				addy9274af8d46036edf7f7028066d1001c2 = addy9274af8d46036edf7f7028066d1001c2 + 'nyswd&#97;' + '&#46;' + '&#111;rg';
				var addy_text9274af8d46036edf7f7028066d1001c2 = 'rv&#105;ss&#101;r' + '&#64;' + 'nyswd&#97;' + '&#46;' + '&#111;rg';document.getElementById('cloak9274af8d46036edf7f7028066d1001c2').innerHTML += '<a ' + path + '\'' + prefix + ':' + addy9274af8d46036edf7f7028066d1001c2 + '\'>'+addy_text9274af8d46036edf7f7028066d1001c2+'';
		
DTSTAMP:20260425T130944
DTSTART;TZID=America/New_York:20200428T090000
DTEND;TZID=America/New_York:20200429T120000
SEQUENCE:0
TRANSP:OPAQUE
END:VEVENT
END:VCALENDAR