BEGIN:VCALENDAR
VERSION:2.0
PRODID:-//jEvents 2.0 for Joomla//EN
CALSCALE:GREGORIAN
METHOD:PUBLISH
BEGIN:VTIMEZONE
TZID:America/New_York
BEGIN:STANDARD
DTSTART:20191103T010000
RDATE:20200308T030000
TZOFFSETFROM:-0400
TZOFFSETTO:-0500
TZNAME:America/New_York EST
END:STANDARD
BEGIN:STANDARD
DTSTART:20201101T010000
RDATE:20210314T030000
TZOFFSETFROM:-0400
TZOFFSETTO:-0500
TZNAME:America/New_York EST
END:STANDARD
BEGIN:STANDARD
DTSTART:20211107T010000
RDATE:20220313T030000
TZOFFSETFROM:-0400
TZOFFSETTO:-0500
TZNAME:America/New_York EST
END:STANDARD
BEGIN:STANDARD
DTSTART:20221106T010000
RDATE:20230312T030000
TZOFFSETFROM:-0400
TZOFFSETTO:-0500
TZNAME:America/New_York EST
END:STANDARD
BEGIN:STANDARD
DTSTART:20231105T010000
RDATE:20240310T030000
TZOFFSETFROM:-0400
TZOFFSETTO:-0500
TZNAME:America/New_York EST
END:STANDARD
BEGIN:STANDARD
DTSTART:20241103T010000
RDATE:20250309T030000
TZOFFSETFROM:-0400
TZOFFSETTO:-0500
TZNAME:America/New_York EST
END:STANDARD
BEGIN:STANDARD
DTSTART:20251102T010000
RDATE:20260308T030000
TZOFFSETFROM:-0400
TZOFFSETTO:-0500
TZNAME:America/New_York EST
END:STANDARD
BEGIN:STANDARD
DTSTART:20261101T010000
RDATE:20270314T030000
TZOFFSETFROM:-0400
TZOFFSETTO:-0500
TZNAME:America/New_York EST
END:STANDARD
BEGIN:STANDARD
DTSTART:20271107T010000
RDATE:20280312T030000
TZOFFSETFROM:-0400
TZOFFSETTO:-0500
TZNAME:America/New_York EST
END:STANDARD
BEGIN:STANDARD
DTSTART:20281105T010000
RDATE:20290311T030000
TZOFFSETFROM:-0400
TZOFFSETTO:-0500
TZNAME:America/New_York EST
END:STANDARD
BEGIN:STANDARD
DTSTART:20291104T010000
RDATE:20300310T030000
TZOFFSETFROM:-0400
TZOFFSETTO:-0500
TZNAME:America/New_York EST
END:STANDARD
BEGIN:STANDARD
DTSTART:20301103T010000
RDATE:20310309T030000
TZOFFSETFROM:-0400
TZOFFSETTO:-0500
TZNAME:America/New_York EST
END:STANDARD
BEGIN:DAYLIGHT
DTSTART:20190505T090000
RDATE:20191103T010000
TZOFFSETFROM:-0500
TZOFFSETTO:-0400
TZNAME:America/New_York EDT
END:DAYLIGHT
BEGIN:DAYLIGHT
DTSTART:20200308T030000
RDATE:20201101T010000
TZOFFSETFROM:-0500
TZOFFSETTO:-0400
TZNAME:America/New_York EDT
END:DAYLIGHT
BEGIN:DAYLIGHT
DTSTART:20210314T030000
RDATE:20211107T010000
TZOFFSETFROM:-0500
TZOFFSETTO:-0400
TZNAME:America/New_York EDT
END:DAYLIGHT
BEGIN:DAYLIGHT
DTSTART:20220313T030000
RDATE:20221106T010000
TZOFFSETFROM:-0500
TZOFFSETTO:-0400
TZNAME:America/New_York EDT
END:DAYLIGHT
BEGIN:DAYLIGHT
DTSTART:20230312T030000
RDATE:20231105T010000
TZOFFSETFROM:-0500
TZOFFSETTO:-0400
TZNAME:America/New_York EDT
END:DAYLIGHT
BEGIN:DAYLIGHT
DTSTART:20240310T030000
RDATE:20241103T010000
TZOFFSETFROM:-0500
TZOFFSETTO:-0400
TZNAME:America/New_York EDT
END:DAYLIGHT
BEGIN:DAYLIGHT
DTSTART:20250309T030000
RDATE:20251102T010000
TZOFFSETFROM:-0500
TZOFFSETTO:-0400
TZNAME:America/New_York EDT
END:DAYLIGHT
BEGIN:DAYLIGHT
DTSTART:20260308T030000
RDATE:20261101T010000
TZOFFSETFROM:-0500
TZOFFSETTO:-0400
TZNAME:America/New_York EDT
END:DAYLIGHT
BEGIN:DAYLIGHT
DTSTART:20270314T030000
RDATE:20271107T010000
TZOFFSETFROM:-0500
TZOFFSETTO:-0400
TZNAME:America/New_York EDT
END:DAYLIGHT
BEGIN:DAYLIGHT
DTSTART:20280312T030000
RDATE:20281105T010000
TZOFFSETFROM:-0500
TZOFFSETTO:-0400
TZNAME:America/New_York EDT
END:DAYLIGHT
BEGIN:DAYLIGHT
DTSTART:20290311T030000
RDATE:20291104T010000
TZOFFSETFROM:-0500
TZOFFSETTO:-0400
TZNAME:America/New_York EDT
END:DAYLIGHT
BEGIN:DAYLIGHT
DTSTART:20300310T030000
RDATE:20301103T010000
TZOFFSETFROM:-0500
TZOFFSETTO:-0400
TZNAME:America/New_York EDT
END:DAYLIGHT
END:VTIMEZONE
BEGIN:VEVENT
UID:8023b795405088a0e42b3b331a434716
CATEGORIES:WEB
CREATED:20200414T095659
SUMMARY:Weatherization Health & Safety - Online
LOCATION:NYSWDA - East Syracuse
DESCRIPTION:\n Weatherization Health &amp; Safety - Online \n
 \n
GoToWebinar Event\n
\
 n
 \n
Course Description: \n
This online course covers two, 3-hour sessions
 .  Successful course completion means the candidate must attend BOTH sessio
 ns in order to be awarded CEU’s and a certificate of completion.  YOU DO NO
 T NEED TO REGISTER TWICE.  You will be sent a webinar invite for both sessi
 ons.  Each session is from 9:00am until noon.\n\nIdentifying health and saf
 ety issues in client homes is a fundamental task in the Weatherization prog
 ram. This course will prepare the weatherization professional to perform th
 e H&amp;S inspection as well as required tests. Areas to be covered include
 : CO in ambient and flue gases, CAZ depressurization, worst case backdrafti
 ng, moisture/mold, asbestos, lead, clearances to combustibles, overloaded e
 lectrical circuits, unvented space heating. \n\nThis is an HCR mandated tra
 ining for Weatherization Directors, Auditors, Crew Supervisors and Crews. I
 f you are a new Director or have new staff, you are strongly advised to att
 end.  This training requires attendance every three (3) years. \n
 \n
\n
Cl
 ass Size: 25 \n
 \n
BPI CEU: 3 \n
\n
 \n
Instructor:  Al McMahon - NYSWDA \
 n
\n
 \n
Course Fees:  \n
$262/person - NY Weatherization Sub-grantees\n
$2
 62/person - affiliate members\n
$380/person - non-members\n\n
 \n
 **Specia
 l note - if you wish to become an Affiliate Member please contact Drew Ehrl
 ich (315-701-0440 ext. 225, This email address is being protected from spam
 bots. You need JavaScript enabled to view it.
				document.getElementById('
 cloak342fc151176708d5c46923ef8ec942a4').innerHTML = '';
				var prefix = 'm
 a' + 'il' + 'to';
				var path = 'hr' + 'ef' + '=';
				var addy342fc151176
 708d5c46923ef8ec942a4 = 'dehrlich' + '@';
				addy342fc151176708d5c46923ef8
 ec942a4 = addy342fc151176708d5c46923ef8ec942a4 + 'nyswda' + '.' + 'org';
		
 		var addy_text342fc151176708d5c46923ef8ec942a4 = 'dehrlich' + '@' + 'nyswd
 a' + '.' + 'org';document.getElementById('cloak342fc151176708d5c46923ef8ec9
 42a4').innerHTML += '<a ' + path + '\'' + prefix + ':' + addy342fc151176708
 d5c46923ef8ec942a4 + '\'>'+addy_text342fc151176708d5c46923ef8ec942a4+'';
		
 ) BEFORE YOU REGISTER for the course.\n
 \n
Through the support of NYS HCR 
 funding, we are able to provide quality training at discounted rates to NYS
 WDA members.\n
 \n
\nCLASS FULL - call or email   (index.php?option=com_civ
 icrm&amp;task=civicrm/event/register&amp;reset=1&amp;id=11339)This email ad
 dress is being protected from spambots. You need JavaScript enabled to view
  it.
				document.getElementById('cloak88fd4e00134465f02db4dda4a58bb13f').i
 nnerHTML = '';
				var prefix = 'ma' + 'il' + 'to';
				var path = 'hr' + '
 ef' + '=';
				var addy88fd4e00134465f02db4dda4a58bb13f = 'rvisser' + '@';

 				addy88fd4e00134465f02db4dda4a58bb13f = addy88fd4e00134465f02db4dda4a58b
 b13f + 'nyswda' + '.' + 'org';
				var addy_text88fd4e00134465f02db4dda4a58
 bb13f = 'rvisser' + '@' + 'nyswda' + '.' + 'org';document.getElementById('c
 loak88fd4e00134465f02db4dda4a58bb13f').innerHTML += '<a ' + path + '\'' + p
 refix + ':' + addy88fd4e00134465f02db4dda4a58bb13f + '\'>'+addy_text88fd4e0
 0134465f02db4dda4a58bb13f+'';
		 for availability or wait list  \n\n
\n
 \n
 
\n
 \n
 \n
 \n
 \n
 \n
X-ALT-DESC;FMTTYPE=text/html:<p><br />&nbsp;<span style="color: #336699; font-family: tahoma,arial,helve
 tica,sans-serif; font-size: 14pt;"><span style="color: #000000;"><strong><s
 pan style="color: #336699;">Weatherization Health &amp; Safety - Online&nbs
 p;</span></strong></span></span></p><p>&nbsp;</p><p><span style="color: #33
 6699; font-family: tahoma,arial,helvetica,sans-serif; font-size: 14pt;"><sp
 an style="color: #000000;"><strong><span style="color: #336699;">GoToWebina
 r Event</span></strong></span></span></p><p><strong><span style="font-famil
 y: 'Tahoma','sans-serif'; color: #336699; font-size: 13.5pt;"></span></stro
 ng></p><p>&nbsp;</p><p><span style="font-size: 12pt;"><em><span style="text
 -decoration: underline;"><span style="font-family: 'Tahoma','sans-serif'; c
 olor: black;">Course Description:</span></span></em></span>&nbsp;</p><p><sp
 an style="font-family: Tahoma, sans-serif; color: black; font-size: 12pt;">
 This online course covers two, 3-hour sessions.&nbsp; Successful course com
 pletion means the candidate must attend BOTH sessions in order to be awarde
 d CEU’s and a certificate of completion.&nbsp; YOU DO NOT NEED TO REGISTER 
 TWICE.&nbsp; You will be sent a webinar invite for both sessions.&nbsp; Eac
 h session is from 9:00am until noon.<br /><br /></span><span style="font-fa
 mily: Tahoma, sans-serif; color: black; font-size: 12pt;">Identifying healt
 h and safety issues in client homes is a fundamental task in the Weatheriza
 tion program. This course will prepare the weatherization professional to p
 erform the H&amp;S inspection as well as required tests. Areas to be covere
 d include: CO in ambient and flue gases, CAZ depressurization, worst case b
 ackdrafting, moisture/mold, asbestos, lead, clearances to combustibles, ove
 rloaded electrical circuits, unvented space heating.&nbsp;<br /><br /></spa
 n><span style="font-family: Tahoma, sans-serif; color: black; font-size: 12
 pt;">This is an HCR mandated training for Weatherization Directors, Auditor
 s, Crew Supervisors and Crews. If you are a new Director or have new staff,
  you are strongly advised to attend.&nbsp; This training requires attendanc
 e every three (3) years.</span>&nbsp;</p><p>&nbsp;</p><p><span style="font-
 family: 'Tahoma', 'sans-serif'; color: black; font-size: 12pt;"></span></p>
 <p><span style="font-size: 12pt;"><em><span style="text-decoration: underli
 ne;"><span style="font-family: 'Tahoma','sans-serif'; color: black;">Class 
 Size</span></span></em><span style="font-family: 'Tahoma','sans-serif'; col
 or: black;">: 25</span></span>&nbsp;<span style="font-family: 'Tahoma', 'sa
 ns-serif'; color: black; font-size: 12pt;"></span></p><p>&nbsp;</p><p><span
  style="font-size: 12pt;"><em><span style="text-decoration: underline;"><sp
 an style="font-family: 'Tahoma','sans-serif'; color: black;">BPI CEU</span>
 </span></em><span style="text-decoration: underline;"><span style="font-fam
 ily: 'Tahoma','sans-serif'; color: black;">:</span></span><span style="font
 -family: 'Tahoma','sans-serif'; color: black;"> 3</span></span>&nbsp;</p><p
 ><span style="font-family: 'Tahoma', 'sans-serif'; color: black; font-size:
  12pt;"></span></p><p>&nbsp;</p><p><span style="font-size: 12pt;"><span sty
 le="text-decoration: underline;"><span style="font-family: 'Tahoma','sans-s
 erif'; color: black;"><em>Instructor</em>:</span></span><span style="font-f
 amily: 'Tahoma','sans-serif'; color: black;">&nbsp;&nbsp;</span><span style
 ="font-family: 'Tahoma','sans-serif'; color: black;">Al McMahon - NYSWDA</s
 pan></span>&nbsp;</p><p><span style="font-family: 'Tahoma', 'sans-serif'; c
 olor: black; font-size: 12pt;"></span></p><p>&nbsp;</p><p><span style="font
 -size: 12pt;"><em><span style="text-decoration: underline;"><span style="fo
 nt-family: 'Tahoma','sans-serif'; color: black;">Course Fees:&nbsp;</span><
 /span></em></span>&nbsp;</p><p><span style="font-size: 12pt;"><span style="
 color: black; font-family: 'Tahoma','sans-serif';">$262/person - NY&nbsp;We
 atherization Sub-grantees</span></span></p><p><span style="font-size: 12pt;
 "><span style="color: black; font-family: 'Tahoma','sans-serif';">$262/pers
 on - affiliate members</span><span style="color: black; font-family: 'Tahom
 a','sans-serif';"></span></span></p><p><span style="font-size: 12pt;"><span
  style="color: black; font-family: 'Tahoma','sans-serif';">$380/person - no
 n-members</span><span style="color: black; font-family: 'Tahoma','sans-seri
 f';"></span><span style="color: black; font-family: 'Tahoma','sans-serif';"
 ></span><em><span style="color: black; font-family: 'Tahoma','sans-serif';"
 ><br /></span></em></span></p><p>&nbsp;</p><p><span style="color: #0000ff;"
 ><em><strong><span style="font-family: tahoma, arial, helvetica, sans-serif
 ; font-size: 14pt;"><span style="color: #0000ff;"></span></span></strong></
 em></span><span style="background-color: initial; color: inherit; font-fami
 ly: inherit; font-size: 1rem;"> </span><em style="background-color: initial
 ; color: inherit; font-family: inherit; font-size: 1rem;"><strong><span sty
 le="background: white; color: #02613f; font-family: 'Georgia','serif';"><sp
 an style="font-size: small;">**Special note</span></span></strong></em><spa
 n style="background: white; color: black; font-family: 'Georgia','serif';">
 <span style="font-size: small;"><i><strong>&nbsp;-&nbsp;if you wish to beco
 me an Affiliate Member please contact&nbsp;Drew Ehrlich&nbsp;(315-701-0440 
 ext. 225,&nbsp;</strong></i></span><i><strong><span id="cloak342fc151176708
 d5c46923ef8ec942a4">This email address is being protected from spambots. Yo
 u need JavaScript enabled to view it.</span><script type='text/javascript'>
 
				document.getElementById('cloak342fc151176708d5c46923ef8ec942a4').inner
 HTML = '';
				var prefix = 'ma' + 'il' + 'to';
				var path = 'hr' + 'ef' 
 + '=';
				var addy342fc151176708d5c46923ef8ec942a4 = 'dehrlich' + '@';
			
 	addy342fc151176708d5c46923ef8ec942a4 = addy342fc151176708d5c46923ef8ec942a
 4 + 'nyswda' + '.' + 'org';
				var addy_text342fc151176708d5c46923ef8ec942
 a4 = '<span style="color: #0000ff; font-size: small;">dehrlich' + '@' + 'ny
 swda' + '.' + 'org</span>';document.getElementById('cloak342fc151176708d5c4
 6923ef8ec942a4').innerHTML += '<a ' + path + '\'' + prefix + ':' + addy342f
 c151176708d5c46923ef8ec942a4 + '\'>'+addy_text342fc151176708d5c46923ef8ec94
 2a4+'<\/a>';
		</script><span style="font-size: small;">)&nbsp;</span></str
 ong></i></span><i style="background-color: initial; color: inherit; font-fa
 mily: inherit; font-size: 1rem;"></i><span style="font-size: small;"><stron
 g><span style="background: white; color: #02613f; font-family: 'Georgia','s
 erif';">BEFORE YOU REGISTER&nbsp;</span></strong><em><b><span style="backgr
 ound: white; color: black; font-family: 'Georgia','serif';">for the course<
 /span></b></em><strong><span style="background: white; color: black; font-f
 amily: 'Georgia','serif';">.</span></strong></span><span style="background-
 color: initial; color: inherit; font-family: inherit; font-size: 1rem;"></s
 pan></p><p>&nbsp;</p><p><strong><em><span style="font-size: 10pt; font-fami
 ly: Georgia, serif; color: #10704d; background: white;">Through the support
  of NYS HCR funding, we are able to provide </span></em></strong><em><stron
 g><span style="font-size: 10pt; font-family: Georgia, serif; color: #02613f
 ; background: white;">quality training at&nbsp;discounted rates to NYSWDA m
 embers.</span></strong></em></p><p>&nbsp;</p><p><span style="font-size: 12p
 t;"><em><span style="font-family: 'Tahoma','sans-serif'; color: black;"><br
  /></span></em><span style="font-size: 18pt;"><span style="font-size: 14pt;
 "><em><strong><span style="font-family: Tahoma;"><span style="color: #0000f
 f;"><a style="color: #0000ff;" href="https://www.nyswda.org/index.php?optio
 n=com_civicrm&amp;task=civicrm/event/register&amp;reset=1&amp;id=11339"><em
 ><strong><span style="font-family: tahoma, arial, helvetica, sans-serif;"><
 span style="font-family: Tahoma;"><strong><span style="font-family: Arial, 
 Helvetica;"><strong><em><strong><span style="color: #ffffff; font-family: t
 ahoma, arial, helvetica, sans-serif;"><span style="color: #ff0000;">CLASS F
 ULL - call or email</span></span></strong></em></strong></span></strong></s
 pan></span><span style="font-family: tahoma, arial, helvetica, sans-serif;"
 ><span style="font-family: Tahoma;"><strong><span style="font-family: Arial
 , Helvetica;"><strong><em><strong><span style="color: #ffffff; font-family:
  tahoma, arial, helvetica, sans-serif;">&nbsp; </span></strong></em></stron
 g></span></strong></span></span></strong></em></a><em><strong><strong><em><
 strong><span id="cloak88fd4e00134465f02db4dda4a58bb13f">This email address 
 is being protected from spambots. You need JavaScript enabled to view it.</
 span><script type='text/javascript'>
				document.getElementById('cloak88fd
 4e00134465f02db4dda4a58bb13f').innerHTML = '';
				var prefix = 'ma' + 'il'
  + 'to';
				var path = 'hr' + 'ef' + '=';
				var addy88fd4e00134465f02db4
 dda4a58bb13f = 'rvisser' + '@';
				addy88fd4e00134465f02db4dda4a58bb13f = 
 addy88fd4e00134465f02db4dda4a58bb13f + 'nyswda' + '.' + 'org';
				var addy
 _text88fd4e00134465f02db4dda4a58bb13f = '<span style="color: #0066cc;">rvis
 ser' + '@' + 'nyswda' + '.' + 'org</span>';document.getElementById('cloak88
 fd4e00134465f02db4dda4a58bb13f').innerHTML += '<a ' + path + '\'' + prefix 
 + ':' + addy88fd4e00134465f02db4dda4a58bb13f + '\'>'+addy_text88fd4e0013446
 5f02db4dda4a58bb13f+'<\/a>';
		</script> <span style="color: #ff0000;">for 
 availability or wait list</span></strong></em></strong></strong></em></span
 ><em><strong><strong><span style="color: #ffffff;">&nbsp;</span></strong><e
 m></em><em></em><em></em><span style="color: #ffffff; font-family: Tahoma, 
 sans-serif;"></span></strong></em></span><span style="font-family: Tahoma;"
 ></span><span style="font-family: Tahoma;"></span><span style="font-family:
  Tahoma;"></span><span style="font-family: Tahoma;"></span><span style="fon
 t-family: Arial, Helvetica;"></span><span style="font-family: Tahoma;"></sp
 an><span style="font-family: Arial, Helvetica;"></span><span style="font-fa
 mily: Tahoma;"></span><span style="font-family: Arial, Helvetica;"></span><
 span style="font-family: Tahoma;"></span><span style="font-family: Arial, H
 elvetica;"></span><span style="font-family: Tahoma;"></span><span style="fo
 nt-family: Tahoma;"></span><span style="font-family: Tahoma;"></span><span 
 style="font-family: Arial, Helvetica;"></span><span style="font-family: Tah
 oma;"></span><span style="font-family: Tahoma;"></span><span style="font-fa
 mily: Tahoma;"></span><span style="font-family: Tahoma;"></span><span style
 ="font-family: Arial, Helvetica;"></span><span style="font-family: Tahoma;"
 ></span><em></em>&nbsp;</strong></em></span><em><span style="font-family: T
 ahoma, sans-serif; color: black;"><br /></span></em></span></span></p><p><s
 pan style="font-family: 'Arial','sans-serif'; color: black; font-size: 10pt
 ;"></span></p><p>&nbsp;</p><p><span style="font-family: 'Arial','sans-serif
 '; color: black; font-size: 10pt;"></span></p><p>&nbsp;</p><p>&nbsp;</p><p>
 &nbsp;</p><p>&nbsp;</p><p>&nbsp;</p>
CONTACT:This email address is being protected from spambots. You need JavaScript enabled to view it.
				document.getElementById('cloaka4f8729af63256775e443d2704a0accb').innerHTML = '';
				var prefix = '&#109;a' + 'i&#108;' + '&#116;o';
				var path = 'hr' + 'ef' + '=';
				var addya4f8729af63256775e443d2704a0accb = 'rv&#105;ss&#101;r' + '&#64;';
				addya4f8729af63256775e443d2704a0accb = addya4f8729af63256775e443d2704a0accb + 'nyswd&#97;' + '&#46;' + '&#111;rg';
				var addy_texta4f8729af63256775e443d2704a0accb = 'rv&#105;ss&#101;r' + '&#64;' + 'nyswd&#97;' + '&#46;' + '&#111;rg';document.getElementById('cloaka4f8729af63256775e443d2704a0accb').innerHTML += '<a ' + path + '\'' + prefix + ':' + addya4f8729af63256775e443d2704a0accb + '\'>'+addy_texta4f8729af63256775e443d2704a0accb+'';
		
DTSTAMP:20260425T130948
DTSTART;TZID=America/New_York:20200505T090000
DTEND;TZID=America/New_York:20200506T120000
SEQUENCE:0
TRANSP:OPAQUE
END:VEVENT
END:VCALENDAR