BEGIN:VCALENDAR
VERSION:2.0
PRODID:-//jEvents 2.0 for Joomla//EN
CALSCALE:GREGORIAN
METHOD:PUBLISH
BEGIN:VTIMEZONE
TZID:America/New_York
BEGIN:STANDARD
DTSTART:20191103T010000
RDATE:20200308T030000
TZOFFSETFROM:-0400
TZOFFSETTO:-0500
TZNAME:America/New_York EST
END:STANDARD
BEGIN:STANDARD
DTSTART:20201101T010000
RDATE:20210314T030000
TZOFFSETFROM:-0400
TZOFFSETTO:-0500
TZNAME:America/New_York EST
END:STANDARD
BEGIN:STANDARD
DTSTART:20211107T010000
RDATE:20220313T030000
TZOFFSETFROM:-0400
TZOFFSETTO:-0500
TZNAME:America/New_York EST
END:STANDARD
BEGIN:STANDARD
DTSTART:20221106T010000
RDATE:20230312T030000
TZOFFSETFROM:-0400
TZOFFSETTO:-0500
TZNAME:America/New_York EST
END:STANDARD
BEGIN:STANDARD
DTSTART:20231105T010000
RDATE:20240310T030000
TZOFFSETFROM:-0400
TZOFFSETTO:-0500
TZNAME:America/New_York EST
END:STANDARD
BEGIN:STANDARD
DTSTART:20241103T010000
RDATE:20250309T030000
TZOFFSETFROM:-0400
TZOFFSETTO:-0500
TZNAME:America/New_York EST
END:STANDARD
BEGIN:STANDARD
DTSTART:20251102T010000
RDATE:20260308T030000
TZOFFSETFROM:-0400
TZOFFSETTO:-0500
TZNAME:America/New_York EST
END:STANDARD
BEGIN:STANDARD
DTSTART:20261101T010000
RDATE:20270314T030000
TZOFFSETFROM:-0400
TZOFFSETTO:-0500
TZNAME:America/New_York EST
END:STANDARD
BEGIN:STANDARD
DTSTART:20271107T010000
RDATE:20280312T030000
TZOFFSETFROM:-0400
TZOFFSETTO:-0500
TZNAME:America/New_York EST
END:STANDARD
BEGIN:STANDARD
DTSTART:20281105T010000
RDATE:20290311T030000
TZOFFSETFROM:-0400
TZOFFSETTO:-0500
TZNAME:America/New_York EST
END:STANDARD
BEGIN:STANDARD
DTSTART:20291104T010000
RDATE:20300310T030000
TZOFFSETFROM:-0400
TZOFFSETTO:-0500
TZNAME:America/New_York EST
END:STANDARD
BEGIN:STANDARD
DTSTART:20301103T010000
RDATE:20310309T030000
TZOFFSETFROM:-0400
TZOFFSETTO:-0500
TZNAME:America/New_York EST
END:STANDARD
BEGIN:DAYLIGHT
DTSTART:20190507T090000
RDATE:20191103T010000
TZOFFSETFROM:-0500
TZOFFSETTO:-0400
TZNAME:America/New_York EDT
END:DAYLIGHT
BEGIN:DAYLIGHT
DTSTART:20200308T030000
RDATE:20201101T010000
TZOFFSETFROM:-0500
TZOFFSETTO:-0400
TZNAME:America/New_York EDT
END:DAYLIGHT
BEGIN:DAYLIGHT
DTSTART:20210314T030000
RDATE:20211107T010000
TZOFFSETFROM:-0500
TZOFFSETTO:-0400
TZNAME:America/New_York EDT
END:DAYLIGHT
BEGIN:DAYLIGHT
DTSTART:20220313T030000
RDATE:20221106T010000
TZOFFSETFROM:-0500
TZOFFSETTO:-0400
TZNAME:America/New_York EDT
END:DAYLIGHT
BEGIN:DAYLIGHT
DTSTART:20230312T030000
RDATE:20231105T010000
TZOFFSETFROM:-0500
TZOFFSETTO:-0400
TZNAME:America/New_York EDT
END:DAYLIGHT
BEGIN:DAYLIGHT
DTSTART:20240310T030000
RDATE:20241103T010000
TZOFFSETFROM:-0500
TZOFFSETTO:-0400
TZNAME:America/New_York EDT
END:DAYLIGHT
BEGIN:DAYLIGHT
DTSTART:20250309T030000
RDATE:20251102T010000
TZOFFSETFROM:-0500
TZOFFSETTO:-0400
TZNAME:America/New_York EDT
END:DAYLIGHT
BEGIN:DAYLIGHT
DTSTART:20260308T030000
RDATE:20261101T010000
TZOFFSETFROM:-0500
TZOFFSETTO:-0400
TZNAME:America/New_York EDT
END:DAYLIGHT
BEGIN:DAYLIGHT
DTSTART:20270314T030000
RDATE:20271107T010000
TZOFFSETFROM:-0500
TZOFFSETTO:-0400
TZNAME:America/New_York EDT
END:DAYLIGHT
BEGIN:DAYLIGHT
DTSTART:20280312T030000
RDATE:20281105T010000
TZOFFSETFROM:-0500
TZOFFSETTO:-0400
TZNAME:America/New_York EDT
END:DAYLIGHT
BEGIN:DAYLIGHT
DTSTART:20290311T030000
RDATE:20291104T010000
TZOFFSETFROM:-0500
TZOFFSETTO:-0400
TZNAME:America/New_York EDT
END:DAYLIGHT
BEGIN:DAYLIGHT
DTSTART:20300310T030000
RDATE:20301103T010000
TZOFFSETFROM:-0500
TZOFFSETTO:-0400
TZNAME:America/New_York EDT
END:DAYLIGHT
END:VTIMEZONE
BEGIN:VEVENT
UID:4643c67bde4ea4b9ee5b7561749622e4
CATEGORIES:WEB
CREATED:20200416T132126
SUMMARY:Air Sealing Techniques - Online
LOCATION:NYSWDA - East Syracuse
DESCRIPTION:<p><br />&nbsp;<span style="color: #336699; font-family: tahoma,arial,helve
 tica,sans-serif; font-size: 14pt;"><span style="color: #000000;"><strong><s
 pan style="color: #336699;">Air Sealing Techniques - Online&nbsp;</span></s
 trong></span></span></p><p>&nbsp;</p><p><span style="color: #336699; font-f
 amily: tahoma,arial,helvetica,sans-serif; font-size: 14pt;"><span style="co
 lor: #000000;"><strong><span style="color: #336699;">GoToWebinar Event</spa
 n></strong></span></span></p><p><strong><span style="font-family: 'Tahoma',
 'sans-serif'; color: #336699; font-size: 13.5pt;"></span></strong></p><p>&n
 bsp;</p><p><span style="font-size: 12pt;"><em><span style="text-decoration:
  underline;"><span style="font-family: 'Tahoma','sans-serif'; color: black;
 ">Course Description:</span></span></em></span>&nbsp;</p><p><span style="fo
 nt-family: Tahoma, sans-serif; color: black; font-size: 12pt;">This online 
 course covers two, 3-hour sessions.&nbsp; Successful course completion mean
 s the candidate must attend BOTH sessions in order to be awarded CEU’s and 
 a certificate of completion.&nbsp; YOU DO NOT NEED TO REGISTER TWICE.&nbsp;
  You will be sent a webinar invite for both sessions.&nbsp; Each session is
  from 9:00am until noon.&nbsp;<br /><br /></span><span style="font-family: 
 Tahoma, sans-serif; color: black; font-size: 12pt;">This training will revi
 ew procedures meant to optimize a crew's work production so they better mee
 t their air sealing goals.&nbsp; Using powerpoint and video, the audience w
 ill learn about basic physics that effect air flow, techniques used in air 
 sealing, use of blower doors to diagnose problems, prioritizing workscopes,
  and the use of proper air sealing materials.<br /><br /></span><span style
 ="font-family: Tahoma, sans-serif; color: black; font-size: 12pt;">This is 
 an HCR mandated training for Weatherization Directors, Auditors, Crew Super
 visors and Crews. If you are a new Director or have new staff, you are stro
 ngly advised to attend.&nbsp; This training requires attendance every three
  (3) years.</span>&nbsp;</p><p>&nbsp;</p><p><span style="font-family: 'Taho
 ma', 'sans-serif'; color: black; font-size: 12pt;"></span></p><p><span styl
 e="font-size: 12pt;"><em><span style="text-decoration: underline;"><span st
 yle="font-family: 'Tahoma','sans-serif'; color: black;">Class Size</span></
 span></em><span style="font-family: 'Tahoma','sans-serif'; color: black;">:
  25</span></span>&nbsp;<span style="font-family: 'Tahoma', 'sans-serif'; co
 lor: black; font-size: 12pt;"></span></p><p>&nbsp;</p><p><span style="font-
 size: 12pt;"><em><span style="text-decoration: underline;"><span style="fon
 t-family: 'Tahoma','sans-serif'; color: black;">BPI CEU</span></span></em><
 span style="text-decoration: underline;"><span style="font-family: 'Tahoma'
 ,'sans-serif'; color: black;">:</span></span><span style="font-family: 'Tah
 oma','sans-serif'; color: black;"> 3</span></span>&nbsp;</p><p><span style=
 "font-family: 'Tahoma', 'sans-serif'; color: black; font-size: 12pt;"></spa
 n></p><p>&nbsp;</p><p><span style="font-size: 12pt;"><span style="text-deco
 ration: underline;"><span style="font-family: 'Tahoma','sans-serif'; color:
  black;"><em>Instructor</em>:</span></span><span style="font-family: 'Tahom
 a','sans-serif'; color: black;">&nbsp; Joe Ilacqua</span><span style="font-
 family: 'Tahoma','sans-serif'; color: black;">&nbsp;- NYSWDA</span></span>&
 nbsp;</p><p><span style="font-family: 'Tahoma', 'sans-serif'; color: black;
  font-size: 12pt;"></span></p><p>&nbsp;</p><p><span style="font-size: 12pt;
 "><em><span style="text-decoration: underline;"><span style="font-family: '
 Tahoma','sans-serif'; color: black;">Course Fees:&nbsp;</span></span></em><
 /span>&nbsp;</p><p><span style="font-size: 12pt;"><span style="color: black
 ; font-family: 'Tahoma','sans-serif';">$262/person - NY&nbsp;Weatherization
  Sub-grantees</span></span></p><p><span style="font-size: 12pt;"><span styl
 e="color: black; font-family: 'Tahoma','sans-serif';">$262/person - affilia
 te members</span><span style="color: black; font-family: 'Tahoma','sans-ser
 if';"></span></span></p><p><span style="font-size: 12pt;"><span style="colo
 r: black; font-family: 'Tahoma','sans-serif';">$380/person - non-members</s
 pan><span style="color: black; font-family: 'Tahoma','sans-serif';"></span>
 <span style="color: black; font-family: 'Tahoma','sans-serif';"></span><em>
 <span style="color: black; font-family: 'Tahoma','sans-serif';"><br /></spa
 n></em></span></p><p>&nbsp;</p><p><span style="color: #0000ff;"><em><strong
 ><span style="font-family: tahoma, arial, helvetica, sans-serif; font-size:
  14pt;"><span style="color: #0000ff;"></span></span></strong></em></span><s
 pan style="background-color: initial; color: inherit; font-family: inherit;
  font-size: 1rem;"> </span><em style="background-color: initial; color: inh
 erit; font-family: inherit; font-size: 1rem;"><strong><span style="backgrou
 nd: white; color: #02613f; font-family: 'Georgia','serif';"><span style="fo
 nt-size: small;">**Special note</span></span></strong></em><span style="bac
 kground: white; color: black; font-family: 'Georgia','serif';"><span style=
 "font-size: small;"><i><strong>&nbsp;-&nbsp;if you wish to become an Affili
 ate Member please contact&nbsp;Drew Ehrlich&nbsp;(315-701-0440 ext. 225,&nb
 sp;</strong></i></span><i><strong><span id="cloak3c13f53c684d5fd50b1f74e99f
 3b8775">This email address is being protected from spambots. You need JavaS
 cript enabled to view it.</span><script type='text/javascript'>
				documen
 t.getElementById('cloak3c13f53c684d5fd50b1f74e99f3b8775').innerHTML = '';
	
 			var prefix = 'ma' + 'il' + 'to';
				var path = 'hr' + 'ef' + '=';
				v
 ar addy3c13f53c684d5fd50b1f74e99f3b8775 = 'dehrlich' + '@';
				addy3c13f53
 c684d5fd50b1f74e99f3b8775 = addy3c13f53c684d5fd50b1f74e99f3b8775 + 'nyswda'
  + '.' + 'org';
				var addy_text3c13f53c684d5fd50b1f74e99f3b8775 = '<span 
 style="color: #0000ff; font-size: small;">dehrlich' + '@' + 'nyswda' + '.' 
 + 'org</span>';document.getElementById('cloak3c13f53c684d5fd50b1f74e99f3b87
 75').innerHTML += '<a ' + path + '\'' + prefix + ':' + addy3c13f53c684d5fd5
 0b1f74e99f3b8775 + '\'>'+addy_text3c13f53c684d5fd50b1f74e99f3b8775+'<\/a>';
 
		</script><span style="font-size: small;">)&nbsp;</span></strong></i></sp
 an><i style="background-color: initial; color: inherit; font-family: inheri
 t; font-size: 1rem;"></i><span style="font-size: small;"><strong><span styl
 e="background: white; color: #02613f; font-family: 'Georgia','serif';">BEFO
 RE YOU REGISTER&nbsp;</span></strong><em><b><span style="background: white;
  color: black; font-family: 'Georgia','serif';">for the course</span></b></
 em><strong><span style="background: white; color: black; font-family: 'Geor
 gia','serif';">.</span></strong></span><span style="background-color: initi
 al; color: inherit; font-family: inherit; font-size: 1rem;"></span></p><p>&
 nbsp;</p><p><strong><em><span style="font-size: 10pt; font-family: Georgia,
  serif; color: #10704d; background: white;">Through the support of NYS HCR 
 funding, we are able to provide </span></em></strong><em><strong><span styl
 e="font-size: 10pt; font-family: Georgia, serif; color: #02613f; background
 : white;">quality training at&nbsp;discounted rates to NYSWDA members.</spa
 n></strong></em></p><p>&nbsp;</p><p>&nbsp;</p><p><span style="font-size: 12
 pt;"><em style="background-color: initial; color: inherit; font-family: inh
 erit; font-size: 1rem;"><strong><span style="font-size: 14pt;"><span style=
 "color: #0000ff;"><span style="font-family: Tahoma;"><a style="color: #0000
 ff;" href="index.php?option=com_civicrm&amp;task=civicrm/event/register&amp
 ;reset=1&amp;id=11346"><span style="color: #0000ff;"><a style="color: #0000
 ff;" href="index.php?option=com_civicrm&amp;task=civicrm/event/register&amp
 ;reset=1&amp;id=11339"><em><strong><span style="font-family: tahoma, arial,
  helvetica, sans-serif;"><span style="font-family: Tahoma;"><strong><span s
 tyle="font-family: Arial, Helvetica;"><strong><em><strong><span style="colo
 r: #ffffff; font-family: tahoma, arial, helvetica, sans-serif;"><span style
 ="color: #ff0000;">CLASS FULL - call or email</span></span></strong></em></
 strong></span></strong></span></span><span style="font-family: tahoma, aria
 l, helvetica, sans-serif;"><span style="font-family: Tahoma;"><strong><span
  style="font-family: Arial, Helvetica;"><strong><em><strong><span style="co
 lor: #ffffff; font-family: tahoma, arial, helvetica, sans-serif;">&nbsp; </
 span></strong></em></strong></span></strong></span></span></strong></em></a
 ><em><strong><strong><em><strong><span id="cloak57be1087abcf7e581968dc8b546
 c2971">This email address is being protected from spambots. You need JavaSc
 ript enabled to view it.</span><script type='text/javascript'>
				document
 .getElementById('cloak57be1087abcf7e581968dc8b546c2971').innerHTML = '';
		
 		var prefix = 'ma' + 'il' + 'to';
				var path = 'hr' + 'ef' + '=';
				va
 r addy57be1087abcf7e581968dc8b546c2971 = 'rvisser' + '@';
				addy57be1087a
 bcf7e581968dc8b546c2971 = addy57be1087abcf7e581968dc8b546c2971 + 'nyswda' +
  '.' + 'org';
				var addy_text57be1087abcf7e581968dc8b546c2971 = '<span st
 yle="color: #0066cc;">rvisser' + '@' + 'nyswda' + '.' + 'org</span>';docume
 nt.getElementById('cloak57be1087abcf7e581968dc8b546c2971').innerHTML += '<a
  ' + path + '\'' + prefix + ':' + addy57be1087abcf7e581968dc8b546c2971 + '\
 '>'+addy_text57be1087abcf7e581968dc8b546c2971+'<\/a>';
		</script> <span st
 yle="color: #ff0000;">for availability or wait list</span></strong></em></s
 trong></strong></em></span><span style="font-family: Tahoma;"></span><em></
 em><span style="font-size: 14pt;"></span><span style="font-size: 18pt;"></s
 pan><span style="font-size: 12pt;"></span></a></span></span><span style="fo
 nt-family: Arial, Helvetica;"></span></span><span style="font-family: Tahom
 a;"></span><span style="font-family: Tahoma;"></span><span style="font-fami
 ly: Tahoma;"></span><span style="font-family: Tahoma;"></span><span style="
 font-family: Arial, Helvetica;"></span><span style="font-family: Tahoma;"><
 /span><span style="font-family: Arial, Helvetica;"></span><span style="font
 -family: Tahoma;"></span><span style="font-family: Arial, Helvetica;"></spa
 n><span style="font-family: Tahoma;"></span><span style="font-family: Arial
 , Helvetica;"></span><span style="font-family: Tahoma;"></span><span style=
 "font-family: Tahoma;"></span><span style="font-family: Tahoma;"></span><sp
 an style="font-family: Arial, Helvetica;"></span><span style="font-family: 
 Tahoma;"></span><span style="font-family: Tahoma;"></span><span style="font
 -family: Tahoma;"></span><span style="font-family: Tahoma;"></span><span st
 yle="font-family: Arial, Helvetica;"></span><span style="font-family: Tahom
 a;"></span><em></em><span style="font-size: 14pt;"></span></strong></em><em
 ><span style="font-family: 'Tahoma','sans-serif'; color: black;"><br /></sp
 an></em></span></p><p><span style="font-family: 'Arial','sans-serif'; color
 : black; font-size: 10pt;"></span></p><p>&nbsp;</p><p><span style="font-fam
 ily: 'Arial','sans-serif'; color: black; font-size: 10pt;"></span></p><p>&n
 bsp;</p><p>&nbsp;</p><p>&nbsp;</p><p>&nbsp;</p><p>&nbsp;</p>
X-ALT-DESC;FMTTYPE=text/html:<p><br />&nbsp;<span style="color: #336699; font-family: tahoma,arial,helve
 tica,sans-serif; font-size: 14pt;"><span style="color: #000000;"><strong><s
 pan style="color: #336699;">Air Sealing Techniques - Online&nbsp;</span></s
 trong></span></span></p><p>&nbsp;</p><p><span style="color: #336699; font-f
 amily: tahoma,arial,helvetica,sans-serif; font-size: 14pt;"><span style="co
 lor: #000000;"><strong><span style="color: #336699;">GoToWebinar Event</spa
 n></strong></span></span></p><p><strong><span style="font-family: 'Tahoma',
 'sans-serif'; color: #336699; font-size: 13.5pt;"></span></strong></p><p>&n
 bsp;</p><p><span style="font-size: 12pt;"><em><span style="text-decoration:
  underline;"><span style="font-family: 'Tahoma','sans-serif'; color: black;
 ">Course Description:</span></span></em></span>&nbsp;</p><p><span style="fo
 nt-family: Tahoma, sans-serif; color: black; font-size: 12pt;">This online 
 course covers two, 3-hour sessions.&nbsp; Successful course completion mean
 s the candidate must attend BOTH sessions in order to be awarded CEU’s and 
 a certificate of completion.&nbsp; YOU DO NOT NEED TO REGISTER TWICE.&nbsp;
  You will be sent a webinar invite for both sessions.&nbsp; Each session is
  from 9:00am until noon.&nbsp;<br /><br /></span><span style="font-family: 
 Tahoma, sans-serif; color: black; font-size: 12pt;">This training will revi
 ew procedures meant to optimize a crew's work production so they better mee
 t their air sealing goals.&nbsp; Using powerpoint and video, the audience w
 ill learn about basic physics that effect air flow, techniques used in air 
 sealing, use of blower doors to diagnose problems, prioritizing workscopes,
  and the use of proper air sealing materials.<br /><br /></span><span style
 ="font-family: Tahoma, sans-serif; color: black; font-size: 12pt;">This is 
 an HCR mandated training for Weatherization Directors, Auditors, Crew Super
 visors and Crews. If you are a new Director or have new staff, you are stro
 ngly advised to attend.&nbsp; This training requires attendance every three
  (3) years.</span>&nbsp;</p><p>&nbsp;</p><p><span style="font-family: 'Taho
 ma', 'sans-serif'; color: black; font-size: 12pt;"></span></p><p><span styl
 e="font-size: 12pt;"><em><span style="text-decoration: underline;"><span st
 yle="font-family: 'Tahoma','sans-serif'; color: black;">Class Size</span></
 span></em><span style="font-family: 'Tahoma','sans-serif'; color: black;">:
  25</span></span>&nbsp;<span style="font-family: 'Tahoma', 'sans-serif'; co
 lor: black; font-size: 12pt;"></span></p><p>&nbsp;</p><p><span style="font-
 size: 12pt;"><em><span style="text-decoration: underline;"><span style="fon
 t-family: 'Tahoma','sans-serif'; color: black;">BPI CEU</span></span></em><
 span style="text-decoration: underline;"><span style="font-family: 'Tahoma'
 ,'sans-serif'; color: black;">:</span></span><span style="font-family: 'Tah
 oma','sans-serif'; color: black;"> 3</span></span>&nbsp;</p><p><span style=
 "font-family: 'Tahoma', 'sans-serif'; color: black; font-size: 12pt;"></spa
 n></p><p>&nbsp;</p><p><span style="font-size: 12pt;"><span style="text-deco
 ration: underline;"><span style="font-family: 'Tahoma','sans-serif'; color:
  black;"><em>Instructor</em>:</span></span><span style="font-family: 'Tahom
 a','sans-serif'; color: black;">&nbsp; Joe Ilacqua</span><span style="font-
 family: 'Tahoma','sans-serif'; color: black;">&nbsp;- NYSWDA</span></span>&
 nbsp;</p><p><span style="font-family: 'Tahoma', 'sans-serif'; color: black;
  font-size: 12pt;"></span></p><p>&nbsp;</p><p><span style="font-size: 12pt;
 "><em><span style="text-decoration: underline;"><span style="font-family: '
 Tahoma','sans-serif'; color: black;">Course Fees:&nbsp;</span></span></em><
 /span>&nbsp;</p><p><span style="font-size: 12pt;"><span style="color: black
 ; font-family: 'Tahoma','sans-serif';">$262/person - NY&nbsp;Weatherization
  Sub-grantees</span></span></p><p><span style="font-size: 12pt;"><span styl
 e="color: black; font-family: 'Tahoma','sans-serif';">$262/person - affilia
 te members</span><span style="color: black; font-family: 'Tahoma','sans-ser
 if';"></span></span></p><p><span style="font-size: 12pt;"><span style="colo
 r: black; font-family: 'Tahoma','sans-serif';">$380/person - non-members</s
 pan><span style="color: black; font-family: 'Tahoma','sans-serif';"></span>
 <span style="color: black; font-family: 'Tahoma','sans-serif';"></span><em>
 <span style="color: black; font-family: 'Tahoma','sans-serif';"><br /></spa
 n></em></span></p><p>&nbsp;</p><p><span style="color: #0000ff;"><em><strong
 ><span style="font-family: tahoma, arial, helvetica, sans-serif; font-size:
  14pt;"><span style="color: #0000ff;"></span></span></strong></em></span><s
 pan style="background-color: initial; color: inherit; font-family: inherit;
  font-size: 1rem;"> </span><em style="background-color: initial; color: inh
 erit; font-family: inherit; font-size: 1rem;"><strong><span style="backgrou
 nd: white; color: #02613f; font-family: 'Georgia','serif';"><span style="fo
 nt-size: small;">**Special note</span></span></strong></em><span style="bac
 kground: white; color: black; font-family: 'Georgia','serif';"><span style=
 "font-size: small;"><i><strong>&nbsp;-&nbsp;if you wish to become an Affili
 ate Member please contact&nbsp;Drew Ehrlich&nbsp;(315-701-0440 ext. 225,&nb
 sp;</strong></i></span><i><strong><span id="cloak3c13f53c684d5fd50b1f74e99f
 3b8775">This email address is being protected from spambots. You need JavaS
 cript enabled to view it.</span><script type='text/javascript'>
				documen
 t.getElementById('cloak3c13f53c684d5fd50b1f74e99f3b8775').innerHTML = '';
	
 			var prefix = 'ma' + 'il' + 'to';
				var path = 'hr' + 'ef' + '=';
				v
 ar addy3c13f53c684d5fd50b1f74e99f3b8775 = 'dehrlich' + '@';
				addy3c13f53
 c684d5fd50b1f74e99f3b8775 = addy3c13f53c684d5fd50b1f74e99f3b8775 + 'nyswda'
  + '.' + 'org';
				var addy_text3c13f53c684d5fd50b1f74e99f3b8775 = '<span 
 style="color: #0000ff; font-size: small;">dehrlich' + '@' + 'nyswda' + '.' 
 + 'org</span>';document.getElementById('cloak3c13f53c684d5fd50b1f74e99f3b87
 75').innerHTML += '<a ' + path + '\'' + prefix + ':' + addy3c13f53c684d5fd5
 0b1f74e99f3b8775 + '\'>'+addy_text3c13f53c684d5fd50b1f74e99f3b8775+'<\/a>';
 
		</script><span style="font-size: small;">)&nbsp;</span></strong></i></sp
 an><i style="background-color: initial; color: inherit; font-family: inheri
 t; font-size: 1rem;"></i><span style="font-size: small;"><strong><span styl
 e="background: white; color: #02613f; font-family: 'Georgia','serif';">BEFO
 RE YOU REGISTER&nbsp;</span></strong><em><b><span style="background: white;
  color: black; font-family: 'Georgia','serif';">for the course</span></b></
 em><strong><span style="background: white; color: black; font-family: 'Geor
 gia','serif';">.</span></strong></span><span style="background-color: initi
 al; color: inherit; font-family: inherit; font-size: 1rem;"></span></p><p>&
 nbsp;</p><p><strong><em><span style="font-size: 10pt; font-family: Georgia,
  serif; color: #10704d; background: white;">Through the support of NYS HCR 
 funding, we are able to provide </span></em></strong><em><strong><span styl
 e="font-size: 10pt; font-family: Georgia, serif; color: #02613f; background
 : white;">quality training at&nbsp;discounted rates to NYSWDA members.</spa
 n></strong></em></p><p>&nbsp;</p><p>&nbsp;</p><p><span style="font-size: 12
 pt;"><em style="background-color: initial; color: inherit; font-family: inh
 erit; font-size: 1rem;"><strong><span style="font-size: 14pt;"><span style=
 "color: #0000ff;"><span style="font-family: Tahoma;"><a style="color: #0000
 ff;" href="https://www.nyswda.org/index.php?option=com_civicrm&amp;task=civ
 icrm/event/register&amp;reset=1&amp;id=11346"><span style="color: #0000ff;"
 ><a style="color: #0000ff;" href="https://www.nyswda.org/index.php?option=c
 om_civicrm&amp;task=civicrm/event/register&amp;reset=1&amp;id=11339"><em><s
 trong><span style="font-family: tahoma, arial, helvetica, sans-serif;"><spa
 n style="font-family: Tahoma;"><strong><span style="font-family: Arial, Hel
 vetica;"><strong><em><strong><span style="color: #ffffff; font-family: taho
 ma, arial, helvetica, sans-serif;"><span style="color: #ff0000;">CLASS FULL
  - call or email</span></span></strong></em></strong></span></strong></span
 ></span><span style="font-family: tahoma, arial, helvetica, sans-serif;"><s
 pan style="font-family: Tahoma;"><strong><span style="font-family: Arial, H
 elvetica;"><strong><em><strong><span style="color: #ffffff; font-family: ta
 homa, arial, helvetica, sans-serif;">&nbsp; </span></strong></em></strong><
 /span></strong></span></span></strong></em></a><em><strong><strong><em><str
 ong><span id="cloak57be1087abcf7e581968dc8b546c2971">This email address is 
 being protected from spambots. You need JavaScript enabled to view it.</spa
 n><script type='text/javascript'>
				document.getElementById('cloak57be108
 7abcf7e581968dc8b546c2971').innerHTML = '';
				var prefix = 'ma' + 'il' + 
 'to';
				var path = 'hr' + 'ef' + '=';
				var addy57be1087abcf7e581968dc8
 b546c2971 = 'rvisser' + '@';
				addy57be1087abcf7e581968dc8b546c2971 = add
 y57be1087abcf7e581968dc8b546c2971 + 'nyswda' + '.' + 'org';
				var addy_te
 xt57be1087abcf7e581968dc8b546c2971 = '<span style="color: #0066cc;">rvisser
 ' + '@' + 'nyswda' + '.' + 'org</span>';document.getElementById('cloak57be1
 087abcf7e581968dc8b546c2971').innerHTML += '<a ' + path + '\'' + prefix + '
 :' + addy57be1087abcf7e581968dc8b546c2971 + '\'>'+addy_text57be1087abcf7e58
 1968dc8b546c2971+'<\/a>';
		</script> <span style="color: #ff0000;">for ava
 ilability or wait list</span></strong></em></strong></strong></em></span><s
 pan style="font-family: Tahoma;"></span><em></em><span style="font-size: 14
 pt;"></span><span style="font-size: 18pt;"></span><span style="font-size: 1
 2pt;"></span></a></span></span><span style="font-family: Arial, Helvetica;"
 ></span></span><span style="font-family: Tahoma;"></span><span style="font-
 family: Tahoma;"></span><span style="font-family: Tahoma;"></span><span sty
 le="font-family: Tahoma;"></span><span style="font-family: Arial, Helvetica
 ;"></span><span style="font-family: Tahoma;"></span><span style="font-famil
 y: Arial, Helvetica;"></span><span style="font-family: Tahoma;"></span><spa
 n style="font-family: Arial, Helvetica;"></span><span style="font-family: T
 ahoma;"></span><span style="font-family: Arial, Helvetica;"></span><span st
 yle="font-family: Tahoma;"></span><span style="font-family: Tahoma;"></span
 ><span style="font-family: Tahoma;"></span><span style="font-family: Arial,
  Helvetica;"></span><span style="font-family: Tahoma;"></span><span style="
 font-family: Tahoma;"></span><span style="font-family: Tahoma;"></span><spa
 n style="font-family: Tahoma;"></span><span style="font-family: Arial, Helv
 etica;"></span><span style="font-family: Tahoma;"></span><em></em><span sty
 le="font-size: 14pt;"></span></strong></em><em><span style="font-family: 'T
 ahoma','sans-serif'; color: black;"><br /></span></em></span></p><p><span s
 tyle="font-family: 'Arial','sans-serif'; color: black; font-size: 10pt;"></
 span></p><p>&nbsp;</p><p><span style="font-family: 'Arial','sans-serif'; co
 lor: black; font-size: 10pt;"></span></p><p>&nbsp;</p><p>&nbsp;</p><p>&nbsp
 ;</p><p>&nbsp;</p><p>&nbsp;</p>
CONTACT:This email address is being protected from spambots. You need JavaScript enabled to view it.
				document.getElementById('cloak5cfdfe9149e5101952ab6be04a1497ce').innerHTML = '';
				var prefix = '&#109;a' + 'i&#108;' + '&#116;o';
				var path = 'hr' + 'ef' + '=';
				var addy5cfdfe9149e5101952ab6be04a1497ce = 'rv&#105;ss&#101;r' + '&#64;';
				addy5cfdfe9149e5101952ab6be04a1497ce = addy5cfdfe9149e5101952ab6be04a1497ce + 'nyswd&#97;' + '&#46;' + '&#111;rg';
				var addy_text5cfdfe9149e5101952ab6be04a1497ce = 'rv&#105;ss&#101;r' + '&#64;' + 'nyswd&#97;' + '&#46;' + '&#111;rg';document.getElementById('cloak5cfdfe9149e5101952ab6be04a1497ce').innerHTML += '<a ' + path + '\'' + prefix + ':' + addy5cfdfe9149e5101952ab6be04a1497ce + '\'>'+addy_text5cfdfe9149e5101952ab6be04a1497ce+'';
		
DTSTAMP:20260425T125535
DTSTART;TZID=America/New_York:20200507T090000
DTEND;TZID=America/New_York:20200508T120000
SEQUENCE:0
TRANSP:OPAQUE
END:VEVENT
END:VCALENDAR