BEGIN:VCALENDAR
VERSION:2.0
PRODID:-//jEvents 2.0 for Joomla//EN
CALSCALE:GREGORIAN
METHOD:PUBLISH
BEGIN:VTIMEZONE
TZID:America/New_York
BEGIN:STANDARD
DTSTART:20191103T010000
RDATE:20200308T030000
TZOFFSETFROM:-0400
TZOFFSETTO:-0500
TZNAME:America/New_York EST
END:STANDARD
BEGIN:STANDARD
DTSTART:20201101T010000
RDATE:20210314T030000
TZOFFSETFROM:-0400
TZOFFSETTO:-0500
TZNAME:America/New_York EST
END:STANDARD
BEGIN:STANDARD
DTSTART:20211107T010000
RDATE:20220313T030000
TZOFFSETFROM:-0400
TZOFFSETTO:-0500
TZNAME:America/New_York EST
END:STANDARD
BEGIN:STANDARD
DTSTART:20221106T010000
RDATE:20230312T030000
TZOFFSETFROM:-0400
TZOFFSETTO:-0500
TZNAME:America/New_York EST
END:STANDARD
BEGIN:STANDARD
DTSTART:20231105T010000
RDATE:20240310T030000
TZOFFSETFROM:-0400
TZOFFSETTO:-0500
TZNAME:America/New_York EST
END:STANDARD
BEGIN:STANDARD
DTSTART:20241103T010000
RDATE:20250309T030000
TZOFFSETFROM:-0400
TZOFFSETTO:-0500
TZNAME:America/New_York EST
END:STANDARD
BEGIN:STANDARD
DTSTART:20251102T010000
RDATE:20260308T030000
TZOFFSETFROM:-0400
TZOFFSETTO:-0500
TZNAME:America/New_York EST
END:STANDARD
BEGIN:STANDARD
DTSTART:20261101T010000
RDATE:20270314T030000
TZOFFSETFROM:-0400
TZOFFSETTO:-0500
TZNAME:America/New_York EST
END:STANDARD
BEGIN:STANDARD
DTSTART:20271107T010000
RDATE:20280312T030000
TZOFFSETFROM:-0400
TZOFFSETTO:-0500
TZNAME:America/New_York EST
END:STANDARD
BEGIN:STANDARD
DTSTART:20281105T010000
RDATE:20290311T030000
TZOFFSETFROM:-0400
TZOFFSETTO:-0500
TZNAME:America/New_York EST
END:STANDARD
BEGIN:STANDARD
DTSTART:20291104T010000
RDATE:20300310T030000
TZOFFSETFROM:-0400
TZOFFSETTO:-0500
TZNAME:America/New_York EST
END:STANDARD
BEGIN:STANDARD
DTSTART:20301103T010000
RDATE:20310309T030000
TZOFFSETFROM:-0400
TZOFFSETTO:-0500
TZNAME:America/New_York EST
END:STANDARD
BEGIN:DAYLIGHT
DTSTART:20190512T090000
RDATE:20191103T010000
TZOFFSETFROM:-0500
TZOFFSETTO:-0400
TZNAME:America/New_York EDT
END:DAYLIGHT
BEGIN:DAYLIGHT
DTSTART:20200308T030000
RDATE:20201101T010000
TZOFFSETFROM:-0500
TZOFFSETTO:-0400
TZNAME:America/New_York EDT
END:DAYLIGHT
BEGIN:DAYLIGHT
DTSTART:20210314T030000
RDATE:20211107T010000
TZOFFSETFROM:-0500
TZOFFSETTO:-0400
TZNAME:America/New_York EDT
END:DAYLIGHT
BEGIN:DAYLIGHT
DTSTART:20220313T030000
RDATE:20221106T010000
TZOFFSETFROM:-0500
TZOFFSETTO:-0400
TZNAME:America/New_York EDT
END:DAYLIGHT
BEGIN:DAYLIGHT
DTSTART:20230312T030000
RDATE:20231105T010000
TZOFFSETFROM:-0500
TZOFFSETTO:-0400
TZNAME:America/New_York EDT
END:DAYLIGHT
BEGIN:DAYLIGHT
DTSTART:20240310T030000
RDATE:20241103T010000
TZOFFSETFROM:-0500
TZOFFSETTO:-0400
TZNAME:America/New_York EDT
END:DAYLIGHT
BEGIN:DAYLIGHT
DTSTART:20250309T030000
RDATE:20251102T010000
TZOFFSETFROM:-0500
TZOFFSETTO:-0400
TZNAME:America/New_York EDT
END:DAYLIGHT
BEGIN:DAYLIGHT
DTSTART:20260308T030000
RDATE:20261101T010000
TZOFFSETFROM:-0500
TZOFFSETTO:-0400
TZNAME:America/New_York EDT
END:DAYLIGHT
BEGIN:DAYLIGHT
DTSTART:20270314T030000
RDATE:20271107T010000
TZOFFSETFROM:-0500
TZOFFSETTO:-0400
TZNAME:America/New_York EDT
END:DAYLIGHT
BEGIN:DAYLIGHT
DTSTART:20280312T030000
RDATE:20281105T010000
TZOFFSETFROM:-0500
TZOFFSETTO:-0400
TZNAME:America/New_York EDT
END:DAYLIGHT
BEGIN:DAYLIGHT
DTSTART:20290311T030000
RDATE:20291104T010000
TZOFFSETFROM:-0500
TZOFFSETTO:-0400
TZNAME:America/New_York EDT
END:DAYLIGHT
BEGIN:DAYLIGHT
DTSTART:20300310T030000
RDATE:20301103T010000
TZOFFSETFROM:-0500
TZOFFSETTO:-0400
TZNAME:America/New_York EDT
END:DAYLIGHT
END:VTIMEZONE
BEGIN:VEVENT
UID:d3177dbe16e76ac639d0811ba38d2799
CATEGORIES:WEB
CREATED:20200416T132504
SUMMARY:One Day Lead Safe Weatherization - Online
LOCATION:NYSWDA - East Syracuse
DESCRIPTION:\n One Day Lead Safe Weatherization - Online \n
 \n
GoToWebinar Event\n
\n

  \n
Course Description: \n
This online course covers two, 3-hour sessions. 
  Successful course completion means the candidate must attend BOTH sessions
  in order to be awarded CEU’s and a certificate of completion.  YOU DO NOT 
 NEED TO REGISTER TWICE.  You will be sent a webinar invite for both session
 s.  Each session is from 9:00am until noon.\n\nWhenever we work on houses t
 hat were built before 1978 there is a good chance that there could be lead 
 based paint on the inside and outside. Disturbing this paint could harm us 
 and the families we work with. This NYSWDA Lead Safe Weatherization Trainin
 g satisfies the HCR requirement that all Weatherization staff working in ho
 uses built before 1978 receive training on safe work practices to reduce ex
 posure to lead dust. NYSWDA uses the DOE curriculum which also satisfies th
 e DOE and OSHA requirements for employees working around lead paint. This t
 raining is also required for your sub-contractors' employees who work on we
 atherization units.\n\nThis is an HCR mandated training for Weatherization 
 Directors, Auditors, Crew Supervisors and Crews. If you are a new Director 
 or have new staff, you are strongly advised to attend.  This training requi
 res attendance every three (3) years. \n
 \n
\n
Class Size: 25 \n
 \n
BPI C
 EU: 3 \n
\n
 \n
Instructor:  Al McMahon - NYSWDA \n
\n
 \n
Course Fees:  \n
 
$262/person - NY Weatherization Sub-grantees\n
$262/person - affiliate mem
 bers\n
$380/person - non-members\n\n
 \n
 **Special note - if you wish to b
 ecome an Affiliate Member please contact Drew Ehrlich (315-701-0440 ext. 22
 5, This email address is being protected from spambots. You need JavaScript
  enabled to view it.
				document.getElementById('cloak91d95f61103fba4ecc41
 6fe4650518c0').innerHTML = '';
				var prefix = 'ma' + 'il' + 'to';
				var
  path = 'hr' + 'ef' + '=';
				var addy91d95f61103fba4ecc416fe4650518c0 = '
 dehrlich' + '@';
				addy91d95f61103fba4ecc416fe4650518c0 = addy91d95f61103
 fba4ecc416fe4650518c0 + 'nyswda' + '.' + 'org';
				var addy_text91d95f6110
 3fba4ecc416fe4650518c0 = 'dehrlich' + '@' + 'nyswda' + '.' + 'org';document
 .getElementById('cloak91d95f61103fba4ecc416fe4650518c0').innerHTML += '<a '
  + path + '\'' + prefix + ':' + addy91d95f61103fba4ecc416fe4650518c0 + '\'>
 '+addy_text91d95f61103fba4ecc416fe4650518c0+'';
		) BEFORE YOU REGISTER for
  the course.\n
 \n
Through the support of NYS HCR funding, we are able to p
 rovide quality training at discounted rates to NYSWDA members.\n
\n\n\n
CLA
 SS FULL - call or email  This email address is being protected from spambot
 s. You need JavaScript enabled to view it.
				document.getElementById('clo
 ak4862b0aebd1bf5bde65a39821bc97422').innerHTML = '';
				var prefix = 'ma' 
 + 'il' + 'to';
				var path = 'hr' + 'ef' + '=';
				var addy4862b0aebd1bf5
 bde65a39821bc97422 = 'rvisser' + '@';
				addy4862b0aebd1bf5bde65a39821bc97
 422 = addy4862b0aebd1bf5bde65a39821bc97422 + 'nyswda' + '.' + 'org';
				va
 r addy_text4862b0aebd1bf5bde65a39821bc97422 = '&lt;span style="color: #0066
 cc;"&gt;rvisser' + '@' + 'nyswda' + '.' + 'org&lt;/span&gt;';document.getEl
 ementById('cloak4862b0aebd1bf5bde65a39821bc97422').innerHTML += '&lt;a ' + 
 path + '\'' + prefix + ':' + addy4862b0aebd1bf5bde65a39821bc97422 + '\'&gt;
 '+addy_text4862b0aebd1bf5bde65a39821bc97422+'&lt;\/a&gt;';
		 for availabil
 ity or wait list (index.php?option=com_civicrm&amp;task=civicrm/event/regis
 ter&amp;reset=1&amp;id=11347)\n
\n
 \n
\n
 \n
 \n
 \n
 \n
 \n
X-ALT-DESC;FMTTYPE=text/html:<p><br />&nbsp;<span style="color: #336699; font-family: tahoma,arial,helve
 tica,sans-serif; font-size: 14pt;"><span style="color: #000000;"><strong><s
 pan style="color: #336699;">One Day Lead Safe Weatherization - Online&nbsp;
 </span></strong></span></span></p><p>&nbsp;</p><p><span style="color: #3366
 99; font-family: tahoma,arial,helvetica,sans-serif; font-size: 14pt;"><span
  style="color: #000000;"><strong><span style="color: #336699;">GoToWebinar 
 Event</span></strong></span></span></p><p><strong><span style="font-family:
  'Tahoma','sans-serif'; color: #336699; font-size: 13.5pt;"></span></strong
 ></p><p>&nbsp;</p><p><span style="font-size: 12pt;"><em><span style="text-d
 ecoration: underline;"><span style="font-family: 'Tahoma','sans-serif'; col
 or: black;">Course Description:</span></span></em></span>&nbsp;</p><p><span
  style="font-family: Tahoma, sans-serif; color: black; font-size: 12pt;">Th
 is online course covers two, 3-hour sessions.&nbsp; Successful course compl
 etion means the candidate must attend BOTH sessions in order to be awarded 
 CEU’s and a certificate of completion.&nbsp; YOU DO NOT NEED TO REGISTER TW
 ICE.&nbsp; You will be sent a webinar invite for both sessions.&nbsp; Each 
 session is from 9:00am until noon.<br /><br /></span><span style="font-fami
 ly: tahoma, arial, helvetica, sans-serif; font-size: 12pt;">Whenever we wor
 k on houses that were built before 1978 there is a good chance that there c
 ould be lead based paint on the inside and outside. Disturbing this paint c
 ould harm us and the families we work with. This NYSWDA Lead Safe Weatheriz
 ation Training satisfies the HCR requirement that all Weatherization staff 
 working in houses built before 1978 receive training on safe work practices
  to reduce exposure to lead dust. NYSWDA uses the DOE curriculum which also
  satisfies the DOE and OSHA requirements for employees working around lead 
 paint. This training is also required for your sub-contractors' employees w
 ho work on weatherization units.<br /><br /></span><span style="font-family
 : Tahoma, sans-serif; color: black; font-size: 12pt;">This is an HCR mandat
 ed training for Weatherization Directors, Auditors, Crew Supervisors and Cr
 ews. If you are a new Director or have new staff, you are strongly advised 
 to attend.&nbsp; This training requires attendance every three (3) years.</
 span>&nbsp;</p><p>&nbsp;</p><p><span style="font-family: 'Tahoma', 'sans-se
 rif'; color: black; font-size: 12pt;"></span></p><p><span style="font-size:
  12pt;"><em><span style="text-decoration: underline;"><span style="font-fam
 ily: 'Tahoma','sans-serif'; color: black;">Class Size</span></span></em><sp
 an style="font-family: 'Tahoma','sans-serif'; color: black;">: 25</span></s
 pan>&nbsp;<span style="font-family: 'Tahoma', 'sans-serif'; color: black; f
 ont-size: 12pt;"></span></p><p>&nbsp;</p><p><span style="font-size: 12pt;">
 <em><span style="text-decoration: underline;"><span style="font-family: 'Ta
 homa','sans-serif'; color: black;">BPI CEU</span></span></em><span style="t
 ext-decoration: underline;"><span style="font-family: 'Tahoma','sans-serif'
 ; color: black;">:</span></span><span style="font-family: 'Tahoma','sans-se
 rif'; color: black;"> 3</span></span>&nbsp;</p><p><span style="font-family:
  'Tahoma', 'sans-serif'; color: black; font-size: 12pt;"></span></p><p>&nbs
 p;</p><p><span style="font-size: 12pt;"><span style="text-decoration: under
 line;"><span style="font-family: 'Tahoma','sans-serif'; color: black;"><em>
 Instructor</em>:</span></span><span style="font-family: 'Tahoma','sans-seri
 f'; color: black;">&nbsp;&nbsp;</span><span style="font-family: 'Tahoma','s
 ans-serif'; color: black;">Al McMahon - NYSWDA</span></span>&nbsp;</p><p><s
 pan style="font-family: 'Tahoma', 'sans-serif'; color: black; font-size: 12
 pt;"></span></p><p>&nbsp;</p><p><span style="font-size: 12pt;"><em><span st
 yle="text-decoration: underline;"><span style="font-family: 'Tahoma','sans-
 serif'; color: black;">Course Fees:&nbsp;</span></span></em></span>&nbsp;</
 p><p><span style="font-size: 12pt;"><span style="color: black; font-family:
  'Tahoma','sans-serif';">$262/person - NY&nbsp;Weatherization Sub-grantees<
 /span></span></p><p><span style="font-size: 12pt;"><span style="color: blac
 k; font-family: 'Tahoma','sans-serif';">$262/person - affiliate members</sp
 an><span style="color: black; font-family: 'Tahoma','sans-serif';"></span><
 /span></p><p><span style="font-size: 12pt;"><span style="color: black; font
 -family: 'Tahoma','sans-serif';">$380/person - non-members</span><span styl
 e="color: black; font-family: 'Tahoma','sans-serif';"></span><span style="c
 olor: black; font-family: 'Tahoma','sans-serif';"></span><em><span style="c
 olor: black; font-family: 'Tahoma','sans-serif';"><br /></span></em></span>
 </p><p>&nbsp;</p><p><span style="color: #0000ff;"><em><strong><span style="
 font-family: tahoma, arial, helvetica, sans-serif; font-size: 14pt;"><span 
 style="color: #0000ff;"></span></span></strong></em></span><span style="bac
 kground-color: initial; color: inherit; font-family: inherit; font-size: 1r
 em;"> </span><em style="background-color: initial; color: inherit; font-fam
 ily: inherit; font-size: 1rem;"><strong><span style="background: white; col
 or: #02613f; font-family: 'Georgia','serif';"><span style="font-size: small
 ;">**Special note</span></span></strong></em><span style="background: white
 ; color: black; font-family: 'Georgia','serif';"><span style="font-size: sm
 all;"><i><strong>&nbsp;-&nbsp;if you wish to become an Affiliate Member ple
 ase contact&nbsp;Drew Ehrlich&nbsp;(315-701-0440 ext. 225,&nbsp;</strong></
 i></span><i><strong><span id="cloak91d95f61103fba4ecc416fe4650518c0">This e
 mail address is being protected from spambots. You need JavaScript enabled 
 to view it.</span><script type='text/javascript'>
				document.getElementBy
 Id('cloak91d95f61103fba4ecc416fe4650518c0').innerHTML = '';
				var prefix 
 = 'ma' + 'il' + 'to';
				var path = 'hr' + 'ef' + '=';
				var addy91d95f6
 1103fba4ecc416fe4650518c0 = 'dehrlich' + '@';
				addy91d95f61103fba4ecc416
 fe4650518c0 = addy91d95f61103fba4ecc416fe4650518c0 + 'nyswda' + '.' + 'org'
 ;
				var addy_text91d95f61103fba4ecc416fe4650518c0 = '<span style="color: 
 #0000ff; font-size: small;">dehrlich' + '@' + 'nyswda' + '.' + 'org</span>'
 ;document.getElementById('cloak91d95f61103fba4ecc416fe4650518c0').innerHTML
  += '<a ' + path + '\'' + prefix + ':' + addy91d95f61103fba4ecc416fe4650518
 c0 + '\'>'+addy_text91d95f61103fba4ecc416fe4650518c0+'<\/a>';
		</script><s
 pan style="font-size: small;">)&nbsp;</span></strong></i></span><i style="b
 ackground-color: initial; color: inherit; font-family: inherit; font-size: 
 1rem;"></i><span style="font-size: small;"><strong><span style="background:
  white; color: #02613f; font-family: 'Georgia','serif';">BEFORE YOU REGISTE
 R&nbsp;</span></strong><em><b><span style="background: white; color: black;
  font-family: 'Georgia','serif';">for the course</span></b></em><strong><sp
 an style="background: white; color: black; font-family: 'Georgia','serif';"
 >.</span></strong></span><span style="background-color: initial; color: inh
 erit; font-family: inherit; font-size: 1rem;"></span></p><p>&nbsp;</p><p><s
 trong><em><span style="font-size: 10pt; font-family: Georgia, serif; color:
  #10704d; background: white;">Through the support of NYS HCR funding, we ar
 e able to provide </span></em></strong><em><strong><span style="font-size: 
 10pt; font-family: Georgia, serif; color: #02613f; background: white;">qual
 ity training at&nbsp;discounted rates to NYSWDA members.</span></strong></e
 m></p><p><span style="font-size: 12pt;"><em><span style="font-family: 'Taho
 ma','sans-serif'; color: black;"><br /><br /></span></em></span></p><p><a h
 ref="https://www.nyswda.org/index.php?option=com_civicrm&amp;task=civicrm/e
 vent/register&amp;reset=1&amp;id=11347"><span style="color: #0000ff;"><em><
 strong><span style="font-size: 14pt; font-family: tahoma, arial, helvetica,
  sans-serif;"><span style="color: #0000ff;"><span style="color: #0000ff;"><
 a style="color: #0000ff;" href="https://www.nyswda.org/index.php?option=com
 _civicrm&amp;task=civicrm/event/register&amp;reset=1&amp;id=11339"><em><str
 ong><span style="font-family: tahoma, arial, helvetica, sans-serif;"><span 
 style="font-family: Tahoma;"><strong><span style="font-family: Arial, Helve
 tica;"><strong><em><strong><span style="color: #ffffff; font-family: tahoma
 , arial, helvetica, sans-serif;"><span style="color: #ff0000;">CLASS FULL -
  call or email</span></span></strong></em></strong></span></strong></span><
 /span><span style="font-family: tahoma, arial, helvetica, sans-serif;"><spa
 n style="font-family: Tahoma;"><strong><span style="font-family: Arial, Hel
 vetica;"><strong><em><strong><span style="color: #ffffff; font-family: taho
 ma, arial, helvetica, sans-serif;">&nbsp; </span></strong></em></strong></s
 pan></strong></span></span></strong></em></a><em><strong><strong><em><stron
 g><span id="cloak4862b0aebd1bf5bde65a39821bc97422">This email address is be
 ing protected from spambots. You need JavaScript enabled to view it.</span>
 <script type='text/javascript'>
				document.getElementById('cloak4862b0aeb
 d1bf5bde65a39821bc97422').innerHTML = '';
				var prefix = 'ma' + 'il' + 't
 o';
				var path = 'hr' + 'ef' + '=';
				var addy4862b0aebd1bf5bde65a39821
 bc97422 = 'rvisser' + '@';
				addy4862b0aebd1bf5bde65a39821bc97422 = addy4
 862b0aebd1bf5bde65a39821bc97422 + 'nyswda' + '.' + 'org';
				var addy_text
 4862b0aebd1bf5bde65a39821bc97422 = '<span style="color: #0066cc;">rvisser' 
 + '@' + 'nyswda' + '.' + 'org</span>';document.getElementById('cloak4862b0a
 ebd1bf5bde65a39821bc97422').innerHTML += '<a ' + path + '\'' + prefix + ':'
  + addy4862b0aebd1bf5bde65a39821bc97422 + '\'>'+addy_text4862b0aebd1bf5bde6
 5a39821bc97422+'<\/a>';
		</script> <span style="color: #ff0000;">for avail
 ability or wait list</span></strong></em></strong></strong></em></span><spa
 n style="font-family: Tahoma;"></span><em></em><span style="font-size: 14pt
 ;"></span><span style="font-size: 18pt;"></span><span style="font-size: 12p
 t;"></span></span></span></strong></em></span></a></p><p><span style="font-
 family: 'Arial','sans-serif'; color: black; font-size: 10pt;"></span></p><p
 >&nbsp;</p><p><span style="font-family: 'Arial','sans-serif'; color: black;
  font-size: 10pt;"></span></p><p>&nbsp;</p><p>&nbsp;</p><p>&nbsp;</p><p>&nb
 sp;</p><p>&nbsp;</p>
CONTACT:This email address is being protected from spambots. You need JavaScript enabled to view it.
				document.getElementById('cloak1f4f84dac426771a26a6b76ee29dd10e').innerHTML = '';
				var prefix = '&#109;a' + 'i&#108;' + '&#116;o';
				var path = 'hr' + 'ef' + '=';
				var addy1f4f84dac426771a26a6b76ee29dd10e = 'rv&#105;ss&#101;r' + '&#64;';
				addy1f4f84dac426771a26a6b76ee29dd10e = addy1f4f84dac426771a26a6b76ee29dd10e + 'nyswd&#97;' + '&#46;' + '&#111;rg';
				var addy_text1f4f84dac426771a26a6b76ee29dd10e = 'rv&#105;ss&#101;r' + '&#64;' + 'nyswd&#97;' + '&#46;' + '&#111;rg';document.getElementById('cloak1f4f84dac426771a26a6b76ee29dd10e').innerHTML += '<a ' + path + '\'' + prefix + ':' + addy1f4f84dac426771a26a6b76ee29dd10e + '\'>'+addy_text1f4f84dac426771a26a6b76ee29dd10e+'';
		
DTSTAMP:20260425T113610
DTSTART;TZID=America/New_York:20200512T090000
DTEND;TZID=America/New_York:20200513T120000
SEQUENCE:0
TRANSP:OPAQUE
END:VEVENT
END:VCALENDAR