BEGIN:VCALENDAR
VERSION:2.0
PRODID:-//jEvents 2.0 for Joomla//EN
CALSCALE:GREGORIAN
METHOD:PUBLISH
BEGIN:VTIMEZONE
TZID:America/New_York
BEGIN:STANDARD
DTSTART:20191103T010000
RDATE:20200308T030000
TZOFFSETFROM:-0400
TZOFFSETTO:-0500
TZNAME:America/New_York EST
END:STANDARD
BEGIN:STANDARD
DTSTART:20201101T010000
RDATE:20210314T030000
TZOFFSETFROM:-0400
TZOFFSETTO:-0500
TZNAME:America/New_York EST
END:STANDARD
BEGIN:STANDARD
DTSTART:20211107T010000
RDATE:20220313T030000
TZOFFSETFROM:-0400
TZOFFSETTO:-0500
TZNAME:America/New_York EST
END:STANDARD
BEGIN:STANDARD
DTSTART:20221106T010000
RDATE:20230312T030000
TZOFFSETFROM:-0400
TZOFFSETTO:-0500
TZNAME:America/New_York EST
END:STANDARD
BEGIN:STANDARD
DTSTART:20231105T010000
RDATE:20240310T030000
TZOFFSETFROM:-0400
TZOFFSETTO:-0500
TZNAME:America/New_York EST
END:STANDARD
BEGIN:STANDARD
DTSTART:20241103T010000
RDATE:20250309T030000
TZOFFSETFROM:-0400
TZOFFSETTO:-0500
TZNAME:America/New_York EST
END:STANDARD
BEGIN:STANDARD
DTSTART:20251102T010000
RDATE:20260308T030000
TZOFFSETFROM:-0400
TZOFFSETTO:-0500
TZNAME:America/New_York EST
END:STANDARD
BEGIN:STANDARD
DTSTART:20261101T010000
RDATE:20270314T030000
TZOFFSETFROM:-0400
TZOFFSETTO:-0500
TZNAME:America/New_York EST
END:STANDARD
BEGIN:STANDARD
DTSTART:20271107T010000
RDATE:20280312T030000
TZOFFSETFROM:-0400
TZOFFSETTO:-0500
TZNAME:America/New_York EST
END:STANDARD
BEGIN:STANDARD
DTSTART:20281105T010000
RDATE:20290311T030000
TZOFFSETFROM:-0400
TZOFFSETTO:-0500
TZNAME:America/New_York EST
END:STANDARD
BEGIN:STANDARD
DTSTART:20291104T010000
RDATE:20300310T030000
TZOFFSETFROM:-0400
TZOFFSETTO:-0500
TZNAME:America/New_York EST
END:STANDARD
BEGIN:STANDARD
DTSTART:20301103T010000
RDATE:20310309T030000
TZOFFSETFROM:-0400
TZOFFSETTO:-0500
TZNAME:America/New_York EST
END:STANDARD
BEGIN:DAYLIGHT
DTSTART:20190514T090000
RDATE:20191103T010000
TZOFFSETFROM:-0500
TZOFFSETTO:-0400
TZNAME:America/New_York EDT
END:DAYLIGHT
BEGIN:DAYLIGHT
DTSTART:20200308T030000
RDATE:20201101T010000
TZOFFSETFROM:-0500
TZOFFSETTO:-0400
TZNAME:America/New_York EDT
END:DAYLIGHT
BEGIN:DAYLIGHT
DTSTART:20210314T030000
RDATE:20211107T010000
TZOFFSETFROM:-0500
TZOFFSETTO:-0400
TZNAME:America/New_York EDT
END:DAYLIGHT
BEGIN:DAYLIGHT
DTSTART:20220313T030000
RDATE:20221106T010000
TZOFFSETFROM:-0500
TZOFFSETTO:-0400
TZNAME:America/New_York EDT
END:DAYLIGHT
BEGIN:DAYLIGHT
DTSTART:20230312T030000
RDATE:20231105T010000
TZOFFSETFROM:-0500
TZOFFSETTO:-0400
TZNAME:America/New_York EDT
END:DAYLIGHT
BEGIN:DAYLIGHT
DTSTART:20240310T030000
RDATE:20241103T010000
TZOFFSETFROM:-0500
TZOFFSETTO:-0400
TZNAME:America/New_York EDT
END:DAYLIGHT
BEGIN:DAYLIGHT
DTSTART:20250309T030000
RDATE:20251102T010000
TZOFFSETFROM:-0500
TZOFFSETTO:-0400
TZNAME:America/New_York EDT
END:DAYLIGHT
BEGIN:DAYLIGHT
DTSTART:20260308T030000
RDATE:20261101T010000
TZOFFSETFROM:-0500
TZOFFSETTO:-0400
TZNAME:America/New_York EDT
END:DAYLIGHT
BEGIN:DAYLIGHT
DTSTART:20270314T030000
RDATE:20271107T010000
TZOFFSETFROM:-0500
TZOFFSETTO:-0400
TZNAME:America/New_York EDT
END:DAYLIGHT
BEGIN:DAYLIGHT
DTSTART:20280312T030000
RDATE:20281105T010000
TZOFFSETFROM:-0500
TZOFFSETTO:-0400
TZNAME:America/New_York EDT
END:DAYLIGHT
BEGIN:DAYLIGHT
DTSTART:20290311T030000
RDATE:20291104T010000
TZOFFSETFROM:-0500
TZOFFSETTO:-0400
TZNAME:America/New_York EDT
END:DAYLIGHT
BEGIN:DAYLIGHT
DTSTART:20300310T030000
RDATE:20301103T010000
TZOFFSETFROM:-0500
TZOFFSETTO:-0400
TZNAME:America/New_York EDT
END:DAYLIGHT
END:VTIMEZONE
BEGIN:VEVENT
UID:32911ba8bbe4094e4348efa62429f64b
CATEGORIES:WEB
CREATED:20200504T160550
SUMMARY:NYS Manufactured Housing Mechanics Continuing Education - Online
LOCATION:NYSWDA Training Center - East Syracuse
DESCRIPTION: \n
 NYS Manufactured Housing Mechanics Continuing Education - Online\n
 \n
 
GoToWebinar Event\n
\nThis training is for:\nONLY those who have taken the
  NYS MH Mechanics Certification training and also hold a Limited Certificat
 ion.\n\n\nCourse Description:\nThis 3 hour training is for those who have a
 lready certified and hold a Limited Certification for the NYS Manufactured 
 Housing Mechanics Certification. \n\nMechanics certification is valid for 2
  years - and the renewal process required by the Dept. of State is to compl
 ete their continuing education and the renewal application process prior to
  expiration of their certificates. \n\nIf your business or agency conducts 
 structural repairs on mobile homes or manufactured housing to stay in compl
 iance with NY State Code Enforcement requirements, you will need at least o
 ne staff member with this certification. \n\nStructural repairs include rep
 lacement of door/window framing, replacement of subfloor plywood, or replac
 ement of interior wall and ceiling panels. This staff member must be on-sit
 e during these repairs. Individual certification is valid for two years. \n
 \n\nDates;\nMay 14, 2020 / 9:00am - 12:00pm\n\n\nPrerequisites: \nMust have
  completed the initial NYS MH Mechanics Certification training and also hol
 d a Limited Certification.\n\n\nClass Size: 16\n\n\nBPI CEU: 1.5\n\n\nInstr
 uctors: Bill Sherman - NYS Codes Enforcement\n
\n\nCourse Fees: \n$151/pers
 on - NY Weatherization Sub-grantees  \n
$151/person - affiliate members\n
$
 220/person - non-members\n
 \n
**Special note - if you wish to become an Af
 filiate Member, and save off the non-member rate, please contact Drew Ehrli
 ch (315-701-0440 ext. 225, This email address is being protected from spamb
 ots. You need JavaScript enabled to view it.
				document.getElementById('c
 loakdc974e8e95125f519d61ec8e9e3dea62').innerHTML = '';
				var prefix = 'ma
 ' + 'il' + 'to';
				var path = 'hr' + 'ef' + '=';
				var addydc974e8e9512
 5f519d61ec8e9e3dea62 = 'dehrlich' + '@';
				addydc974e8e95125f519d61ec8e9e
 3dea62 = addydc974e8e95125f519d61ec8e9e3dea62 + 'nyswda' + '.' + 'org';
			
 	var addy_textdc974e8e95125f519d61ec8e9e3dea62 = 'dehrlich' + '@' + 'nyswda
 ' + '.' + 'org';document.getElementById('cloakdc974e8e95125f519d61ec8e9e3de
 a62').innerHTML += '<a ' + path + '\'' + prefix + ':' + addydc974e8e95125f5
 19d61ec8e9e3dea62 + '\'>'+addy_textdc974e8e95125f519d61ec8e9e3dea62+'';
		)
  BEFORE YOU REGISTER for the course.\n
 \n
Through the support of a grant f
 rom NYSERDA, and NYS HCR funding, we are able to provide quality training a
 t discounted rates to NYSWDA members for this course.\n
\n\nClick here to r
 egister (index.php?option=com_civicrm&amp;task=civicrm/event/register&amp;r
 eset=1&amp;id=11350)\n
X-ALT-DESC;FMTTYPE=text/html:<p>&nbsp;</p><p><span style="color: #336699; font-size: 12pt;"><span><span>
 &nbsp;</span><span style="font-family: tahoma,arial,helvetica,sans-serif; f
 ont-size: 14pt;"><span style="color: #000000;"><strong><span style="color: 
 #336699;">NYS Manufactured Housing Mechanics Continuing Education - Online<
 /span></strong></span></span></span></span></p><p>&nbsp;</p><p><span style=
 "color: #336699; font-size: 12pt;"><span><span style="font-family: tahoma,a
 rial,helvetica,sans-serif; font-size: 14pt;"><span style="color: #000000;">
 <strong><span style="color: #336699;"><span style="color: #336699;">GoToWeb
 inar Event</span><span></span><span></span><span></span><span style="color:
  #000000;"></span><span></span><span></span><span style="color: #336699; fo
 nt-family: tahoma,arial,helvetica,sans-serif; font-size: 14pt;"></span><spa
 n></span><span style="font-family: Tahoma;"></span><span style="font-family
 : Tahoma;"></span><span style="color: #000000;"></span><span style="font-si
 ze: small;"></span><span style="font-family: Tahoma;"></span><span style="c
 olor: #000000;"></span><span style="font-size: x-small;"></span><span style
 ="font-family: Arial, Helvetica;"></span><span style="font-size: small;"></
 span><span style="font-family: Tahoma;"></span><span style="font-size: x-sm
 all;"></span><span style="font-family: Arial, Helvetica;"></span><span styl
 e="font-size: small;"></span><span style="font-family: Tahoma;"></span><spa
 n style="font-size: x-small;"></span><span style="font-family: Arial, Helve
 tica;"></span><span style="font-size: small;"></span><span style="font-fami
 ly: Tahoma;"></span><span style="font-size: x-small;"></span><span style="f
 ont-family: Arial, Helvetica;"></span><span style="font-family: Tahoma;"></
 span><span style="font-family: Tahoma;"></span><span style="font-size: smal
 l;"></span><span style="font-family: Tahoma;"></span><span style="font-size
 : x-small;"></span><span style="font-family: Arial, Helvetica;"></span><spa
 n style="font-family: Tahoma;"></span><span style="font-family: Tahoma;"></
 span><span style="font-family: Tahoma;"></span><span style="font-size: smal
 l;"></span><span style="font-family: Tahoma;"></span><span style="font-size
 : x-small;"></span><span style="font-family: Arial, Helvetica;"></span><spa
 n style="color: #000000;"></span><span style="font-size: medium;"></span><s
 pan style="font-family: Tahoma;"></span><span style="color: #336699;"></spa
 n></span></strong></span></span></span></span></p><p><span style="color: #3
 36699; font-size: 12pt;"><span><span><span style="color: #000000;"><span><b
 r /><span style="text-decoration: underline;"><span style="font-family: Tah
 oma;"><em>This training is for:</em></span></span><span style="font-family:
  Tahoma;"><span style="font-family: Tahoma;"><br /></span></span><span styl
 e="font-family: Tahoma;"><span style="font-family: Tahoma;"><span style="fo
 nt-family: Tahoma;">ONLY those who have taken the NYS MH Mechanics Certific
 ation training and also hold a Limited Certification.<span style="font-fami
 ly: Tahoma;"><br /><br /><br /><span style="text-decoration: underline;"><e
 m><span style="font-family: Tahoma;">Course Description:</span></em></span>
 <em><span style="font-family: Tahoma;"><span style="font-family: Tahoma;"><
 br /></span></span></em><span style="font-family: Tahoma;"><span style="fon
 t-family: Tahoma;"><span style="font-family: Tahoma;">This 3 hour training 
 is for those who have already certified and hold a Limited Certification fo
 r the NYS Manufactured Housing Mechanics Certification. <br /><br />Mechani
 cs certification is valid for 2 years - and the renewal process required by
  the Dept. of State is to complete their continuing education and the renew
 al application process prior to expiration of their certificates. <br /><br
  />If your business or agency conducts structural repairs on mobile homes o
 r manufactured housing to stay in compliance with NY State Code Enforcement
  requirements, you will need at least one staff member with this certificat
 ion. <br /><br />Structural repairs include replacement of door/window fram
 ing, replacement of subfloor plywood, or replacement of interior wall and c
 eiling panels. This staff member must be on-site during these repairs. Indi
 vidual certification is valid for two years. <br /><br /><br /><span style=
 "text-decoration: underline;"><em>Dates;<br /></em></span><span style="font
 -family: Tahoma;">May 14, 2020&nbsp;/ 9:00am - 12:00pm<br /><br /><br /><sp
 an style="text-decoration: underline;"><em><span style="font-family: Tahoma
 ;">Prerequisites:</span></em></span><em><span style="font-family: Tahoma;">
  <br /></span></em><span style="font-family: Tahoma;">Must have completed t
 he initial NYS MH Mechanics Certification training and also hold a Limited 
 Certification.<br /><span style="font-family: Tahoma;"><br /><em><br /><spa
 n style="text-decoration: underline;">Class Size</span></em>: 16<br /><br /
 ><br /><span style="text-decoration: underline;"><em>BPI CEU</em>:</span> 1
 .5<br /><br /><br /><span style="text-decoration: underline;"><em><span sty
 le="font-family: Tahoma;">Instructors:</span></em></span><em><span style="f
 ont-family: Tahoma;"> </span></em><span style="font-family: Tahoma;">Bill S
 herman - NYS Codes Enforcement</span></span></span></span></span></span></s
 pan></span></span></span></span></span></span></span></span></span></p><p><
 span style="color: #336699; font-size: 12pt;"><span><span><span style="colo
 r: #000000;"><span><span style="font-family: Tahoma;"><span style="font-fam
 ily: Tahoma;"><span style="font-family: Tahoma;"><span style="font-family: 
 Tahoma;"><span style="font-family: Tahoma;"><span style="font-family: Tahom
 a;"><span style="font-family: Tahoma;"><span style="font-family: Tahoma;"><
 span style="font-family: Tahoma;"><span style="font-family: Tahoma;"><span 
 style="font-family: Tahoma;"><br /><br /><span style="color: #336699; font-
 size: 12pt;"><span><span><span style="color: #000000;"><span><span style="f
 ont-family: Tahoma;"><span style="font-family: Tahoma;"><span style="font-f
 amily: Tahoma;"><span style="font-family: Tahoma;"><span style="font-family
 : Tahoma;"><span style="font-family: Tahoma;"><span style="font-family: Tah
 oma;"><span style="font-family: Tahoma;"><span style="font-family: Tahoma;"
 ><span style="font-family: Tahoma;"><span style="font-family: Tahoma;"><spa
 n style="text-decoration: underline;"><em>Course Fees: </em></span><span st
 yle="text-decoration: underline;"><em><br /></em></span><span style="font-f
 amily: Tahoma;">$151/person - NY Weatherization Sub-grantees</span><em><spa
 n style="font-family: Tahoma;">&nbsp;&nbsp;</span></em></span></span></span
 ></span></span></span></span></span></span></span></span></span></span></sp
 an></span></span></span></span></span></span></span></span></span></span></
 span></span></span></span></span></span></span></span></p><p><span style="c
 olor: #336699; font-size: 12pt;"><span><span><span style="color: #000000;">
 <span><span style="font-family: Tahoma;"><span style="font-family: Tahoma;"
 ><span style="font-family: Tahoma;"><span style="font-family: Tahoma;"><spa
 n style="font-family: Tahoma;"><span style="font-family: Tahoma;"><span sty
 le="font-family: Tahoma;"><span style="font-family: Tahoma;"><span style="f
 ont-family: Tahoma;"><span style="font-family: Tahoma;"><span style="font-f
 amily: Tahoma;"><span style="color: #336699; font-size: 12pt;"><span><span>
 <span style="color: #000000;"><span><span style="font-family: Tahoma;"><spa
 n style="font-family: Tahoma;"><span style="font-family: Tahoma;"><span sty
 le="font-family: Tahoma;"><span style="font-family: Tahoma;"><span style="f
 ont-family: Tahoma;"><span style="font-family: Tahoma;"><span style="font-f
 amily: Tahoma;"><span style="font-family: Tahoma;"><span style="font-family
 : Tahoma;"><span style="font-family: Tahoma;"><span style="font-family: Tah
 oma;">$151/person - affiliate members</span><em><span style="font-family: T
 ahoma;"></span></em></span></span></span></span></span></span></span></span
 ></span></span></span></span></span></span></span></span></span></span></sp
 an></span></span></span></span></span></span></span></span></span></span></
 span></span></span></p><p><span style="color: #336699; font-size: 12pt;"><s
 pan><span><span style="color: #000000;"><span><span style="font-family: Tah
 oma;"><span style="font-family: Tahoma;"><span style="font-family: Tahoma;"
 ><span style="font-family: Tahoma;"><span style="font-family: Tahoma;"><spa
 n style="font-family: Tahoma;"><span style="font-family: Tahoma;"><span sty
 le="font-family: Tahoma;"><span style="font-family: Tahoma;"><span style="f
 ont-family: Tahoma;"><span style="font-family: Tahoma;"><span style="color:
  #336699; font-size: 12pt;"><span><span><span style="color: #000000;"><span
 ><span style="font-family: Tahoma;"><span style="font-family: Tahoma;"><spa
 n style="font-family: Tahoma;"><span style="font-family: Tahoma;"><span sty
 le="font-family: Tahoma;"><span style="font-family: Tahoma;"><span style="f
 ont-family: Tahoma;"><span style="font-family: Tahoma;"><span style="font-f
 amily: Tahoma;"><span style="font-family: Tahoma;"><span style="font-family
 : Tahoma;"><span style="font-family: Tahoma;">$220/person - non-members</sp
 an><em><span style="font-family: Tahoma;"></span></em></span></span></span>
 </span></span></span></span></span></span></span></span></span></span></spa
 n></span></span></span></span></span></span></span></span></span></span></s
 pan></span></span></span></span></span></span></span></p><p>&nbsp;</p><p><s
 pan style="color: #336699; font-size: 12pt;"><span><span><span style="color
 : #000000;"><span><span style="font-family: Tahoma;"><span style="font-fami
 ly: Tahoma;"><span style="font-family: Tahoma;"><span style="font-family: T
 ahoma;"><span style="font-family: Tahoma;"><span style="font-family: Tahoma
 ;"><span style="font-family: Tahoma;"><span style="font-family: Tahoma;"><s
 pan style="font-family: Tahoma;"><span style="font-family: Tahoma;"><span s
 tyle="font-family: Tahoma;"><em><strong><span style="background: white; col
 or: #02613f; font-family: 'Georgia','serif';"><span style="font-size: small
 ;">**Special note</span></span></strong></em><span style="background: white
 ; color: black; font-family: 'Georgia','serif';"><span style="font-size: sm
 all;"><i><strong>&nbsp;-&nbsp;if you wish to become an Affiliate Member, an
 d&nbsp;save&nbsp;off the non-member rate, please contact&nbsp;Drew Ehrlich&
 nbsp;(315-701-0440 ext. 225,&nbsp;</strong></i></span><i><strong><span id="
 cloakdc974e8e95125f519d61ec8e9e3dea62">This email address is being protecte
 d from spambots. You need JavaScript enabled to view it.</span><script type
 ='text/javascript'>
				document.getElementById('cloakdc974e8e95125f519d61e
 c8e9e3dea62').innerHTML = '';
				var prefix = 'ma' + 'il' + 'to';
				var 
 path = 'hr' + 'ef' + '=';
				var addydc974e8e95125f519d61ec8e9e3dea62 = 'd
 ehrlich' + '@';
				addydc974e8e95125f519d61ec8e9e3dea62 = addydc974e8e9512
 5f519d61ec8e9e3dea62 + 'nyswda' + '.' + 'org';
				var addy_textdc974e8e951
 25f519d61ec8e9e3dea62 = '<span style="color: #0000ff; font-size: small;">de
 hrlich' + '@' + 'nyswda' + '.' + 'org</span>';document.getElementById('cloa
 kdc974e8e95125f519d61ec8e9e3dea62').innerHTML += '<a ' + path + '\'' + pref
 ix + ':' + addydc974e8e95125f519d61ec8e9e3dea62 + '\'>'+addy_textdc974e8e95
 125f519d61ec8e9e3dea62+'<\/a>';
		</script><span style="font-size: small;">
 )&nbsp;</span></strong></i></span><i></i><span style="font-size: small;"><s
 trong><span style="background: white; color: #02613f; font-family: 'Georgia
 ','serif';">BEFORE YOU REGISTER&nbsp;</span></strong><em><b><span style="ba
 ckground: white; color: black; font-family: 'Georgia','serif';">for the cou
 rse</span></b></em><strong><span style="background: white; color: black; fo
 nt-family: 'Georgia','serif';">.</span></strong></span></span></span></span
 ></span></span></span></span></span></span></span></span></span></span></sp
 an></span></span></p><p>&nbsp;</p><p><span style="color: #336699; font-size
 : 12pt;"><span><span><span style="color: #000000;"><span><span style="font-
 family: Tahoma;"><span style="font-family: Tahoma;"><span style="font-famil
 y: Tahoma;"><span style="font-family: Tahoma;"><span style="font-family: Ta
 homa;"><span style="font-family: Tahoma;"><span style="font-family: Tahoma;
 "><span style="font-family: Tahoma;"><span style="font-family: Tahoma;"><sp
 an style="font-family: Tahoma;"><span style="font-family: Tahoma;"><strong>
 <i><span style="background: white; color: #10704d; font-family: 'Georgia','
 serif'; font-size: 10pt;">Through the support of a grant from NYSERDA, and 
 NYS HCR funding, we are able to provide </span></i></strong><em><b><span st
 yle="background: white; color: #02613f; font-family: 'Georgia','serif'; fon
 t-size: 10pt;">quality training at&nbsp;discounted rates to NYSWDA members 
 for this course.<span style="color: #336699;"><span style="font-family: Tah
 oma;"><span style="font-size: medium;"><span style="color: #000000;"><span 
 style="font-size: small;"><span style="font-family: Tahoma;"><span style="f
 ont-family: Tahoma;"><span style="color: #000000;"><span style="font-family
 : Tahoma;"><span style="font-family: Arial, Helvetica;"><span style="color:
  #000000;"><span style="font-family: Tahoma;"><span style="font-family: Tah
 oma;"><span style="font-family: Tahoma;"><span style="font-family: Tahoma;"
 ><span style="font-family: Tahoma;"><span style="font-family: Tahoma;"><spa
 n style="font-family: Tahoma;"><span style="font-family: Tahoma;"><span sty
 le="font-family: Tahoma;"><span style="font-family: Tahoma;"><span style="f
 ont-family: Tahoma;"><span style="font-family: Tahoma;"><span style="font-f
 amily: Tahoma;"><span style="font-family: Arial, Helvetica;"><span style="f
 ont-size: x-small;"><span style="color: #000000;"><span style="font-family:
  Calibri;"><span style="font-size: small;"><span style="font-family: Times;
 "><span style="color: #000000;"><span style="font-family: Tahoma;"><span st
 yle="font-family: Times;"><span style="font-family: Tahoma;"><span style="f
 ont-family: Tahoma;"><span style="color: #000000;"><span style="font-size: 
 12pt;"><em></em></span></span></span></span></span></span></span></span></s
 pan></span></span></span></span></span></span></span></span></span></span><
 /span></span></span></span></span></span></span></span></span></span></span
 ></span></span></span></span></span></span></span></span></b></em></span></
 span></span></span></span></span></span></span></span></span></span></span>
 </span></span></span></span></p><p><span style="color: #336699; font-size: 
 12pt;"><span><span><span style="color: #000000;"><span><span style="font-fa
 mily: Tahoma;"><span style="font-family: Tahoma;"><span style="font-family:
  Tahoma;"><span style="font-family: Tahoma;"><span style="font-family: Taho
 ma;"><span style="font-family: Tahoma;"><span style="font-family: Tahoma;">
 <span style="font-family: Tahoma;"><span style="font-family: Tahoma;"><span
  style="font-family: Tahoma;"><span style="font-family: Tahoma;"><br /><br 
 /><a href="https://www.nyswda.org/index.php?option=com_civicrm&amp;task=civ
 icrm/event/register&amp;reset=1&amp;id=11350"><span style="color: #0000ff;"
 ><em><strong><span style="font-size: 14pt;"><span style="color: #0000ff;">C
 lick here to register</span></span></strong></em></span></a></span></span><
 /span></span></span></span></span></span></span></span></span></span></span
 ></span></span></span></p>
CONTACT:This email address is being protected from spambots. You need JavaScript enabled to view it.
				document.getElementById('cloak94eafcbc39fa5780410080025041b085').innerHTML = '';
				var prefix = '&#109;a' + 'i&#108;' + '&#116;o';
				var path = 'hr' + 'ef' + '=';
				var addy94eafcbc39fa5780410080025041b085 = 'rv&#105;ss&#101;r' + '&#64;';
				addy94eafcbc39fa5780410080025041b085 = addy94eafcbc39fa5780410080025041b085 + 'nyswd&#97;' + '&#46;' + '&#111;rg';
				var addy_text94eafcbc39fa5780410080025041b085 = 'rv&#105;ss&#101;r' + '&#64;' + 'nyswd&#97;' + '&#46;' + '&#111;rg';document.getElementById('cloak94eafcbc39fa5780410080025041b085').innerHTML += '<a ' + path + '\'' + prefix + ':' + addy94eafcbc39fa5780410080025041b085 + '\'>'+addy_text94eafcbc39fa5780410080025041b085+'';
		
DTSTAMP:20260425T113549
DTSTART;TZID=America/New_York:20200514T090000
DTEND;TZID=America/New_York:20200514T120000
SEQUENCE:0
TRANSP:OPAQUE
END:VEVENT
END:VCALENDAR