BEGIN:VCALENDAR
VERSION:2.0
PRODID:-//jEvents 2.0 for Joomla//EN
CALSCALE:GREGORIAN
METHOD:PUBLISH
BEGIN:VTIMEZONE
TZID:America/New_York
BEGIN:STANDARD
DTSTART:20191103T010000
RDATE:20200308T030000
TZOFFSETFROM:-0400
TZOFFSETTO:-0500
TZNAME:America/New_York EST
END:STANDARD
BEGIN:STANDARD
DTSTART:20201101T010000
RDATE:20210314T030000
TZOFFSETFROM:-0400
TZOFFSETTO:-0500
TZNAME:America/New_York EST
END:STANDARD
BEGIN:STANDARD
DTSTART:20211107T010000
RDATE:20220313T030000
TZOFFSETFROM:-0400
TZOFFSETTO:-0500
TZNAME:America/New_York EST
END:STANDARD
BEGIN:STANDARD
DTSTART:20221106T010000
RDATE:20230312T030000
TZOFFSETFROM:-0400
TZOFFSETTO:-0500
TZNAME:America/New_York EST
END:STANDARD
BEGIN:STANDARD
DTSTART:20231105T010000
RDATE:20240310T030000
TZOFFSETFROM:-0400
TZOFFSETTO:-0500
TZNAME:America/New_York EST
END:STANDARD
BEGIN:STANDARD
DTSTART:20241103T010000
RDATE:20250309T030000
TZOFFSETFROM:-0400
TZOFFSETTO:-0500
TZNAME:America/New_York EST
END:STANDARD
BEGIN:STANDARD
DTSTART:20251102T010000
RDATE:20260308T030000
TZOFFSETFROM:-0400
TZOFFSETTO:-0500
TZNAME:America/New_York EST
END:STANDARD
BEGIN:STANDARD
DTSTART:20261101T010000
RDATE:20270314T030000
TZOFFSETFROM:-0400
TZOFFSETTO:-0500
TZNAME:America/New_York EST
END:STANDARD
BEGIN:STANDARD
DTSTART:20271107T010000
RDATE:20280312T030000
TZOFFSETFROM:-0400
TZOFFSETTO:-0500
TZNAME:America/New_York EST
END:STANDARD
BEGIN:STANDARD
DTSTART:20281105T010000
RDATE:20290311T030000
TZOFFSETFROM:-0400
TZOFFSETTO:-0500
TZNAME:America/New_York EST
END:STANDARD
BEGIN:STANDARD
DTSTART:20291104T010000
RDATE:20300310T030000
TZOFFSETFROM:-0400
TZOFFSETTO:-0500
TZNAME:America/New_York EST
END:STANDARD
BEGIN:STANDARD
DTSTART:20301103T010000
RDATE:20310309T030000
TZOFFSETFROM:-0400
TZOFFSETTO:-0500
TZNAME:America/New_York EST
END:STANDARD
BEGIN:DAYLIGHT
DTSTART:20190521T090000
RDATE:20191103T010000
TZOFFSETFROM:-0500
TZOFFSETTO:-0400
TZNAME:America/New_York EDT
END:DAYLIGHT
BEGIN:DAYLIGHT
DTSTART:20200308T030000
RDATE:20201101T010000
TZOFFSETFROM:-0500
TZOFFSETTO:-0400
TZNAME:America/New_York EDT
END:DAYLIGHT
BEGIN:DAYLIGHT
DTSTART:20210314T030000
RDATE:20211107T010000
TZOFFSETFROM:-0500
TZOFFSETTO:-0400
TZNAME:America/New_York EDT
END:DAYLIGHT
BEGIN:DAYLIGHT
DTSTART:20220313T030000
RDATE:20221106T010000
TZOFFSETFROM:-0500
TZOFFSETTO:-0400
TZNAME:America/New_York EDT
END:DAYLIGHT
BEGIN:DAYLIGHT
DTSTART:20230312T030000
RDATE:20231105T010000
TZOFFSETFROM:-0500
TZOFFSETTO:-0400
TZNAME:America/New_York EDT
END:DAYLIGHT
BEGIN:DAYLIGHT
DTSTART:20240310T030000
RDATE:20241103T010000
TZOFFSETFROM:-0500
TZOFFSETTO:-0400
TZNAME:America/New_York EDT
END:DAYLIGHT
BEGIN:DAYLIGHT
DTSTART:20250309T030000
RDATE:20251102T010000
TZOFFSETFROM:-0500
TZOFFSETTO:-0400
TZNAME:America/New_York EDT
END:DAYLIGHT
BEGIN:DAYLIGHT
DTSTART:20260308T030000
RDATE:20261101T010000
TZOFFSETFROM:-0500
TZOFFSETTO:-0400
TZNAME:America/New_York EDT
END:DAYLIGHT
BEGIN:DAYLIGHT
DTSTART:20270314T030000
RDATE:20271107T010000
TZOFFSETFROM:-0500
TZOFFSETTO:-0400
TZNAME:America/New_York EDT
END:DAYLIGHT
BEGIN:DAYLIGHT
DTSTART:20280312T030000
RDATE:20281105T010000
TZOFFSETFROM:-0500
TZOFFSETTO:-0400
TZNAME:America/New_York EDT
END:DAYLIGHT
BEGIN:DAYLIGHT
DTSTART:20290311T030000
RDATE:20291104T010000
TZOFFSETFROM:-0500
TZOFFSETTO:-0400
TZNAME:America/New_York EDT
END:DAYLIGHT
BEGIN:DAYLIGHT
DTSTART:20300310T030000
RDATE:20301103T010000
TZOFFSETFROM:-0500
TZOFFSETTO:-0400
TZNAME:America/New_York EDT
END:DAYLIGHT
END:VTIMEZONE
BEGIN:VEVENT
UID:49b83a5bbc35ae63eecf7bc8414ad82b
CATEGORIES:WEB
CREATED:20200504T171633
SUMMARY:NYS Manufactured Housing Mechanics Certification - Online
LOCATION:NYSWDA Training Center - East Syracuse
DESCRIPTION: \n
 NYS Manufactured Housing Mechanics Certification - Online\n
 \n
GoToWe
 binar Event\n\n\nThis online course covers two, 3-hour sessions.  Successfu
 l course completion means the candidate must attend BOTH sessions in order 
 to be awarded CEU’s and a certificate of completion.  YOU DO NOT NEED TO RE
 GISTER TWICE.  You will be sent a webinar invite for both sessions.  Each s
 ession is from 9:00am until noon.\n
 \n
This training is for:\nWeatherizati
 on crew chiefs/auditors, weatherization agency sub-contractors, private con
 tractors\n\n\nCourse Description:\nThis training will prepare those attendi
 ng to take the New York State Manufactured Housing Mechanic certification w
 ritten test. If your business or agency conducts structural repairs on mobi
 le homes or manufactured housing to stay in compliance with NY State Code E
 nforcement requirements, you will need at least one staff member with this 
 certification. Structural repairs include replacement of door/window framin
 g, replacement of subfloor plywood, or replacement of interior wall and cei
 ling panels. This staff member must be on-site during these repairs. This i
 ndividual certification is valid for two years.\n\n\nDates;\nMay 21 &amp; 2
 2, 2020 / 9:00am - noon (must participate in both days for course completio
 n)\n\n\nPrerequisites: \nCompletion of high school, GED or equivalent (U.S.
  Armed Forces report) showing successful completion of high school level ed
 ucation.  One year full time employment in manufactured housing industry or
  an industry substantially similar (1 year construction industry experience
  or 1 year manufactured housing repair and weatherization experience genera
 lly accepted). Field experience in manufactured housing repairs and weather
 ization techniques\n\n\nClass Size: 16\n\n\nBPI CEU: 3\n\n\nInstructors: Bi
 ll Sherman - NYS Codes Enforcement\n\n\nCourse Fees: \n$262/person - NY Wea
 therization Sub-grantees\n
 $262/person - affiliate members\n
$380/person -
  non-members\n
 \n
**Special note - if you wish to become an Affiliate Memb
 er, and save 50% off the non-member rate, please contact Drew Ehrlich (315-
 701-0440 ext. 225, This email address is being protected from spambots. You
  need JavaScript enabled to view it.
				document.getElementById('cloak2f8f
 867c0dca9d5eb1574849bde8735a').innerHTML = '';
				var prefix = 'ma' + 'il'
  + 'to';
				var path = 'hr' + 'ef' + '=';
				var addy2f8f867c0dca9d5eb157
 4849bde8735a = 'dehrlich' + '@';
				addy2f8f867c0dca9d5eb1574849bde8735a =
  addy2f8f867c0dca9d5eb1574849bde8735a + 'nyswda' + '.' + 'org';
				var add
 y_text2f8f867c0dca9d5eb1574849bde8735a = 'dehrlich' + '@' + 'nyswda' + '.' 
 + 'org';document.getElementById('cloak2f8f867c0dca9d5eb1574849bde8735a').in
 nerHTML += '<a ' + path + '\'' + prefix + ':' + addy2f8f867c0dca9d5eb157484
 9bde8735a + '\'>'+addy_text2f8f867c0dca9d5eb1574849bde8735a+'';
		) BEFORE 
 YOU REGISTER for the course.\n  \n\n
Through the support of a grant from NY
 SERDA, and NYS HCR funding, we are able to provide quality training at disc
 ounted rates to NYSWDA members for this course.\n
 \n
Click here to registe
 r (index.php?option=com_civicrm&amp;task=civicrm/event/register&amp;reset=1
 &amp;id=11351)\n
X-ALT-DESC;FMTTYPE=text/html:<p>&nbsp;</p><p><span style="color: #336699; font-size: 12pt;"><span><span>
 &nbsp;</span><span><span style="color: #000000;"><span><strong><span style=
 "color: #336699;"><span style="font-family: tahoma,arial,helvetica,sans-ser
 if; font-size: 14pt;">NYS Manufactured Housing Mechanics Certification - On
 line</span></span></strong></span></span></span></span></span></p><p>&nbsp;
 </p><p><span style="color: #336699; font-size: 12pt;"><span><span><span sty
 le="color: #000000;"><span><strong><span style="color: #336699;"><span styl
 e="font-family: tahoma,arial,helvetica,sans-serif; font-size: 14pt;"><span 
 style="color: #336699;">GoToWebinar Event</span><span></span><span></span><
 span></span><span style="color: #000000;"></span><span></span><span></span>
 <span style="color: #336699; font-family: tahoma,arial,helvetica,sans-serif
 ; font-size: 14pt;"></span><span></span><span style="font-family: Tahoma;">
 </span><span style="font-family: Tahoma;"></span><span style="color: #00000
 0;"></span><span style="font-size: small;"></span><span style="font-family:
  Tahoma;"></span><span style="color: #000000;"></span><span style="font-siz
 e: x-small;"></span><span style="font-family: Arial, Helvetica;"></span><sp
 an style="font-size: small;"></span><span style="font-family: Tahoma;"></sp
 an><span style="font-size: x-small;"></span><span style="font-family: Arial
 , Helvetica;"></span><span style="font-size: small;"></span><span style="fo
 nt-family: Tahoma;"></span><span style="font-size: x-small;"></span><span s
 tyle="font-family: Arial, Helvetica;"></span><span style="font-size: small;
 "></span><span style="font-family: Tahoma;"></span><span style="font-size: 
 x-small;"></span><span style="font-family: Arial, Helvetica;"></span><span 
 style="font-family: Tahoma;"></span><span style="font-family: Tahoma;"></sp
 an><span style="font-size: small;"></span><span style="font-family: Tahoma;
 "></span><span style="font-size: x-small;"></span><span style="font-family:
  Arial, Helvetica;"></span><span style="font-family: Tahoma;"></span><span 
 style="font-family: Tahoma;"></span><span style="font-family: Tahoma;"></sp
 an><span style="font-size: small;"></span><span style="font-family: Tahoma;
 "></span><span style="font-size: x-small;"></span><span style="font-family:
  Arial, Helvetica;"></span><span style="color: #000000;"></span><span style
 ="font-size: medium;"></span><span style="font-family: Tahoma;"></span><spa
 n style="color: #336699;"></span></span><br /></span></strong></span></span
 ></span></span></span><span style="color: #336699; font-size: 12pt;"><span 
 style="font-family: Tahoma;"><span><span style="color: #000000;"><em><span>
 <br /><br /></span></em><span style="font-family: Tahoma;"><span style="fon
 t-family: Tahoma, sans-serif; color: black; font-size: 12pt;">This online c
 ourse covers two, 3-hour sessions.&nbsp; Successful course completion means
  the candidate must attend BOTH sessions in order to be awarded CEU’s and a
  certificate of completion.&nbsp; YOU DO NOT NEED TO REGISTER TWICE.&nbsp; 
 You will be sent a webinar invite for both sessions.&nbsp; Each session is 
 from 9:00am until noon.</span></span></span></span></span></span></p><p>&nb
 sp;</p><p><span style="color: #336699; font-size: 12pt;"><span style="font-
 family: Tahoma;"><span><span style="color: #000000;"><em><span><span style=
 "text-decoration: underline;"><span style="font-family: Tahoma;">This train
 ing is for:</span></span><span style="font-family: Tahoma;"><span style="fo
 nt-family: Tahoma;"><br /></span></span></span></em><span><span style="font
 -family: Tahoma;"><span style="font-family: Tahoma;"><span style="font-fami
 ly: Tahoma;">Weatherization crew chiefs/auditors, weatherization agency sub
 -contractors, private contractors<span style="font-family: Tahoma;"><br /><
 br /><br /><span style="text-decoration: underline;"><em><span style="font-
 family: Tahoma;">Course Description:</span></em></span><em><span style="fon
 t-family: Tahoma;"><span style="font-family: Tahoma;"><br /></span></span><
 /em><span style="font-family: Tahoma;"><span style="font-family: Tahoma;"><
 span style="font-family: Tahoma;">This training will prepare those attendin
 g to take the New York State Manufactured Housing Mechanic certification wr
 itten test. If your business or agency conducts structural repairs on mobil
 e homes or manufactured housing to stay in compliance with NY State Code En
 forcement requirements, you will need at least one staff member with this c
 ertification. Structural repairs include replacement of door/window framing
 , replacement of subfloor plywood, or replacement of interior wall and ceil
 ing panels. This staff member must be on-site during these repairs. This in
 dividual certification is valid for two years.<br /><br /><br /><span style
 ="text-decoration: underline;"><em>Dates;<br /></em></span><em><span style=
 "font-family: Tahoma;"></span></em><span style="font-family: Tahoma;">May 2
 1 &amp; 22, 2020</span><span style="font-family: Tahoma;">&nbsp;/ 9:00am - 
 noon (must participate in both days for course completion)<br /><br /><br /
 ><span style="text-decoration: underline;"><em><span style="font-family: Ta
 homa;">Prerequisites:</span></em></span><em><span style="font-family: Tahom
 a;"> <br /></span></em><span style="font-family: Tahoma;">Completion of hig
 h school, GED or equivalent (U.S. Armed Forces report) showing successful c
 ompletion of high school level education.&nbsp; One year full time employme
 nt in manufactured housing industry or an industry substantially similar (1
  year construction industry experience or 1 year manufactured housing repai
 r and weatherization experience generally accepted). Field experience in ma
 nufactured housing repairs and weatherization techniques<span style="font-f
 amily: Tahoma;"><br /><em><br /><br /><span style="text-decoration: underli
 ne;">Class Size</span></em>: 16<br /><br /><br /><span style="text-decorati
 on: underline;"><em>BPI CEU</em>:</span>&nbsp;3<br /><br /><br /><span styl
 e="text-decoration: underline;"><em><span style="font-family: Tahoma;">Inst
 ructors:</span></em></span><em><span style="font-family: Tahoma;"> </span><
 /em><span style="font-family: Tahoma;">Bill Sherman - NYS Codes Enforcement
 <br /><br /><br /><span style="text-decoration: underline;"><em>Course Fees
 :&nbsp;</em></span><em><span style="color: #ff6600;"></span></em><em><br />
 </em><span style="font-family: Tahoma;">$262/person -&nbsp;NY&nbsp;Weatheri
 zation Sub-grantees</span><em><span style="font-family: Tahoma;"></span></e
 m><span style="font-family: Tahoma;"></span></span></span></span></span></s
 pan></span></span></span></span></span></span></span></span></span></span><
 /span></p><p><span style="color: #336699; font-size: 12pt;"><span style="fo
 nt-family: Tahoma;"><span style="color: #000000;"><span style="font-family:
  Tahoma;"><span style="font-family: Tahoma;"><span style="font-family: Taho
 ma;"><span style="font-family: Tahoma;"><span style="font-family: Tahoma;">
 <span style="font-family: Tahoma;"><span style="font-family: Tahoma;"><span
  style="font-family: Tahoma;"><span style="font-family: Tahoma;"><span styl
 e="font-family: Tahoma;"><span style="font-family: Tahoma;"><span style="fo
 nt-family: Tahoma;"> $262/person -&nbsp;affiliate members</span></span></sp
 an></span></span></span></span></span></span></span></span></span></span></
 span></span></p><p><span style="color: #336699; font-size: 12pt;"><span sty
 le="font-family: Tahoma;"><span style="color: #000000;"><span style="font-f
 amily: Tahoma;"><span style="font-family: Tahoma;"><span style="font-family
 : Tahoma;"><span style="font-family: Tahoma;"><span style="font-family: Tah
 oma;"><span style="font-family: Tahoma;"><span style="font-family: Tahoma;"
 ><span style="font-family: Tahoma;"><span style="font-family: Tahoma;"><spa
 n style="font-family: Tahoma;"><span style="font-family: Tahoma;"><span sty
 le="font-family: Tahoma;">$380/person -&nbsp;non-members</span></span></spa
 n></span></span></span></span></span></span></span></span></span></span></s
 pan></span></p><p>&nbsp;</p><p><span style="color: #336699; font-size: 12pt
 ;"><span style="font-family: Tahoma;"><span><span style="color: #000000;"><
 span><span style="font-family: Tahoma;"><span style="font-family: Tahoma;">
 <span style="font-family: Tahoma;"><span style="font-family: Tahoma;"><span
  style="font-family: Tahoma;"><span style="font-family: Tahoma;"><span styl
 e="font-family: Tahoma;"><span style="font-family: Tahoma;"><span style="fo
 nt-family: Tahoma;"><span style="font-family: Tahoma;"><span style="font-fa
 mily: Tahoma;"><em><span style="font-family: Tahoma;"><em><strong><span sty
 le="background: white; color: #02613f; font-family: 'Georgia','serif';"><sp
 an style="font-size: small;">**Special note</span></span></strong></em><spa
 n style="background: white; color: black; font-family: 'Georgia','serif';">
 <span style="font-size: small;"><i><strong>&nbsp;-&nbsp;if you wish to beco
 me an Affiliate Member, and&nbsp;save 50% off the non-member rate, please c
 ontact&nbsp;Drew Ehrlich&nbsp;(315-701-0440 ext. 225,&nbsp;</strong></i></s
 pan><i><strong><span id="cloak2f8f867c0dca9d5eb1574849bde8735a">This email 
 address is being protected from spambots. You need JavaScript enabled to vi
 ew it.</span><script type='text/javascript'>
				document.getElementById('c
 loak2f8f867c0dca9d5eb1574849bde8735a').innerHTML = '';
				var prefix = 'ma
 ' + 'il' + 'to';
				var path = 'hr' + 'ef' + '=';
				var addy2f8f867c0dca
 9d5eb1574849bde8735a = 'dehrlich' + '@';
				addy2f8f867c0dca9d5eb1574849bd
 e8735a = addy2f8f867c0dca9d5eb1574849bde8735a + 'nyswda' + '.' + 'org';
			
 	var addy_text2f8f867c0dca9d5eb1574849bde8735a = '<span style="color: #0000
 ff; font-size: small;">dehrlich' + '@' + 'nyswda' + '.' + 'org</span>';docu
 ment.getElementById('cloak2f8f867c0dca9d5eb1574849bde8735a').innerHTML += '
 <a ' + path + '\'' + prefix + ':' + addy2f8f867c0dca9d5eb1574849bde8735a + 
 '\'>'+addy_text2f8f867c0dca9d5eb1574849bde8735a+'<\/a>';
		</script><span s
 tyle="font-size: small;">)&nbsp;</span></strong></i></span><i></i><span sty
 le="font-size: small;"><strong><span style="background: white; color: #0261
 3f; font-family: 'Georgia','serif';">BEFORE YOU REGISTER&nbsp;</span></stro
 ng><em><b><span style="background: white; color: black; font-family: 'Georg
 ia','serif';">for the course</span></b></em><strong><span style="background
 : white; color: black; font-family: 'Georgia','serif';">.</span></strong></
 span><br /></span></em></span></span></span></span></span></span></span></s
 pan></span></span></span></span></span></span><span style="background-color
 : initial; color: inherit; font-family: inherit; font-size: 1rem;">&nbsp;</
 span><span style="color: #0000ff;"><em><strong><span style="font-size: 14pt
 ; font-family: tahoma,arial,helvetica,sans-serif;"></span></strong></em></s
 pan><span style="background-color: initial; color: inherit; font-family: in
 herit; font-size: 1rem;">&nbsp;</span><span><span style="color: #000000;"><
 span><span style="font-family: Tahoma;"><span style="font-family: Tahoma;">
 <span style="font-family: Tahoma;"><span style="font-family: Tahoma;"><span
  style="font-family: Tahoma;"><span style="font-family: Tahoma;"><span styl
 e="font-family: Tahoma;"><span style="font-family: Tahoma;"><span style="fo
 nt-family: Tahoma;"><span style="font-family: Tahoma;"><span style="font-fa
 mily: Tahoma;"><em><span style="font-family: Tahoma;"><br /></span></em></s
 pan></span></span></span></span></span></span></span></span></span></span><
 /span></span></span></span></span></p><p><strong><i><span style="background
 : white; color: #10704d; font-family: 'Georgia','serif'; font-size: 10pt;">
 Through the support of a grant from NYSERDA, and NYS HCR funding, we are ab
 le to provide </span></i></strong><em><b><span style="background: white; co
 lor: #02613f; font-family: 'Georgia','serif'; font-size: 10pt;">quality tra
 ining at&nbsp;discounted rates to NYSWDA members for this course.<span styl
 e="color: #336699;"><span style="font-family: Tahoma;"><span style="font-si
 ze: medium;"><span style="color: #000000;"><span style="font-size: small;">
 <span style="font-family: Tahoma;"><span style="font-family: Tahoma;"><span
  style="color: #000000;"><span style="font-family: Tahoma;"><span style="fo
 nt-family: Arial, Helvetica;"><span style="color: #000000;"><span style="fo
 nt-family: Tahoma;"><span style="font-family: Tahoma;"><span style="font-fa
 mily: Tahoma;"><span style="font-family: Tahoma;"><span style="font-family:
  Tahoma;"><span style="font-family: Tahoma;"><span style="font-family: Taho
 ma;"><span style="font-family: Tahoma;"><span style="font-family: Tahoma;">
 <span style="font-family: Tahoma;"><span style="font-family: Tahoma;"><span
  style="font-family: Tahoma;"><span style="font-family: Tahoma;"><span styl
 e="font-family: Arial, Helvetica;"><span style="font-size: x-small;"><span 
 style="color: #000000;"><span style="font-family: Calibri;"><span style="fo
 nt-size: small;"><span style="font-family: Times;"><span style="color: #000
 000;"><span style="font-family: Tahoma;"><span style="font-family: Times;">
 <span style="font-family: Tahoma;"><span style="font-family: Tahoma;"><span
  style="color: #000000;"><span style="font-size: 12pt;"><em></em></span></s
 pan></span></span></span></span></span></span></span></span></span></span><
 /span></span></span></span></span></span></span></span></span></span></span
 ></span></span></span></span></span></span></span></span></span></span></sp
 an></span></span></span></span></b></em></p><p>&nbsp;</p><p><a href="https:
 //www.nyswda.org/index.php?option=com_civicrm&amp;task=civicrm/event/regist
 er&amp;reset=1&amp;id=11351"><span style="color: #0000ff;"><em><strong><spa
 n style="font-size: 14pt; font-family: tahoma,arial,helvetica,sans-serif;">
 <span style="color: #0000ff;">Click here to register</span></span></strong>
 </em></span></a></p>
CONTACT:Robyn Visser
DTSTAMP:20260425T113525
DTSTART;TZID=America/New_York:20200521T090000
DTEND;TZID=America/New_York:20200522T120000
SEQUENCE:0
TRANSP:OPAQUE
END:VEVENT
END:VCALENDAR