BEGIN:VCALENDAR
VERSION:2.0
PRODID:-//jEvents 2.0 for Joomla//EN
CALSCALE:GREGORIAN
METHOD:PUBLISH
BEGIN:VTIMEZONE
TZID:America/New_York
BEGIN:STANDARD
DTSTART:20191103T010000
RDATE:20200308T030000
TZOFFSETFROM:-0400
TZOFFSETTO:-0500
TZNAME:America/New_York EST
END:STANDARD
BEGIN:STANDARD
DTSTART:20201101T010000
RDATE:20210314T030000
TZOFFSETFROM:-0400
TZOFFSETTO:-0500
TZNAME:America/New_York EST
END:STANDARD
BEGIN:STANDARD
DTSTART:20211107T010000
RDATE:20220313T030000
TZOFFSETFROM:-0400
TZOFFSETTO:-0500
TZNAME:America/New_York EST
END:STANDARD
BEGIN:STANDARD
DTSTART:20221106T010000
RDATE:20230312T030000
TZOFFSETFROM:-0400
TZOFFSETTO:-0500
TZNAME:America/New_York EST
END:STANDARD
BEGIN:STANDARD
DTSTART:20231105T010000
RDATE:20240310T030000
TZOFFSETFROM:-0400
TZOFFSETTO:-0500
TZNAME:America/New_York EST
END:STANDARD
BEGIN:STANDARD
DTSTART:20241103T010000
RDATE:20250309T030000
TZOFFSETFROM:-0400
TZOFFSETTO:-0500
TZNAME:America/New_York EST
END:STANDARD
BEGIN:STANDARD
DTSTART:20251102T010000
RDATE:20260308T030000
TZOFFSETFROM:-0400
TZOFFSETTO:-0500
TZNAME:America/New_York EST
END:STANDARD
BEGIN:STANDARD
DTSTART:20261101T010000
RDATE:20270314T030000
TZOFFSETFROM:-0400
TZOFFSETTO:-0500
TZNAME:America/New_York EST
END:STANDARD
BEGIN:STANDARD
DTSTART:20271107T010000
RDATE:20280312T030000
TZOFFSETFROM:-0400
TZOFFSETTO:-0500
TZNAME:America/New_York EST
END:STANDARD
BEGIN:STANDARD
DTSTART:20281105T010000
RDATE:20290311T030000
TZOFFSETFROM:-0400
TZOFFSETTO:-0500
TZNAME:America/New_York EST
END:STANDARD
BEGIN:STANDARD
DTSTART:20291104T010000
RDATE:20300310T030000
TZOFFSETFROM:-0400
TZOFFSETTO:-0500
TZNAME:America/New_York EST
END:STANDARD
BEGIN:STANDARD
DTSTART:20301103T010000
RDATE:20310309T030000
TZOFFSETFROM:-0400
TZOFFSETTO:-0500
TZNAME:America/New_York EST
END:STANDARD
BEGIN:DAYLIGHT
DTSTART:20190603T090000
RDATE:20191103T010000
TZOFFSETFROM:-0500
TZOFFSETTO:-0400
TZNAME:America/New_York EDT
END:DAYLIGHT
BEGIN:DAYLIGHT
DTSTART:20200308T030000
RDATE:20201101T010000
TZOFFSETFROM:-0500
TZOFFSETTO:-0400
TZNAME:America/New_York EDT
END:DAYLIGHT
BEGIN:DAYLIGHT
DTSTART:20210314T030000
RDATE:20211107T010000
TZOFFSETFROM:-0500
TZOFFSETTO:-0400
TZNAME:America/New_York EDT
END:DAYLIGHT
BEGIN:DAYLIGHT
DTSTART:20220313T030000
RDATE:20221106T010000
TZOFFSETFROM:-0500
TZOFFSETTO:-0400
TZNAME:America/New_York EDT
END:DAYLIGHT
BEGIN:DAYLIGHT
DTSTART:20230312T030000
RDATE:20231105T010000
TZOFFSETFROM:-0500
TZOFFSETTO:-0400
TZNAME:America/New_York EDT
END:DAYLIGHT
BEGIN:DAYLIGHT
DTSTART:20240310T030000
RDATE:20241103T010000
TZOFFSETFROM:-0500
TZOFFSETTO:-0400
TZNAME:America/New_York EDT
END:DAYLIGHT
BEGIN:DAYLIGHT
DTSTART:20250309T030000
RDATE:20251102T010000
TZOFFSETFROM:-0500
TZOFFSETTO:-0400
TZNAME:America/New_York EDT
END:DAYLIGHT
BEGIN:DAYLIGHT
DTSTART:20260308T030000
RDATE:20261101T010000
TZOFFSETFROM:-0500
TZOFFSETTO:-0400
TZNAME:America/New_York EDT
END:DAYLIGHT
BEGIN:DAYLIGHT
DTSTART:20270314T030000
RDATE:20271107T010000
TZOFFSETFROM:-0500
TZOFFSETTO:-0400
TZNAME:America/New_York EDT
END:DAYLIGHT
BEGIN:DAYLIGHT
DTSTART:20280312T030000
RDATE:20281105T010000
TZOFFSETFROM:-0500
TZOFFSETTO:-0400
TZNAME:America/New_York EDT
END:DAYLIGHT
BEGIN:DAYLIGHT
DTSTART:20290311T030000
RDATE:20291104T010000
TZOFFSETFROM:-0500
TZOFFSETTO:-0400
TZNAME:America/New_York EDT
END:DAYLIGHT
BEGIN:DAYLIGHT
DTSTART:20300310T030000
RDATE:20301103T010000
TZOFFSETFROM:-0500
TZOFFSETTO:-0400
TZNAME:America/New_York EDT
END:DAYLIGHT
END:VTIMEZONE
BEGIN:VEVENT
UID:a381a995ebda29607ad4bf1a87c32d42
CATEGORIES:WEB
CREATED:20200525T175847
SUMMARY:Introduction to Building Science - Online
LOCATION:NYSWDA - East Syracuse
DESCRIPTION:<p><br />&nbsp;<span style="color: #336699; font-family: tahoma,arial,helve
 tica,sans-serif; font-size: 14pt;"><span style="color: #000000;"><strong><s
 pan style="color: #336699;">Introduction to Building Science - Online&nbsp;
 </span></strong></span></span></p><p>&nbsp;</p><p><span style="color: #3366
 99; font-family: tahoma,arial,helvetica,sans-serif; font-size: 14pt;"><span
  style="color: #000000;"><strong><span style="color: #336699;">GoToWebinar 
 Event</span></strong></span></span></p><p><strong><span style="font-family:
  'Tahoma','sans-serif'; color: #336699; font-size: 13.5pt;"></span></strong
 >&nbsp;</p><p><span style="font-size: 12pt;"><em><span style="text-decorati
 on: underline;"><span style="font-family: 'Tahoma','sans-serif'; color: bla
 ck;">Course Description:<br /></span></span></em></span><span style="font-f
 amily: Tahoma, sans-serif; color: black; font-size: 12pt;">This online cour
 se covers two, 3-hour sessions.&nbsp; Successful course completion means th
 e candidate must attend BOTH sessions in order to be awarded CEU’s and a ce
 rtificate of completion.&nbsp; YOU DO NOT NEED TO REGISTER TWICE.&nbsp; You
  will be sent a webinar invite for both sessions.&nbsp; Each session is fro
 m 9:00am until noon.</span></p><p>&nbsp;</p><p><span style="font-family: Ta
 homa, sans-serif; color: black; font-size: 12pt;">Students will come away w
 ith a basic understanding of the issues inherent to understanding the conce
 pts of building science as it relates to weatherizing and auditing resident
 ial buildings.</span></p><p>&nbsp;</p><p><span style="font-family: Tahoma, 
 sans-serif; color: black; font-size: 12pt;">Topics to be discussed are:</sp
 an>&nbsp;</p><ul style="list-style-type: circle;"><li><span style="font-siz
 e: 12pt;"><span style="font-family: Arial, sans-serif; color: black;"><span
  style="font-style: normal; font-variant: normal; font-weight: normal; font
 -stretch: normal; line-height: normal; font-family: 'Times New Roman';"> </
 span></span><span style="font-family: Tahoma, sans-serif; color: black;">We
 atherization Assistance Program (WAP) Inspection Best Practices</span></spa
 n></li><li><span style="font-size: 12pt;"><span style="font-family: Arial, 
 sans-serif; color: black;"><span style="font-style: normal; font-variant: n
 ormal; font-weight: normal; font-stretch: normal; line-height: normal; font
 -family: 'Times New Roman';"> </span></span><span style="font-family: Tahom
 a, sans-serif; color: black;">The process and purpose of a residential buil
 ding audit</span></span></li><li><span style="font-size: 12pt;"><span style
 ="font-family: Arial, sans-serif; color: black;"><span style="font-style: n
 ormal; font-variant: normal; font-weight: normal; font-stretch: normal; lin
 e-height: normal; font-family: 'Times New Roman';"> </span></span><span sty
 le="font-family: Tahoma, sans-serif; color: black;">Health &amp; Safety iss
 ues inherent to applied building auditing</span></span></li><li><span style
 ="font-size: 12pt;"><span style="font-family: Arial, sans-serif; color: bla
 ck;"><span style="font-style: normal; font-variant: normal; font-weight: no
 rmal; font-stretch: normal; line-height: normal; font-family: 'Times New Ro
 man';"></span></span><span style="font-family: Tahoma, sans-serif; color: b
 lack;">Concepts of heat loss from conduction and convention through the bui
 lding shell &amp; methods for calculating &amp; finding them </span></span>
 </li><li><span style="font-size: 12pt;"><span style="font-family: Arial, sa
 ns-serif; color: black;"><span style="font-style: normal; font-variant: nor
 mal; font-weight: normal; font-stretch: normal; line-height: normal; font-f
 amily: 'Times New Roman';"> </span></span><span style="font-family: Tahoma,
  sans-serif; color: black;">Understanding Savings to Investment Ratios and 
 practicing some of the math related to calculating it</span></span></li><li
 ><span style="font-size: 12pt;"><span style="font-family: Arial, sans-serif
 ; color: black;"><span style="font-style: normal; font-variant: normal; fon
 t-weight: normal; font-stretch: normal; line-height: normal; font-family: '
 Times New Roman';"> </span></span><span style="font-family: Tahoma, sans-se
 rif; color: black;">An overview of the requirements for attaining a BPI Bui
 lding Analyst Certification: Both field and written</span></span></li><li><
 span style="font-size: 12pt;"><span style="font-family: Arial, sans-serif; 
 color: black;"><span style="font-style: normal; font-variant: normal; font-
 weight: normal; font-stretch: normal; line-height: normal; font-family: 'Ti
 mes New Roman';"> </span></span><span style="font-family: Tahoma, sans-seri
 f; color: black;">The TIPS software used in weatherization</span></span></l
 i></ul><p>&nbsp;</p><p><span style="font-family: Tahoma, sans-serif; color:
  black; font-size: 12pt;">All training is done to meet the standards of the
  NYS WAP. Training handouts will be available to download during the course
 .&nbsp;&nbsp;</span><span style="font-family: Tahoma, sans-serif; color: bl
 ack; font-size: 12pt;">This course is only an introduction; follow on train
 ing, both classroom and field, in weatherization techniques is highly recom
 mended.&nbsp;</span></p><p>&nbsp;</p><p><span style="font-family: 'Tahoma',
  'sans-serif'; color: black; font-size: 12pt;"></span></p><p><span style="f
 ont-size: 12pt;"><em><span style="text-decoration: underline;"><span style=
 "font-family: 'Tahoma','sans-serif'; color: black;">Class Size</span></span
 ></em><span style="font-family: 'Tahoma','sans-serif'; color: black;">: 25<
 /span></span>&nbsp;<span style="font-family: 'Tahoma', 'sans-serif'; color:
  black; font-size: 12pt;"></span></p><p>&nbsp;</p><p><span style="font-size
 : 12pt;"><em><span style="text-decoration: underline;"><span style="font-fa
 mily: 'Tahoma','sans-serif'; color: black;">BPI CEU</span></span></em><span
  style="text-decoration: underline;"><span style="font-family: 'Tahoma','sa
 ns-serif'; color: black;">:</span></span><span style="font-family: 'Tahoma'
 ,'sans-serif'; color: black;"> 3</span></span>&nbsp;</p><p><span style="fon
 t-family: 'Tahoma', 'sans-serif'; color: black; font-size: 12pt;"></span></
 p><p>&nbsp;</p><p><span style="font-size: 12pt;"><span style="text-decorati
 on: underline;"><span style="font-family: 'Tahoma','sans-serif'; color: bla
 ck;"><em>Instructor</em>:</span></span><span style="font-family: 'Tahoma','
 sans-serif'; color: black;">&nbsp;&nbsp;</span><span style="font-family: 'T
 ahoma','sans-serif'; color: black;">Al McMahon - NYSWDA</span></span>&nbsp;
 </p><p><span style="font-family: 'Tahoma', 'sans-serif'; color: black; font
 -size: 12pt;"></span></p><p>&nbsp;</p><p><span style="font-size: 12pt;"><em
 ><span style="text-decoration: underline;"><span style="font-family: 'Tahom
 a','sans-serif'; color: black;">Course Fees:&nbsp;</span></span></em></span
 >&nbsp;</p><p><span style="font-size: 12pt;"><span style="color: black; fon
 t-family: 'Tahoma','sans-serif';">$262/person - NY&nbsp;Weatherization Sub-
 grantees</span></span></p><p><span style="font-size: 12pt;"><span style="co
 lor: black; font-family: 'Tahoma','sans-serif';">$262/person - affiliate me
 mbers</span><span style="color: black; font-family: 'Tahoma','sans-serif';"
 ></span></span></p><p><span style="font-size: 12pt;"><span style="color: bl
 ack; font-family: 'Tahoma','sans-serif';">$380/person - non-members</span><
 span style="color: black; font-family: 'Tahoma','sans-serif';"></span><span
  style="color: black; font-family: 'Tahoma','sans-serif';"></span><em><span
  style="color: black; font-family: 'Tahoma','sans-serif';"><br /></span></e
 m></span></p><p>&nbsp;</p><p><span style="color: #0000ff;"><em><strong><spa
 n style="font-family: tahoma, arial, helvetica, sans-serif; font-size: 14pt
 ;"><span style="color: #0000ff;"></span></span></strong></em></span><span s
 tyle="background-color: initial; color: inherit; font-family: inherit; font
 -size: 1rem;"> </span><em style="background-color: initial; color: inherit;
  font-family: inherit; font-size: 1rem;"><strong><span style="background: w
 hite; color: #02613f; font-family: 'Georgia','serif';"><span style="font-si
 ze: small;">**Special note</span></span></strong></em><span style="backgrou
 nd: white; color: black; font-family: 'Georgia','serif';"><span style="font
 -size: small;"><i><strong>&nbsp;-&nbsp;if you wish to become an Affiliate M
 ember please contact&nbsp;Drew Ehrlich&nbsp;(315-701-0440 ext. 225,&nbsp;</
 strong></i></span><i><strong><span id="cloaka0298839105f78df90814e0ef2c9d41
 8">This email address is being protected from spambots. You need JavaScript
  enabled to view it.</span><script type='text/javascript'>
				document.get
 ElementById('cloaka0298839105f78df90814e0ef2c9d418').innerHTML = '';
				va
 r prefix = 'ma' + 'il' + 'to';
				var path = 'hr' + 'ef' + '=';
				var ad
 dya0298839105f78df90814e0ef2c9d418 = 'dehrlich' + '@';
				addya0298839105f
 78df90814e0ef2c9d418 = addya0298839105f78df90814e0ef2c9d418 + 'nyswda' + '.
 ' + 'org';
				var addy_texta0298839105f78df90814e0ef2c9d418 = '<span style
 ="color: #0000ff; font-size: small;">dehrlich' + '@' + 'nyswda' + '.' + 'or
 g</span>';document.getElementById('cloaka0298839105f78df90814e0ef2c9d418').
 innerHTML += '<a ' + path + '\'' + prefix + ':' + addya0298839105f78df90814
 e0ef2c9d418 + '\'>'+addy_texta0298839105f78df90814e0ef2c9d418+'<\/a>';
		</
 script><span style="font-size: small;">)&nbsp;</span></strong></i></span><i
  style="background-color: initial; color: inherit; font-family: inherit; fo
 nt-size: 1rem;"></i><span style="font-size: small;"><strong><span style="ba
 ckground: white; color: #02613f; font-family: 'Georgia','serif';">BEFORE YO
 U REGISTER&nbsp;</span></strong><em><b><span style="background: white; colo
 r: black; font-family: 'Georgia','serif';">for the course</span></b></em><s
 trong><span style="background: white; color: black; font-family: 'Georgia',
 'serif';">.</span></strong></span><span style="background-color: initial; c
 olor: inherit; font-family: inherit; font-size: 1rem;"></span></p><p>&nbsp;
 </p><p><strong><em><span style="font-size: 10pt; font-family: Georgia, seri
 f; color: #10704d; background: white;">Through the support of NYS HCR fundi
 ng, we are able to provide </span></em></strong><em><strong><span style="fo
 nt-size: 10pt; font-family: Georgia, serif; color: #02613f; background: whi
 te;">quality training at&nbsp;discounted rates to NYSWDA members.</span></s
 trong></em></p><p>&nbsp;</p><p><span style="color: #0000ff;"><strong><span 
 style="font-family: tahoma, arial, helvetica, sans-serif; font-size: 14pt;"
 ><em><span style="background: white;"><a style="color: #0000ff;" href="inde
 x.php?option=com_civicrm&amp;task=civicrm/event/register&amp;reset=1&amp;id
 =11360">Click here to register</a></span></em></span></strong></span><span 
 style="font-size: 12pt;"><em style="background-color: initial; color: inher
 it; font-family: inherit; font-size: 1rem;"><strong><span style="font-famil
 y: tahoma, arial, helvetica, sans-serif; font-size: 14pt; color: #0000ff;">
 &nbsp;&nbsp;&nbsp;&nbsp;&nbsp;&nbsp;&nbsp;</span><span style="font-family: 
 Arial, Helvetica;"></span><span style="font-family: Tahoma;"></span><span s
 tyle="font-size: 14pt;"></span></strong></em></span></p><p><span style="fon
 t-family: 'Arial','sans-serif'; color: black; font-size: 10pt;"></span></p>
 <p>&nbsp;</p><p><span style="font-family: 'Arial','sans-serif'; color: blac
 k; font-size: 10pt;"></span></p><p>&nbsp;</p><p>&nbsp;</p><p>&nbsp;</p><p>&
 nbsp;</p><p>&nbsp;</p>
X-ALT-DESC;FMTTYPE=text/html:<p><br />&nbsp;<span style="color: #336699; font-family: tahoma,arial,helve
 tica,sans-serif; font-size: 14pt;"><span style="color: #000000;"><strong><s
 pan style="color: #336699;">Introduction to Building Science - Online&nbsp;
 </span></strong></span></span></p><p>&nbsp;</p><p><span style="color: #3366
 99; font-family: tahoma,arial,helvetica,sans-serif; font-size: 14pt;"><span
  style="color: #000000;"><strong><span style="color: #336699;">GoToWebinar 
 Event</span></strong></span></span></p><p><strong><span style="font-family:
  'Tahoma','sans-serif'; color: #336699; font-size: 13.5pt;"></span></strong
 >&nbsp;</p><p><span style="font-size: 12pt;"><em><span style="text-decorati
 on: underline;"><span style="font-family: 'Tahoma','sans-serif'; color: bla
 ck;">Course Description:<br /></span></span></em></span><span style="font-f
 amily: Tahoma, sans-serif; color: black; font-size: 12pt;">This online cour
 se covers two, 3-hour sessions.&nbsp; Successful course completion means th
 e candidate must attend BOTH sessions in order to be awarded CEU’s and a ce
 rtificate of completion.&nbsp; YOU DO NOT NEED TO REGISTER TWICE.&nbsp; You
  will be sent a webinar invite for both sessions.&nbsp; Each session is fro
 m 9:00am until noon.</span></p><p>&nbsp;</p><p><span style="font-family: Ta
 homa, sans-serif; color: black; font-size: 12pt;">Students will come away w
 ith a basic understanding of the issues inherent to understanding the conce
 pts of building science as it relates to weatherizing and auditing resident
 ial buildings.</span></p><p>&nbsp;</p><p><span style="font-family: Tahoma, 
 sans-serif; color: black; font-size: 12pt;">Topics to be discussed are:</sp
 an>&nbsp;</p><ul style="list-style-type: circle;"><li><span style="font-siz
 e: 12pt;"><span style="font-family: Arial, sans-serif; color: black;"><span
  style="font-style: normal; font-variant: normal; font-weight: normal; font
 -stretch: normal; line-height: normal; font-family: 'Times New Roman';"> </
 span></span><span style="font-family: Tahoma, sans-serif; color: black;">We
 atherization Assistance Program (WAP) Inspection Best Practices</span></spa
 n></li><li><span style="font-size: 12pt;"><span style="font-family: Arial, 
 sans-serif; color: black;"><span style="font-style: normal; font-variant: n
 ormal; font-weight: normal; font-stretch: normal; line-height: normal; font
 -family: 'Times New Roman';"> </span></span><span style="font-family: Tahom
 a, sans-serif; color: black;">The process and purpose of a residential buil
 ding audit</span></span></li><li><span style="font-size: 12pt;"><span style
 ="font-family: Arial, sans-serif; color: black;"><span style="font-style: n
 ormal; font-variant: normal; font-weight: normal; font-stretch: normal; lin
 e-height: normal; font-family: 'Times New Roman';"> </span></span><span sty
 le="font-family: Tahoma, sans-serif; color: black;">Health &amp; Safety iss
 ues inherent to applied building auditing</span></span></li><li><span style
 ="font-size: 12pt;"><span style="font-family: Arial, sans-serif; color: bla
 ck;"><span style="font-style: normal; font-variant: normal; font-weight: no
 rmal; font-stretch: normal; line-height: normal; font-family: 'Times New Ro
 man';"></span></span><span style="font-family: Tahoma, sans-serif; color: b
 lack;">Concepts of heat loss from conduction and convention through the bui
 lding shell &amp; methods for calculating &amp; finding them </span></span>
 </li><li><span style="font-size: 12pt;"><span style="font-family: Arial, sa
 ns-serif; color: black;"><span style="font-style: normal; font-variant: nor
 mal; font-weight: normal; font-stretch: normal; line-height: normal; font-f
 amily: 'Times New Roman';"> </span></span><span style="font-family: Tahoma,
  sans-serif; color: black;">Understanding Savings to Investment Ratios and 
 practicing some of the math related to calculating it</span></span></li><li
 ><span style="font-size: 12pt;"><span style="font-family: Arial, sans-serif
 ; color: black;"><span style="font-style: normal; font-variant: normal; fon
 t-weight: normal; font-stretch: normal; line-height: normal; font-family: '
 Times New Roman';"> </span></span><span style="font-family: Tahoma, sans-se
 rif; color: black;">An overview of the requirements for attaining a BPI Bui
 lding Analyst Certification: Both field and written</span></span></li><li><
 span style="font-size: 12pt;"><span style="font-family: Arial, sans-serif; 
 color: black;"><span style="font-style: normal; font-variant: normal; font-
 weight: normal; font-stretch: normal; line-height: normal; font-family: 'Ti
 mes New Roman';"> </span></span><span style="font-family: Tahoma, sans-seri
 f; color: black;">The TIPS software used in weatherization</span></span></l
 i></ul><p>&nbsp;</p><p><span style="font-family: Tahoma, sans-serif; color:
  black; font-size: 12pt;">All training is done to meet the standards of the
  NYS WAP. Training handouts will be available to download during the course
 .&nbsp;&nbsp;</span><span style="font-family: Tahoma, sans-serif; color: bl
 ack; font-size: 12pt;">This course is only an introduction; follow on train
 ing, both classroom and field, in weatherization techniques is highly recom
 mended.&nbsp;</span></p><p>&nbsp;</p><p><span style="font-family: 'Tahoma',
  'sans-serif'; color: black; font-size: 12pt;"></span></p><p><span style="f
 ont-size: 12pt;"><em><span style="text-decoration: underline;"><span style=
 "font-family: 'Tahoma','sans-serif'; color: black;">Class Size</span></span
 ></em><span style="font-family: 'Tahoma','sans-serif'; color: black;">: 25<
 /span></span>&nbsp;<span style="font-family: 'Tahoma', 'sans-serif'; color:
  black; font-size: 12pt;"></span></p><p>&nbsp;</p><p><span style="font-size
 : 12pt;"><em><span style="text-decoration: underline;"><span style="font-fa
 mily: 'Tahoma','sans-serif'; color: black;">BPI CEU</span></span></em><span
  style="text-decoration: underline;"><span style="font-family: 'Tahoma','sa
 ns-serif'; color: black;">:</span></span><span style="font-family: 'Tahoma'
 ,'sans-serif'; color: black;"> 3</span></span>&nbsp;</p><p><span style="fon
 t-family: 'Tahoma', 'sans-serif'; color: black; font-size: 12pt;"></span></
 p><p>&nbsp;</p><p><span style="font-size: 12pt;"><span style="text-decorati
 on: underline;"><span style="font-family: 'Tahoma','sans-serif'; color: bla
 ck;"><em>Instructor</em>:</span></span><span style="font-family: 'Tahoma','
 sans-serif'; color: black;">&nbsp;&nbsp;</span><span style="font-family: 'T
 ahoma','sans-serif'; color: black;">Al McMahon - NYSWDA</span></span>&nbsp;
 </p><p><span style="font-family: 'Tahoma', 'sans-serif'; color: black; font
 -size: 12pt;"></span></p><p>&nbsp;</p><p><span style="font-size: 12pt;"><em
 ><span style="text-decoration: underline;"><span style="font-family: 'Tahom
 a','sans-serif'; color: black;">Course Fees:&nbsp;</span></span></em></span
 >&nbsp;</p><p><span style="font-size: 12pt;"><span style="color: black; fon
 t-family: 'Tahoma','sans-serif';">$262/person - NY&nbsp;Weatherization Sub-
 grantees</span></span></p><p><span style="font-size: 12pt;"><span style="co
 lor: black; font-family: 'Tahoma','sans-serif';">$262/person - affiliate me
 mbers</span><span style="color: black; font-family: 'Tahoma','sans-serif';"
 ></span></span></p><p><span style="font-size: 12pt;"><span style="color: bl
 ack; font-family: 'Tahoma','sans-serif';">$380/person - non-members</span><
 span style="color: black; font-family: 'Tahoma','sans-serif';"></span><span
  style="color: black; font-family: 'Tahoma','sans-serif';"></span><em><span
  style="color: black; font-family: 'Tahoma','sans-serif';"><br /></span></e
 m></span></p><p>&nbsp;</p><p><span style="color: #0000ff;"><em><strong><spa
 n style="font-family: tahoma, arial, helvetica, sans-serif; font-size: 14pt
 ;"><span style="color: #0000ff;"></span></span></strong></em></span><span s
 tyle="background-color: initial; color: inherit; font-family: inherit; font
 -size: 1rem;"> </span><em style="background-color: initial; color: inherit;
  font-family: inherit; font-size: 1rem;"><strong><span style="background: w
 hite; color: #02613f; font-family: 'Georgia','serif';"><span style="font-si
 ze: small;">**Special note</span></span></strong></em><span style="backgrou
 nd: white; color: black; font-family: 'Georgia','serif';"><span style="font
 -size: small;"><i><strong>&nbsp;-&nbsp;if you wish to become an Affiliate M
 ember please contact&nbsp;Drew Ehrlich&nbsp;(315-701-0440 ext. 225,&nbsp;</
 strong></i></span><i><strong><span id="cloaka0298839105f78df90814e0ef2c9d41
 8">This email address is being protected from spambots. You need JavaScript
  enabled to view it.</span><script type='text/javascript'>
				document.get
 ElementById('cloaka0298839105f78df90814e0ef2c9d418').innerHTML = '';
				va
 r prefix = 'ma' + 'il' + 'to';
				var path = 'hr' + 'ef' + '=';
				var ad
 dya0298839105f78df90814e0ef2c9d418 = 'dehrlich' + '@';
				addya0298839105f
 78df90814e0ef2c9d418 = addya0298839105f78df90814e0ef2c9d418 + 'nyswda' + '.
 ' + 'org';
				var addy_texta0298839105f78df90814e0ef2c9d418 = '<span style
 ="color: #0000ff; font-size: small;">dehrlich' + '@' + 'nyswda' + '.' + 'or
 g</span>';document.getElementById('cloaka0298839105f78df90814e0ef2c9d418').
 innerHTML += '<a ' + path + '\'' + prefix + ':' + addya0298839105f78df90814
 e0ef2c9d418 + '\'>'+addy_texta0298839105f78df90814e0ef2c9d418+'<\/a>';
		</
 script><span style="font-size: small;">)&nbsp;</span></strong></i></span><i
  style="background-color: initial; color: inherit; font-family: inherit; fo
 nt-size: 1rem;"></i><span style="font-size: small;"><strong><span style="ba
 ckground: white; color: #02613f; font-family: 'Georgia','serif';">BEFORE YO
 U REGISTER&nbsp;</span></strong><em><b><span style="background: white; colo
 r: black; font-family: 'Georgia','serif';">for the course</span></b></em><s
 trong><span style="background: white; color: black; font-family: 'Georgia',
 'serif';">.</span></strong></span><span style="background-color: initial; c
 olor: inherit; font-family: inherit; font-size: 1rem;"></span></p><p>&nbsp;
 </p><p><strong><em><span style="font-size: 10pt; font-family: Georgia, seri
 f; color: #10704d; background: white;">Through the support of NYS HCR fundi
 ng, we are able to provide </span></em></strong><em><strong><span style="fo
 nt-size: 10pt; font-family: Georgia, serif; color: #02613f; background: whi
 te;">quality training at&nbsp;discounted rates to NYSWDA members.</span></s
 trong></em></p><p>&nbsp;</p><p><span style="color: #0000ff;"><strong><span 
 style="font-family: tahoma, arial, helvetica, sans-serif; font-size: 14pt;"
 ><em><span style="background: white;"><a style="color: #0000ff;" href="http
 s://www.nyswda.org/index.php?option=com_civicrm&amp;task=civicrm/event/regi
 ster&amp;reset=1&amp;id=11360">Click here to register</a></span></em></span
 ></strong></span><span style="font-size: 12pt;"><em style="background-color
 : initial; color: inherit; font-family: inherit; font-size: 1rem;"><strong>
 <span style="font-family: tahoma, arial, helvetica, sans-serif; font-size: 
 14pt; color: #0000ff;">&nbsp;&nbsp;&nbsp;&nbsp;&nbsp;&nbsp;&nbsp;</span><sp
 an style="font-family: Arial, Helvetica;"></span><span style="font-family: 
 Tahoma;"></span><span style="font-size: 14pt;"></span></strong></em></span>
 </p><p><span style="font-family: 'Arial','sans-serif'; color: black; font-s
 ize: 10pt;"></span></p><p>&nbsp;</p><p><span style="font-family: 'Arial','s
 ans-serif'; color: black; font-size: 10pt;"></span></p><p>&nbsp;</p><p>&nbs
 p;</p><p>&nbsp;</p><p>&nbsp;</p><p>&nbsp;</p>
CONTACT:This email address is being protected from spambots. You need JavaScript enabled to view it.
				document.getElementById('cloak800f264550abc4623d9da796148d8b1b').innerHTML = '';
				var prefix = '&#109;a' + 'i&#108;' + '&#116;o';
				var path = 'hr' + 'ef' + '=';
				var addy800f264550abc4623d9da796148d8b1b = 'rv&#105;ss&#101;r' + '&#64;';
				addy800f264550abc4623d9da796148d8b1b = addy800f264550abc4623d9da796148d8b1b + 'nyswd&#97;' + '&#46;' + '&#111;rg';
				var addy_text800f264550abc4623d9da796148d8b1b = 'rv&#105;ss&#101;r' + '&#64;' + 'nyswd&#97;' + '&#46;' + '&#111;rg';document.getElementById('cloak800f264550abc4623d9da796148d8b1b').innerHTML += '<a ' + path + '\'' + prefix + ':' + addy800f264550abc4623d9da796148d8b1b + '\'>'+addy_text800f264550abc4623d9da796148d8b1b+'';
		
DTSTAMP:20260425T113853
DTSTART;TZID=America/New_York:20200603T090000
DTEND;TZID=America/New_York:20200604T120000
SEQUENCE:0
TRANSP:OPAQUE
END:VEVENT
END:VCALENDAR