BEGIN:VCALENDAR
VERSION:2.0
PRODID:-//jEvents 2.0 for Joomla//EN
CALSCALE:GREGORIAN
METHOD:PUBLISH
BEGIN:VTIMEZONE
TZID:America/New_York
BEGIN:STANDARD
DTSTART:20191103T010000
RDATE:20200308T030000
TZOFFSETFROM:-0400
TZOFFSETTO:-0500
TZNAME:America/New_York EST
END:STANDARD
BEGIN:STANDARD
DTSTART:20201101T010000
RDATE:20210314T030000
TZOFFSETFROM:-0400
TZOFFSETTO:-0500
TZNAME:America/New_York EST
END:STANDARD
BEGIN:STANDARD
DTSTART:20211107T010000
RDATE:20220313T030000
TZOFFSETFROM:-0400
TZOFFSETTO:-0500
TZNAME:America/New_York EST
END:STANDARD
BEGIN:STANDARD
DTSTART:20221106T010000
RDATE:20230312T030000
TZOFFSETFROM:-0400
TZOFFSETTO:-0500
TZNAME:America/New_York EST
END:STANDARD
BEGIN:STANDARD
DTSTART:20231105T010000
RDATE:20240310T030000
TZOFFSETFROM:-0400
TZOFFSETTO:-0500
TZNAME:America/New_York EST
END:STANDARD
BEGIN:STANDARD
DTSTART:20241103T010000
RDATE:20250309T030000
TZOFFSETFROM:-0400
TZOFFSETTO:-0500
TZNAME:America/New_York EST
END:STANDARD
BEGIN:STANDARD
DTSTART:20251102T010000
RDATE:20260308T030000
TZOFFSETFROM:-0400
TZOFFSETTO:-0500
TZNAME:America/New_York EST
END:STANDARD
BEGIN:STANDARD
DTSTART:20261101T010000
RDATE:20270314T030000
TZOFFSETFROM:-0400
TZOFFSETTO:-0500
TZNAME:America/New_York EST
END:STANDARD
BEGIN:STANDARD
DTSTART:20271107T010000
RDATE:20280312T030000
TZOFFSETFROM:-0400
TZOFFSETTO:-0500
TZNAME:America/New_York EST
END:STANDARD
BEGIN:STANDARD
DTSTART:20281105T010000
RDATE:20290311T030000
TZOFFSETFROM:-0400
TZOFFSETTO:-0500
TZNAME:America/New_York EST
END:STANDARD
BEGIN:STANDARD
DTSTART:20291104T010000
RDATE:20300310T030000
TZOFFSETFROM:-0400
TZOFFSETTO:-0500
TZNAME:America/New_York EST
END:STANDARD
BEGIN:STANDARD
DTSTART:20301103T010000
RDATE:20310309T030000
TZOFFSETFROM:-0400
TZOFFSETTO:-0500
TZNAME:America/New_York EST
END:STANDARD
BEGIN:DAYLIGHT
DTSTART:20190803T090000
RDATE:20191103T010000
TZOFFSETFROM:-0500
TZOFFSETTO:-0400
TZNAME:America/New_York EDT
END:DAYLIGHT
BEGIN:DAYLIGHT
DTSTART:20200308T030000
RDATE:20201101T010000
TZOFFSETFROM:-0500
TZOFFSETTO:-0400
TZNAME:America/New_York EDT
END:DAYLIGHT
BEGIN:DAYLIGHT
DTSTART:20210314T030000
RDATE:20211107T010000
TZOFFSETFROM:-0500
TZOFFSETTO:-0400
TZNAME:America/New_York EDT
END:DAYLIGHT
BEGIN:DAYLIGHT
DTSTART:20220313T030000
RDATE:20221106T010000
TZOFFSETFROM:-0500
TZOFFSETTO:-0400
TZNAME:America/New_York EDT
END:DAYLIGHT
BEGIN:DAYLIGHT
DTSTART:20230312T030000
RDATE:20231105T010000
TZOFFSETFROM:-0500
TZOFFSETTO:-0400
TZNAME:America/New_York EDT
END:DAYLIGHT
BEGIN:DAYLIGHT
DTSTART:20240310T030000
RDATE:20241103T010000
TZOFFSETFROM:-0500
TZOFFSETTO:-0400
TZNAME:America/New_York EDT
END:DAYLIGHT
BEGIN:DAYLIGHT
DTSTART:20250309T030000
RDATE:20251102T010000
TZOFFSETFROM:-0500
TZOFFSETTO:-0400
TZNAME:America/New_York EDT
END:DAYLIGHT
BEGIN:DAYLIGHT
DTSTART:20260308T030000
RDATE:20261101T010000
TZOFFSETFROM:-0500
TZOFFSETTO:-0400
TZNAME:America/New_York EDT
END:DAYLIGHT
BEGIN:DAYLIGHT
DTSTART:20270314T030000
RDATE:20271107T010000
TZOFFSETFROM:-0500
TZOFFSETTO:-0400
TZNAME:America/New_York EDT
END:DAYLIGHT
BEGIN:DAYLIGHT
DTSTART:20280312T030000
RDATE:20281105T010000
TZOFFSETFROM:-0500
TZOFFSETTO:-0400
TZNAME:America/New_York EDT
END:DAYLIGHT
BEGIN:DAYLIGHT
DTSTART:20290311T030000
RDATE:20291104T010000
TZOFFSETFROM:-0500
TZOFFSETTO:-0400
TZNAME:America/New_York EDT
END:DAYLIGHT
BEGIN:DAYLIGHT
DTSTART:20300310T030000
RDATE:20301103T010000
TZOFFSETFROM:-0500
TZOFFSETTO:-0400
TZNAME:America/New_York EDT
END:DAYLIGHT
END:VTIMEZONE
BEGIN:VEVENT
UID:d5fc486f7a591f5a1187f0137da821d2
CATEGORIES:At Syracuse
CREATED:20200622T101438
SUMMARY:Boot Camp for Weatherization Installers
LOCATION:NYSWDA Training Center - East Syracuse
DESCRIPTION:Boot Camp\n
 \n
Training Location: NYSWDA Training Center (Building 1) - 58
 69 Fisher Road, East Syracuse, NY 13057\n
 \n
Training will be available to
  those in NY whose regions have been designated for Phase Three.  If your N
 Y region is still in Phase Two, you will not be allowed to attend training 
 until your region attains Phase Three status.  Trainees from other states w
 ill need to provide documentation that shows their respective regions have 
 been cleared for training.\n\nAs part of the COVID-19 state and federal pro
 tocols, NYSWDA has developed a Safety Plan to ensure the safety of you and 
 your staff.  Below are listed the measures being taken to secure the safety
  of your staff as well as ours.\n\nPlease read and follow NYSWDA Re-Opening
  Safety Protocols (images/NYSWDA_Re-Opening_Safety_Protocols.pdf) .  We are
  taking our re-opening very seriously.  These measures are for your safety 
 as well as our staff. No exceptions to these protocols will be allowed!\n\n
 In addition, all attendees will be required to complete a <a style="color: 
 #106141;" href="images/Student_Screening_Checklist.pdf">Student Screening C
 hecklist</a> prior to attending the class.\n
 \n
Who Should Attend;\nEntry 
 level field staff and weatherization contractors - see detailed below.\n
 \
 n
Course Description;\nThis intensive 4-day training based at NYSWDA's Ener
 gy Efficiency Training Center (Building 2) in East Syracuse, is a great int
 roduction to building science principles and hands-on air sealing, dense pa
 ck and loose fill cellulose insulation installation. Using our state-of-the
 -art realistic wall, ceiling and attic props, trainees will learn the techn
 iques needed to effectively weatherize our clients' homes.\n
Â\n
During thi
 s course, the trainees will be introduced to both HCR and BPI standards and
  regulations on Health &amp; Safety, Lead Safe work practices and safe and 
 proper use of tools and equipment. Trainees will also become proficient on 
 the set up of blower doors and understand basic use of an infrared camera d
 uring air sealing operations.\n
Â\n
All three HCR mandatory trainings are c
 overed in this course: \n

Air Sealing - mandatory for WX directors, energy
  auditors, post inspectors, crew chiefs and crew personnel
Health &amp; Saf
 ety - mandatory for WX directors, energy auditors, post inspectors, crew ch
 iefs and heating technicians
\n - Lead Safe Weatherization - mandatory for 
 all employees who may come in contact with lead based paint while performin
 g their duties\n

Please reference the WAP Policies and Procedures manual f
 or further details. The above-listed trainings are mandatory for the positi
 ons stated. If a subgrantee hires a new employee into one of these postions
 , or a current employee transfers into one of these positions, it is mandat
 ory that they receive this training within six (6) months of their start da
 te. These mandatory training sessions must be repeated every three (3) year
 s by subgrantee personnel who occupy these positions.\n
  \n
Agenda; \nDay 
 One\n
Monday - 11:00am - 4:30pm: Residential Health &amp; Safety Fundamenta
 ls\n
\n
Day Two\n
Tuesday - 9:00am - 4:30pm: Introduction to Building Scien
 ce and Air Sealing Techniques, introduction to infrared cameras, introducti
 on to basic residential framing details with an emphasis on common air seal
 ing areas and building codes requirements for clearance to combustibles.\n

  \n
Day Three\n
Wednesday - 9:00am - 4:30pm: Lead Safe Work Practices\n
 \n
 
Day Four\n
Thursday - 9:00am - 4:00pm: All day lab session tool/equipment 
 safety, lead safe jobsite setup, air sealing techniques, dense pack and loo
 se fill cellulose installation techniques. Afternoon lab session: fundament
 als of blower door setup and operation, plus jobsite and lead safe cleanup 
 skills, training skills review, question and answer session, awarding of Ce
 rtificates of Completion.\n
\nDates;\nCourse covers the dates of August 3-6
 , 2020\n\nStart Times: Monday 11:00am then Tues.-Thurs. 9:00am\n\nEnd Times
 : Monday - Thursday 4:30pm\n
 \n
Other Notes:\nDue to the nature of the tra
 ining, all attendees will be required to sign a waiver of liability and a p
 hoto/video release form at the start of the training.\n
 \n
Prerequisites: 
 None\n
\nClass Size: 6\n
\nBPI CEU: 16\n
\nInstructors:, Joe Ilacqua, NYSWD
 A\n\n
\nCourse Fees; \n
$950/person - NY Weatherization Sub-grantees \n
$95
 0/person - affiliate members \n
$1,450/person - non-members \n
 \n
Lunches 
 are included for each day.\n
 \n
**Special note - if you wish to become an 
 Affiliate Member, and save off the non-member rate, please contact Drew Ehr
 lich (315-701-0440 ext. 225, This email address is being protected from spa
 mbots. You need JavaScript enabled to view it.
				document.getElementById(
 'cloak562514d2345b211ad818cd4d52a8c0ae').innerHTML = '';
				var prefix = '
 ma' + 'il' + 'to';
				var path = 'hr' + 'ef' + '=';
				var addy562514d234
 5b211ad818cd4d52a8c0ae = 'dehrlich' + '@';
				addy562514d2345b211ad818cd4d
 52a8c0ae = addy562514d2345b211ad818cd4d52a8c0ae + 'nyswda' + '.' + 'org';
	
 			var addy_text562514d2345b211ad818cd4d52a8c0ae = 'dehrlich' + '@' + 'nysw
 da' + '.' + 'org';document.getElementById('cloak562514d2345b211ad818cd4d52a
 8c0ae').innerHTML += '<a ' + path + '\'' + prefix + ':' + addy562514d2345b2
 11ad818cd4d52a8c0ae + '\'>'+addy_text562514d2345b211ad818cd4d52a8c0ae+'';
	
 	) BEFORE YOU REGISTER for the course.\n
 \n
NYSWDA will not be responsible
  for hotel costs, travel to and from the training, breakfast and dinner mea
 ls, or incidentals.\n
 \n
Through the support of NYS HCR funding, we are ab
 le to provide quality training at discounted rates to NYSWDA members.\n
 \n
 
CLASS FULL - call or email  This email address is being protected from spa
 mbots. You need JavaScript enabled to view it.
				document.getElementById(
 'cloakc16e48811ed3e4503e9066095e160f86').innerHTML = '';
				var prefix = '
 ma' + 'il' + 'to';
				var path = 'hr' + 'ef' + '=';
				var addyc16e48811e
 d3e4503e9066095e160f86 = 'rvisser' + '@';
				addyc16e48811ed3e4503e9066095
 e160f86 = addyc16e48811ed3e4503e9066095e160f86 + 'nyswda' + '.' + 'org';
		
 		var addy_textc16e48811ed3e4503e9066095e160f86 = 'rvisser' + '@' + 'nyswda
 ' + '.' + 'org';document.getElementById('cloakc16e48811ed3e4503e9066095e160
 f86').innerHTML += '<a ' + path + '\'' + prefix + ':' + addyc16e48811ed3e45
 03e9066095e160f86 + '\'>'+addy_textc16e48811ed3e4503e9066095e160f86+'';
		 
 for availability or wait list \n
X-ALT-DESC;FMTTYPE=text/html:<p><strong><span style="font-family: Tahoma, sans-serif; color: #336699; fo
 nt-size: 13.5pt;">Boot Camp</span></strong></p><p>&nbsp;</p><p><strong><spa
 n style="font-family: Tahoma, sans-serif; color: #336699; font-size: 13.5pt
 ;">Training Location: NYSWDA Training Center (Building 1) - 5869 Fisher Roa
 d, East Syracuse, NY 13057</span></strong></p><p>&nbsp;</p><p><span style="
 font-family: tahoma, arial, helvetica, sans-serif; font-size: 12pt;">Traini
 ng will be available to those in NY whose regions have been designated for 
 Phase Three.&nbsp;&nbsp;<strong><span style="text-decoration: underline;">I
 f your NY region is still in Phase Two, you will not be allowed to attend t
 raining until your region attains Phase Three status.</span>&nbsp;&nbsp;Tra
 inees from <em>other states</em> will need to provide documentation that sh
 ows their respective regions have been cleared for training.<br /><br /></s
 trong></span><span style="font-family: tahoma, arial, helvetica, sans-serif
 ; font-size: 12pt;">As part of the COVID-19 state and federal protocols, NY
 SWDA has developed a Safety Plan to ensure the safety of you and your staff
 .&nbsp; Below are listed the measures being taken to secure the safety of y
 our staff as well as ours.<br /><br /></span><span style="font-family: taho
 ma, arial, helvetica, sans-serif; font-size: 12pt;"><strong>Please read and
  follow&nbsp;</strong></span><em style="background-color: initial; font-fam
 ily: inherit; font-size: 1rem; color: #106141;"><strong><span style="font-f
 amily: tahoma, arial, helvetica, sans-serif; font-size: 14pt;"><a style="co
 lor: #106141;" href="https://www.nyswda.org/images/NYSWDA_Re-Opening_Safety
 _Protocols.pdf">NYSWDA Re-Opening Safety Protocols</a>&nbsp;</span></strong
 ></em><strong style="font-family: tahoma, arial, helvetica, sans-serif; fon
 t-size: 12pt; background-color: initial;">.&nbsp; We are taking our re-open
 ing very seriously.&nbsp; These measures are for your safety as well as our
  staff. No exceptions to these protocols will be allowed!<br /><br /></stro
 ng><span style="color: #ff0000;"><span style="font-family: tahoma, arial, h
 elvetica, sans-serif; font-size: 14pt;"><span style="font-size: 12pt;"><spa
 n style="color: #000000;">In addition, all attendees will be required to co
 mplete a</span>&nbsp;</span></span><span style="color: #106141;"><em><stron
 g><span style="font-family: tahoma, arial, helvetica, sans-serif; font-size
 : 14pt;"><span style="color: #106141;"><a style="color: #106141;" href="htt
 ps://www.nyswda.org/images/Student_Screening_Checklist.pdf">Student Screeni
 ng Checklist</a></span>&nbsp;</span></strong></em></span><span style="font-
 family: tahoma, arial, helvetica, sans-serif; font-size: 12pt; color: #0000
 00;">prior to attending the class.</span></span></p><p>&nbsp;</p><p><em><sp
 an style="text-decoration: underline;"><span style="font-family: Tahoma, sa
 ns-serif; color: black; text-decoration: underline;"><span style="font-size
 : 12pt;">Who Should Attend;<br /></span></span></span></em><span style="fon
 t-family: Tahoma, sans-serif; color: black;"><span style="font-size: 12pt;"
 ><span>Entry level field staff and weatherization contractors - see detaile
 d below.</span></span></span></p><p><span style="font-family: Tahoma, sans-
 serif; color: #ffffff;"><span style="font-size: 12pt;"></span></span>&nbsp;
 </p><p><em><span style="text-decoration: underline;"><span style="font-fami
 ly: Tahoma, sans-serif; color: black; text-decoration: underline;"><span st
 yle="font-size: 12pt;">Course</span></span></span></em><span style="text-de
 coration: underline;"><span style="font-family: Tahoma, sans-serif; color: 
 black; text-decoration: underline;"><span style="font-size: 12pt;"> Descrip
 tion</span></span></span><span style="font-family: Tahoma, sans-serif; colo
 r: black;"><span style="font-size: 12pt;">;<br /></span></span><span style=
 "font-family: Tahoma, sans-serif; color: black; font-size: 12pt;">This inte
 nsive 4-day training based at NYSWDA's Energy Efficiency Training Center (B
 uilding 2) in East Syracuse, is a great introduction to building science pr
 inciples and hands-on air sealing, dense pack and loose fill cellulose insu
 lation installation. Using our state-of-the-art realistic wall, ceiling and
  attic props, trainees will learn the techniques needed to effectively weat
 herize our clients' homes.</span></p><p><span style="font-family: Tahoma, s
 ans-serif; color: #ffffff; font-size: 12pt;">Â</span></p><p><span style="fo
 nt-family: Tahoma, sans-serif; color: black; font-size: 12pt;">During this 
 course, the trainees will be introduced to both HCR and BPI standards and r
 egulations on Health &amp; Safety, Lead Safe work practices and safe and pr
 oper use of tools and equipment. Trainees will also become proficient on th
 e set up of blower doors and understand basic use of an infrared camera dur
 ing air sealing operations.</span></p><p><span style="font-family: Tahoma, 
 sans-serif; color: #ffffff; font-size: 12pt;">Â</span></p><p><span style="f
 ont-family: Tahoma, sans-serif; color: black; font-size: 12pt;">All three H
 CR mandatory trainings are covered in this course: </span></p><ul><li style
 ="color: black;"><span style="font-family: Tahoma, sans-serif; font-size: 1
 2pt;">Air Sealing - mandatory for WX directors, energy auditors, post inspe
 ctors, crew chiefs and crew personnel</span></li><li style="color: black;">
 <span style="font-family: Tahoma, sans-serif; font-size: 12pt;">Health &amp
 ; Safety - mandatory for WX directors, energy auditors, post inspectors, cr
 ew chiefs and heating technicians</span></li><li><span style="font-family: 
 Tahoma, sans-serif; color: black; font-size: 12pt;">Lead Safe Weatherizatio
 n - mandatory for all employees who may come in contact with lead based pai
 nt while performing their duties<br /></span></li></ul><p><span style="font
 -family: Tahoma, sans-serif; color: black; font-size: 12pt;">Please referen
 ce the WAP Policies and Procedures manual for further details. The above-li
 sted trainings are mandatory for the positions stated. If a subgrantee hire
 s a new employee into one of these postions, or a current employee transfer
 s into one of these positions, it is mandatory that they receive this train
 ing within six (6) months of their start date. These mandatory training ses
 sions must be repeated every three (3) years by subgrantee personnel who oc
 cupy these positions.</span></p><p>&nbsp;&nbsp;</p><p><span style="font-siz
 e: 12pt;"><em><span style="text-decoration: underline;"><span style="font-f
 amily: Tahoma, sans-serif; color: black; text-decoration: underline;">Agend
 a;</span></span></em></span>&nbsp;<br /><span style="font-size: 12pt;"><spa
 n><span style="font-family: Tahoma, sans-serif; color: black;">Day One</spa
 n></span></span></p><p><span style="font-size: 12pt;"><span style="font-fam
 ily: Tahoma, sans-serif; color: black;">Monday - 11:00am - 4:30pm: Resident
 ial Health &amp; Safety Fundamentals</span></span></p><p><span style="font-
 size: 12pt; color: #ffffff;"><em><span style="text-decoration: underline;">
 <span style="font-family: Tahoma, sans-serif;"></span></span></em></span></
 p><p><span style="font-size: 12pt;"><span style="text-decoration: underline
 ;"><span style="font-family: Tahoma, sans-serif; color: black; text-decorat
 ion: underline;">Day Two</span></span></span></p><p><span style="font-size:
  12pt;"><span style="font-family: Tahoma, sans-serif; color: black;">Tuesda
 y - 9:00am - 4:30pm: Introduction to Building Science and Air Sealing Techn
 iques, introduction to infrared cameras, introduction to basic residential 
 framing details with an emphasis on common air sealing areas and building c
 odes requirements for clearance to combustibles.</span></span></p><p><span 
 style="font-size: 12pt; color: #ffffff;"><span style="font-family: Tahoma, 
 sans-serif;"></span></span>&nbsp;</p><p><span style="text-decoration: under
 line;"><span style="font-size: 12pt;"><span style="color: black; font-famil
 y: Tahoma, sans-serif; text-decoration: underline;">Day Three</span></span>
 </span></p><p><span style="font-size: 12pt;"><span style="font-family: Taho
 ma, sans-serif; color: black;">Wednesday - 9:00am - 4:30pm: Lead Safe Work 
 Practices</span></span></p><p><span style="font-size: 12pt; color: #ffffff;
 "><span style="font-family: Tahoma, sans-serif;"></span></span>&nbsp;</p><p
 ><span style="text-decoration: underline;"><span style="font-size: 12pt;"><
 span style="color: black; font-family: Tahoma, sans-serif; text-decoration:
  underline;">Day Four</span></span></span></p><p><span style="font-size: 12
 pt;"><span style="font-family: Tahoma, sans-serif; color: black;">Thursday 
 - 9:00am - 4:00pm: All day lab session tool/equipment safety, lead safe job
 site setup, air sealing techniques, dense pack and loose fill cellulose ins
 tallation techniques. Afternoon lab session: fundamentals of blower door se
 tup and operation, plus jobsite and lead safe cleanup skills, training skil
 ls review, question and answer session, awarding of Certificates of Complet
 ion.</span></span></p><p><span style="font-size: 12pt;"><em><span style="te
 xt-decoration: underline;"><span style="font-family: Tahoma, sans-serif; co
 lor: black; text-decoration: underline;"><br /></span></span></em></span><s
 pan style="font-size: 12pt;"><em><span style="text-decoration: underline;">
 <span style="font-family: Tahoma, sans-serif; color: black; text-decoration
 : underline;">Dates;<br /></span></span></em></span><span style="font-famil
 y: tahoma, arial, helvetica, sans-serif; color: black; font-size: 12pt;">Co
 urse covers the dates of August 3-6, 2020<br /><br /></span><span style="fo
 nt-family: tahoma, arial, helvetica, sans-serif; color: black; font-size: 1
 2pt;">Start Times: Monday 11:00am then Tues.-Thurs. 9:00am<br /><br /></spa
 n><span style="font-family: tahoma, arial, helvetica, sans-serif; color: bl
 ack; font-size: 12pt;">End Times: Monday - Thursday 4:30pm</span></p><p><sp
 an style="font-family: Arial, sans-serif; color: #ffffff; font-size: 12pt;"
 ></span>&nbsp;</p><p><span style="font-size: 12pt;"><em><span style="text-d
 ecoration: underline;"><span style="font-family: Tahoma, sans-serif; color:
  black; text-decoration: underline;">Other Notes:</span></span></em><span s
 tyle="font-family: Tahoma, sans-serif; color: black;"><br /></span></span><
 span style="font-size: 12pt;"><span style="font-family: Tahoma, sans-serif;
  color: black;">Due to the nature of the training, all attendees will be re
 quired to sign a waiver of liability and a photo/video release form at the 
 start of the training.</span></span></p><p><span style="font-family: tahoma
 , arial, helvetica, sans-serif; font-size: 12pt;"><strong><span style="colo
 r: blue;">&nbsp;</span></strong></span></p><p><span style="font-size: 12pt;
 "><em><span style="text-decoration: underline;"><span style="font-family: T
 ahoma, sans-serif; color: black; text-decoration: underline;">Prerequisites
 :</span></span></em><em><span style="font-family: Tahoma, sans-serif; color
 : black;"> </span></em><span style="font-family: Tahoma, sans-serif; color:
  black;">None</span></span></p><p><span style="font-size: 12pt;"><em><span 
 style="text-decoration: underline;"><span style="font-family: Tahoma, sans-
 serif; color: black; text-decoration: underline;"><br />Class Size:</span><
 /span></em> <span style="font-family: Tahoma, sans-serif; color: black;">6<
 /span></span></p><p><span style="font-size: 12pt;"><em><span style="text-de
 coration: underline;"><span style="font-family: Tahoma, sans-serif; color: 
 black; text-decoration: underline;"><br />BPI CEU</span></span></em><span s
 tyle="text-decoration: underline;"><span style="font-family: Tahoma, sans-s
 erif; color: black; text-decoration: underline;">:</span></span><span style
 ="font-family: Tahoma, sans-serif; color: black;"> 16</span></span></p><p><
 span style="font-size: 12pt;"><em><span style="text-decoration: underline;"
 ><span style="font-family: Tahoma, sans-serif; color: black; text-decoratio
 n: underline;"><br /></span></span></em><em><span style="text-decoration: u
 nderline;"><span style="font-family: Tahoma, sans-serif; color: black; text
 -decoration: underline;">Instructors:</span></span></em><span style="font-f
 amily: Tahoma, sans-serif; color: black;">, Joe Ilacqua, NYSWDA<br /></span
 ></span></p><p><span style="font-size: 12pt;"><em><span style="text-decorat
 ion: underline;"><span style="font-family: Tahoma, sans-serif; color: black
 ; text-decoration: underline;"><br />Course</span></span></em><span style="
 text-decoration: underline;"><span style="font-family: Tahoma, sans-serif; 
 color: black; text-decoration: underline;"> Fees;</span></span><span style=
 "font-family: Tahoma, sans-serif; color: black;"> </span></span></p><p><spa
 n style="color: #000000;"><span style="font-family: Tahoma, sans-serif; fon
 t-size: 12pt;">$950/person - NY Weatherization Sub-grantees</span><span sty
 le="font-family: Tahoma, sans-serif; font-size: 12pt;"><em> </em></span></s
 pan></p><p><span style="font-family: Tahoma, sans-serif; color: #000000; fo
 nt-size: 12pt;">$950/person - affiliate members </span></p><p><span style="
 font-family: Tahoma, sans-serif; color: #000000; font-size: 12pt;">$1,450/p
 erson - non-members </span></p><p>&nbsp;</p><p><span style="font-family: Ta
 homa; font-size: 12pt; color: #000000;">Lunches are included for each day.<
 /span></p><p>&nbsp;</p><p style="margin-top: 0in; margin-right: 0in; margin
 -bottom: 0pt;"><strong><i><span style="background: white; color: #02613f; f
 ont-family: Georgia, serif;"><span style="font-size: small;">**Special note
 </span></span></i></strong><strong><i><span style="background: white; color
 : black; font-family: Georgia, serif;"><span style="font-size: small;">&nbs
 p;-&nbsp;if you wish to become an Affiliate Member, and&nbsp;save off the n
 on-member rate, please contact&nbsp;Drew Ehrlich&nbsp;(315-701-0440 ext. 22
 5,&nbsp;</span><span id="cloak562514d2345b211ad818cd4d52a8c0ae">This email 
 address is being protected from spambots. You need JavaScript enabled to vi
 ew it.</span><script type='text/javascript'>
				document.getElementById('c
 loak562514d2345b211ad818cd4d52a8c0ae').innerHTML = '';
				var prefix = 'ma
 ' + 'il' + 'to';
				var path = 'hr' + 'ef' + '=';
				var addy562514d2345b
 211ad818cd4d52a8c0ae = 'dehrlich' + '@';
				addy562514d2345b211ad818cd4d52
 a8c0ae = addy562514d2345b211ad818cd4d52a8c0ae + 'nyswda' + '.' + 'org';
			
 	var addy_text562514d2345b211ad818cd4d52a8c0ae = '<span style="color: #0000
 ff; font-size: small;">dehrlich' + '@' + 'nyswda' + '.' + 'org</span>';docu
 ment.getElementById('cloak562514d2345b211ad818cd4d52a8c0ae').innerHTML += '
 <a ' + path + '\'' + prefix + ':' + addy562514d2345b211ad818cd4d52a8c0ae + 
 '\'>'+addy_text562514d2345b211ad818cd4d52a8c0ae+'<\/a>';
		</script><span s
 tyle="font-size: small;">)&nbsp;</span></span></i></strong><span style="fon
 t-size: small;"><strong><span style="background: white; color: #02613f; fon
 t-family: Georgia, serif;">BEFORE YOU REGISTER&nbsp;</span></strong><em><b>
 <span style="background: white; color: black; font-family: Georgia, serif;"
 >for the course</span></b></em><strong><span style="background: white; colo
 r: black; font-family: Georgia, serif;">.</span></strong></span></p><p><spa
 n style="color: #ff6600; font-family: tahoma, arial, helvetica, sans-serif;
  font-size: 12pt;"><span style="color: #ff6600; font-family: tahoma, arial,
  helvetica, sans-serif; font-size: 12pt;"><span style="font-family: 'Times 
 New Roman'; font-size: small;"></span></span></span>&nbsp;</p><p><span styl
 e="color: #ffffff;"></span><span style="color: black; font-family: Tahoma, 
 sans-serif; font-size: 12pt;">NYSWDA will not be responsible for hotel cost
 s, travel to and from the training, breakfast and dinner meals, or incident
 als.</span></p><p>&nbsp;</p><p><strong><em><span style="font-size: 10pt; fo
 nt-family: Georgia, serif; color: #10704d; background: white;">Through the 
 support of NYS HCR funding, we are able to provide </span></em></strong><em
 ><strong><span style="font-size: 10pt; font-family: Georgia, serif; color: 
 #02613f; background: white;">quality training at&nbsp;discounted rates to N
 YSWDA members.</span></strong></em></p><p>&nbsp;</p><p><span style="backgro
 und-color: initial; color: inherit; font-family: inherit; font-size: 1rem;"
 ><span style="font-family: tahoma,arial,helvetica,sans-serif;"><strong><em>
 <strong><span style="color: #ffffff; font-family: tahoma,arial,helvetica,sa
 ns-serif; font-size: 14pt;"><span style="color: #ff0000;">CLASS FULL - call
  or email</span>&nbsp; <span id="cloakc16e48811ed3e4503e9066095e160f86">Thi
 s email address is being protected from spambots. You need JavaScript enabl
 ed to view it.</span><script type='text/javascript'>
				document.getElemen
 tById('cloakc16e48811ed3e4503e9066095e160f86').innerHTML = '';
				var pref
 ix = 'ma' + 'il' + 'to';
				var path = 'hr' + 'ef' + '=';
				var addyc16e
 48811ed3e4503e9066095e160f86 = 'rvisser' + '@';
				addyc16e48811ed3e4503e9
 066095e160f86 = addyc16e48811ed3e4503e9066095e160f86 + 'nyswda' + '.' + 'or
 g';
				var addy_textc16e48811ed3e4503e9066095e160f86 = '<span style="color
 : #0066cc;">rvisser' + '@' + 'nyswda' + '.' + 'org</span>';document.getElem
 entById('cloakc16e48811ed3e4503e9066095e160f86').innerHTML += '<a ' + path 
 + '\'' + prefix + ':' + addyc16e48811ed3e4503e9066095e160f86 + '\'>'+addy_t
 extc16e48811ed3e4503e9066095e160f86+'<\/a>';
		</script> <span style="color
 : #ff0000;">for availability or wait list</span></span></strong></em><span 
 style="color: #ffffff;">&nbsp;</span></strong><em></em><em></em><em></em><s
 pan style="color: #ffffff; font-family: Tahoma, sans-serif;"></span></span>
 <span style="font-family: tahoma, arial, helvetica, sans-serif; font-size: 
 14pt;"></span><em></em><span style="color: #0000ff;"></span></span></p>
CONTACT:This email address is being protected from spambots. You need JavaScript enabled to view it.
				document.getElementById('cloak53a68be372f229e1e8ca1c9f1a927678').innerHTML = '';
				var prefix = '&#109;a' + 'i&#108;' + '&#116;o';
				var path = 'hr' + 'ef' + '=';
				var addy53a68be372f229e1e8ca1c9f1a927678 = 'rv&#105;ss&#101;r' + '&#64;';
				addy53a68be372f229e1e8ca1c9f1a927678 = addy53a68be372f229e1e8ca1c9f1a927678 + 'nyswd&#97;' + '&#46;' + '&#111;rg';
				var addy_text53a68be372f229e1e8ca1c9f1a927678 = 'rv&#105;ss&#101;r' + '&#64;' + 'nyswd&#97;' + '&#46;' + '&#111;rg';document.getElementById('cloak53a68be372f229e1e8ca1c9f1a927678').innerHTML += '<a ' + path + '\'' + prefix + ':' + addy53a68be372f229e1e8ca1c9f1a927678 + '\'>'+addy_text53a68be372f229e1e8ca1c9f1a927678+'';
		
DTSTAMP:20260425T130919
DTSTART;TZID=America/New_York:20200803T090000
DTEND;TZID=America/New_York:20200806T170000
SEQUENCE:0
TRANSP:OPAQUE
END:VEVENT
END:VCALENDAR