BEGIN:VCALENDAR
VERSION:2.0
PRODID:-//jEvents 2.0 for Joomla//EN
CALSCALE:GREGORIAN
METHOD:PUBLISH
BEGIN:VTIMEZONE
TZID:America/New_York
BEGIN:STANDARD
DTSTART:20191103T010000
RDATE:20200308T030000
TZOFFSETFROM:-0400
TZOFFSETTO:-0500
TZNAME:America/New_York EST
END:STANDARD
BEGIN:STANDARD
DTSTART:20201101T010000
RDATE:20210314T030000
TZOFFSETFROM:-0400
TZOFFSETTO:-0500
TZNAME:America/New_York EST
END:STANDARD
BEGIN:STANDARD
DTSTART:20211107T010000
RDATE:20220313T030000
TZOFFSETFROM:-0400
TZOFFSETTO:-0500
TZNAME:America/New_York EST
END:STANDARD
BEGIN:STANDARD
DTSTART:20221106T010000
RDATE:20230312T030000
TZOFFSETFROM:-0400
TZOFFSETTO:-0500
TZNAME:America/New_York EST
END:STANDARD
BEGIN:STANDARD
DTSTART:20231105T010000
RDATE:20240310T030000
TZOFFSETFROM:-0400
TZOFFSETTO:-0500
TZNAME:America/New_York EST
END:STANDARD
BEGIN:STANDARD
DTSTART:20241103T010000
RDATE:20250309T030000
TZOFFSETFROM:-0400
TZOFFSETTO:-0500
TZNAME:America/New_York EST
END:STANDARD
BEGIN:STANDARD
DTSTART:20251102T010000
RDATE:20260308T030000
TZOFFSETFROM:-0400
TZOFFSETTO:-0500
TZNAME:America/New_York EST
END:STANDARD
BEGIN:STANDARD
DTSTART:20261101T010000
RDATE:20270314T030000
TZOFFSETFROM:-0400
TZOFFSETTO:-0500
TZNAME:America/New_York EST
END:STANDARD
BEGIN:STANDARD
DTSTART:20271107T010000
RDATE:20280312T030000
TZOFFSETFROM:-0400
TZOFFSETTO:-0500
TZNAME:America/New_York EST
END:STANDARD
BEGIN:STANDARD
DTSTART:20281105T010000
RDATE:20290311T030000
TZOFFSETFROM:-0400
TZOFFSETTO:-0500
TZNAME:America/New_York EST
END:STANDARD
BEGIN:STANDARD
DTSTART:20291104T010000
RDATE:20300310T030000
TZOFFSETFROM:-0400
TZOFFSETTO:-0500
TZNAME:America/New_York EST
END:STANDARD
BEGIN:STANDARD
DTSTART:20301103T010000
RDATE:20310309T030000
TZOFFSETFROM:-0400
TZOFFSETTO:-0500
TZNAME:America/New_York EST
END:STANDARD
BEGIN:DAYLIGHT
DTSTART:20190928T090000
RDATE:20191103T010000
TZOFFSETFROM:-0500
TZOFFSETTO:-0400
TZNAME:America/New_York EDT
END:DAYLIGHT
BEGIN:DAYLIGHT
DTSTART:20200308T030000
RDATE:20201101T010000
TZOFFSETFROM:-0500
TZOFFSETTO:-0400
TZNAME:America/New_York EDT
END:DAYLIGHT
BEGIN:DAYLIGHT
DTSTART:20210314T030000
RDATE:20211107T010000
TZOFFSETFROM:-0500
TZOFFSETTO:-0400
TZNAME:America/New_York EDT
END:DAYLIGHT
BEGIN:DAYLIGHT
DTSTART:20220313T030000
RDATE:20221106T010000
TZOFFSETFROM:-0500
TZOFFSETTO:-0400
TZNAME:America/New_York EDT
END:DAYLIGHT
BEGIN:DAYLIGHT
DTSTART:20230312T030000
RDATE:20231105T010000
TZOFFSETFROM:-0500
TZOFFSETTO:-0400
TZNAME:America/New_York EDT
END:DAYLIGHT
BEGIN:DAYLIGHT
DTSTART:20240310T030000
RDATE:20241103T010000
TZOFFSETFROM:-0500
TZOFFSETTO:-0400
TZNAME:America/New_York EDT
END:DAYLIGHT
BEGIN:DAYLIGHT
DTSTART:20250309T030000
RDATE:20251102T010000
TZOFFSETFROM:-0500
TZOFFSETTO:-0400
TZNAME:America/New_York EDT
END:DAYLIGHT
BEGIN:DAYLIGHT
DTSTART:20260308T030000
RDATE:20261101T010000
TZOFFSETFROM:-0500
TZOFFSETTO:-0400
TZNAME:America/New_York EDT
END:DAYLIGHT
BEGIN:DAYLIGHT
DTSTART:20270314T030000
RDATE:20271107T010000
TZOFFSETFROM:-0500
TZOFFSETTO:-0400
TZNAME:America/New_York EDT
END:DAYLIGHT
BEGIN:DAYLIGHT
DTSTART:20280312T030000
RDATE:20281105T010000
TZOFFSETFROM:-0500
TZOFFSETTO:-0400
TZNAME:America/New_York EDT
END:DAYLIGHT
BEGIN:DAYLIGHT
DTSTART:20290311T030000
RDATE:20291104T010000
TZOFFSETFROM:-0500
TZOFFSETTO:-0400
TZNAME:America/New_York EDT
END:DAYLIGHT
BEGIN:DAYLIGHT
DTSTART:20300310T030000
RDATE:20301103T010000
TZOFFSETFROM:-0500
TZOFFSETTO:-0400
TZNAME:America/New_York EDT
END:DAYLIGHT
END:VTIMEZONE
BEGIN:VEVENT
UID:30146952ca2b8bbfb092b3478e434390
CATEGORIES:WEB
CREATED:20200810T144647
SUMMARY:NYS Manufactured Housing Mechanics Continuing Education - Online
LOCATION:NYSWDA Training Center - East Syracuse
DESCRIPTION: \n
 NYS Manufactured Housing Mechanics Continuing Education - Online\n
 \n
 
GoToWebinar Event\n
\nThis training is for:\nONLY those who have taken the
  NYS MH Mechanics Certification training and also hold a Limited Certificat
 ion.\n\n\nCourse Description:\nThis 3 hour training is for those who have a
 lready certified and hold a Limited Certification for the NYS Manufactured 
 Housing Mechanics Certification. \n\nMechanics certification is valid for 2
  years - and the renewal process required by the Dept. of State is to compl
 ete their continuing education and the renewal application process prior to
  expiration of their certificates. \n\nIf your business or agency conducts 
 structural repairs on mobile homes or manufactured housing to stay in compl
 iance with NY State Code Enforcement requirements, you will need at least o
 ne staff member with this certification. \n\nStructural repairs include rep
 lacement of door/window framing, replacement of subfloor plywood, or replac
 ement of interior wall and ceiling panels. This staff member must be on-sit
 e during these repairs. Individual certification is valid for two years. \n
 \n\nDates;\nSeptember 28, 2020 / 9:00am - 12:00pm\n\n\nPrerequisites: \nMus
 t have completed the initial NYS MH Mechanics Certification training and al
 so hold a Limited Certification.\n\n\nClass Size: 16\n\n\nBPI CEU: 1.5\n\n\
 nInstructors: Bill Sherman - NYS Codes Enforcement\n
\n\nCourse Fees: \n$15
 1/person - NY Weatherization Sub-grantees\n$151/person - affiliate members\
 n$220/person - non-members\n
 \n
**Special note - if you wish to become an 
 Affiliate Member, and save off the non-member rate, please contact Drew Ehr
 lich (315-701-0440 ext. 225, This email address is being protected from spa
 mbots. You need JavaScript enabled to view it.
				document.getElementById(
 'cloak2c1109b709c99d91ba5683df2341ac4e').innerHTML = '';
				var prefix = '
 ma' + 'il' + 'to';
				var path = 'hr' + 'ef' + '=';
				var addy2c1109b709
 c99d91ba5683df2341ac4e = 'dehrlich' + '@';
				addy2c1109b709c99d91ba5683df
 2341ac4e = addy2c1109b709c99d91ba5683df2341ac4e + 'nyswda' + '.' + 'org';
	
 			var addy_text2c1109b709c99d91ba5683df2341ac4e = 'dehrlich' + '@' + 'nysw
 da' + '.' + 'org';document.getElementById('cloak2c1109b709c99d91ba5683df234
 1ac4e').innerHTML += '<a ' + path + '\'' + prefix + ':' + addy2c1109b709c99
 d91ba5683df2341ac4e + '\'>'+addy_text2c1109b709c99d91ba5683df2341ac4e+'';
	
 	) BEFORE YOU REGISTER for the course.\n
 \n
Through the support of a grant
  from NYSERDA, and NYS HCR funding, we are able to provide quality training
  at discounted rates to NYSWDA members for this course.\n
\n\nClick here to
  register (index.php?option=com_civicrm&amp;task=civicrm/event/register&amp
 ;reset=1&amp;id=11383)\n
X-ALT-DESC;FMTTYPE=text/html:<p>&nbsp;</p><p><span style="color: #336699; font-size: 12pt;"><span><span>
 &nbsp;</span><span style="font-family: tahoma,arial,helvetica,sans-serif; f
 ont-size: 14pt;"><span style="color: #000000;"><strong><span style="color: 
 #336699;">NYS Manufactured Housing Mechanics Continuing Education - Online<
 /span></strong></span></span></span></span></p><p>&nbsp;</p><p><span style=
 "color: #336699; font-size: 12pt;"><span><span style="font-family: tahoma,a
 rial,helvetica,sans-serif; font-size: 14pt;"><span style="color: #000000;">
 <strong><span style="color: #336699;"><span style="color: #336699;">GoToWeb
 inar Event</span><span></span><span></span><span></span><span style="color:
  #000000;"></span><span></span><span></span><span style="color: #336699; fo
 nt-family: tahoma,arial,helvetica,sans-serif; font-size: 14pt;"></span><spa
 n></span><span style="font-family: Tahoma;"></span><span style="font-family
 : Tahoma;"></span><span style="color: #000000;"></span><span style="font-si
 ze: small;"></span><span style="font-family: Tahoma;"></span><span style="c
 olor: #000000;"></span><span style="font-size: x-small;"></span><span style
 ="font-family: Arial, Helvetica;"></span><span style="font-size: small;"></
 span><span style="font-family: Tahoma;"></span><span style="font-size: x-sm
 all;"></span><span style="font-family: Arial, Helvetica;"></span><span styl
 e="font-size: small;"></span><span style="font-family: Tahoma;"></span><spa
 n style="font-size: x-small;"></span><span style="font-family: Arial, Helve
 tica;"></span><span style="font-size: small;"></span><span style="font-fami
 ly: Tahoma;"></span><span style="font-size: x-small;"></span><span style="f
 ont-family: Arial, Helvetica;"></span><span style="font-family: Tahoma;"></
 span><span style="font-family: Tahoma;"></span><span style="font-size: smal
 l;"></span><span style="font-family: Tahoma;"></span><span style="font-size
 : x-small;"></span><span style="font-family: Arial, Helvetica;"></span><spa
 n style="font-family: Tahoma;"></span><span style="font-family: Tahoma;"></
 span><span style="font-family: Tahoma;"></span><span style="font-size: smal
 l;"></span><span style="font-family: Tahoma;"></span><span style="font-size
 : x-small;"></span><span style="font-family: Arial, Helvetica;"></span><spa
 n style="color: #000000;"></span><span style="font-size: medium;"></span><s
 pan style="font-family: Tahoma;"></span><span style="color: #336699;"></spa
 n></span></strong></span></span></span></span></p><p><span style="color: #3
 36699; font-size: 12pt;"><span><span><span style="color: #000000;"><span><b
 r /><span style="text-decoration: underline;"><span style="font-family: Tah
 oma;"><em>This training is for:</em></span></span><span style="font-family:
  Tahoma;"><span style="font-family: Tahoma;"><br /></span></span><span styl
 e="font-family: Tahoma;"><span style="font-family: Tahoma;"><span style="fo
 nt-family: Tahoma;">ONLY those who have taken the NYS MH Mechanics Certific
 ation training and also hold a Limited Certification.<span style="font-fami
 ly: Tahoma;"><br /><br /><br /><span style="text-decoration: underline;"><e
 m><span style="font-family: Tahoma;">Course Description:</span></em></span>
 <em><span style="font-family: Tahoma;"><span style="font-family: Tahoma;"><
 br /></span></span></em><span style="font-family: Tahoma;"><span style="fon
 t-family: Tahoma;"><span style="font-family: Tahoma;">This 3 hour training 
 is for those who have already certified and hold a Limited Certification fo
 r the NYS Manufactured Housing Mechanics Certification. <br /><br />Mechani
 cs certification is valid for 2 years - and the renewal process required by
  the Dept. of State is to complete their continuing education and the renew
 al application process prior to expiration of their certificates. <br /><br
  />If your business or agency conducts structural repairs on mobile homes o
 r manufactured housing to stay in compliance with NY State Code Enforcement
  requirements, you will need at least one staff member with this certificat
 ion. <br /><br />Structural repairs include replacement of door/window fram
 ing, replacement of subfloor plywood, or replacement of interior wall and c
 eiling panels. This staff member must be on-site during these repairs. Indi
 vidual certification is valid for two years. <br /><br /><br /><span style=
 "text-decoration: underline;"><em>Dates;<br /></em></span><span style="font
 -family: Tahoma;">September 28, 2020&nbsp;/ 9:00am - 12:00pm<br /><br /><br
  /><span style="text-decoration: underline;"><em><span style="font-family: 
 Tahoma;">Prerequisites:</span></em></span><em><span style="font-family: Tah
 oma;"> <br /></span></em><span style="font-family: Tahoma;">Must have compl
 eted the initial NYS MH Mechanics Certification training and also hold a Li
 mited Certification.<br /><span style="font-family: Tahoma;"><br /><em><br 
 /><span style="text-decoration: underline;">Class Size</span></em>: 16<br /
 ><br /><br /><span style="text-decoration: underline;"><em>BPI CEU</em>:</s
 pan> 1.5<br /><br /><br /><span style="text-decoration: underline;"><em><sp
 an style="font-family: Tahoma;">Instructors:</span></em></span><em><span st
 yle="font-family: Tahoma;"> </span></em><span style="font-family: Tahoma;">
 Bill Sherman - NYS Codes Enforcement</span></span></span></span></span></sp
 an></span></span></span></span></span></span></span></span></span></span></
 p><p><span style="color: #336699; font-size: 12pt;"><span><span><span style
 ="color: #000000;"><span><span style="font-family: Tahoma;"><span style="fo
 nt-family: Tahoma;"><span style="font-family: Tahoma;"><span style="font-fa
 mily: Tahoma;"><span style="font-family: Tahoma;"><span style="font-family:
  Tahoma;"><span style="font-family: Tahoma;"><span style="font-family: Taho
 ma;"><span style="font-family: Tahoma;"><span style="font-family: Tahoma;">
 <span style="font-family: Tahoma;"><br /><br /><span style="color: #336699;
  font-size: 12pt;"><span><span><span style="color: #000000;"><span><span st
 yle="font-family: Tahoma;"><span style="font-family: Tahoma;"><span style="
 font-family: Tahoma;"><span style="font-family: Tahoma;"><span style="font-
 family: Tahoma;"><span style="font-family: Tahoma;"><span style="font-famil
 y: Tahoma;"><span style="font-family: Tahoma;"><span style="font-family: Ta
 homa;"><span style="font-family: Tahoma;"><span style="font-family: Tahoma;
 "><span style="text-decoration: underline;"><em>Course Fees: </em></span><s
 pan style="text-decoration: underline;"><em><br /></em></span><span style="
 font-family: Tahoma;">$151/person - NY Weatherization Sub-grantees<br /></s
 pan></span></span></span></span></span></span></span></span></span></span><
 /span></span></span></span></span></span></span></span></span></span></span
 ></span></span></span></span></span></span></span></span></span></span></sp
 an><span style="color: #336699; font-size: 12pt;"><span style="color: #0000
 00;"><span style="font-family: Tahoma;"><span><span><span><span><span><span
 ><span><span><span><span><span style="color: #336699; font-size: 12pt;"><sp
 an style="color: #000000;"><span><span><span><span><span><span><span><span>
 <span><span><span><span>$151/person - affiliate members<br /></span></span>
 </span></span></span></span></span></span></span></span></span></span></spa
 n></span></span></span></span></span></span></span></span></span></span></s
 pan></span></span></span><span style="color: #336699; font-size: 12pt;"><sp
 an style="color: #000000;"><span style="font-family: Tahoma;"><span><span><
 span><span><span><span><span><span><span><span><span style="color: #336699;
  font-size: 12pt;"><span style="color: #000000;"><span><span><span><span><s
 pan><span><span><span><span><span><span><span>$220/person - non-members</sp
 an><em><span></span></em></span></span></span></span></span></span></span><
 /span></span></span></span></span></span></span></span></span></span></span
 ></span></span></span></span></span></span></span></span></p><p>&nbsp;</p><
 p><span style="color: #336699; font-size: 12pt;"><span><span><span style="c
 olor: #000000;"><span><span style="font-family: Tahoma;"><span style="font-
 family: Tahoma;"><span style="font-family: Tahoma;"><span style="font-famil
 y: Tahoma;"><span style="font-family: Tahoma;"><span style="font-family: Ta
 homa;"><span style="font-family: Tahoma;"><span style="font-family: Tahoma;
 "><span style="font-family: Tahoma;"><span style="font-family: Tahoma;"><sp
 an style="font-family: Tahoma;"><em><strong><span style="background: white;
  color: #02613f; font-family: 'Georgia','serif';"><span style="font-size: s
 mall;">**Special note</span></span></strong></em><span style="background: w
 hite; color: black; font-family: 'Georgia','serif';"><span style="font-size
 : small;"><i><strong>&nbsp;-&nbsp;if you wish to become an Affiliate Member
 , and&nbsp;save&nbsp;off the non-member rate, please contact&nbsp;Drew Ehrl
 ich&nbsp;(315-701-0440 ext. 225,&nbsp;</strong></i></span><i><strong><span 
 id="cloak2c1109b709c99d91ba5683df2341ac4e">This email address is being prot
 ected from spambots. You need JavaScript enabled to view it.</span><script 
 type='text/javascript'>
				document.getElementById('cloak2c1109b709c99d91b
 a5683df2341ac4e').innerHTML = '';
				var prefix = 'ma' + 'il' + 'to';
				
 var path = 'hr' + 'ef' + '=';
				var addy2c1109b709c99d91ba5683df2341ac4e 
 = 'dehrlich' + '@';
				addy2c1109b709c99d91ba5683df2341ac4e = addy2c1109b7
 09c99d91ba5683df2341ac4e + 'nyswda' + '.' + 'org';
				var addy_text2c1109b
 709c99d91ba5683df2341ac4e = '<span style="color: #0000ff; font-size: small;
 ">dehrlich' + '@' + 'nyswda' + '.' + 'org</span>';document.getElementById('
 cloak2c1109b709c99d91ba5683df2341ac4e').innerHTML += '<a ' + path + '\'' + 
 prefix + ':' + addy2c1109b709c99d91ba5683df2341ac4e + '\'>'+addy_text2c1109
 b709c99d91ba5683df2341ac4e+'<\/a>';
		</script><span style="font-size: smal
 l;">)&nbsp;</span></strong></i></span><i></i><span style="font-size: small;
 "><strong><span style="background: white; color: #02613f; font-family: 'Geo
 rgia','serif';">BEFORE YOU REGISTER&nbsp;</span></strong><em><b><span style
 ="background: white; color: black; font-family: 'Georgia','serif';">for the
  course</span></b></em><strong><span style="background: white; color: black
 ; font-family: 'Georgia','serif';">.</span></strong></span></span></span></
 span></span></span></span></span></span></span></span></span></span></span>
 </span></span></span></p><p>&nbsp;</p><p><span style="color: #336699; font-
 size: 12pt;"><span><span><span style="color: #000000;"><span><span style="f
 ont-family: Tahoma;"><span style="font-family: Tahoma;"><span style="font-f
 amily: Tahoma;"><span style="font-family: Tahoma;"><span style="font-family
 : Tahoma;"><span style="font-family: Tahoma;"><span style="font-family: Tah
 oma;"><span style="font-family: Tahoma;"><span style="font-family: Tahoma;"
 ><span style="font-family: Tahoma;"><span style="font-family: Tahoma;"><str
 ong><i><span style="background: white; color: #10704d; font-family: 'Georgi
 a','serif'; font-size: 10pt;">Through the support of a grant from NYSERDA, 
 and NYS HCR funding, we are able to provide </span></i></strong><em><b><spa
 n style="background: white; color: #02613f; font-family: 'Georgia','serif';
  font-size: 10pt;">quality training at&nbsp;discounted rates to NYSWDA memb
 ers for this course.<span style="color: #336699;"><span style="font-family:
  Tahoma;"><span style="font-size: medium;"><span style="color: #000000;"><s
 pan style="font-size: small;"><span style="font-family: Tahoma;"><span styl
 e="font-family: Tahoma;"><span style="color: #000000;"><span style="font-fa
 mily: Tahoma;"><span style="font-family: Arial, Helvetica;"><span style="co
 lor: #000000;"><span style="font-family: Tahoma;"><span style="font-family:
  Tahoma;"><span style="font-family: Tahoma;"><span style="font-family: Taho
 ma;"><span style="font-family: Tahoma;"><span style="font-family: Tahoma;">
 <span style="font-family: Tahoma;"><span style="font-family: Tahoma;"><span
  style="font-family: Tahoma;"><span style="font-family: Tahoma;"><span styl
 e="font-family: Tahoma;"><span style="font-family: Tahoma;"><span style="fo
 nt-family: Tahoma;"><span style="font-family: Arial, Helvetica;"><span styl
 e="font-size: x-small;"><span style="color: #000000;"><span style="font-fam
 ily: Calibri;"><span style="font-size: small;"><span style="font-family: Ti
 mes;"><span style="color: #000000;"><span style="font-family: Tahoma;"><spa
 n style="font-family: Times;"><span style="font-family: Tahoma;"><span styl
 e="font-family: Tahoma;"><span style="color: #000000;"><span style="font-si
 ze: 12pt;"><em></em></span></span></span></span></span></span></span></span
 ></span></span></span></span></span></span></span></span></span></span></sp
 an></span></span></span></span></span></span></span></span></span></span></
 span></span></span></span></span></span></span></span></span></b></em></spa
 n></span></span></span></span></span></span></span></span></span></span></s
 pan></span></span></span></span></p><p><span style="color: #336699; font-si
 ze: 12pt;"><span><span><span style="color: #000000;"><span><span style="fon
 t-family: Tahoma;"><span style="font-family: Tahoma;"><span style="font-fam
 ily: Tahoma;"><span style="font-family: Tahoma;"><span style="font-family: 
 Tahoma;"><span style="font-family: Tahoma;"><span style="font-family: Tahom
 a;"><span style="font-family: Tahoma;"><span style="font-family: Tahoma;"><
 span style="font-family: Tahoma;"><span style="font-family: Tahoma;"><br />
 <br /><a href="https://www.nyswda.org/index.php?option=com_civicrm&amp;task
 =civicrm/event/register&amp;reset=1&amp;id=11383"><span style="color: #0000
 ff;"><em><strong><span style="font-size: 14pt;"><span style="color: #0000ff
 ;">Click here to register</span></span></strong></em></span></a></span></sp
 an></span></span></span></span></span></span></span></span></span></span></
 span></span></span></span></p>
CONTACT:This email address is being protected from spambots. You need JavaScript enabled to view it.
				document.getElementById('cloak59ff609e987156addd403c881b302e9a').innerHTML = '';
				var prefix = '&#109;a' + 'i&#108;' + '&#116;o';
				var path = 'hr' + 'ef' + '=';
				var addy59ff609e987156addd403c881b302e9a = 'rv&#105;ss&#101;r' + '&#64;';
				addy59ff609e987156addd403c881b302e9a = addy59ff609e987156addd403c881b302e9a + 'nyswd&#97;' + '&#46;' + '&#111;rg';
				var addy_text59ff609e987156addd403c881b302e9a = 'rv&#105;ss&#101;r' + '&#64;' + 'nyswd&#97;' + '&#46;' + '&#111;rg';document.getElementById('cloak59ff609e987156addd403c881b302e9a').innerHTML += '<a ' + path + '\'' + prefix + ':' + addy59ff609e987156addd403c881b302e9a + '\'>'+addy_text59ff609e987156addd403c881b302e9a+'';
		
DTSTAMP:20260425T113611
DTSTART;TZID=America/New_York:20200928T090000
DTEND;TZID=America/New_York:20200928T120000
SEQUENCE:0
TRANSP:OPAQUE
END:VEVENT
END:VCALENDAR