BEGIN:VCALENDAR
VERSION:2.0
PRODID:-//jEvents 2.0 for Joomla//EN
CALSCALE:GREGORIAN
METHOD:PUBLISH
BEGIN:VTIMEZONE
TZID:America/New_York
BEGIN:STANDARD
DTSTART:20191103T010000
RDATE:20200308T030000
TZOFFSETFROM:-0400
TZOFFSETTO:-0500
TZNAME:America/New_York EST
END:STANDARD
BEGIN:STANDARD
DTSTART:20201101T010000
RDATE:20210314T030000
TZOFFSETFROM:-0400
TZOFFSETTO:-0500
TZNAME:America/New_York EST
END:STANDARD
BEGIN:STANDARD
DTSTART:20211107T010000
RDATE:20220313T030000
TZOFFSETFROM:-0400
TZOFFSETTO:-0500
TZNAME:America/New_York EST
END:STANDARD
BEGIN:STANDARD
DTSTART:20221106T010000
RDATE:20230312T030000
TZOFFSETFROM:-0400
TZOFFSETTO:-0500
TZNAME:America/New_York EST
END:STANDARD
BEGIN:STANDARD
DTSTART:20231105T010000
RDATE:20240310T030000
TZOFFSETFROM:-0400
TZOFFSETTO:-0500
TZNAME:America/New_York EST
END:STANDARD
BEGIN:STANDARD
DTSTART:20241103T010000
RDATE:20250309T030000
TZOFFSETFROM:-0400
TZOFFSETTO:-0500
TZNAME:America/New_York EST
END:STANDARD
BEGIN:STANDARD
DTSTART:20251102T010000
RDATE:20260308T030000
TZOFFSETFROM:-0400
TZOFFSETTO:-0500
TZNAME:America/New_York EST
END:STANDARD
BEGIN:STANDARD
DTSTART:20261101T010000
RDATE:20270314T030000
TZOFFSETFROM:-0400
TZOFFSETTO:-0500
TZNAME:America/New_York EST
END:STANDARD
BEGIN:STANDARD
DTSTART:20271107T010000
RDATE:20280312T030000
TZOFFSETFROM:-0400
TZOFFSETTO:-0500
TZNAME:America/New_York EST
END:STANDARD
BEGIN:STANDARD
DTSTART:20281105T010000
RDATE:20290311T030000
TZOFFSETFROM:-0400
TZOFFSETTO:-0500
TZNAME:America/New_York EST
END:STANDARD
BEGIN:STANDARD
DTSTART:20291104T010000
RDATE:20300310T030000
TZOFFSETFROM:-0400
TZOFFSETTO:-0500
TZNAME:America/New_York EST
END:STANDARD
BEGIN:STANDARD
DTSTART:20301103T010000
RDATE:20310309T030000
TZOFFSETFROM:-0400
TZOFFSETTO:-0500
TZNAME:America/New_York EST
END:STANDARD
BEGIN:DAYLIGHT
DTSTART:20190929T090000
RDATE:20191103T010000
TZOFFSETFROM:-0500
TZOFFSETTO:-0400
TZNAME:America/New_York EDT
END:DAYLIGHT
BEGIN:DAYLIGHT
DTSTART:20200308T030000
RDATE:20201101T010000
TZOFFSETFROM:-0500
TZOFFSETTO:-0400
TZNAME:America/New_York EDT
END:DAYLIGHT
BEGIN:DAYLIGHT
DTSTART:20210314T030000
RDATE:20211107T010000
TZOFFSETFROM:-0500
TZOFFSETTO:-0400
TZNAME:America/New_York EDT
END:DAYLIGHT
BEGIN:DAYLIGHT
DTSTART:20220313T030000
RDATE:20221106T010000
TZOFFSETFROM:-0500
TZOFFSETTO:-0400
TZNAME:America/New_York EDT
END:DAYLIGHT
BEGIN:DAYLIGHT
DTSTART:20230312T030000
RDATE:20231105T010000
TZOFFSETFROM:-0500
TZOFFSETTO:-0400
TZNAME:America/New_York EDT
END:DAYLIGHT
BEGIN:DAYLIGHT
DTSTART:20240310T030000
RDATE:20241103T010000
TZOFFSETFROM:-0500
TZOFFSETTO:-0400
TZNAME:America/New_York EDT
END:DAYLIGHT
BEGIN:DAYLIGHT
DTSTART:20250309T030000
RDATE:20251102T010000
TZOFFSETFROM:-0500
TZOFFSETTO:-0400
TZNAME:America/New_York EDT
END:DAYLIGHT
BEGIN:DAYLIGHT
DTSTART:20260308T030000
RDATE:20261101T010000
TZOFFSETFROM:-0500
TZOFFSETTO:-0400
TZNAME:America/New_York EDT
END:DAYLIGHT
BEGIN:DAYLIGHT
DTSTART:20270314T030000
RDATE:20271107T010000
TZOFFSETFROM:-0500
TZOFFSETTO:-0400
TZNAME:America/New_York EDT
END:DAYLIGHT
BEGIN:DAYLIGHT
DTSTART:20280312T030000
RDATE:20281105T010000
TZOFFSETFROM:-0500
TZOFFSETTO:-0400
TZNAME:America/New_York EDT
END:DAYLIGHT
BEGIN:DAYLIGHT
DTSTART:20290311T030000
RDATE:20291104T010000
TZOFFSETFROM:-0500
TZOFFSETTO:-0400
TZNAME:America/New_York EDT
END:DAYLIGHT
BEGIN:DAYLIGHT
DTSTART:20300310T030000
RDATE:20301103T010000
TZOFFSETFROM:-0500
TZOFFSETTO:-0400
TZNAME:America/New_York EDT
END:DAYLIGHT
END:VTIMEZONE
BEGIN:VEVENT
UID:5063d28e1241bd1ddf2e02d4c31afaa1
CATEGORIES:WEB
CREATED:20200810T144931
SUMMARY:NYS Manufactured Housing Mechanics Certification - Online
LOCATION:NYSWDA Training Center - East Syracuse
DESCRIPTION: \n
 NYS Manufactured Housing Mechanics Certification - Online\n
 \n
GoToWe
 binar Event\n\n\nThis online course covers two, 3-hour sessions.  Successfu
 l course completion means the candidate must attend BOTH sessions in order 
 to be awarded CEU’s and a certificate of completion.  YOU DO NOT NEED TO RE
 GISTER TWICE.  You will be sent a webinar invite for both sessions.  Each s
 ession is from 9:00am until noon.\n
 \n
This training is for:\nWeatherizati
 on crew chiefs/auditors, weatherization agency sub-contractors, private con
 tractors\n\n\nCourse Description:\nThis training will prepare those attendi
 ng to take the New York State Manufactured Housing Mechanic certification w
 ritten test. If your business or agency conducts structural repairs on mobi
 le homes or manufactured housing to stay in compliance with NY State Code E
 nforcement requirements, you will need at least one staff member with this 
 certification. Structural repairs include replacement of door/window framin
 g, replacement of subfloor plywood, or replacement of interior wall and cei
 ling panels. This staff member must be on-site during these repairs. This i
 ndividual certification is valid for two years.\n\n\nDates;\nSeptember 29 &
 amp; 30, 2020 / 9:00am - noon (must participate in both days for course com
 pletion)\n\n\nPrerequisites: \nCompletion of high school, GED or equivalent
  (U.S. Armed Forces report) showing successful completion of high school le
 vel education.  One year full time employment in manufactured housing indus
 try or an industry substantially similar (1 year construction industry expe
 rience or 1 year manufactured housing repair and weatherization experience 
 generally accepted). Field experience in manufactured housing repairs and w
 eatherization techniques\n\n\nClass Size: 16\n\n\nBPI CEU: 3\n\n\nInstructo
 rs: Bill Sherman - NYS Codes Enforcement\n\n\nCourse Fees: \n$262/person - 
 NY Weatherization Sub-grantees\n$262/person - affiliate members\n$380/perso
 n - non-members\n
 \n
**Special note - if you wish to become an Affiliate M
 ember, and save 50% off the non-member rate, please contact Drew Ehrlich (3
 15-701-0440 ext. 225, This email address is being protected from spambots. 
 You need JavaScript enabled to view it.
				document.getElementById('cloakc
 835439b2f45ce2b7312bd5d59f7782e').innerHTML = '';
				var prefix = 'ma' + '
 il' + 'to';
				var path = 'hr' + 'ef' + '=';
				var addyc835439b2f45ce2b7
 312bd5d59f7782e = 'dehrlich' + '@';
				addyc835439b2f45ce2b7312bd5d59f7782
 e = addyc835439b2f45ce2b7312bd5d59f7782e + 'nyswda' + '.' + 'org';
				var 
 addy_textc835439b2f45ce2b7312bd5d59f7782e = 'dehrlich' + '@' + 'nyswda' + '
 .' + 'org';document.getElementById('cloakc835439b2f45ce2b7312bd5d59f7782e')
 .innerHTML += '<a ' + path + '\'' + prefix + ':' + addyc835439b2f45ce2b7312
 bd5d59f7782e + '\'>'+addy_textc835439b2f45ce2b7312bd5d59f7782e+'';
		) BEFO
 RE YOU REGISTER for the course.\n  \n\n
Through the support of a grant from
  NYSERDA, and NYS HCR funding, we are able to provide quality training at d
 iscounted rates to NYSWDA members for this course.\n
 \n
Click here to regi
 ster (index.php?option=com_civicrm&amp;task=civicrm/event/register&amp;rese
 t=1&amp;id=11384)\n
X-ALT-DESC;FMTTYPE=text/html:<p>&nbsp;</p><p><span style="color: #336699; font-size: 12pt;"><span><span>
 &nbsp;</span><span><span style="color: #000000;"><span><strong><span style=
 "color: #336699;"><span style="font-family: tahoma,arial,helvetica,sans-ser
 if; font-size: 14pt;">NYS Manufactured Housing Mechanics Certification - On
 line</span></span></strong></span></span></span></span></span></p><p>&nbsp;
 </p><p><span style="color: #336699; font-size: 12pt;"><span><span><span sty
 le="color: #000000;"><span><strong><span style="color: #336699;"><span styl
 e="font-family: tahoma,arial,helvetica,sans-serif; font-size: 14pt;"><span 
 style="color: #336699;">GoToWebinar Event</span><span></span><span></span><
 span></span><span style="color: #000000;"></span><span></span><span></span>
 <span style="color: #336699; font-family: tahoma,arial,helvetica,sans-serif
 ; font-size: 14pt;"></span><span></span><span style="font-family: Tahoma;">
 </span><span style="font-family: Tahoma;"></span><span style="color: #00000
 0;"></span><span style="font-size: small;"></span><span style="font-family:
  Tahoma;"></span><span style="color: #000000;"></span><span style="font-siz
 e: x-small;"></span><span style="font-family: Arial, Helvetica;"></span><sp
 an style="font-size: small;"></span><span style="font-family: Tahoma;"></sp
 an><span style="font-size: x-small;"></span><span style="font-family: Arial
 , Helvetica;"></span><span style="font-size: small;"></span><span style="fo
 nt-family: Tahoma;"></span><span style="font-size: x-small;"></span><span s
 tyle="font-family: Arial, Helvetica;"></span><span style="font-size: small;
 "></span><span style="font-family: Tahoma;"></span><span style="font-size: 
 x-small;"></span><span style="font-family: Arial, Helvetica;"></span><span 
 style="font-family: Tahoma;"></span><span style="font-family: Tahoma;"></sp
 an><span style="font-size: small;"></span><span style="font-family: Tahoma;
 "></span><span style="font-size: x-small;"></span><span style="font-family:
  Arial, Helvetica;"></span><span style="font-family: Tahoma;"></span><span 
 style="font-family: Tahoma;"></span><span style="font-family: Tahoma;"></sp
 an><span style="font-size: small;"></span><span style="font-family: Tahoma;
 "></span><span style="font-size: x-small;"></span><span style="font-family:
  Arial, Helvetica;"></span><span style="color: #000000;"></span><span style
 ="font-size: medium;"></span><span style="font-family: Tahoma;"></span><spa
 n style="color: #336699;"></span></span><br /></span></strong></span></span
 ></span></span></span><span style="color: #336699; font-size: 12pt;"><span 
 style="font-family: Tahoma;"><span><span style="color: #000000;"><em><span>
 <br /><br /></span></em><span style="font-family: Tahoma;"><span style="fon
 t-family: Tahoma, sans-serif; color: black; font-size: 12pt;">This online c
 ourse covers two, 3-hour sessions.&nbsp; Successful course completion means
  the candidate must attend BOTH sessions in order to be awarded CEU’s and a
  certificate of completion.&nbsp; YOU DO NOT NEED TO REGISTER TWICE.&nbsp; 
 You will be sent a webinar invite for both sessions.&nbsp; Each session is 
 from 9:00am until noon.</span></span></span></span></span></span></p><p>&nb
 sp;</p><p><span style="color: #336699; font-size: 12pt;"><span style="font-
 family: Tahoma;"><span><span style="color: #000000;"><em><span><span style=
 "text-decoration: underline;"><span style="font-family: Tahoma;">This train
 ing is for:</span></span><span style="font-family: Tahoma;"><span style="fo
 nt-family: Tahoma;"><br /></span></span></span></em><span style="font-famil
 y: Tahoma;"><span style="font-family: Tahoma;"><span style="font-family: Ta
 homa;">Weatherization crew chiefs/auditors, weatherization agency sub-contr
 actors, private contractors<span style="font-family: Tahoma;"><br /><br /><
 br /><span style="text-decoration: underline;"><em><span style="font-family
 : Tahoma;">Course Description:</span></em></span><em><span style="font-fami
 ly: Tahoma;"><span style="font-family: Tahoma;"><br /></span></span></em><s
 pan style="font-family: Tahoma;"><span style="font-family: Tahoma;"><span s
 tyle="font-family: Tahoma;">This training will prepare those attending to t
 ake the New York State Manufactured Housing Mechanic certification written 
 test. If your business or agency conducts structural repairs on mobile home
 s or manufactured housing to stay in compliance with NY State Code Enforcem
 ent requirements, you will need at least one staff member with this certifi
 cation. Structural repairs include replacement of door/window framing, repl
 acement of subfloor plywood, or replacement of interior wall and ceiling pa
 nels. This staff member must be on-site during these repairs. This individu
 al certification is valid for two years.<br /><br /><br /><span style="text
 -decoration: underline;"><em>Dates;<br /></em></span><span style="font-fami
 ly: Tahoma;">September 29 &amp; 30, 2020</span><span style="font-family: Ta
 homa;">&nbsp;/ 9:00am - noon (must participate in both days for course comp
 letion)<br /><br /><br /><span style="text-decoration: underline;"><em><spa
 n style="font-family: Tahoma;">Prerequisites:</span></em></span><em><span s
 tyle="font-family: Tahoma;"> <br /></span></em><span style="font-family: Ta
 homa;">Completion of high school, GED or equivalent (U.S. Armed Forces repo
 rt) showing successful completion of high school level education.&nbsp; One
  year full time employment in manufactured housing industry or an industry 
 substantially similar (1 year construction industry experience or 1 year ma
 nufactured housing repair and weatherization experience generally accepted)
 . Field experience in manufactured housing repairs and weatherization techn
 iques<span style="font-family: Tahoma;"><br /><em><br /><br /><span style="
 text-decoration: underline;">Class Size</span></em>: 16<br /><br /><br /><s
 pan style="text-decoration: underline;"><em>BPI CEU</em>:</span>&nbsp;3<br 
 /><br /><br /><span style="text-decoration: underline;"><em><span style="fo
 nt-family: Tahoma;">Instructors:</span></em></span><em><span style="font-fa
 mily: Tahoma;"> </span></em><span style="font-family: Tahoma;">Bill Sherman
  - NYS Codes Enforcement<br /><br /><br /><span style="text-decoration: und
 erline;"><em>Course Fees:&nbsp;</em></span><em><span style="color: #ff6600;
 "></span></em><em><br /></em><span style="font-family: Tahoma;">$262/person
  -&nbsp;NY&nbsp;Weatherization Sub-grantees<br /></span></span></span></spa
 n></span></span></span></span></span></span></span></span></span></span></s
 pan></span><span style="color: #336699; font-size: 12pt;"><span style="font
 -family: Tahoma;"><span style="color: #000000;"><span><span><span><span><sp
 an><span><span><span><span><span><span><span>$262/person -&nbsp;affiliate m
 embers<br /></span></span></span></span></span></span></span></span></span>
 </span></span></span></span></span></span><span style="color: #336699; font
 -size: 12pt;"><span style="font-family: Tahoma;"><span style="color: #00000
 0;"><span><span><span><span><span><span><span><span><span><span><span><span
 >$380/person -&nbsp;non-members</span></span></span></span></span></span></
 span></span></span></span></span></span></span></span></span></p><p>&nbsp;<
 /p><p><span style="color: #336699; font-size: 12pt;"><span style="font-fami
 ly: Tahoma;"><span><span style="color: #000000;"><span><span style="font-fa
 mily: Tahoma;"><span style="font-family: Tahoma;"><span style="font-family:
  Tahoma;"><span style="font-family: Tahoma;"><span style="font-family: Taho
 ma;"><span style="font-family: Tahoma;"><span style="font-family: Tahoma;">
 <span style="font-family: Tahoma;"><span style="font-family: Tahoma;"><span
  style="font-family: Tahoma;"><span style="font-family: Tahoma;"><em><span 
 style="font-family: Tahoma;"><em><strong><span style="background: white; co
 lor: #02613f; font-family: 'Georgia','serif';"><span style="font-size: smal
 l;">**Special note</span></span></strong></em><span style="background: whit
 e; color: black; font-family: 'Georgia','serif';"><span style="font-size: s
 mall;"><i><strong>&nbsp;-&nbsp;if you wish to become an Affiliate Member, a
 nd&nbsp;save 50% off the non-member rate, please contact&nbsp;Drew Ehrlich&
 nbsp;(315-701-0440 ext. 225,&nbsp;</strong></i></span><i><strong><span id="
 cloakc835439b2f45ce2b7312bd5d59f7782e">This email address is being protecte
 d from spambots. You need JavaScript enabled to view it.</span><script type
 ='text/javascript'>
				document.getElementById('cloakc835439b2f45ce2b7312b
 d5d59f7782e').innerHTML = '';
				var prefix = 'ma' + 'il' + 'to';
				var 
 path = 'hr' + 'ef' + '=';
				var addyc835439b2f45ce2b7312bd5d59f7782e = 'd
 ehrlich' + '@';
				addyc835439b2f45ce2b7312bd5d59f7782e = addyc835439b2f45
 ce2b7312bd5d59f7782e + 'nyswda' + '.' + 'org';
				var addy_textc835439b2f4
 5ce2b7312bd5d59f7782e = '<span style="color: #0000ff; font-size: small;">de
 hrlich' + '@' + 'nyswda' + '.' + 'org</span>';document.getElementById('cloa
 kc835439b2f45ce2b7312bd5d59f7782e').innerHTML += '<a ' + path + '\'' + pref
 ix + ':' + addyc835439b2f45ce2b7312bd5d59f7782e + '\'>'+addy_textc835439b2f
 45ce2b7312bd5d59f7782e+'<\/a>';
		</script><span style="font-size: small;">
 )&nbsp;</span></strong></i></span><i></i><span style="font-size: small;"><s
 trong><span style="background: white; color: #02613f; font-family: 'Georgia
 ','serif';">BEFORE YOU REGISTER&nbsp;</span></strong><em><b><span style="ba
 ckground: white; color: black; font-family: 'Georgia','serif';">for the cou
 rse</span></b></em><strong><span style="background: white; color: black; fo
 nt-family: 'Georgia','serif';">.</span></strong></span><br /></span></em></
 span></span></span></span></span></span></span></span></span></span></span>
 </span></span></span><span style="background-color: initial; color: inherit
 ; font-family: inherit; font-size: 1rem;">&nbsp;</span><span style="color: 
 #0000ff;"><em><strong><span style="font-size: 14pt; font-family: tahoma,ari
 al,helvetica,sans-serif;"></span></strong></em></span><span style="backgrou
 nd-color: initial; color: inherit; font-family: inherit; font-size: 1rem;">
 &nbsp;</span><span><span style="color: #000000;"><span><span style="font-fa
 mily: Tahoma;"><span style="font-family: Tahoma;"><span style="font-family:
  Tahoma;"><span style="font-family: Tahoma;"><span style="font-family: Taho
 ma;"><span style="font-family: Tahoma;"><span style="font-family: Tahoma;">
 <span style="font-family: Tahoma;"><span style="font-family: Tahoma;"><span
  style="font-family: Tahoma;"><span style="font-family: Tahoma;"><em><span 
 style="font-family: Tahoma;"><br /></span></em></span></span></span></span>
 </span></span></span></span></span></span></span></span></span></span></spa
 n></span></p><p><strong><i><span style="background: white; color: #10704d; 
 font-family: 'Georgia','serif'; font-size: 10pt;">Through the support of a 
 grant from NYSERDA, and NYS HCR funding, we are able to provide </span></i>
 </strong><em><b><span style="background: white; color: #02613f; font-family
 : 'Georgia','serif'; font-size: 10pt;">quality training at&nbsp;discounted 
 rates to NYSWDA members for this course.<span style="color: #336699;"><span
  style="font-family: Tahoma;"><span style="font-size: medium;"><span style=
 "color: #000000;"><span style="font-size: small;"><span style="font-family:
  Tahoma;"><span style="font-family: Tahoma;"><span style="color: #000000;">
 <span style="font-family: Tahoma;"><span style="font-family: Arial, Helveti
 ca;"><span style="color: #000000;"><span style="font-family: Tahoma;"><span
  style="font-family: Tahoma;"><span style="font-family: Tahoma;"><span styl
 e="font-family: Tahoma;"><span style="font-family: Tahoma;"><span style="fo
 nt-family: Tahoma;"><span style="font-family: Tahoma;"><span style="font-fa
 mily: Tahoma;"><span style="font-family: Tahoma;"><span style="font-family:
  Tahoma;"><span style="font-family: Tahoma;"><span style="font-family: Taho
 ma;"><span style="font-family: Tahoma;"><span style="font-family: Arial, He
 lvetica;"><span style="font-size: x-small;"><span style="color: #000000;"><
 span style="font-family: Calibri;"><span style="font-size: small;"><span st
 yle="font-family: Times;"><span style="color: #000000;"><span style="font-f
 amily: Tahoma;"><span style="font-family: Times;"><span style="font-family:
  Tahoma;"><span style="font-family: Tahoma;"><span style="color: #000000;">
 <span style="font-size: 12pt;"><em></em></span></span></span></span></span>
 </span></span></span></span></span></span></span></span></span></span></spa
 n></span></span></span></span></span></span></span></span></span></span></s
 pan></span></span></span></span></span></span></span></span></span></span><
 /span></b></em></p><p>&nbsp;</p><p><a href="https://www.nyswda.org/index.ph
 p?option=com_civicrm&amp;task=civicrm/event/register&amp;reset=1&amp;id=113
 84"><span style="color: #0000ff;"><em><strong><span style="font-size: 14pt;
  font-family: tahoma,arial,helvetica,sans-serif;"><span style="color: #0000
 ff;">Click here to register</span></span></strong></em></span></a></p>
CONTACT:Robyn Visser
DTSTAMP:20260425T113548
DTSTART;TZID=America/New_York:20200929T090000
DTEND;TZID=America/New_York:20200930T120000
SEQUENCE:0
TRANSP:OPAQUE
END:VEVENT
END:VCALENDAR