BEGIN:VCALENDAR
VERSION:2.0
PRODID:-//jEvents 2.0 for Joomla//EN
CALSCALE:GREGORIAN
METHOD:PUBLISH
BEGIN:VTIMEZONE
TZID:America/New_York
BEGIN:STANDARD
DTSTART:20191103T010000
RDATE:20200308T030000
TZOFFSETFROM:-0400
TZOFFSETTO:-0500
TZNAME:America/New_York EST
END:STANDARD
BEGIN:STANDARD
DTSTART:20201101T010000
RDATE:20210314T030000
TZOFFSETFROM:-0400
TZOFFSETTO:-0500
TZNAME:America/New_York EST
END:STANDARD
BEGIN:STANDARD
DTSTART:20211107T010000
RDATE:20220313T030000
TZOFFSETFROM:-0400
TZOFFSETTO:-0500
TZNAME:America/New_York EST
END:STANDARD
BEGIN:STANDARD
DTSTART:20221106T010000
RDATE:20230312T030000
TZOFFSETFROM:-0400
TZOFFSETTO:-0500
TZNAME:America/New_York EST
END:STANDARD
BEGIN:STANDARD
DTSTART:20231105T010000
RDATE:20240310T030000
TZOFFSETFROM:-0400
TZOFFSETTO:-0500
TZNAME:America/New_York EST
END:STANDARD
BEGIN:STANDARD
DTSTART:20241103T010000
RDATE:20250309T030000
TZOFFSETFROM:-0400
TZOFFSETTO:-0500
TZNAME:America/New_York EST
END:STANDARD
BEGIN:STANDARD
DTSTART:20251102T010000
RDATE:20260308T030000
TZOFFSETFROM:-0400
TZOFFSETTO:-0500
TZNAME:America/New_York EST
END:STANDARD
BEGIN:STANDARD
DTSTART:20261101T010000
RDATE:20270314T030000
TZOFFSETFROM:-0400
TZOFFSETTO:-0500
TZNAME:America/New_York EST
END:STANDARD
BEGIN:STANDARD
DTSTART:20271107T010000
RDATE:20280312T030000
TZOFFSETFROM:-0400
TZOFFSETTO:-0500
TZNAME:America/New_York EST
END:STANDARD
BEGIN:STANDARD
DTSTART:20281105T010000
RDATE:20290311T030000
TZOFFSETFROM:-0400
TZOFFSETTO:-0500
TZNAME:America/New_York EST
END:STANDARD
BEGIN:STANDARD
DTSTART:20291104T010000
RDATE:20300310T030000
TZOFFSETFROM:-0400
TZOFFSETTO:-0500
TZNAME:America/New_York EST
END:STANDARD
BEGIN:STANDARD
DTSTART:20301103T010000
RDATE:20310309T030000
TZOFFSETFROM:-0400
TZOFFSETTO:-0500
TZNAME:America/New_York EST
END:STANDARD
BEGIN:DAYLIGHT
DTSTART:20190915T090000
RDATE:20191103T010000
TZOFFSETFROM:-0500
TZOFFSETTO:-0400
TZNAME:America/New_York EDT
END:DAYLIGHT
BEGIN:DAYLIGHT
DTSTART:20200308T030000
RDATE:20201101T010000
TZOFFSETFROM:-0500
TZOFFSETTO:-0400
TZNAME:America/New_York EDT
END:DAYLIGHT
BEGIN:DAYLIGHT
DTSTART:20210314T030000
RDATE:20211107T010000
TZOFFSETFROM:-0500
TZOFFSETTO:-0400
TZNAME:America/New_York EDT
END:DAYLIGHT
BEGIN:DAYLIGHT
DTSTART:20220313T030000
RDATE:20221106T010000
TZOFFSETFROM:-0500
TZOFFSETTO:-0400
TZNAME:America/New_York EDT
END:DAYLIGHT
BEGIN:DAYLIGHT
DTSTART:20230312T030000
RDATE:20231105T010000
TZOFFSETFROM:-0500
TZOFFSETTO:-0400
TZNAME:America/New_York EDT
END:DAYLIGHT
BEGIN:DAYLIGHT
DTSTART:20240310T030000
RDATE:20241103T010000
TZOFFSETFROM:-0500
TZOFFSETTO:-0400
TZNAME:America/New_York EDT
END:DAYLIGHT
BEGIN:DAYLIGHT
DTSTART:20250309T030000
RDATE:20251102T010000
TZOFFSETFROM:-0500
TZOFFSETTO:-0400
TZNAME:America/New_York EDT
END:DAYLIGHT
BEGIN:DAYLIGHT
DTSTART:20260308T030000
RDATE:20261101T010000
TZOFFSETFROM:-0500
TZOFFSETTO:-0400
TZNAME:America/New_York EDT
END:DAYLIGHT
BEGIN:DAYLIGHT
DTSTART:20270314T030000
RDATE:20271107T010000
TZOFFSETFROM:-0500
TZOFFSETTO:-0400
TZNAME:America/New_York EDT
END:DAYLIGHT
BEGIN:DAYLIGHT
DTSTART:20280312T030000
RDATE:20281105T010000
TZOFFSETFROM:-0500
TZOFFSETTO:-0400
TZNAME:America/New_York EDT
END:DAYLIGHT
BEGIN:DAYLIGHT
DTSTART:20290311T030000
RDATE:20291104T010000
TZOFFSETFROM:-0500
TZOFFSETTO:-0400
TZNAME:America/New_York EDT
END:DAYLIGHT
BEGIN:DAYLIGHT
DTSTART:20300310T030000
RDATE:20301103T010000
TZOFFSETFROM:-0500
TZOFFSETTO:-0400
TZNAME:America/New_York EDT
END:DAYLIGHT
END:VTIMEZONE
BEGIN:VEVENT
UID:cb497c3868b97eb31f6cf452b080c6fc
CATEGORIES:At Syracuse
CREATED:20200811T112705
SUMMARY:BPI Heating Professional
LOCATION:NYSWDA Training Center - East Syracuse
DESCRIPTION:BPI Heating Professional\n
 \n
Training Location: NYSWDA Training Center (B
 uilding 1) – 5869 Fisher Road, East Syracuse, NY 13057\n
 \n
Training will 
 be available to those in NY whose regions have been designated for Phase Th
 ree.  If your NY region is still in Phase Two, you will not be allowed to a
 ttend training until your region attains Phase Three status.  Trainees from
  other states will need to provide documentation that shows their respectiv
 e regions have been cleared for training.\n\nAs part of the COVID-19 state 
 and federal protocols, NYSWDA has developed a Safety Plan to ensure the saf
 ety of you and your staff.  Below are listed the measures being taken to se
 cure the safety of your staff as well as ours.\n\nPlease read and follow NY
 SWDA Re-Opening Safety Protocols (images/NYSWDA_Re-Opening_Safety_Protocols
 .pdf) .  We are taking our re-opening very seriously.  These measures are f
 or your safety as well as our staff. No exceptions to these protocols will 
 be allowed!\n\nIn addition, all attendees will be required to complete a <a
  style="color: #106141;" href="images/Student_Screening_Checklist.pdf">Stud
 ent Screening Checklist</a> prior to attending the class.\n
 \n
Course Desc
 ription:\nThis four day course, which includes classroom and heating lab se
 ssions, will prepare you to take the BPI Heating Professional written and f
 ield tests. Using NYSWDA's state-of-the art Heating Lab, attendees will tra
 in on 15 of the most common residential heating systems, from 70% efficient
  atmospheric furnaces to 90%+ efficient two-stage ECM blower furnaces. Addi
 tionally, trainees will become knowledgeable on gas and oil-fired hydronic 
 boilers, their controls and components. Attendees will be introduced to sys
 tem load and sizing concepts, system design, duct system diagnostics, and p
 roper maintenance and efficiency analysis. This is a challenging course, an
 d as such, NYSWDA strongly recommends that attendees hold BPI Building Anal
 yst certification and have strong HVAC experience. After the trainees succe
 ssfully complete the written portion of the test, we will schedule them to 
 return for the field test.  Candidates have one year from the time they pas
 s the written test to complete their field test.  \n
\nAgenda \nDay 1: AM -
  classroom / PM - Heating Lab \nDay 2: AM - classroom / PM - Heating Lab \n
 Day 3: AM - all day labs \nDay 4: AM - review / PM - written test \n\n\nWho
  Should Attend:\nAuditors, Building Analysts, HVAC professionals\n\n\nDates
 ;\nCourse covers the dates of September 15-18, 2020/ Start Time: Tuesday-Fr
 iday 9:00am\nEnd Time: Tuesday-Thursday 4:00pm / Friday test starts at 10:0
 0am with 1 1/2 hours to complete\n\n\nPrerequisites: BPI Building Analyst c
 ertification\n\n\nClass Size: 6\n\n\nBPI CEU: 6\n\n\nInstructors:\nMatt Red
 mond / NYSWDA trainer\n\n\nOther Notes:\nTrainees lacking HVAC experience a
 re strongly recommended to attend NYSWDA's entry-level HVAC trainings. Plea
 se refer to NYSWDA's training calendar or contact Adam Harris for additiona
 l training information.\n\n\nCourse Fees;\n$725/person - NY Weatherization 
 Sub-grantees \n$725/person - affiliate members \n$1,450/person - non-member
 s \n
 \n
**Special note - if you wish to become an Affiliate Member and sav
 e off the non-member rate, please contact Drew Ehrlich (315-701-0440 ext. 2
 25, This email address is being protected from spambots. You need JavaScrip
 t enabled to view it.
				document.getElementById('cloak57fa434a3f71b9ac971
 b6477121ca75b').innerHTML = '';
				var prefix = 'ma' + 'il' + 'to';
				va
 r path = 'hr' + 'ef' + '=';
				var addy57fa434a3f71b9ac971b6477121ca75b = 
 'dehrlich' + '@';
				addy57fa434a3f71b9ac971b6477121ca75b = addy57fa434a3f
 71b9ac971b6477121ca75b + 'nyswda' + '.' + 'org';
				var addy_text57fa434a3
 f71b9ac971b6477121ca75b = 'dehrlich' + '@' + 'nyswda' + '.' + 'org';documen
 t.getElementById('cloak57fa434a3f71b9ac971b6477121ca75b').innerHTML += '<a 
 ' + path + '\'' + prefix + ':' + addy57fa434a3f71b9ac971b6477121ca75b + '\'
 >'+addy_text57fa434a3f71b9ac971b6477121ca75b+'';
		) BEFORE YOU REGISTER fo
 r the course.\n
 \n
NYSWDA will not be responsible for hotel costs, travel 
 to and from the training, breakfast and dinner meals, or incidentals. Lunch
 es are ARE NOT included.\n\n(Financial assistance may be available from loc
 al NYS Department of Labor One-Stop Centers)\n\nBPI Fees;\n$200/person - 50
 -question written test\n$500/person - Field test\n\nClick here to register 
 (index.php?option=com_civicrm&amp;task=civicrm/event/register&amp;reset=1&a
 mp;id=11385)\n\n \n\n
X-ALT-DESC;FMTTYPE=text/html:<p><span style="color: #336699;"><strong><span style="font-family: Tahoma;"
 ><span style="font-size: medium;"><span style="font-family: tahoma,arial,he
 lvetica,sans-serif;"><em></em></span><span style="font-size: 14pt;"><strong
 ><span style="color: #336699;">BPI Heating Professional</span></strong></sp
 an></span></span></strong></span></p><p>&nbsp;</p><p><span style="color: #3
 36699;"><strong><span style="font-family: Tahoma;"><span style="font-size: 
 medium;"><strong><span style="color: #336699; font-size: 13.5pt;">Training<
 /span><span style="color: #336699; font-size: 13.5pt;"> Location: NYSWDA Tr
 aining Center (Building 1) – 5869 Fisher Road, East Syracuse, NY 13057</spa
 n></strong></span></span></strong></span></p><p>&nbsp;</p><p><span style="f
 ont-family: tahoma, arial, helvetica, sans-serif; font-size: 12pt;">Trainin
 g will be available to those in NY whose regions have been designated for P
 hase Three.&nbsp;&nbsp;<strong><span style="text-decoration: underline;">If
  your NY region is still in Phase Two, you will not be allowed to attend tr
 aining until your region attains Phase Three status.</span>&nbsp;&nbsp;Trai
 nees from <em>other states</em> will need to provide documentation that sho
 ws their respective regions have been cleared for training.<br /><br /></st
 rong></span><span style="font-family: tahoma, arial, helvetica, sans-serif;
  font-size: 12pt;">As part of the COVID-19 state and federal protocols, NYS
 WDA has developed a Safety Plan to ensure the safety of you and your staff.
 &nbsp; Below are listed the measures being taken to secure the safety of yo
 ur staff as well as ours.<br /><br /></span><span style="font-family: tahom
 a, arial, helvetica, sans-serif; font-size: 12pt;"><strong>Please read and 
 follow&nbsp;</strong></span><em style="background-color: initial; font-fami
 ly: inherit; font-size: 1rem; color: #106141;"><strong><span style="font-fa
 mily: tahoma, arial, helvetica, sans-serif; font-size: 14pt;"><a style="col
 or: #106141;" href="https://www.nyswda.org/images/NYSWDA_Re-Opening_Safety_
 Protocols.pdf">NYSWDA Re-Opening Safety Protocols</a>&nbsp;</span></strong>
 </em><strong style="font-family: tahoma, arial, helvetica, sans-serif; font
 -size: 12pt; background-color: initial;">.&nbsp; We are taking our re-openi
 ng very seriously.&nbsp; These measures are for your safety as well as our 
 staff. No exceptions to these protocols will be allowed!<br /><br /></stron
 g><span style="color: #ff0000;"><span style="font-family: tahoma, arial, he
 lvetica, sans-serif; font-size: 14pt;"><span style="font-size: 12pt;"><span
  style="color: #000000;">In addition, all attendees will be required to com
 plete a</span>&nbsp;</span></span><span style="color: #106141;"><em><strong
 ><span style="font-family: tahoma, arial, helvetica, sans-serif; font-size:
  14pt;"><span style="color: #106141;"><a style="color: #106141;" href="http
 s://www.nyswda.org/images/Student_Screening_Checklist.pdf">Student Screenin
 g Checklist</a></span>&nbsp;</span></strong></em></span><span style="font-f
 amily: tahoma, arial, helvetica, sans-serif; font-size: 12pt; color: #00000
 0;">prior to attending the class.</span></span></p><p>&nbsp;</p><p><span st
 yle="color: #ff0000;"><span style="font-family: tahoma, arial, helvetica, s
 ans-serif; font-size: 12pt; color: #000000;"></span></span><span style="col
 or: #336699;"><span style="font-family: Tahoma; font-size: 12pt;"><span sty
 le="color: #000000;"><span style="text-decoration: underline;"><em><span>Co
 urse Description:<br /></span></em></span></span></span></span><span style=
 "color: #336699;"><span style="font-family: Tahoma; font-size: 12pt;"><span
  style="color: #000000;"><span>This four day course, which includes classro
 om and heating lab sessions, will prepare you to take the BPI Heating Profe
 ssional written and field tests. Using NYSWDA's state-of-the art Heating La
 b, attendees will train on 15 of the most common residential heating system
 s, from 70% efficient atmospheric furnaces to 90%+ efficient two-stage ECM 
 blower furnaces. Additionally, trainees will become knowledgeable on gas an
 d oil-fired hydronic boilers, their controls and components. Attendees will
  be introduced to system load and sizing concepts, system design, duct syst
 em diagnostics, and proper maintenance and efficiency analysis. This is a c
 hallenging course, and as such, NYSWDA strongly recommends that attendees h
 old BPI Building Analyst certification and have strong HVAC experience. Aft
 er the trainees successfully complete the written portion of the test, we w
 ill schedule them to return for the field test.&nbsp; Candidates have&nbsp;
 one year from the time they&nbsp;pass the written test to&nbsp;complete the
 ir field test.&nbsp;&nbsp;</span></span></span></span></p><p><span style="c
 olor: #336699;"><span style="font-family: Tahoma; font-size: 12pt;"><span><
 span style="color: #000000;"><span><span style="font-family: Tahoma;"><span
  style="color: #000000;"><span style="text-decoration: underline;"><em><br 
 />Agenda</em><span style="font-family: Arial, Helvetica;"> <br /><span styl
 e="color: #000000;"></span></span></span><span style="font-family: Arial, H
 elvetica;"><span style="color: #000000;"><span style="font-family: Times;">
 <strong><span style="font-family: Tahoma;">Day 1: </span></strong><span sty
 le="font-family: Tahoma;">AM - classroom / PM - Heating Lab <br /><strong>D
 ay 2: </strong>AM - classroom / PM - Heating Lab <br /><strong>Day 3: </str
 ong>AM - all day labs <br /><strong>Day 4: </strong>AM - review / PM - writ
 ten test <br /><br /><span style="text-decoration: underline;"><em><br />Wh
 o Should Attend:<br /></em></span><em><span style="font-family: Tahoma;"></
 span></em><span style="font-family: Tahoma;"><span style="font-family: Taho
 ma;">Auditors, Building Analysts, HVAC professionals<span style="font-famil
 y: Tahoma;"><br /><br /><br /><span style="text-decoration: underline;"><em
 ><span style="font-family: Tahoma;">Dates;<br /></span></em></span><em><spa
 n style="font-family: Tahoma;"><span style="font-family: Tahoma;"></span></
 span></em><span style="font-family: Tahoma;"><span style="font-family: Taho
 ma;">Course covers the dates of&nbsp;September 15-18, 2020/ <span style="co
 lor: #336699;"><span style="font-family: Tahoma; font-size: 12pt;"><span><s
 pan style="color: #000000;"><span><span style="font-family: Tahoma;"><span 
 style="color: #000000;"><span style="font-family: Arial, Helvetica;"><span 
 style="color: #000000;"><span style="font-family: Times;"><span style="font
 -family: Tahoma;"><span style="font-family: Tahoma;"><span style="font-fami
 ly: Tahoma;"><span style="font-family: Tahoma;"><span style="font-family: T
 ahoma;"><span style="font-family: Tahoma;">Start Time: Tuesday-Friday 9:00a
 m<br />End Time: Tuesday-Thursday 4:00pm / Friday test starts at 10:00am wi
 th 1 1/2 hours to complete<br /><br /><br /><span style="text-decoration: u
 nderline;"><em><span style="font-family: Tahoma;">Prerequisites:</span></em
 ></span><em><span style="font-family: Tahoma;"> </span></em><span style="fo
 nt-family: Tahoma;"><span style="font-family: Tahoma;">BPI Building Analyst
  certification<em><span style="font-family: Tahoma;"><br /></span></em><spa
 n style="font-family: Tahoma;"><span style="font-family: Tahoma;"><br /><br
  /><span style="text-decoration: underline;"><em>Class Size</em></span>: 6<
 br /><br /><br /><span style="text-decoration: underline;"><em>BPI CEU</em>
 :</span> 6<br /><br /><br /><span style="text-decoration: underline;"><em><
 span style="font-family: Tahoma;">Instructors:<br /></span></em></span><spa
 n style="font-family: Tahoma;">Matt Redmond / NYSWDA trainer<span style="fo
 nt-family: Tahoma;"><br /><br /><br /><span style="text-decoration: underli
 ne;"><em><span style="font-family: Tahoma;">Other Notes:<br /></span></em><
 /span><span style="font-family: Tahoma;">Trainees lacking HVAC experience a
 re strongly recommended to attend NYSWDA's entry-level HVAC trainings. Plea
 se refer to NYSWDA's training calendar or contact Adam Harris for additiona
 l training information.<span style="font-family: Times;"><br /><span style=
 "font-family: Tahoma;"><br /><br /><span style="text-decoration: underline;
 "><em><span style="font-family: Tahoma;">Course Fees;</span></em></span><em
 ><span style="font-family: Tahoma;"><br /></span></em><span style="font-fam
 ily: Tahoma;"><span style="font-family: Tahoma;">$725/person - NY Weatheriz
 ation Sub-grantees<span style="color: #ff6600;"> </span><br />$725/person -
  affiliate members&nbsp;<br />$1,450/person - non-members </span></span></s
 pan></span></span></span></span></span></span></span></span></span></span><
 /span></span></span></span></span></span></span></span></span></span></span
 ></span></span></span></span></span></span></span></span></span></span></sp
 an></span></span></span></span></span></span></span></span></p><p>&nbsp;</p
 ><p style="margin-top: 0in; margin-right: 0in; margin-bottom: 0pt;"><strong
 ><i><span style="background: white; color: #02613f; font-family: 'Georgia',
 'serif';"><span style="font-size: small;">**Special note</span></span></i><
 /strong><strong><i><span style="background: white; color: black; font-famil
 y: 'Georgia','serif';"><span style="font-size: small;">&nbsp;-&nbsp;if you 
 wish to become an Affiliate Member and&nbsp;save off the non-member rate, p
 lease contact&nbsp;Drew Ehrlich&nbsp;(315-701-0440 ext. 225,&nbsp;</span><s
 pan id="cloak57fa434a3f71b9ac971b6477121ca75b">This email address is being 
 protected from spambots. You need JavaScript enabled to view it.</span><scr
 ipt type='text/javascript'>
				document.getElementById('cloak57fa434a3f71b
 9ac971b6477121ca75b').innerHTML = '';
				var prefix = 'ma' + 'il' + 'to';

 				var path = 'hr' + 'ef' + '=';
				var addy57fa434a3f71b9ac971b6477121ca
 75b = 'dehrlich' + '@';
				addy57fa434a3f71b9ac971b6477121ca75b = addy57fa
 434a3f71b9ac971b6477121ca75b + 'nyswda' + '.' + 'org';
				var addy_text57f
 a434a3f71b9ac971b6477121ca75b = '<span style="color: #0000ff; font-size: sm
 all;">dehrlich' + '@' + 'nyswda' + '.' + 'org</span>';document.getElementBy
 Id('cloak57fa434a3f71b9ac971b6477121ca75b').innerHTML += '<a ' + path + '\'
 ' + prefix + ':' + addy57fa434a3f71b9ac971b6477121ca75b + '\'>'+addy_text57
 fa434a3f71b9ac971b6477121ca75b+'<\/a>';
		</script><span style="font-size: 
 small;">)&nbsp;</span></span></i></strong><span style="font-size: small;"><
 strong><span style="background: white; color: #02613f; font-family: 'Georgi
 a','serif';">BEFORE YOU REGISTER&nbsp;</span></strong><em><b><span style="b
 ackground: white; color: black; font-family: 'Georgia','serif';">for the co
 urse</span></b></em><strong><span style="background: white; color: black; f
 ont-family: 'Georgia','serif';">.</span></strong></span></p><p>&nbsp;</p><p
 ><span style="color: #ff6600; font-family: tahoma,arial,helvetica,sans-seri
 f; font-size: 12pt;"><span style="font-family: Times New Roman; font-size: 
 small;"></span></span><span style="color: #336699;"><span style="font-famil
 y: Tahoma; font-size: 12pt;"><span><span style="color: #000000;"><span><spa
 n style="font-family: Tahoma;"><span style="color: #000000;"><span style="f
 ont-family: Arial, Helvetica;"><span style="color: #000000;"><span style="f
 ont-family: Times;"><span style="font-family: Tahoma;"><span style="font-fa
 mily: Tahoma;"><span style="font-family: Tahoma;"><span style="font-family:
  Tahoma;"><span style="font-family: Tahoma;"><span style="font-family: Taho
 ma;"><span style="font-family: Tahoma;"><span style="font-family: Tahoma;">
 <span style="font-family: Tahoma;"><span style="font-family: Tahoma;"><span
  style="font-family: Tahoma;"><span style="font-family: Tahoma;"><span styl
 e="font-family: Tahoma;"><span style="font-family: Times;"><span style="fon
 t-family: Tahoma;"><span style="font-family: Tahoma;"><span style="font-fam
 ily: Tahoma;"><span style="font-family: Tahoma;">NYSWDA will not be respons
 ible for hotel costs, travel to and from the training, breakfast and dinner
  meals, or incidentals. Lunches are ARE NOT included.<br /><br /><em>(Finan
 cial assistance may be available from local NYS Department of Labor One-Sto
 p Centers)</em><span style="font-family: Times;"><br /><span style="font-fa
 mily: Tahoma;"><br /><span style="text-decoration: underline;"><em>BPI Fees
 ;<br /></em></span><span style="font-family: Tahoma;">$200/person - 50-ques
 tion written test<br />$500/person - Field test<br /><br /><span style="col
 or: #000000;"><span><span style="color: #000000;"><span><em><strong><span s
 tyle="color: #0000ff; font-size: 14pt;"><a href="https://www.nyswda.org/ind
 ex.php?option=com_civicrm&amp;task=civicrm/event/register&amp;reset=1&amp;i
 d=11385"><span style="color: #0000ff;">Click here to register</span></a><br
  /><br /></span></strong></em></span></span></span></span></span></span></s
 pan></span></span></span></span></span></span></span></span></span></span><
 /span></span></span></span></span></span></span></span></span></span></span
 ></span></span></span></span></span></span><span style="font-family: Tahoma
 ;"><span><span style="color: #000000;"><span><span style="font-family: Taho
 ma;"><span style="color: #000000;"><span style="font-family: Arial, Helveti
 ca;"><span style="color: #000000;"><span style="font-family: Times;"><span 
 style="font-family: Tahoma;"><span style="font-family: Tahoma;"><span style
 ="font-family: Tahoma;"><span style="font-family: Tahoma;"><span style="fon
 t-family: Tahoma;"><span style="font-family: Tahoma;"><span style="font-fam
 ily: Tahoma;"><span style="font-family: Tahoma;"><span style="font-family: 
 Tahoma;"><span style="font-family: Tahoma;"><span style="font-family: Tahom
 a;"><span style="font-family: Tahoma;"><span style="font-family: Tahoma;"><
 span style="font-family: Times;"><span style="font-family: Tahoma;"><span s
 tyle="font-family: Tahoma;"><span style="font-family: Tahoma;"><span style=
 "font-family: Tahoma;"><span style="font-family: Times;"><span style="font-
 family: Tahoma;"><span style="font-family: Tahoma;"><span style="color: #00
 0000;"><span><span style="color: #000000;"><span>&nbsp;</span></span></span
 ></span></span></span></span></span></span></span></span></span></span></sp
 an></span></span></span></span></span></span></span></span></span></span></
 span></span></span></span></span></span></span></span></span></span><span s
 tyle="font-family: Tahoma; font-size: 12pt;"><span><span style="color: #000
 000;"><span><span style="font-family: Tahoma;"><span style="color: #000000;
 "><span style="font-family: Arial, Helvetica;"><span style="color: #000000;
 "><span style="font-family: Times;"><span style="font-family: Tahoma;"><spa
 n style="font-family: Tahoma;"><span style="font-family: Tahoma;"><span sty
 le="font-family: Tahoma;"><span style="font-family: Tahoma;"><span style="f
 ont-family: Tahoma;"><span style="font-family: Tahoma;"><span style="font-f
 amily: Tahoma;"><span style="font-family: Tahoma;"><span style="font-family
 : Tahoma;"><span style="font-family: Tahoma;"><span style="font-family: Tah
 oma;"><span style="font-family: Tahoma;"><span style="font-family: Times;">
 <span style="font-family: Tahoma;"><span style="font-family: Tahoma;"><span
  style="font-family: Tahoma;"><span style="font-family: Tahoma;"><span styl
 e="font-family: Times;"><span style="font-family: Tahoma;"><span style="fon
 t-family: Tahoma;"><span style="color: #000000;"><span><span style="color: 
 #000000;"><span><br /></span></span></span></span></span></span></span></sp
 an></span></span></span></span></span></span></span></span></span></span></
 span></span></span></span></span></span></span></span></span></span></span>
 </span></span></span></span></span></span></p>
CONTACT:This email address is being protected from spambots. You need JavaScript enabled to view it.
				document.getElementById('cloak8903849e67c7e2f26ce8c08065a1b170').innerHTML = '';
				var prefix = '&#109;a' + 'i&#108;' + '&#116;o';
				var path = 'hr' + 'ef' + '=';
				var addy8903849e67c7e2f26ce8c08065a1b170 = 'rv&#105;ss&#101;r' + '&#64;';
				addy8903849e67c7e2f26ce8c08065a1b170 = addy8903849e67c7e2f26ce8c08065a1b170 + 'nyswd&#97;' + '&#46;' + '&#111;rg';
				var addy_text8903849e67c7e2f26ce8c08065a1b170 = 'rv&#105;ss&#101;r' + '&#64;' + 'nyswd&#97;' + '&#46;' + '&#111;rg';document.getElementById('cloak8903849e67c7e2f26ce8c08065a1b170').innerHTML += '<a ' + path + '\'' + prefix + ':' + addy8903849e67c7e2f26ce8c08065a1b170 + '\'>'+addy_text8903849e67c7e2f26ce8c08065a1b170+'';
		
DTSTAMP:20260425T112231
DTSTART;TZID=America/New_York:20200915T090000
DTEND;TZID=America/New_York:20200918T170000
SEQUENCE:0
TRANSP:OPAQUE
END:VEVENT
END:VCALENDAR