BEGIN:VCALENDAR
VERSION:2.0
PRODID:-//jEvents 2.0 for Joomla//EN
CALSCALE:GREGORIAN
METHOD:PUBLISH
BEGIN:VTIMEZONE
TZID:America/New_York
BEGIN:STANDARD
DTSTART:20191105T090000
RDATE:20200308T030000
TZOFFSETFROM:-0400
TZOFFSETTO:-0500
TZNAME:America/New_York EST
END:STANDARD
BEGIN:STANDARD
DTSTART:20201101T010000
RDATE:20210314T030000
TZOFFSETFROM:-0400
TZOFFSETTO:-0500
TZNAME:America/New_York EST
END:STANDARD
BEGIN:STANDARD
DTSTART:20211107T010000
RDATE:20220313T030000
TZOFFSETFROM:-0400
TZOFFSETTO:-0500
TZNAME:America/New_York EST
END:STANDARD
BEGIN:STANDARD
DTSTART:20221106T010000
RDATE:20230312T030000
TZOFFSETFROM:-0400
TZOFFSETTO:-0500
TZNAME:America/New_York EST
END:STANDARD
BEGIN:STANDARD
DTSTART:20231105T010000
RDATE:20240310T030000
TZOFFSETFROM:-0400
TZOFFSETTO:-0500
TZNAME:America/New_York EST
END:STANDARD
BEGIN:STANDARD
DTSTART:20241103T010000
RDATE:20250309T030000
TZOFFSETFROM:-0400
TZOFFSETTO:-0500
TZNAME:America/New_York EST
END:STANDARD
BEGIN:STANDARD
DTSTART:20251102T010000
RDATE:20260308T030000
TZOFFSETFROM:-0400
TZOFFSETTO:-0500
TZNAME:America/New_York EST
END:STANDARD
BEGIN:STANDARD
DTSTART:20261101T010000
RDATE:20270314T030000
TZOFFSETFROM:-0400
TZOFFSETTO:-0500
TZNAME:America/New_York EST
END:STANDARD
BEGIN:STANDARD
DTSTART:20271107T010000
RDATE:20280312T030000
TZOFFSETFROM:-0400
TZOFFSETTO:-0500
TZNAME:America/New_York EST
END:STANDARD
BEGIN:STANDARD
DTSTART:20281105T010000
RDATE:20290311T030000
TZOFFSETFROM:-0400
TZOFFSETTO:-0500
TZNAME:America/New_York EST
END:STANDARD
BEGIN:STANDARD
DTSTART:20291104T010000
RDATE:20300310T030000
TZOFFSETFROM:-0400
TZOFFSETTO:-0500
TZNAME:America/New_York EST
END:STANDARD
BEGIN:STANDARD
DTSTART:20301103T010000
RDATE:20310309T030000
TZOFFSETFROM:-0400
TZOFFSETTO:-0500
TZNAME:America/New_York EST
END:STANDARD
BEGIN:DAYLIGHT
DTSTART:20200308T030000
RDATE:20201101T010000
TZOFFSETFROM:-0500
TZOFFSETTO:-0400
TZNAME:America/New_York EDT
END:DAYLIGHT
BEGIN:DAYLIGHT
DTSTART:20210314T030000
RDATE:20211107T010000
TZOFFSETFROM:-0500
TZOFFSETTO:-0400
TZNAME:America/New_York EDT
END:DAYLIGHT
BEGIN:DAYLIGHT
DTSTART:20220313T030000
RDATE:20221106T010000
TZOFFSETFROM:-0500
TZOFFSETTO:-0400
TZNAME:America/New_York EDT
END:DAYLIGHT
BEGIN:DAYLIGHT
DTSTART:20230312T030000
RDATE:20231105T010000
TZOFFSETFROM:-0500
TZOFFSETTO:-0400
TZNAME:America/New_York EDT
END:DAYLIGHT
BEGIN:DAYLIGHT
DTSTART:20240310T030000
RDATE:20241103T010000
TZOFFSETFROM:-0500
TZOFFSETTO:-0400
TZNAME:America/New_York EDT
END:DAYLIGHT
BEGIN:DAYLIGHT
DTSTART:20250309T030000
RDATE:20251102T010000
TZOFFSETFROM:-0500
TZOFFSETTO:-0400
TZNAME:America/New_York EDT
END:DAYLIGHT
BEGIN:DAYLIGHT
DTSTART:20260308T030000
RDATE:20261101T010000
TZOFFSETFROM:-0500
TZOFFSETTO:-0400
TZNAME:America/New_York EDT
END:DAYLIGHT
BEGIN:DAYLIGHT
DTSTART:20270314T030000
RDATE:20271107T010000
TZOFFSETFROM:-0500
TZOFFSETTO:-0400
TZNAME:America/New_York EDT
END:DAYLIGHT
BEGIN:DAYLIGHT
DTSTART:20280312T030000
RDATE:20281105T010000
TZOFFSETFROM:-0500
TZOFFSETTO:-0400
TZNAME:America/New_York EDT
END:DAYLIGHT
BEGIN:DAYLIGHT
DTSTART:20290311T030000
RDATE:20291104T010000
TZOFFSETFROM:-0500
TZOFFSETTO:-0400
TZNAME:America/New_York EDT
END:DAYLIGHT
BEGIN:DAYLIGHT
DTSTART:20300310T030000
RDATE:20301103T010000
TZOFFSETFROM:-0500
TZOFFSETTO:-0400
TZNAME:America/New_York EDT
END:DAYLIGHT
END:VTIMEZONE
BEGIN:VEVENT
UID:cfd73b11a462f616e020c435fa6aa6df
CATEGORIES:WEB
CREATED:20201009T185734
SUMMARY:Weatherization Health & Safety - Online
LOCATION:NYSWDA - East Syracuse
DESCRIPTION:<p><br />&nbsp;<span style="color: #336699; font-family: tahoma,arial,helve
 tica,sans-serif; font-size: 14pt;"><span style="color: #000000;"><strong><s
 pan style="color: #336699;">Weatherization Health &amp; Safety - Online&nbs
 p;</span></strong></span></span></p><p>&nbsp;</p><p><span style="color: #33
 6699; font-family: tahoma,arial,helvetica,sans-serif; font-size: 14pt;"><sp
 an style="color: #000000;"><strong><span style="color: #336699;">GoToWebina
 r Event</span></strong></span></span></p><p><strong><span style="font-famil
 y: 'Tahoma','sans-serif'; color: #336699; font-size: 13.5pt;"></span></stro
 ng></p><p>&nbsp;</p><p><span style="font-size: 12pt;"><em><span style="text
 -decoration: underline;"><span style="font-family: 'Tahoma','sans-serif'; c
 olor: black;">Course Description:</span></span></em></span>&nbsp;</p><p><sp
 an style="font-family: Tahoma, sans-serif; color: black; font-size: 12pt;">
 This online course covers two, 3-hour sessions.&nbsp; Successful course com
 pletion means the candidate must attend BOTH sessions in order to be awarde
 d CEU’s and a certificate of completion.&nbsp; YOU DO NOT NEED TO REGISTER 
 TWICE.&nbsp; You will be sent a webinar invite for both sessions.&nbsp; Eac
 h session is from 9:00am until noon.<br /><br /></span><span style="font-fa
 mily: Tahoma, sans-serif; color: black; font-size: 12pt;">Identifying healt
 h and safety issues in client homes is a fundamental task in the Weatheriza
 tion program. This course will prepare the weatherization professional to p
 erform the H&amp;S inspection as well as required tests. Areas to be covere
 d include: CO in ambient and flue gases, CAZ depressurization, worst case b
 ackdrafting, moisture/mold, asbestos, lead, clearances to combustibles, ove
 rloaded electrical circuits, unvented space heating.&nbsp;<br /><br /></spa
 n><span style="font-family: Tahoma, sans-serif; color: black; font-size: 12
 pt;">This is an HCR mandated training for Weatherization Directors, Auditor
 s, Crew Supervisors and Crews. If you are a new Director or have new staff,
  you are strongly advised to attend.&nbsp; This training requires attendanc
 e every three (3) years.</span>&nbsp;</p><p>&nbsp;</p><p><span style="font-
 family: 'Tahoma', 'sans-serif'; color: black; font-size: 12pt;"></span></p>
 <p><span style="font-size: 12pt;"><em><span style="text-decoration: underli
 ne;"><span style="font-family: 'Tahoma','sans-serif'; color: black;">Class 
 Size</span></span></em><span style="font-family: 'Tahoma','sans-serif'; col
 or: black;">: 25</span></span>&nbsp;<span style="font-family: 'Tahoma', 'sa
 ns-serif'; color: black; font-size: 12pt;"></span></p><p>&nbsp;</p><p><span
  style="font-size: 12pt;"><em><span style="text-decoration: underline;"><sp
 an style="font-family: 'Tahoma','sans-serif'; color: black;">BPI CEU</span>
 </span></em><span style="text-decoration: underline;"><span style="font-fam
 ily: 'Tahoma','sans-serif'; color: black;">:</span></span><span style="font
 -family: 'Tahoma','sans-serif'; color: black;"> 3</span></span>&nbsp;</p><p
 ><span style="font-family: 'Tahoma', 'sans-serif'; color: black; font-size:
  12pt;"></span></p><p>&nbsp;</p><p><span style="font-size: 12pt;"><span sty
 le="text-decoration: underline;"><span style="font-family: 'Tahoma','sans-s
 erif'; color: black;"><em>Instructor</em>:</span></span><span style="font-f
 amily: 'Tahoma','sans-serif'; color: black;">&nbsp;&nbsp;</span><span style
 ="font-family: 'Tahoma','sans-serif'; color: black;">Al McMahon - NYSWDA</s
 pan></span>&nbsp;</p><p><span style="font-family: 'Tahoma', 'sans-serif'; c
 olor: black; font-size: 12pt;"></span></p><p>&nbsp;</p><p><span style="font
 -size: 12pt;"><em><span style="text-decoration: underline;"><span style="fo
 nt-family: 'Tahoma','sans-serif'; color: black;">Course Fees:&nbsp;</span><
 /span></em></span>&nbsp;</p><p><span style="font-size: 12pt;"><span style="
 color: black; font-family: 'Tahoma','sans-serif';">$262/person - NY&nbsp;We
 atherization Sub-grantees</span></span></p><p><span style="font-size: 12pt;
 "><span style="color: black; font-family: 'Tahoma','sans-serif';">$262/pers
 on - affiliate members</span><span style="color: black; font-family: 'Tahom
 a','sans-serif';"></span></span></p><p><span style="font-size: 12pt;"><span
  style="color: black; font-family: 'Tahoma','sans-serif';">$380/person - no
 n-members</span><span style="color: black; font-family: 'Tahoma','sans-seri
 f';"></span><span style="color: black; font-family: 'Tahoma','sans-serif';"
 ></span><em><span style="color: black; font-family: 'Tahoma','sans-serif';"
 ><br /></span></em></span></p><p>&nbsp;</p><p><span style="color: #0000ff;"
 ><em><strong><span style="font-family: tahoma, arial, helvetica, sans-serif
 ; font-size: 14pt;"><span style="color: #0000ff;"></span></span></strong></
 em></span><span style="background-color: initial; color: inherit; font-fami
 ly: inherit; font-size: 1rem;"> </span><em style="background-color: initial
 ; color: inherit; font-family: inherit; font-size: 1rem;"><strong><span sty
 le="background: white; color: #02613f; font-family: 'Georgia','serif';"><sp
 an style="font-size: small;">**Special note</span></span></strong></em><spa
 n style="background: white; color: black; font-family: 'Georgia','serif';">
 <span style="font-size: small;"><i><strong>&nbsp;-&nbsp;if you wish to beco
 me an Affiliate Member please contact&nbsp;Drew Ehrlich&nbsp;(315-701-0440 
 ext. 225,&nbsp;</strong></i></span><i><strong><span id="cloak35e93d1b911f42
 f54c315820311dd338">This email address is being protected from spambots. Yo
 u need JavaScript enabled to view it.</span><script type='text/javascript'>
 
				document.getElementById('cloak35e93d1b911f42f54c315820311dd338').inner
 HTML = '';
				var prefix = 'ma' + 'il' + 'to';
				var path = 'hr' + 'ef' 
 + '=';
				var addy35e93d1b911f42f54c315820311dd338 = 'dehrlich' + '@';
			
 	addy35e93d1b911f42f54c315820311dd338 = addy35e93d1b911f42f54c315820311dd33
 8 + 'nyswda' + '.' + 'org';
				var addy_text35e93d1b911f42f54c315820311dd3
 38 = '<span style="color: #0000ff; font-size: small;">dehrlich' + '@' + 'ny
 swda' + '.' + 'org</span>';document.getElementById('cloak35e93d1b911f42f54c
 315820311dd338').innerHTML += '<a ' + path + '\'' + prefix + ':' + addy35e9
 3d1b911f42f54c315820311dd338 + '\'>'+addy_text35e93d1b911f42f54c315820311dd
 338+'<\/a>';
		</script><span style="font-size: small;">)&nbsp;</span></str
 ong></i></span><i style="background-color: initial; color: inherit; font-fa
 mily: inherit; font-size: 1rem;"></i><span style="font-size: small;"><stron
 g><span style="background: white; color: #02613f; font-family: 'Georgia','s
 erif';">BEFORE YOU REGISTER&nbsp;</span></strong><em><b><span style="backgr
 ound: white; color: black; font-family: 'Georgia','serif';">for the course<
 /span></b></em><strong><span style="background: white; color: black; font-f
 amily: 'Georgia','serif';">.</span></strong></span><span style="background-
 color: initial; color: inherit; font-family: inherit; font-size: 1rem;"></s
 pan></p><p>&nbsp;</p><p><span style="font-family: georgia, palatino; font-s
 ize: 10pt;"><strong><em><span style="color: #10704d; background: white;">Th
 rough the support of NYS HCR funding, we are able to provide </span></em></
 strong><em><strong><span style="color: #02613f; background: white;">quality
  training at&nbsp;discounted rates to NYSWDA members.</span></strong></em><
 /span></p><p>&nbsp;</p><p><span style="font-size: 14pt; font-family: tahoma
 , arial, helvetica, sans-serif; color: #0000ff;"><em><strong><span style="b
 ackground: white;"><a style="color: #0000ff;" href="index.php?option=com_ci
 vicrm&amp;task=civicrm/event/register&amp;reset=1&amp;id=11427">Click here 
 to register</a></span></strong></em></span><span style="font-size: 12pt;"><
 em style="background-color: initial; color: inherit; font-family: inherit; 
 font-size: 1rem;"><strong><span style="font-family: Arial, Helvetica;"></sp
 an><span style="font-family: Tahoma;"></span><span style="font-family: Aria
 l, Helvetica;"></span><span style="font-family: Tahoma;"></span><span style
 ="font-family: Arial, Helvetica;"></span><span style="font-family: Tahoma;"
 ></span><span style="font-family: Tahoma;"></span><span style="font-family:
  Tahoma;"></span><span style="font-family: Arial, Helvetica;"></span><span 
 style="font-family: Tahoma;"></span><span style="font-family: Tahoma;"></sp
 an><span style="font-family: Tahoma;"></span><span style="font-family: Taho
 ma;"></span><span style="font-family: Arial, Helvetica;"></span><span style
 ="font-family: Tahoma;"></span><em></em><span style="font-size: 14pt;"></sp
 an></strong></em></span></p><p><span style="font-family: 'Arial','sans-seri
 f'; color: black; font-size: 10pt;"></span></p><p>&nbsp;</p><p><span style=
 "font-family: 'Arial','sans-serif'; color: black; font-size: 10pt;"></span>
 </p><p>&nbsp;</p><p>&nbsp;</p><p>&nbsp;</p><p>&nbsp;</p><p>&nbsp;</p>
X-ALT-DESC;FMTTYPE=text/html:<p><br />&nbsp;<span style="color: #336699; font-family: tahoma,arial,helve
 tica,sans-serif; font-size: 14pt;"><span style="color: #000000;"><strong><s
 pan style="color: #336699;">Weatherization Health &amp; Safety - Online&nbs
 p;</span></strong></span></span></p><p>&nbsp;</p><p><span style="color: #33
 6699; font-family: tahoma,arial,helvetica,sans-serif; font-size: 14pt;"><sp
 an style="color: #000000;"><strong><span style="color: #336699;">GoToWebina
 r Event</span></strong></span></span></p><p><strong><span style="font-famil
 y: 'Tahoma','sans-serif'; color: #336699; font-size: 13.5pt;"></span></stro
 ng></p><p>&nbsp;</p><p><span style="font-size: 12pt;"><em><span style="text
 -decoration: underline;"><span style="font-family: 'Tahoma','sans-serif'; c
 olor: black;">Course Description:</span></span></em></span>&nbsp;</p><p><sp
 an style="font-family: Tahoma, sans-serif; color: black; font-size: 12pt;">
 This online course covers two, 3-hour sessions.&nbsp; Successful course com
 pletion means the candidate must attend BOTH sessions in order to be awarde
 d CEU’s and a certificate of completion.&nbsp; YOU DO NOT NEED TO REGISTER 
 TWICE.&nbsp; You will be sent a webinar invite for both sessions.&nbsp; Eac
 h session is from 9:00am until noon.<br /><br /></span><span style="font-fa
 mily: Tahoma, sans-serif; color: black; font-size: 12pt;">Identifying healt
 h and safety issues in client homes is a fundamental task in the Weatheriza
 tion program. This course will prepare the weatherization professional to p
 erform the H&amp;S inspection as well as required tests. Areas to be covere
 d include: CO in ambient and flue gases, CAZ depressurization, worst case b
 ackdrafting, moisture/mold, asbestos, lead, clearances to combustibles, ove
 rloaded electrical circuits, unvented space heating.&nbsp;<br /><br /></spa
 n><span style="font-family: Tahoma, sans-serif; color: black; font-size: 12
 pt;">This is an HCR mandated training for Weatherization Directors, Auditor
 s, Crew Supervisors and Crews. If you are a new Director or have new staff,
  you are strongly advised to attend.&nbsp; This training requires attendanc
 e every three (3) years.</span>&nbsp;</p><p>&nbsp;</p><p><span style="font-
 family: 'Tahoma', 'sans-serif'; color: black; font-size: 12pt;"></span></p>
 <p><span style="font-size: 12pt;"><em><span style="text-decoration: underli
 ne;"><span style="font-family: 'Tahoma','sans-serif'; color: black;">Class 
 Size</span></span></em><span style="font-family: 'Tahoma','sans-serif'; col
 or: black;">: 25</span></span>&nbsp;<span style="font-family: 'Tahoma', 'sa
 ns-serif'; color: black; font-size: 12pt;"></span></p><p>&nbsp;</p><p><span
  style="font-size: 12pt;"><em><span style="text-decoration: underline;"><sp
 an style="font-family: 'Tahoma','sans-serif'; color: black;">BPI CEU</span>
 </span></em><span style="text-decoration: underline;"><span style="font-fam
 ily: 'Tahoma','sans-serif'; color: black;">:</span></span><span style="font
 -family: 'Tahoma','sans-serif'; color: black;"> 3</span></span>&nbsp;</p><p
 ><span style="font-family: 'Tahoma', 'sans-serif'; color: black; font-size:
  12pt;"></span></p><p>&nbsp;</p><p><span style="font-size: 12pt;"><span sty
 le="text-decoration: underline;"><span style="font-family: 'Tahoma','sans-s
 erif'; color: black;"><em>Instructor</em>:</span></span><span style="font-f
 amily: 'Tahoma','sans-serif'; color: black;">&nbsp;&nbsp;</span><span style
 ="font-family: 'Tahoma','sans-serif'; color: black;">Al McMahon - NYSWDA</s
 pan></span>&nbsp;</p><p><span style="font-family: 'Tahoma', 'sans-serif'; c
 olor: black; font-size: 12pt;"></span></p><p>&nbsp;</p><p><span style="font
 -size: 12pt;"><em><span style="text-decoration: underline;"><span style="fo
 nt-family: 'Tahoma','sans-serif'; color: black;">Course Fees:&nbsp;</span><
 /span></em></span>&nbsp;</p><p><span style="font-size: 12pt;"><span style="
 color: black; font-family: 'Tahoma','sans-serif';">$262/person - NY&nbsp;We
 atherization Sub-grantees</span></span></p><p><span style="font-size: 12pt;
 "><span style="color: black; font-family: 'Tahoma','sans-serif';">$262/pers
 on - affiliate members</span><span style="color: black; font-family: 'Tahom
 a','sans-serif';"></span></span></p><p><span style="font-size: 12pt;"><span
  style="color: black; font-family: 'Tahoma','sans-serif';">$380/person - no
 n-members</span><span style="color: black; font-family: 'Tahoma','sans-seri
 f';"></span><span style="color: black; font-family: 'Tahoma','sans-serif';"
 ></span><em><span style="color: black; font-family: 'Tahoma','sans-serif';"
 ><br /></span></em></span></p><p>&nbsp;</p><p><span style="color: #0000ff;"
 ><em><strong><span style="font-family: tahoma, arial, helvetica, sans-serif
 ; font-size: 14pt;"><span style="color: #0000ff;"></span></span></strong></
 em></span><span style="background-color: initial; color: inherit; font-fami
 ly: inherit; font-size: 1rem;"> </span><em style="background-color: initial
 ; color: inherit; font-family: inherit; font-size: 1rem;"><strong><span sty
 le="background: white; color: #02613f; font-family: 'Georgia','serif';"><sp
 an style="font-size: small;">**Special note</span></span></strong></em><spa
 n style="background: white; color: black; font-family: 'Georgia','serif';">
 <span style="font-size: small;"><i><strong>&nbsp;-&nbsp;if you wish to beco
 me an Affiliate Member please contact&nbsp;Drew Ehrlich&nbsp;(315-701-0440 
 ext. 225,&nbsp;</strong></i></span><i><strong><span id="cloak35e93d1b911f42
 f54c315820311dd338">This email address is being protected from spambots. Yo
 u need JavaScript enabled to view it.</span><script type='text/javascript'>
 
				document.getElementById('cloak35e93d1b911f42f54c315820311dd338').inner
 HTML = '';
				var prefix = 'ma' + 'il' + 'to';
				var path = 'hr' + 'ef' 
 + '=';
				var addy35e93d1b911f42f54c315820311dd338 = 'dehrlich' + '@';
			
 	addy35e93d1b911f42f54c315820311dd338 = addy35e93d1b911f42f54c315820311dd33
 8 + 'nyswda' + '.' + 'org';
				var addy_text35e93d1b911f42f54c315820311dd3
 38 = '<span style="color: #0000ff; font-size: small;">dehrlich' + '@' + 'ny
 swda' + '.' + 'org</span>';document.getElementById('cloak35e93d1b911f42f54c
 315820311dd338').innerHTML += '<a ' + path + '\'' + prefix + ':' + addy35e9
 3d1b911f42f54c315820311dd338 + '\'>'+addy_text35e93d1b911f42f54c315820311dd
 338+'<\/a>';
		</script><span style="font-size: small;">)&nbsp;</span></str
 ong></i></span><i style="background-color: initial; color: inherit; font-fa
 mily: inherit; font-size: 1rem;"></i><span style="font-size: small;"><stron
 g><span style="background: white; color: #02613f; font-family: 'Georgia','s
 erif';">BEFORE YOU REGISTER&nbsp;</span></strong><em><b><span style="backgr
 ound: white; color: black; font-family: 'Georgia','serif';">for the course<
 /span></b></em><strong><span style="background: white; color: black; font-f
 amily: 'Georgia','serif';">.</span></strong></span><span style="background-
 color: initial; color: inherit; font-family: inherit; font-size: 1rem;"></s
 pan></p><p>&nbsp;</p><p><span style="font-family: georgia, palatino; font-s
 ize: 10pt;"><strong><em><span style="color: #10704d; background: white;">Th
 rough the support of NYS HCR funding, we are able to provide </span></em></
 strong><em><strong><span style="color: #02613f; background: white;">quality
  training at&nbsp;discounted rates to NYSWDA members.</span></strong></em><
 /span></p><p>&nbsp;</p><p><span style="font-size: 14pt; font-family: tahoma
 , arial, helvetica, sans-serif; color: #0000ff;"><em><strong><span style="b
 ackground: white;"><a style="color: #0000ff;" href="https://www.nyswda.org/
 index.php?option=com_civicrm&amp;task=civicrm/event/register&amp;reset=1&am
 p;id=11427">Click here to register</a></span></strong></em></span><span sty
 le="font-size: 12pt;"><em style="background-color: initial; color: inherit;
  font-family: inherit; font-size: 1rem;"><strong><span style="font-family: 
 Arial, Helvetica;"></span><span style="font-family: Tahoma;"></span><span s
 tyle="font-family: Arial, Helvetica;"></span><span style="font-family: Taho
 ma;"></span><span style="font-family: Arial, Helvetica;"></span><span style
 ="font-family: Tahoma;"></span><span style="font-family: Tahoma;"></span><s
 pan style="font-family: Tahoma;"></span><span style="font-family: Arial, He
 lvetica;"></span><span style="font-family: Tahoma;"></span><span style="fon
 t-family: Tahoma;"></span><span style="font-family: Tahoma;"></span><span s
 tyle="font-family: Tahoma;"></span><span style="font-family: Arial, Helveti
 ca;"></span><span style="font-family: Tahoma;"></span><em></em><span style=
 "font-size: 14pt;"></span></strong></em></span></p><p><span style="font-fam
 ily: 'Arial','sans-serif'; color: black; font-size: 10pt;"></span></p><p>&n
 bsp;</p><p><span style="font-family: 'Arial','sans-serif'; color: black; fo
 nt-size: 10pt;"></span></p><p>&nbsp;</p><p>&nbsp;</p><p>&nbsp;</p><p>&nbsp;
 </p><p>&nbsp;</p>
CONTACT:This email address is being protected from spambots. You need JavaScript enabled to view it.
				document.getElementById('cloakbdb393bba8c029f5d8296b292981f940').innerHTML = '';
				var prefix = '&#109;a' + 'i&#108;' + '&#116;o';
				var path = 'hr' + 'ef' + '=';
				var addybdb393bba8c029f5d8296b292981f940 = 'rv&#105;ss&#101;r' + '&#64;';
				addybdb393bba8c029f5d8296b292981f940 = addybdb393bba8c029f5d8296b292981f940 + 'nyswd&#97;' + '&#46;' + '&#111;rg';
				var addy_textbdb393bba8c029f5d8296b292981f940 = 'rv&#105;ss&#101;r' + '&#64;' + 'nyswd&#97;' + '&#46;' + '&#111;rg';document.getElementById('cloakbdb393bba8c029f5d8296b292981f940').innerHTML += '<a ' + path + '\'' + prefix + ':' + addybdb393bba8c029f5d8296b292981f940 + '\'>'+addy_textbdb393bba8c029f5d8296b292981f940+'';
		
DTSTAMP:20260425T113727
DTSTART;TZID=America/New_York:20201105T090000
DTEND;TZID=America/New_York:20201106T120000
SEQUENCE:0
TRANSP:OPAQUE
END:VEVENT
END:VCALENDAR