BEGIN:VCALENDAR
VERSION:2.0
PRODID:-//jEvents 2.0 for Joomla//EN
CALSCALE:GREGORIAN
METHOD:PUBLISH
BEGIN:VTIMEZONE
TZID:America/New_York
BEGIN:STANDARD
DTSTART:20191123T090000
RDATE:20200308T030000
TZOFFSETFROM:-0400
TZOFFSETTO:-0500
TZNAME:America/New_York EST
END:STANDARD
BEGIN:STANDARD
DTSTART:20201101T010000
RDATE:20210314T030000
TZOFFSETFROM:-0400
TZOFFSETTO:-0500
TZNAME:America/New_York EST
END:STANDARD
BEGIN:STANDARD
DTSTART:20211107T010000
RDATE:20220313T030000
TZOFFSETFROM:-0400
TZOFFSETTO:-0500
TZNAME:America/New_York EST
END:STANDARD
BEGIN:STANDARD
DTSTART:20221106T010000
RDATE:20230312T030000
TZOFFSETFROM:-0400
TZOFFSETTO:-0500
TZNAME:America/New_York EST
END:STANDARD
BEGIN:STANDARD
DTSTART:20231105T010000
RDATE:20240310T030000
TZOFFSETFROM:-0400
TZOFFSETTO:-0500
TZNAME:America/New_York EST
END:STANDARD
BEGIN:STANDARD
DTSTART:20241103T010000
RDATE:20250309T030000
TZOFFSETFROM:-0400
TZOFFSETTO:-0500
TZNAME:America/New_York EST
END:STANDARD
BEGIN:STANDARD
DTSTART:20251102T010000
RDATE:20260308T030000
TZOFFSETFROM:-0400
TZOFFSETTO:-0500
TZNAME:America/New_York EST
END:STANDARD
BEGIN:STANDARD
DTSTART:20261101T010000
RDATE:20270314T030000
TZOFFSETFROM:-0400
TZOFFSETTO:-0500
TZNAME:America/New_York EST
END:STANDARD
BEGIN:STANDARD
DTSTART:20271107T010000
RDATE:20280312T030000
TZOFFSETFROM:-0400
TZOFFSETTO:-0500
TZNAME:America/New_York EST
END:STANDARD
BEGIN:STANDARD
DTSTART:20281105T010000
RDATE:20290311T030000
TZOFFSETFROM:-0400
TZOFFSETTO:-0500
TZNAME:America/New_York EST
END:STANDARD
BEGIN:STANDARD
DTSTART:20291104T010000
RDATE:20300310T030000
TZOFFSETFROM:-0400
TZOFFSETTO:-0500
TZNAME:America/New_York EST
END:STANDARD
BEGIN:STANDARD
DTSTART:20301103T010000
RDATE:20310309T030000
TZOFFSETFROM:-0400
TZOFFSETTO:-0500
TZNAME:America/New_York EST
END:STANDARD
BEGIN:DAYLIGHT
DTSTART:20200308T030000
RDATE:20201101T010000
TZOFFSETFROM:-0500
TZOFFSETTO:-0400
TZNAME:America/New_York EDT
END:DAYLIGHT
BEGIN:DAYLIGHT
DTSTART:20210314T030000
RDATE:20211107T010000
TZOFFSETFROM:-0500
TZOFFSETTO:-0400
TZNAME:America/New_York EDT
END:DAYLIGHT
BEGIN:DAYLIGHT
DTSTART:20220313T030000
RDATE:20221106T010000
TZOFFSETFROM:-0500
TZOFFSETTO:-0400
TZNAME:America/New_York EDT
END:DAYLIGHT
BEGIN:DAYLIGHT
DTSTART:20230312T030000
RDATE:20231105T010000
TZOFFSETFROM:-0500
TZOFFSETTO:-0400
TZNAME:America/New_York EDT
END:DAYLIGHT
BEGIN:DAYLIGHT
DTSTART:20240310T030000
RDATE:20241103T010000
TZOFFSETFROM:-0500
TZOFFSETTO:-0400
TZNAME:America/New_York EDT
END:DAYLIGHT
BEGIN:DAYLIGHT
DTSTART:20250309T030000
RDATE:20251102T010000
TZOFFSETFROM:-0500
TZOFFSETTO:-0400
TZNAME:America/New_York EDT
END:DAYLIGHT
BEGIN:DAYLIGHT
DTSTART:20260308T030000
RDATE:20261101T010000
TZOFFSETFROM:-0500
TZOFFSETTO:-0400
TZNAME:America/New_York EDT
END:DAYLIGHT
BEGIN:DAYLIGHT
DTSTART:20270314T030000
RDATE:20271107T010000
TZOFFSETFROM:-0500
TZOFFSETTO:-0400
TZNAME:America/New_York EDT
END:DAYLIGHT
BEGIN:DAYLIGHT
DTSTART:20280312T030000
RDATE:20281105T010000
TZOFFSETFROM:-0500
TZOFFSETTO:-0400
TZNAME:America/New_York EDT
END:DAYLIGHT
BEGIN:DAYLIGHT
DTSTART:20290311T030000
RDATE:20291104T010000
TZOFFSETFROM:-0500
TZOFFSETTO:-0400
TZNAME:America/New_York EDT
END:DAYLIGHT
BEGIN:DAYLIGHT
DTSTART:20300310T030000
RDATE:20301103T010000
TZOFFSETFROM:-0500
TZOFFSETTO:-0400
TZNAME:America/New_York EDT
END:DAYLIGHT
END:VTIMEZONE
BEGIN:VEVENT
UID:b13205e40d388cc757653f32da4f7fc1
CATEGORIES:WEB
CREATED:20201009T190942
SUMMARY:One Day Lead Safe Weatherization - Online
LOCATION:NYSWDA - East Syracuse
DESCRIPTION:<p><br />&nbsp;<span style="color: #336699; font-family: tahoma,arial,helve
 tica,sans-serif; font-size: 14pt;"><span style="color: #000000;"><strong><s
 pan style="color: #336699;">One Day Lead Safe Weatherization - Online&nbsp;
 </span></strong></span></span></p><p>&nbsp;</p><p><span style="color: #3366
 99; font-family: tahoma,arial,helvetica,sans-serif; font-size: 14pt;"><span
  style="color: #000000;"><strong><span style="color: #336699;">GoToWebinar 
 Event</span></strong></span></span></p><p><strong><span style="font-family:
  'Tahoma','sans-serif'; color: #336699; font-size: 13.5pt;"></span></strong
 ></p><p>&nbsp;</p><p><span style="font-size: 12pt;"><em><span style="text-d
 ecoration: underline;"><span style="font-family: 'Tahoma','sans-serif'; col
 or: black;">Course Description:</span></span></em></span>&nbsp;</p><p><span
  style="font-family: Tahoma, sans-serif; color: black; font-size: 12pt;">Th
 is online course covers two, 3-hour sessions.&nbsp; Successful course compl
 etion means the candidate must attend BOTH sessions in order to be awarded 
 CEU’s and a certificate of completion.&nbsp; YOU DO NOT NEED TO REGISTER TW
 ICE.&nbsp; You will be sent a webinar invite for both sessions.&nbsp; Each 
 session is from 9:00am until noon.<br /><br /></span><span style="font-fami
 ly: tahoma, arial, helvetica, sans-serif; font-size: 12pt;">Whenever we wor
 k on houses that were built before 1978 there is a good chance that there c
 ould be lead based paint on the inside and outside. Disturbing this paint c
 ould harm us and the families we work with. This NYSWDA Lead Safe Weatheriz
 ation Training satisfies the HCR requirement that all Weatherization staff 
 working in houses built before 1978 receive training on safe work practices
  to reduce exposure to lead dust. NYSWDA uses the DOE curriculum which also
  satisfies the DOE and OSHA requirements for employees working around lead 
 paint. This training is also required for your sub-contractors' employees w
 ho work on weatherization units.<br /><br /></span><span style="font-family
 : Tahoma, sans-serif; color: black; font-size: 12pt;">This is an HCR mandat
 ed training for Weatherization Directors, Auditors, Crew Supervisors and Cr
 ews. If you are a new Director or have new staff, you are strongly advised 
 to attend.&nbsp; This training requires attendance every three (3) years.</
 span>&nbsp;</p><p>&nbsp;</p><p><span style="font-family: 'Tahoma', 'sans-se
 rif'; color: black; font-size: 12pt;"></span></p><p><span style="font-size:
  12pt;"><em><span style="text-decoration: underline;"><span style="font-fam
 ily: 'Tahoma','sans-serif'; color: black;">Class Size</span></span></em><sp
 an style="font-family: 'Tahoma','sans-serif'; color: black;">: 25</span></s
 pan>&nbsp;<span style="font-family: 'Tahoma', 'sans-serif'; color: black; f
 ont-size: 12pt;"></span></p><p>&nbsp;</p><p><span style="font-size: 12pt;">
 <em><span style="text-decoration: underline;"><span style="font-family: 'Ta
 homa','sans-serif'; color: black;">BPI CEU</span></span></em><span style="t
 ext-decoration: underline;"><span style="font-family: 'Tahoma','sans-serif'
 ; color: black;">:</span></span><span style="font-family: 'Tahoma','sans-se
 rif'; color: black;"> 3</span></span>&nbsp;</p><p><span style="font-family:
  'Tahoma', 'sans-serif'; color: black; font-size: 12pt;"></span></p><p>&nbs
 p;</p><p><span style="font-size: 12pt;"><span style="text-decoration: under
 line;"><span style="font-family: 'Tahoma','sans-serif'; color: black;"><em>
 Instructor</em>:</span></span><span style="font-family: 'Tahoma','sans-seri
 f'; color: black;">&nbsp;&nbsp;</span><span style="font-family: 'Tahoma','s
 ans-serif'; color: black;">Al McMahon - NYSWDA</span></span>&nbsp;</p><p><s
 pan style="font-family: 'Tahoma', 'sans-serif'; color: black; font-size: 12
 pt;"></span></p><p>&nbsp;</p><p><span style="font-size: 12pt;"><em><span st
 yle="text-decoration: underline;"><span style="font-family: 'Tahoma','sans-
 serif'; color: black;">Course Fees:&nbsp;</span></span></em></span>&nbsp;</
 p><p><span style="font-size: 12pt;"><span style="color: black; font-family:
  'Tahoma','sans-serif';">$262/person - NY&nbsp;Weatherization Sub-grantees<
 /span></span></p><p><span style="font-size: 12pt;"><span style="color: blac
 k; font-family: 'Tahoma','sans-serif';">$262/person - affiliate members</sp
 an><span style="color: black; font-family: 'Tahoma','sans-serif';"></span><
 /span></p><p><span style="font-size: 12pt;"><span style="color: black; font
 -family: 'Tahoma','sans-serif';">$380/person - non-members</span><span styl
 e="color: black; font-family: 'Tahoma','sans-serif';"></span><span style="c
 olor: black; font-family: 'Tahoma','sans-serif';"></span><em><span style="c
 olor: black; font-family: 'Tahoma','sans-serif';"><br /></span></em></span>
 </p><p>&nbsp;</p><p><span style="color: #0000ff;"><em><strong><span style="
 font-family: tahoma, arial, helvetica, sans-serif; font-size: 14pt;"><span 
 style="color: #0000ff;"></span></span></strong></em></span><span style="bac
 kground-color: initial; color: inherit; font-family: inherit; font-size: 1r
 em;"> </span><em style="background-color: initial; color: inherit; font-fam
 ily: inherit; font-size: 1rem;"><strong><span style="background: white; col
 or: #02613f; font-family: 'Georgia','serif';"><span style="font-size: small
 ;">**Special note</span></span></strong></em><span style="background: white
 ; color: black; font-family: 'Georgia','serif';"><span style="font-size: sm
 all;"><i><strong>&nbsp;-&nbsp;if you wish to become an Affiliate Member ple
 ase contact&nbsp;Drew Ehrlich&nbsp;(315-701-0440 ext. 225,&nbsp;</strong></
 i></span><i><strong><span id="cloake9adf634399a7142e766d6c369684d6e">This e
 mail address is being protected from spambots. You need JavaScript enabled 
 to view it.</span><script type='text/javascript'>
				document.getElementBy
 Id('cloake9adf634399a7142e766d6c369684d6e').innerHTML = '';
				var prefix 
 = 'ma' + 'il' + 'to';
				var path = 'hr' + 'ef' + '=';
				var addye9adf63
 4399a7142e766d6c369684d6e = 'dehrlich' + '@';
				addye9adf634399a7142e766d
 6c369684d6e = addye9adf634399a7142e766d6c369684d6e + 'nyswda' + '.' + 'org'
 ;
				var addy_texte9adf634399a7142e766d6c369684d6e = '<span style="color: 
 #0000ff; font-size: small;">dehrlich' + '@' + 'nyswda' + '.' + 'org</span>'
 ;document.getElementById('cloake9adf634399a7142e766d6c369684d6e').innerHTML
  += '<a ' + path + '\'' + prefix + ':' + addye9adf634399a7142e766d6c369684d
 6e + '\'>'+addy_texte9adf634399a7142e766d6c369684d6e+'<\/a>';
		</script><s
 pan style="font-size: small;">)&nbsp;</span></strong></i></span><i style="b
 ackground-color: initial; color: inherit; font-family: inherit; font-size: 
 1rem;"></i><span style="font-size: small;"><strong><span style="background:
  white; color: #02613f; font-family: 'Georgia','serif';">BEFORE YOU REGISTE
 R&nbsp;</span></strong><em><b><span style="background: white; color: black;
  font-family: 'Georgia','serif';">for the course</span></b></em><strong><sp
 an style="background: white; color: black; font-family: 'Georgia','serif';"
 >.</span></strong></span><span style="background-color: initial; color: inh
 erit; font-family: inherit; font-size: 1rem;"></span></p><p>&nbsp;</p><p><s
 trong><em><span style="font-size: 10pt; font-family: Georgia, serif; color:
  #10704d; background: white;">Through the support of NYS HCR funding, we ar
 e able to provide </span></em></strong><em><strong><span style="font-size: 
 10pt; font-family: Georgia, serif; color: #02613f; background: white;">qual
 ity training at&nbsp;discounted rates to NYSWDA members.</span></strong></e
 m></p><p>&nbsp;</p><p><span style="font-family: tahoma, arial, helvetica, s
 ans-serif; font-size: 14pt; color: #0000ff;"><em><strong><span style="backg
 round: white;"><a style="color: #0000ff;" href="index.php?option=com_civicr
 m&amp;task=civicrm/event/register&amp;reset=1&amp;id=11429">Click here to r
 egister</a></span></strong></em></span><span style="font-size: 12pt;"><em s
 tyle="background-color: initial; color: inherit; font-family: inherit; font
 -size: 1rem;"><strong><span style="font-size: 18pt;"></span><span style="fo
 nt-size: 12pt;"></span></strong></em></span></p><p><span style="font-family
 : 'Arial','sans-serif'; color: black; font-size: 10pt;"></span></p><p>&nbsp
 ;</p><p><span style="font-family: 'Arial','sans-serif'; color: black; font-
 size: 10pt;"></span></p><p>&nbsp;</p><p>&nbsp;</p><p>&nbsp;</p><p>&nbsp;</p
 ><p>&nbsp;</p>
X-ALT-DESC;FMTTYPE=text/html:<p><br />&nbsp;<span style="color: #336699; font-family: tahoma,arial,helve
 tica,sans-serif; font-size: 14pt;"><span style="color: #000000;"><strong><s
 pan style="color: #336699;">One Day Lead Safe Weatherization - Online&nbsp;
 </span></strong></span></span></p><p>&nbsp;</p><p><span style="color: #3366
 99; font-family: tahoma,arial,helvetica,sans-serif; font-size: 14pt;"><span
  style="color: #000000;"><strong><span style="color: #336699;">GoToWebinar 
 Event</span></strong></span></span></p><p><strong><span style="font-family:
  'Tahoma','sans-serif'; color: #336699; font-size: 13.5pt;"></span></strong
 ></p><p>&nbsp;</p><p><span style="font-size: 12pt;"><em><span style="text-d
 ecoration: underline;"><span style="font-family: 'Tahoma','sans-serif'; col
 or: black;">Course Description:</span></span></em></span>&nbsp;</p><p><span
  style="font-family: Tahoma, sans-serif; color: black; font-size: 12pt;">Th
 is online course covers two, 3-hour sessions.&nbsp; Successful course compl
 etion means the candidate must attend BOTH sessions in order to be awarded 
 CEU’s and a certificate of completion.&nbsp; YOU DO NOT NEED TO REGISTER TW
 ICE.&nbsp; You will be sent a webinar invite for both sessions.&nbsp; Each 
 session is from 9:00am until noon.<br /><br /></span><span style="font-fami
 ly: tahoma, arial, helvetica, sans-serif; font-size: 12pt;">Whenever we wor
 k on houses that were built before 1978 there is a good chance that there c
 ould be lead based paint on the inside and outside. Disturbing this paint c
 ould harm us and the families we work with. This NYSWDA Lead Safe Weatheriz
 ation Training satisfies the HCR requirement that all Weatherization staff 
 working in houses built before 1978 receive training on safe work practices
  to reduce exposure to lead dust. NYSWDA uses the DOE curriculum which also
  satisfies the DOE and OSHA requirements for employees working around lead 
 paint. This training is also required for your sub-contractors' employees w
 ho work on weatherization units.<br /><br /></span><span style="font-family
 : Tahoma, sans-serif; color: black; font-size: 12pt;">This is an HCR mandat
 ed training for Weatherization Directors, Auditors, Crew Supervisors and Cr
 ews. If you are a new Director or have new staff, you are strongly advised 
 to attend.&nbsp; This training requires attendance every three (3) years.</
 span>&nbsp;</p><p>&nbsp;</p><p><span style="font-family: 'Tahoma', 'sans-se
 rif'; color: black; font-size: 12pt;"></span></p><p><span style="font-size:
  12pt;"><em><span style="text-decoration: underline;"><span style="font-fam
 ily: 'Tahoma','sans-serif'; color: black;">Class Size</span></span></em><sp
 an style="font-family: 'Tahoma','sans-serif'; color: black;">: 25</span></s
 pan>&nbsp;<span style="font-family: 'Tahoma', 'sans-serif'; color: black; f
 ont-size: 12pt;"></span></p><p>&nbsp;</p><p><span style="font-size: 12pt;">
 <em><span style="text-decoration: underline;"><span style="font-family: 'Ta
 homa','sans-serif'; color: black;">BPI CEU</span></span></em><span style="t
 ext-decoration: underline;"><span style="font-family: 'Tahoma','sans-serif'
 ; color: black;">:</span></span><span style="font-family: 'Tahoma','sans-se
 rif'; color: black;"> 3</span></span>&nbsp;</p><p><span style="font-family:
  'Tahoma', 'sans-serif'; color: black; font-size: 12pt;"></span></p><p>&nbs
 p;</p><p><span style="font-size: 12pt;"><span style="text-decoration: under
 line;"><span style="font-family: 'Tahoma','sans-serif'; color: black;"><em>
 Instructor</em>:</span></span><span style="font-family: 'Tahoma','sans-seri
 f'; color: black;">&nbsp;&nbsp;</span><span style="font-family: 'Tahoma','s
 ans-serif'; color: black;">Al McMahon - NYSWDA</span></span>&nbsp;</p><p><s
 pan style="font-family: 'Tahoma', 'sans-serif'; color: black; font-size: 12
 pt;"></span></p><p>&nbsp;</p><p><span style="font-size: 12pt;"><em><span st
 yle="text-decoration: underline;"><span style="font-family: 'Tahoma','sans-
 serif'; color: black;">Course Fees:&nbsp;</span></span></em></span>&nbsp;</
 p><p><span style="font-size: 12pt;"><span style="color: black; font-family:
  'Tahoma','sans-serif';">$262/person - NY&nbsp;Weatherization Sub-grantees<
 /span></span></p><p><span style="font-size: 12pt;"><span style="color: blac
 k; font-family: 'Tahoma','sans-serif';">$262/person - affiliate members</sp
 an><span style="color: black; font-family: 'Tahoma','sans-serif';"></span><
 /span></p><p><span style="font-size: 12pt;"><span style="color: black; font
 -family: 'Tahoma','sans-serif';">$380/person - non-members</span><span styl
 e="color: black; font-family: 'Tahoma','sans-serif';"></span><span style="c
 olor: black; font-family: 'Tahoma','sans-serif';"></span><em><span style="c
 olor: black; font-family: 'Tahoma','sans-serif';"><br /></span></em></span>
 </p><p>&nbsp;</p><p><span style="color: #0000ff;"><em><strong><span style="
 font-family: tahoma, arial, helvetica, sans-serif; font-size: 14pt;"><span 
 style="color: #0000ff;"></span></span></strong></em></span><span style="bac
 kground-color: initial; color: inherit; font-family: inherit; font-size: 1r
 em;"> </span><em style="background-color: initial; color: inherit; font-fam
 ily: inherit; font-size: 1rem;"><strong><span style="background: white; col
 or: #02613f; font-family: 'Georgia','serif';"><span style="font-size: small
 ;">**Special note</span></span></strong></em><span style="background: white
 ; color: black; font-family: 'Georgia','serif';"><span style="font-size: sm
 all;"><i><strong>&nbsp;-&nbsp;if you wish to become an Affiliate Member ple
 ase contact&nbsp;Drew Ehrlich&nbsp;(315-701-0440 ext. 225,&nbsp;</strong></
 i></span><i><strong><span id="cloake9adf634399a7142e766d6c369684d6e">This e
 mail address is being protected from spambots. You need JavaScript enabled 
 to view it.</span><script type='text/javascript'>
				document.getElementBy
 Id('cloake9adf634399a7142e766d6c369684d6e').innerHTML = '';
				var prefix 
 = 'ma' + 'il' + 'to';
				var path = 'hr' + 'ef' + '=';
				var addye9adf63
 4399a7142e766d6c369684d6e = 'dehrlich' + '@';
				addye9adf634399a7142e766d
 6c369684d6e = addye9adf634399a7142e766d6c369684d6e + 'nyswda' + '.' + 'org'
 ;
				var addy_texte9adf634399a7142e766d6c369684d6e = '<span style="color: 
 #0000ff; font-size: small;">dehrlich' + '@' + 'nyswda' + '.' + 'org</span>'
 ;document.getElementById('cloake9adf634399a7142e766d6c369684d6e').innerHTML
  += '<a ' + path + '\'' + prefix + ':' + addye9adf634399a7142e766d6c369684d
 6e + '\'>'+addy_texte9adf634399a7142e766d6c369684d6e+'<\/a>';
		</script><s
 pan style="font-size: small;">)&nbsp;</span></strong></i></span><i style="b
 ackground-color: initial; color: inherit; font-family: inherit; font-size: 
 1rem;"></i><span style="font-size: small;"><strong><span style="background:
  white; color: #02613f; font-family: 'Georgia','serif';">BEFORE YOU REGISTE
 R&nbsp;</span></strong><em><b><span style="background: white; color: black;
  font-family: 'Georgia','serif';">for the course</span></b></em><strong><sp
 an style="background: white; color: black; font-family: 'Georgia','serif';"
 >.</span></strong></span><span style="background-color: initial; color: inh
 erit; font-family: inherit; font-size: 1rem;"></span></p><p>&nbsp;</p><p><s
 trong><em><span style="font-size: 10pt; font-family: Georgia, serif; color:
  #10704d; background: white;">Through the support of NYS HCR funding, we ar
 e able to provide </span></em></strong><em><strong><span style="font-size: 
 10pt; font-family: Georgia, serif; color: #02613f; background: white;">qual
 ity training at&nbsp;discounted rates to NYSWDA members.</span></strong></e
 m></p><p>&nbsp;</p><p><span style="font-family: tahoma, arial, helvetica, s
 ans-serif; font-size: 14pt; color: #0000ff;"><em><strong><span style="backg
 round: white;"><a style="color: #0000ff;" href="https://www.nyswda.org/inde
 x.php?option=com_civicrm&amp;task=civicrm/event/register&amp;reset=1&amp;id
 =11429">Click here to register</a></span></strong></em></span><span style="
 font-size: 12pt;"><em style="background-color: initial; color: inherit; fon
 t-family: inherit; font-size: 1rem;"><strong><span style="font-size: 18pt;"
 ></span><span style="font-size: 12pt;"></span></strong></em></span></p><p><
 span style="font-family: 'Arial','sans-serif'; color: black; font-size: 10p
 t;"></span></p><p>&nbsp;</p><p><span style="font-family: 'Arial','sans-seri
 f'; color: black; font-size: 10pt;"></span></p><p>&nbsp;</p><p>&nbsp;</p><p
 >&nbsp;</p><p>&nbsp;</p><p>&nbsp;</p>
CONTACT:This email address is being protected from spambots. You need JavaScript enabled to view it.
				document.getElementById('cloakf567f81a2205ee4f365f954ac3021fb1').innerHTML = '';
				var prefix = '&#109;a' + 'i&#108;' + '&#116;o';
				var path = 'hr' + 'ef' + '=';
				var addyf567f81a2205ee4f365f954ac3021fb1 = 'rv&#105;ss&#101;r' + '&#64;';
				addyf567f81a2205ee4f365f954ac3021fb1 = addyf567f81a2205ee4f365f954ac3021fb1 + 'nyswd&#97;' + '&#46;' + '&#111;rg';
				var addy_textf567f81a2205ee4f365f954ac3021fb1 = 'rv&#105;ss&#101;r' + '&#64;' + 'nyswd&#97;' + '&#46;' + '&#111;rg';document.getElementById('cloakf567f81a2205ee4f365f954ac3021fb1').innerHTML += '<a ' + path + '\'' + prefix + ':' + addyf567f81a2205ee4f365f954ac3021fb1 + '\'>'+addy_textf567f81a2205ee4f365f954ac3021fb1+'';
		
DTSTAMP:20260425T131111
DTSTART;TZID=America/New_York:20201123T090000
DTEND;TZID=America/New_York:20201124T120000
SEQUENCE:0
TRANSP:OPAQUE
END:VEVENT
END:VCALENDAR